{"text_format":"1","workbook":"xlsx","n_sheets":31,"sheets":["Options","Eingabe","Matchplan","Matchplan T","Matchplan (empty)","AttackDir","Stats allg","Stats Attack","Stats Reception","R 1","R 6","R 5","R 4","R 3","R 2","Settercalls","A RecPos","Match R1","Figuren","Berechnung","Berechnung S","Daten","Daten SR","Daten MR","Daten A1","Daten A2","Daten AfR","Daten A3","Daten A4","Daten A5","Daten A6"],"not_rendered":{"charts":194,"images":1,"macros":1,"external_links":0,"defined_names":45,"comments":0,"pivot_tables":0},"unopened":[],"bounds":{"document_bytes":16777216,"sheet_cells":100000,"rows_first":2000,"rows_last":500,"rows_between":2000,"halvings":0,"cell_chars":16384,"cell_head_chars":4096},"cells_cut":0,"cells_raw":0,"read":"whole","date_system":"1900"}

{"sheet":"Options","index":0,"n_rows":38,"n_cols":30,"rows_kept":38,"cut":false,"hidden":false,"merged":[[0,1,0,10],[32,4,32,8],[2,1,2,2],[2,3,2,5],[13,1,13,2],[18,4,18,8],[19,4,19,8],[20,4,20,8],[29,4,29,8],[21,4,21,8],[22,4,22,8],[23,4,23,8],[14,1,14,2],[14,4,14,5],[17,11,17,14],[36,4,36,8],[37,4,37,8],[16,1,16,10],[12,1,12,7],[30,4,30,8],[31,4,31,8],[34,4,34,8],[35,4,35,8],[24,4,24,8],[25,4,25,8],[26,4,26,8],[27,4,27,8],[28,4,28,8],[33,4,33,8],[13,4,13,5]]}
[null,{"$f":"Berechnung!B4","v":"KOREA"}]
[null,"Datum:"]
[null,"Počet zápasů:"]
[null,"LineUP Home:"]
[null,"Pos 1","Pos 2","Pos 3","Pos 4","Pos 5","Pos 6","L","starting"]
[null,null,null,null,null,null,null,null,"alternativ"]
[null,"LineUp:",null,null,null,null,null,null,null,null,null,null,null,null,null,null,null,"Settercall:","K1","Rychlík",null,"Positions:","z","Setter","Set","S",null,"Serve:","SH","Float"]
[null,"Pos 1","Pos 2","Pos 3","Pos 4","Pos 5","Pos 6","L",null,null,null,null,null,null,null,null,null,null,"K2","Rychlík za",null,null,"d","Opposite","Opp","Op",null,null,"SM","Jumpfloat"]
[null,6,1,11,17,9,4,19,"starting",null,null,null,null,null,null,null,null,null,"K7","Čtverka",null,null,"a","Outside","Out","Ou",null,null,"SQ","Jumpserve"]
[null,22,null,8,null,14,null,25,"alternativ",null,null,null,null,null,null,null,null,null,"KD","Jednonoha",null,null,"m","Middleblock","MB","MB",null,null,"ST","Jumpfloat"]
[null,{"$f":"IF(B10=\"\",B9,B9&\"/\"&B10)","v":"6/22"},{"$f":"IF(C10=\"\",C9,C9&\"/\"&C10)","v":1},{"$f":"IF(D10=\"\",D9,D9&\"/\"&D10)","v":"11/8"},17,{"$f":"IF(F10=\"\",F9,F9&\"/\"&F10)","v":"9/14"},{"$f":"IF(G10=\"\",G9,G9&\"/\"&G10)","v":4},"19/25","nebeneinander",null,null,null,null,null,null,null,null,null,null,null,null,null,"l","Libero","Lib","L",null,null,"Sx","unknown"]
[null,null,null,null,null,null,null,null,null,null,null,null,null,null,null,null,null,null,null,null,null,null,"u","Universal","Uni","U"]
[null,"Startrotation:"]
[null,"Serve",null,"6","Reception",null,"6"]
[]
[]
[null,"Rooster:"]
[null,"excl","Pos",null,null,null,null,null,null,null,null,"Serve"]
[null,null,"a",{"$f":"IF(B19=\"\",Berechnung!B5,\"\")","v":"1"},{"$f":"IF(B19=\"\",Berechnung!C5,\"\")","v":"SONG"},null,null,null,null,{"$f":"IF(D19=\"\",\"\",IF(LOWER(C19)=$W$7,$X$7,IF(LOWER(C19)=$W$8,$X$8,IF(LOWER(C19)=$W$9,$X$9,IF(LOWER(C19)=$W$10,$X$10,IF(LOWER(C19)=$W$11,$X$11,IF(LOWER(C19)=$W$12,$X$12,\"\")))))))","v":"Outside"},{"$f":"IF(D19=\"\",\"\",IF(LOWER(C19)=$W$7,$Y$7,IF(LOWER(C19)=$W$8,$Y$8,IF(LOWER(C19)=$W$9,$Y$9,IF(LOWER(C19)=$W$10,$Y$10,IF(LOWER(C19)=$W$11,$Y$11,IF(LOWER(C19)=$W$12,$Y$12,\"\")))))))","v":"Out"},{"$f":"IF(D19=\"\",\"\",'Berechnung S'!W4)","v":"SQ"},null,{"$f":"IF(D19=\"\",\"\",'Berechnung S'!AA4)","v":"S6"}]
[null,null,"m",{"$f":"IF(B20=\"\",Berechnung!B6,\"\")","v":"4"},{"$f":"IF(B20=\"\",Berechnung!C6,\"\")","v":"SHIN"},null,null,null,null,"Middleblock","MB",{"$f":"IF(D20=\"\",\"\",'Berechnung S'!W5)","v":"SM"},null,{"$f":"IF(D20=\"\",\"\",'Berechnung S'!AA5)","v":"S5"}]
[null,null,"z",{"$f":"IF(B21=\"\",Berechnung!B7,\"\")","v":"6"},{"$f":"IF(B21=\"\",Berechnung!C7,\"\")","v":"LEE"},null,null,null,null,"Setter","Set",{"$f":"IF(D21=\"\",\"\",'Berechnung S'!W6)","v":"SM"},null,{"$f":"IF(D21=\"\",\"\",'Berechnung S'!AA6)","v":"S1"}]
[null,null,"m",{"$f":"IF(B22=\"\",Berechnung!B8,\"\")","v":"8"},{"$f":"IF(B22=\"\",Berechnung!C8,\"\")","v":"PARK"},null,null,null,null,"Middleblock","MB",{"$f":"IF(D22=\"\",\"\",'Berechnung S'!W7)","v":"SM"},null,{"$f":"IF(D22=\"\",\"\",'Berechnung S'!AA7)","v":"S6"}]
[null,null,"a",{"$f":"IF(B23=\"\",Berechnung!B9,\"\")","v":"9"},{"$f":"IF(B23=\"\",Berechnung!C9,\"\")","v":"KWAK"},null,null,null,null,"Outside","Out",{"$f":"IF(D23=\"\",\"\",'Berechnung S'!W8)","v":"SM"},null,{"$f":"IF(D23=\"\",\"\",'Berechnung S'!AA8)","v":"S1"}]
[null,null,"m",{"$f":"IF(B24=\"\",Berechnung!B10,\"\")","v":"11"},{"$f":"IF(B24=\"\",Berechnung!C10,\"\")","v":"CHOI"},null,null,null,null,"Middleblock","MB",{"$f":"IF(D24=\"\",\"\",'Berechnung S'!W9)","v":"SM"},null,{"$f":"IF(D24=\"\",\"\",'Berechnung S'!AA9)","v":"S5"}]
[null,null,"a",{"$f":"IF(B25=\"\",Berechnung!B11,\"\")","v":"12"},{"$f":"IF(B25=\"\",Berechnung!C11,\"\")","v":"JEON"},null,null,null,null,"Outside","Out",{"$f":"IF(D25=\"\",\"\",'Berechnung S'!W10)","v":"SH"},null,{"$f":"IF(D25=\"\",\"\",'Berechnung S'!AA10)","v":"S5"}]
[null,null,"a",{"$f":"IF(B26=\"\",Berechnung!B12,\"\")","v":"14"},{"$f":"IF(B26=\"\",Berechnung!C12,\"\")","v":"SONG"},null,null,null,null,"Outside","Out",{"$f":"IF(D26=\"\",\"\",'Berechnung S'!W11)","v":"SQ"},null,{"$f":"IF(D26=\"\",\"\",'Berechnung S'!AA11)","v":"S6"}]
[null,null,"d",{"$f":"IF(B27=\"\",Berechnung!B13,\"\")","v":"16"},{"$f":"IF(B27=\"\",Berechnung!C13,\"\")","v":"CHOI"},null,null,null,null,"Opposite","Opp",{"$f":"IF(D27=\"\",\"\",'Berechnung S'!W12)","v":"SM"},null,{"$f":"IF(D27=\"\",\"\",'Berechnung S'!AA12)","v":"S1"}]
[null,null,"d",{"$f":"IF(B28=\"\",Berechnung!B14,\"\")","v":"17"},{"$f":"IF(B28=\"\",Berechnung!C14,\"\")","v":"SEO"},null,null,null,null,"Opposite","Opp",{"$f":"IF(D28=\"\",\"\",'Berechnung S'!W13)","v":"SQ"},null,{"$f":"IF(D28=\"\",\"\",'Berechnung S'!AA13)","v":"S5"}]
[null,null,"l",{"$f":"IF(B29=\"\",Berechnung!B15,\"\")","v":"19"},{"$f":"IF(B29=\"\",Berechnung!C15,\"\")","v":"JEONG"},null,null,null,null,"Libero","Lib",{"$f":"IF(D29=\"\",\"\",'Berechnung S'!W14)","v":"SH"},null,{"$f":"IF(D29=\"\",\"\",'Berechnung S'!AA14)","v":"S5"}]
[null,null,"m",{"$f":"IF(B30=\"\",Berechnung!B16,\"\")","v":"20"},{"$f":"IF(B30=\"\",Berechnung!C16,\"\")","v":"JI"},null,null,null,null,"Middleblock","MB",{"$f":"IF(D30=\"\",\"\",'Berechnung S'!W15)","v":"SH"},null,{"$f":"IF(D30=\"\",\"\",'Berechnung S'!AA15)","v":"S5"}]
[null,null,"z",{"$f":"IF(B31=\"\",Berechnung!B17,\"\")","v":"22"},{"$f":"IF(B31=\"\",Berechnung!C17,\"\")","v":"YOU"},null,null,null,null,"Setter","Set",{"$f":"IF(D31=\"\",\"\",'Berechnung S'!W16)","v":"SM"},null,{"$f":"IF(D31=\"\",\"\",'Berechnung S'!AA16)","v":"S1"}]
[null,null,"l",{"$f":"IF(B32=\"\",Berechnung!B18,\"\")","v":"25"},{"$f":"IF(B32=\"\",Berechnung!C18,\"\")","v":"OH"},null,null,null,null,"Libero","Lib",{"$f":"IF(D32=\"\",\"\",'Berechnung S'!W17)","v":"SH"},null,{"$f":"IF(D32=\"\",\"\",'Berechnung S'!AA17)","v":"S5"}]
[null,"x","m",{"$f":"IF(B33=\"\",Berechnung!B19,\"\")","v":""},{"$f":"IF(B33=\"\",Berechnung!C19,\"\")","v":""},null,null,null,null,"","",{"$f":"IF(D33=\"\",\"\",'Berechnung S'!W18)","v":""},null,{"$f":"IF(D33=\"\",\"\",'Berechnung S'!AA18)","v":""}]
[null,"x","m",{"$f":"IF(B34=\"\",Berechnung!B20,\"\")","v":""},{"$f":"IF(B34=\"\",Berechnung!C20,\"\")","v":""},null,null,null,null,"","",{"$f":"IF(D34=\"\",\"\",'Berechnung S'!W19)","v":""},null,{"$f":"IF(D34=\"\",\"\",'Berechnung S'!AA19)","v":""}]
[null,"x","z",{"$f":"IF(B35=\"\",Berechnung!B21,\"\")","v":""},{"$f":"IF(B35=\"\",Berechnung!C21,\"\")","v":""},null,null,null,null,"","",{"$f":"IF(D35=\"\",\"\",'Berechnung S'!W19)","v":""},null,{"$f":"IF(D35=\"\",\"\",'Berechnung S'!AA19)","v":""}]
[null,"x",null,{"$f":"IF(B36=\"\",Berechnung!B22,\"\")","v":""},{"$f":"IF(B36=\"\",Berechnung!C22,\"\")","v":""},null,null,null,null,"","",{"$f":"IF(D36=\"\",\"\",'Berechnung S'!W20)","v":""},null,{"$f":"IF(D36=\"\",\"\",'Berechnung S'!AA20)","v":""}]
[null,"x",null,{"$f":"IF(B37=\"\",Berechnung!B23,\"\")","v":""},{"$f":"IF(B37=\"\",Berechnung!C23,\"\")","v":""},null,null,null,null,"","",{"$f":"IF(D37=\"\",\"\",'Berechnung S'!W21)","v":""},null,{"$f":"IF(D37=\"\",\"\",'Berechnung S'!AA21)","v":""}]
[null,"x","a",{"$f":"IF(B38=\"\",Berechnung!B24,\"\")","v":""},{"$f":"IF(B38=\"\",Berechnung!C24,\"\")","v":""},null,null,null,null,"","",{"$f":"IF(D38=\"\",\"\",'Berechnung S'!W22)","v":""},null,{"$f":"IF(D38=\"\",\"\",'Berechnung S'!AA22)","v":""}]

{"sheet":"Eingabe","index":1,"n_rows":21,"n_cols":18,"rows_kept":21,"cut":false,"hidden":false,"merged":[[9,1,9,6],[9,9,9,14],[9,17,9,22],[20,1,20,6],[20,9,20,14],[20,17,20,22]]}
[]
[]
[]
[]
[]
[]
[]
[]
[]
[null,"Rotation 1",null,null,null,null,null,null,null,"Rotation 6",null,null,null,null,null,null,null,"Rotation 5"]
[]
[]
[]
[]
[]
[]
[]
[]
[]
[]
[null,"Rotation 2",null,null,null,null,null,null,null,"Rotation 3",null,null,null,null,null,null,null,"Rotation 4"]

{"sheet":"Matchplan","index":2,"n_rows":45,"n_cols":106,"rows_kept":45,"cut":false,"hidden":false,"merged":[[15,43,15,44],[22,43,22,44],[30,43,30,44],[37,43,37,44],[44,43,44,44],[9,45,10,46],[16,43,17,44],[16,45,17,46],[24,43,25,44],[24,45,25,46],[29,65,29,66],[30,65,30,66],[25,65,25,66],[25,67,25,68],[25,69,25,70],[25,71,25,72],[25,73,25,74],[25,75,25,76],[25,77,25,78],[26,65,26,66],[27,65,27,66],[28,65,28,66],[37,65,37,66],[32,75,32,76],[32,77,32,78],[33,65,33,66],[34,65,34,66],[35,65,35,66],[36,65,36,66],[31,65,31,71],[32,65,32,66],[32,67,32,68],[32,69,32,70],[32,71,32,72],[32,73,32,74],[24,65,24,71],[4,8,4,10],[4,11,4,13],[4,14,4,16],[4,19,4,21],[4,22,4,24],[4,25,4,27],[4,30,4,32],[4,33,4,35],[4,36,4,38],[13,8,13,10],[13,11,13,13],[14,8,14,10],[14,11,14,13],[14,14,14,16],[14,19,14,21],[14,22,14,24],[14,25,14,27],[14,30,14,32],[8,11,8,13],[9,11,9,13],[8,8,8,10],[9,8,9,10],[17,34,17,35],[2,67,2,76],[12,67,12,76],[8,19,8,21],[8,22,8,24],[9,19,9,21],[9,22,9,24],[8,30,8,32],[8,33,8,35],[9,30,9,32],[9,33,9,35],[4,43,5,44],[4,45,5,46],[9,41,10,42],[9,43,10,44],[11,43,12,44],[11,45,12,46],[8,43,8,44],[30,2,31,2],[30,3,31,3],[30,4,31,4],[24,2,25,4],[9,2,9,5],[10,2,10,5],[11,2,11,5],[12,2,12,5],[13,2,13,5],[14,2,14,5],[26,3,27,3],[26,4,27,4],[28,3,29,3],[26,2,27,2],[17,2,17,5],[18,2,18,5],[21,2,21,5],[24,5,25,6],[27,5,27,6],[28,5,28,6],[1,1,1,6],[24,8,24,16],[24,19,24,27],[2,2,2,5],[3,2,3,5],[4,2,4,5],[5,2,5,5],[6,2,6,5],[7,2,7,5],[8,2,8,5],[22,8,22,16],[22,19,22,27],[15,2,15,5],[16,2,16,5],[19,2,19,5],[20,2,20,5],[1,8,1,38],[22,30,22,38],[16,8,16,9],[16,11,16,12],[13,14,13,16],[13,19,13,21],[13,22,13,24],[13,25,13,27],[39,9,39,10],[13,30,13,32],[13,33,13,35],[13,36,13,38],[30,8,30,10],[30,11,30,13],[30,30,30,32],[26,8,26,10],[26,11,26,13],[26,14,26,16],[26,19,26,21],[26,22,26,24],[26,25,26,27],[39,12,39,13],[39,20,39,21],[39,23,39,24],[39,31,39,32],[39,34,39,35],[16,33,16,34],[17,9,17,10],[17,12,17,13],[17,20,17,21],[17,23,17,24],[17,31,17,32],[1,59,1,63],[2,51,2,56],[3,51,3,56],[1,51,1,56],[2,8,2,16],[2,19,2,27],[2,30,2,38],[3,8,3,16],[3,19,3,27],[3,30,3,38],[2,43,3,44],[2,41,3,42],[38,33,38,34],[30,19,30,21],[30,22,30,24],[31,19,31,21],[31,22,31,24],[31,30,31,32],[30,33,30,35],[35,30,35,32],[35,33,35,35],[36,30,36,32],[36,33,36,35],[35,36,35,38],[35,19,35,21],[35,22,35,24],[35,25,35,27],[35,8,35,10],[35,11,35,13],[35,14,35,16],[31,8,31,10],[31,11,31,13],[31,33,31,35],[26,33,26,35],[26,36,26,38],[16,19,16,20],[16,22,16,23],[16,30,16,31],[14,33,14,35],[14,36,14,38],[26,30,26,32],[21,8,21,16],[20,8,20,16],[20,19,20,27],[21,19,21,27],[20,30,20,38],[21,30,21,38],[25,8,25,16],[25,30,25,38],[25,19,25,27],[24,30,24,38],[36,36,36,38],[36,19,36,21],[36,22,36,24],[36,25,36,27],[36,14,36,16],[36,11,36,13],[36,8,36,10],[61,5,61,6],[49,2,49,4],[60,5,60,6],[42,8,42,16],[42,19,42,27],[42,30,42,38],[43,8,43,16],[43,19,43,27],[43,30,43,38],[44,8,44,16],[44,19,44,27],[44,30,44,38],[38,8,38,9],[38,11,38,12],[38,19,38,20],[38,22,38,23],[38,30,38,31]]}
[]
[null,"Roster",null,null,null,null,null,null,{"$f":"Options!B1&\"     \"&AZ3&\" - \"&TEXT(AZ4,\"tt.MM.jjjj\")","v":"KOREA      - "},null,null,null,null,null,null,null,null,null,null,null,null,null,null,null,null,null,null,null,null,null,null,null,null,null,null,null,null,null,null,null,null,null,null,null,null,null,null,null,null,null,null,{"$f":"Options!B1","v":"KOREA"},null,null,null,null,null,null,null,"Serve:"]
[null,{"$f":"Berechnung!I27","v":"1"},{"$f":"Berechnung!J27","v":"SONG"},null,null,null,{"$f":"Berechnung!L27","v":"Out"},null,{"$f":"IF(AZ9=\"\",\"\",AZ9 & \": \"&AZ15)","v":"22: Jumpfloat at Position 1"},null,null,null,null,null,null,null,null,null,null,{"$f":"IF(BA9=\"\",\"\",BA9 & \": \"&BA15)","v":""},null,null,null,null,null,null,null,null,null,null,{"$f":"IF(BB9=\"\",\"\",BB9 & \": \"&BB15)","v":"8: Jumpfloat at Position 6"},null,null,null,null,null,null,null,null,null,null,null,null,null,null,null,null,null,null,null,null,{"$f":"IF(Options!D3=\"\",\"\",Options!D3)","v":""},null,null,null,null,null,null,null,{"$f":"TEXT('Berechnung S'!#REF!,\"##\")","v":{"$error":"#REF!"}},{"$f":"'Berechnung S'!#REF!","v":{"$error":"#REF!"}},{"$f":"IF(BH3=\"\",\"\",IF(BI3=Options!$AC$7,Options!$AD$7,IF(BI3=Options!$AC$8,Options!$AD$8,IF(BI3=Options!$AC$9,Options!$AD$9,IF(BI3=Options!$AC$10,Options!$AD$10,IF(BI3=Options!$AC$11,Options!$AD$11,\"unknown\"))))))","v":{"$error":"#REF!"}},{"$f":"'Berechnung S'!#REF!","v":{"$error":"#REF!"}},{"$f":"IF(BH3=\"\",\"\",IF(BK3=\"S1\",\"Position 1\",IF(BK3=\"S6\",\"Position 6\",IF(BK3=\"S5\",\"Position 5\",\"\"))))","v":{"$error":"#REF!"}},{"$f":"IF(BH3=\"\",\"\",BJ3&\" at \"&BL3)","v":{"$error":"#REF!"}},null,null,"K1 after R all"]
[null,{"$f":"Berechnung!I28","v":"4"},{"$f":"Berechnung!J28","v":"SHIN"},null,null,null,{"$f":"Berechnung!L28","v":"MB"},null,{"$f":"IF(AZ8=\"\",\"\",AZ8 & \": \"&AZ14)","v":"6: Jumpfloat at Position 1"},null,null,null,null,null,null,null,null,null,null,{"$f":"IF(BA8=\"\",\"\",BA8 & \": \"&BA14)","v":"1: Jumpserve at Position 6"},null,null,null,null,null,null,null,null,null,null,{"$f":"IF(BB8=\"\",\"\",BB8 & \": \"&BB14)","v":"11: Jumpfloat at Position 5"},null,null,null,null,null,null,null,null,null,null,null,null,null,null,null,null,null,null,null,null,{"$f":"IF(Options!D2=\"\",\"\",Options!D2)","v":""},null,null,null,null,null,null,null,{"$f":"TEXT('Berechnung S'!AE4,\"##\")","v":"1"},{"$f":"'Berechnung S'!Y4","v":"SQ"},{"$f":"IF(BH4=\"\",\"\",IF(BI4=Options!$AC$7,Options!$AD$7,IF(BI4=Options!$AC$8,Options!$AD$8,IF(BI4=Options!$AC$9,Options!$AD$9,IF(BI4=Options!$AC$10,Options!$AD$10,IF(BI4=Options!$AC$11,Options!$AD$11,\"unknown\"))))))","v":"Jumpserve"},{"$f":"'Berechnung S'!AC4","v":"S6"},"Position 6","Jumpserve at Position 6",null,null,"r","rE","r#","r#%","r2","r2%","r2E","r2#","r2#%","r3","r3%","r3E","r3#","r3#%","r4","r4%","r4E","r4#","r4#%","r9","r9%","r9E","r9#","r9#%","r8","r8%","r8E","r8#","r8#%","r7","r7%","r7E","r7#","r7#%","rS","rS%","rSE","rS#","rS#%"]
[null,{"$f":"Berechnung!I29","v":"6"},{"$f":"Berechnung!J29","v":"LEE"},null,null,null,{"$f":"Berechnung!L29","v":"Set"},null,{"$f":"CONCATENATE('Daten AfR'!$D$4,'Daten AfR'!$C$8,'Daten AfR'!$E$4)","v":"100%/3"},null,null,{"$f":"CONCATENATE('Daten AfR'!$D$6,'Daten AfR'!$C$8,'Daten AfR'!$E$6)","v":"100%/3"},null,null,{"$f":"CONCATENATE('Daten AfR'!$D$5,'Daten AfR'!$C$8,'Daten AfR'!$E$5)","v":"0%/0"},null,null,null,null,{"$f":"CONCATENATE('Daten AfR'!$F$4,'Daten AfR'!$C$8,'Daten AfR'!$G$4)","v":"0%/3"},null,null,{"$f":"CONCATENATE('Daten AfR'!$F$6,'Daten AfR'!$C$8,'Daten AfR'!$G$6)","v":"40%/10"},null,null,{"$f":"CONCATENATE('Daten AfR'!$F$5,'Daten AfR'!$C$8,'Daten AfR'!$G$5)","v":"50%/4"},null,null,null,null,{"$f":"CONCATENATE('Daten AfR'!$H$6,'Daten AfR'!$C$8,'Daten AfR'!$I$6)","v":"62%/8"},null,null,{"$f":"CONCATENATE('Daten AfR'!$H$4,'Daten AfR'!$C$8,'Daten AfR'!$I$4)","v":"0%/0"},null,null,{"$f":"CONCATENATE('Daten AfR'!$H$5,'Daten AfR'!$C$8,'Daten AfR'!$I$5)","v":"100%/1"},null,null,null,null,null,null,null,null,null,null,null,null,null,null,null,null,null,null,null,null,null,null,{"$f":"TEXT('Berechnung S'!AE5,\"##\")","v":"4"},{"$f":"'Berechnung S'!Y5","v":"SM"},{"$f":"IF(BH5=\"\",\"\",IF(BI5=Options!$AC$7,Options!$AD$7,IF(BI5=Options!$AC$8,Options!$AD$8,IF(BI5=Options!$AC$9,Options!$AD$9,IF(BI5=Options!$AC$10,Options!$AD$10,IF(BI5=Options!$AC$11,Options!$AD$11,\"unknown\"))))))","v":"Jumpfloat"},{"$f":"'Berechnung S'!AC5","v":"S5"},"Position 5","Jumpfloat at Position 5",null,"S1",{"$f":"Daten!B84","v":10},{"$f":"Daten!C84","v":"20%"},{"$f":"Daten!D84","v":4},{"$f":"IF(BP5=0,\"\",BR5/BP5)","v":0.4},{"$f":"Daten!E84","v":2},{"$f":"IF(OR($BP5=0,BT5=0),\"\",BT5/$BP5)","v":0.2},{"$f":"IF(BT5=0,\"\",Daten!F84)","v":"-50%"},{"$f":"IF(BT5=0,\"\",Daten!G84)","v":0},{"$f":"IF(OR($BP5=0,BT5=0),\"\",BW5/$BT5)","v":0},{"$f":"Daten!H84","v":2},{"$f":"IF(OR($BP5=0,BY5=0),\"\",BY5/$BP5)","v":0.2},{"$f":"IF(BY5=0,\"\",Daten!I84)","v":"0%"},{"$f":"IF(BY5=0,\"\",Daten!J84)","v":0},{"$f":"IF(OR($BP5=0,BY5=0),\"\",CB5/BY5)","v":0},{"$f":"Daten!K84","v":4},{"$f":"IF(OR($BP5=0,CD5=0),\"\",CD5/$BP5)","v":0.4},{"$f":"IF(CD5=0,\"\",Daten!L84)","v":"75%"},{"$f":"IF(CD5=0,\"\",Daten!M84)","v":3},{"$f":"IF(OR($BP5=0,CD5=0),\"\",CG5/CD5)","v":0.75},{"$f":"Daten!N84","v":0},{"$f":"IF(OR($BP5=0,CI5=0),\"\",CI5/$BP5)","v":""},{"$f":"IF(CI5=0,\"\",Daten!O84)","v":""},{"$f":"IF(CI5=0,\"\",Daten!P84)","v":""},{"$f":"IF(OR($BP5=0,CI5=0),\"\",CL5/CI5)","v":""},{"$f":"Daten!Q84","v":2},{"$f":"IF(OR($BP5=0,CN5=0),\"\",CN5/$BP5)","v":0.2},{"$f":"IF(CN5=0,\"\",Daten!R84)","v":"0%"},{"$f":"IF(CN5=0,\"\",Daten!S84)","v":1},{"$f":"IF(OR($BP5=0,CN5=0),\"\",CQ5/CN5)","v":0.5},{"$f":"Daten!T84","v":0},{"$f":"IF(OR($BP5=0,CS5=0),\"\",CS5/$BP5)","v":""},{"$f":"IF(CS5=0,\"\",Daten!U84)","v":""},{"$f":"IF(CS5=0,\"\",Daten!V84)","v":""},{"$f":"IF(OR($BP5=0,CS5=0),\"\",CV5/CS5)","v":""},{"$f":"Daten!W84","v":0},{"$f":"IF(OR($BP5=0,CX5=0),\"\",CX5/$BP5)","v":""},{"$f":"IF(CX5=0,\"\",Daten!X84)","v":""},{"$f":"IF(CX5=0,\"\",Daten!Y84)","v":""},{"$f":"IF(OR($BP5=0,CX5=0),\"\",DA5/CX5)","v":""}]
[null,{"$f":"Berechnung!I30","v":"8"},{"$f":"Berechnung!J30","v":"PARK"},null,null,null,{"$f":"Berechnung!L30","v":"MB"},null,null,null,null,null,null,null,null,null,null,null,null,null,null,null,null,null,null,null,null,null,null,null,null,null,null,null,null,null,null,null,null,null,null,null,null,null,null,null,null,null,null,null,null,"LineUp:",null,null,null,null,null,null,null,{"$f":"TEXT('Berechnung S'!AE6,\"##\")","v":"6"},{"$f":"'Berechnung S'!Y6","v":"SM"},{"$f":"IF(BH6=\"\",\"\",IF(BI6=Options!$AC$7,Options!$AD$7,IF(BI6=Options!$AC$8,Options!$AD$8,IF(BI6=Options!$AC$9,Options!$AD$9,IF(BI6=Options!$AC$10,Options!$AD$10,IF(BI6=Options!$AC$11,Options!$AD$11,\"unknown\"))))))","v":"Jumpfloat"},{"$f":"'Berechnung S'!AC6","v":"S1"},"Position 1","Jumpfloat at Position 1",null,"S6",{"$f":"Daten!B85","v":19},{"$f":"Daten!C85","v":"47%"},{"$f":"Daten!D85","v":11},0.57894736842105265,{"$f":"Daten!E85","v":7},0.36842105263157893,{"$f":"IF(BT6=0,\"\",Daten!F85)","v":"86%"},{"$f":"IF(BT6=0,\"\",Daten!G85)","v":6},0.8571428571428571,{"$f":"Daten!H85","v":6},0.31578947368421051,{"$f":"IF(BY6=0,\"\",Daten!I85)","v":"33%"},{"$f":"IF(BY6=0,\"\",Daten!J85)","v":3},0.5,{"$f":"Daten!K85","v":4},0.21052631578947367,{"$f":"IF(CD6=0,\"\",Daten!L85)","v":"0%"},{"$f":"IF(CD6=0,\"\",Daten!M85)","v":1},0.25,{"$f":"Daten!N85","v":0},"",{"$f":"IF(CI6=0,\"\",Daten!O85)","v":""},{"$f":"IF(CI6=0,\"\",Daten!P85)","v":""},"",{"$f":"Daten!Q85","v":2},0.10526315789473684,{"$f":"IF(CN6=0,\"\",Daten!R85)","v":"50%"},{"$f":"IF(CN6=0,\"\",Daten!S85)","v":1},0.5,{"$f":"Daten!T85","v":0},"",{"$f":"IF(CS6=0,\"\",Daten!U85)","v":""},{"$f":"IF(CS6=0,\"\",Daten!V85)","v":""},"",{"$f":"Daten!W85","v":0},"",{"$f":"IF(CX6=0,\"\",Daten!X85)","v":""},{"$f":"IF(CX6=0,\"\",Daten!Y85)","v":""},""]
[null,{"$f":"Berechnung!I31","v":"9"},{"$f":"Berechnung!J31","v":"KWAK"},null,null,null,{"$f":"Berechnung!L31","v":"Out"},null,null,null,null,null,null,null,null,null,null,null,null,null,null,null,null,null,null,null,null,null,null,null,null,null,null,null,null,null,null,null,null,null,null,null,null,null,null,null,null,null,null,null,null,"Pos 1","Pos 2","Pos 3","Pos 4","Pos 5","Pos 6","L",null,{"$f":"TEXT('Berechnung S'!AE7,\"##\")","v":"8"},{"$f":"'Berechnung S'!Y7","v":"SM"},{"$f":"IF(BH7=\"\",\"\",IF(BI7=Options!$AC$7,Options!$AD$7,IF(BI7=Options!$AC$8,Options!$AD$8,IF(BI7=Options!$AC$9,Options!$AD$9,IF(BI7=Options!$AC$10,Options!$AD$10,IF(BI7=Options!$AC$11,Options!$AD$11,\"unknown\"))))))","v":"Jumpfloat"},{"$f":"'Berechnung S'!AC7","v":"S6"},"Position 6","Jumpfloat at Position 6",null,"S5",{"$f":"Daten!B86","v":12},{"$f":"Daten!C86","v":"33%"},{"$f":"Daten!D86","v":6},0.5,{"$f":"Daten!E86","v":3},0.25,{"$f":"IF(BT7=0,\"\",Daten!F86)","v":"67%"},{"$f":"IF(BT7=0,\"\",Daten!G86)","v":2},0.66666666666666663,{"$f":"Daten!H86","v":3},0.25,{"$f":"IF(BY7=0,\"\",Daten!I86)","v":"33%"},{"$f":"IF(BY7=0,\"\",Daten!J86)","v":1},0.33333333333333331,{"$f":"Daten!K86","v":0},"",{"$f":"IF(CD7=0,\"\",Daten!L86)","v":""},{"$f":"IF(CD7=0,\"\",Daten!M86)","v":""},"",{"$f":"Daten!N86","v":0},"",{"$f":"IF(CI7=0,\"\",Daten!O86)","v":""},{"$f":"IF(CI7=0,\"\",Daten!P86)","v":""},"",{"$f":"Daten!Q86","v":6},0.5,{"$f":"IF(CN7=0,\"\",Daten!R86)","v":"17%"},{"$f":"IF(CN7=0,\"\",Daten!S86)","v":3},0.5,{"$f":"Daten!T86","v":0},"",{"$f":"IF(CS7=0,\"\",Daten!U86)","v":""},{"$f":"IF(CS7=0,\"\",Daten!V86)","v":""},"",{"$f":"Daten!W86","v":0},"",{"$f":"IF(CX7=0,\"\",Daten!X86)","v":""},{"$f":"IF(CX7=0,\"\",Daten!Y86)","v":""},""]
[null,{"$f":"Berechnung!I32","v":"11"},{"$f":"Berechnung!J32","v":"CHOI"},null,null,null,{"$f":"Berechnung!L32","v":"MB"},null,null,null,null,null,null,null,null,null,null,null,null,null,null,null,null,null,null,null,null,null,null,null,null,null,null,null,null,null,null,null,null,null,null,null,null,null,null,null,null,null,null,null,"1.",{"$f":"IF(Options!B9=\"\",\"\",TEXT(Options!B9,\"##\"))","v":"6"},{"$f":"IF(Options!C9=\"\",\"\",TEXT(Options!C9,\"##\"))","v":"1"},{"$f":"IF(Options!D9=\"\",\"\",TEXT(Options!D9,\"##\"))","v":"11"},{"$f":"IF(Options!E9=\"\",\"\",TEXT(Options!E9,\"##\"))","v":"17"},{"$f":"IF(Options!F9=\"\",\"\",TEXT(Options!F9,\"##\"))","v":"9"},{"$f":"IF(Options!G9=\"\",\"\",TEXT(Options!G9,\"##\"))","v":"4"},{"$f":"IF(Options!H9=\"\",\"\",TEXT(Options!H9,\"##\"))","v":"19"},null,{"$f":"TEXT('Berechnung S'!AE8,\"##\")","v":"9"},{"$f":"'Berechnung S'!Y8","v":"SM"},{"$f":"IF(BH8=\"\",\"\",IF(BI8=Options!$AC$7,Options!$AD$7,IF(BI8=Options!$AC$8,Options!$AD$8,IF(BI8=Options!$AC$9,Options!$AD$9,IF(BI8=Options!$AC$10,Options!$AD$10,IF(BI8=Options!$AC$11,Options!$AD$11,\"unknown\"))))))","v":"Jumpfloat"},{"$f":"'Berechnung S'!AC8","v":"S1"},"Position 1","Jumpfloat at Position 1",null,"S4",{"$f":"Daten!B87","v":9},{"$f":"Daten!C87","v":"33%"},{"$f":"Daten!D87","v":5},0.55555555555555558,{"$f":"Daten!E87","v":0},"",{"$f":"IF(BT8=0,\"\",Daten!F87)","v":""},{"$f":"IF(BT8=0,\"\",Daten!G87)","v":""},"",{"$f":"Daten!H87","v":2},0.22222222222222221,{"$f":"IF(BY8=0,\"\",Daten!I87)","v":"100%"},{"$f":"IF(BY8=0,\"\",Daten!J87)","v":2},1,{"$f":"Daten!K87","v":2},0.22222222222222221,{"$f":"IF(CD8=0,\"\",Daten!L87)","v":"50%"},{"$f":"IF(CD8=0,\"\",Daten!M87)","v":1},0.5,{"$f":"Daten!N87","v":3},0.33333333333333331,{"$f":"IF(CI8=0,\"\",Daten!O87)","v":"-33%"},{"$f":"IF(CI8=0,\"\",Daten!P87)","v":1},0.33333333333333331,{"$f":"Daten!Q87","v":2},0.22222222222222221,{"$f":"IF(CN8=0,\"\",Daten!R87)","v":"50%"},{"$f":"IF(CN8=0,\"\",Daten!S87)","v":1},0.5,{"$f":"Daten!T87","v":0},"",{"$f":"IF(CS8=0,\"\",Daten!U87)","v":""},{"$f":"IF(CS8=0,\"\",Daten!V87)","v":""},"",{"$f":"Daten!W87","v":0},"",{"$f":"IF(CX8=0,\"\",Daten!X87)","v":""},{"$f":"IF(CX8=0,\"\",Daten!Y87)","v":""},""]
[null,{"$f":"Berechnung!I33","v":"12"},{"$f":"Berechnung!J33","v":"JEON"},null,null,null,{"$f":"Berechnung!L33","v":"Out"},null,{"$f":"IF(OR(BP31=0,BQ31=0),\"\",CONCATENATE(BP31,$BN$26,BQ31))","v":""},null,null,{"$f":"IF(OR(BP30=0,BQ30=0),\"\",CONCATENATE(BP30,$BN$26,BQ30))","v":"25% / 1"},null,null,null,null,null,null,null,{"$f":"IF(OR(BR31=0,BS31=0),\"\",CONCATENATE(BR31,$BN$26,BS31))","v":""},null,null,{"$f":"IF(OR(BR30=0,BS30=0),\"\",CONCATENATE(BR30,$BN$26,BS30))","v":"20% / 1"},null,null,null,null,null,null,null,{"$f":"IF(OR(BT31=0,BU31=0),\"\",CONCATENATE(BT31,$BN$26,BU31))","v":""},null,null,{"$f":"IF(OR(BT30=0,BU30=0),\"\",CONCATENATE(BT30,$BN$26,BU30))","v":"62% / 5"},null,null,null,null,null,null,null,null,null,"S1",null,null,null,null,null,null,"2.",{"$f":"IF(Options!B10=\"\",\"\",TEXT(Options!B10,\"##\"))","v":"22"},{"$f":"IF(Options!C10=\"\",\"\",TEXT(Options!C10,\"##\"))","v":""},{"$f":"IF(Options!D10=\"\",\"\",TEXT(Options!D10,\"##\"))","v":"8"},{"$f":"IF(Options!E10=\"\",\"\",TEXT(Options!E10,\"##\"))","v":""},{"$f":"IF(Options!F10=\"\",\"\",TEXT(Options!F10,\"##\"))","v":"14"},{"$f":"IF(Options!G10=\"\",\"\",TEXT(Options!G10,\"##\"))","v":""},{"$f":"IF(Options!H10=\"\",\"\",TEXT(Options!H10,\"##\"))","v":"25"},null,{"$f":"TEXT('Berechnung S'!AE9,\"##\")","v":"11"},{"$f":"'Berechnung S'!Y9","v":"SM"},{"$f":"IF(BH9=\"\",\"\",IF(BI9=Options!$AC$7,Options!$AD$7,IF(BI9=Options!$AC$8,Options!$AD$8,IF(BI9=Options!$AC$9,Options!$AD$9,IF(BI9=Options!$AC$10,Options!$AD$10,IF(BI9=Options!$AC$11,Options!$AD$11,\"unknown\"))))))","v":"Jumpfloat"},{"$f":"'Berechnung S'!AC9","v":"S5"},"Position 5","Jumpfloat at Position 5",null,"S3",{"$f":"Daten!B88","v":8},{"$f":"Daten!C88","v":"38%"},{"$f":"Daten!D88","v":5},0.625,{"$f":"Daten!E88","v":0},"",{"$f":"IF(BT9=0,\"\",Daten!F88)","v":""},{"$f":"IF(BT9=0,\"\",Daten!G88)","v":""},"",{"$f":"Daten!H88","v":4},0.5,{"$f":"IF(BY9=0,\"\",Daten!I88)","v":"75%"},{"$f":"IF(BY9=0,\"\",Daten!J88)","v":3},0.75,{"$f":"Daten!K88","v":1},0.125,{"$f":"IF(CD9=0,\"\",Daten!L88)","v":"-100%"},{"$f":"IF(CD9=0,\"\",Daten!M88)","v":0},0,{"$f":"Daten!N88","v":3},0.375,{"$f":"IF(CI9=0,\"\",Daten!O88)","v":"33%"},{"$f":"IF(CI9=0,\"\",Daten!P88)","v":2},0.66666666666666663,{"$f":"Daten!Q88","v":0},"",{"$f":"IF(CN9=0,\"\",Daten!R88)","v":""},{"$f":"IF(CN9=0,\"\",Daten!S88)","v":""},"",{"$f":"Daten!T88","v":0},"",{"$f":"IF(CS9=0,\"\",Daten!U88)","v":""},{"$f":"IF(CS9=0,\"\",Daten!V88)","v":""},"",{"$f":"Daten!W88","v":0},"",{"$f":"IF(CX9=0,\"\",Daten!X88)","v":""},{"$f":"IF(CX9=0,\"\",Daten!Y88)","v":""},""]
[null,{"$f":"Berechnung!I34","v":"14"},{"$f":"Berechnung!J34","v":"SONG"},null,null,null,{"$f":"Berechnung!L34","v":"Out"},null,{"$f":"IF(OR(BP31=0,BQ31=0),\"\",CONCATENATE(BP38,$BN$26,BQ38))","v":""},null,null,{"$f":"IF(OR(BP30=0,BQ30=0),\"\",CONCATENATE(BP37,$BN$26,BQ37))","v":"-100% / 0%"},null,null,null,null,null,null,null,{"$f":"IF(OR(BR31=0,BS31=0),\"\",CONCATENATE(BR38,$BN$26,BS38))","v":""},null,null,{"$f":"IF(OR(BR30=0,BS30=0),\"\",CONCATENATE(BR31,$BN$26,BS31))","v":"0% / 0"},null,null,null,null,null,null,null,{"$f":"IF(OR(BT31=0,BU31=0),\"\",CONCATENATE(BT38,$BN$26,BU38))","v":""},null,null,{"$f":"IF(OR(BT30=0,BU30=0),\"\",CONCATENATE(BT37,$BN$26,BU37))","v":"40% / 60%"},null,null,null,null,null,null,null,null,null,null,null,null,null,null,null,null,"∑",{"$f":"IF(Options!B11=\"\",\"\",Options!B11)","v":"6/22"},{"$f":"IF(Options!C11=\"\",\"\",Options!C11)","v":1},{"$f":"IF(Options!D11=\"\",\"\",Options!D11)","v":"11/8"},{"$f":"IF(Options!E11=\"\",\"\",Options!E11)","v":17},{"$f":"IF(Options!F11=\"\",\"\",Options!F11)","v":"9/14"},{"$f":"IF(Options!G11=\"\",\"\",Options!G11)","v":4},{"$f":"IF(Options!H11=\"\",\"\",Options!H11)","v":"19/25"},null,{"$f":"TEXT('Berechnung S'!AE10,\"##\")","v":"12"},{"$f":"'Berechnung S'!Y10","v":"SH"},{"$f":"IF(BH10=\"\",\"\",IF(BI10=Options!$AC$7,Options!$AD$7,IF(BI10=Options!$AC$8,Options!$AD$8,IF(BI10=Options!$AC$9,Options!$AD$9,IF(BI10=Options!$AC$10,Options!$AD$10,IF(BI10=Options!$AC$11,Options!$AD$11,\"unknown\"))))))","v":"Float"},{"$f":"'Berechnung S'!AC10","v":"S5"},"Position 5","Float at Position 5",null,"S2",{"$f":"Daten!B89","v":16},{"$f":"Daten!C89","v":"6%"},{"$f":"Daten!D89","v":8},0.5,{"$f":"Daten!E89","v":0},"",{"$f":"IF(BT10=0,\"\",Daten!F89)","v":""},{"$f":"IF(BT10=0,\"\",Daten!G89)","v":""},"",{"$f":"Daten!H89","v":4},0.25,{"$f":"IF(BY10=0,\"\",Daten!I89)","v":"50%"},{"$f":"IF(BY10=0,\"\",Daten!J89)","v":3},0.75,{"$f":"Daten!K89","v":7},0.4375,{"$f":"IF(CD10=0,\"\",Daten!L89)","v":"-14%"},{"$f":"IF(CD10=0,\"\",Daten!M89)","v":3},0.42857142857142855,{"$f":"Daten!N89","v":5},0.3125,{"$f":"IF(CI10=0,\"\",Daten!O89)","v":"0%"},{"$f":"IF(CI10=0,\"\",Daten!P89)","v":2},0.4,{"$f":"Daten!Q89","v":0},"",{"$f":"IF(CN10=0,\"\",Daten!R89)","v":""},{"$f":"IF(CN10=0,\"\",Daten!S89)","v":""},"",{"$f":"Daten!T89","v":0},"",{"$f":"IF(CS10=0,\"\",Daten!U89)","v":""},{"$f":"IF(CS10=0,\"\",Daten!V89)","v":""},"",{"$f":"Daten!W89","v":0},"",{"$f":"IF(CX10=0,\"\",Daten!X89)","v":""},{"$f":"IF(CX10=0,\"\",Daten!Y89)","v":""},""]
[null,{"$f":"Berechnung!I35","v":"16"},{"$f":"Berechnung!J35","v":"CHOI"},null,null,null,{"$f":"Berechnung!L35","v":"Opp"},null,null,null,null,null,null,null,null,null,null,null,null,null,null,null,null,null,null,null,null,null,null,null,null,null,null,null,null,null,null,null,null,null,null,null,null,null,null,null,null,null,null,null,null,null,null,null,null,null,null,null,null,{"$f":"TEXT('Berechnung S'!AE11,\"##\")","v":"14"},{"$f":"'Berechnung S'!Y11","v":"SQ"},{"$f":"IF(BH11=\"\",\"\",IF(BI11=Options!$AC$7,Options!$AD$7,IF(BI11=Options!$AC$8,Options!$AD$8,IF(BI11=Options!$AC$9,Options!$AD$9,IF(BI11=Options!$AC$10,Options!$AD$10,IF(BI11=Options!$AC$11,Options!$AD$11,\"unknown\"))))))","v":"Jumpserve"},{"$f":"'Berechnung S'!AC11","v":"S6"},"Position 6","Jumpserve at Position 6"]
[null,{"$f":"Berechnung!I36","v":"17"},{"$f":"Berechnung!J36","v":"SEO"},null,null,null,{"$f":"Berechnung!L36","v":"Opp"},null,null,null,null,null,null,null,null,null,null,null,null,null,null,null,null,null,null,null,null,null,null,null,null,null,null,null,null,null,null,null,null,null,null,null,null,null,null,null,null,null,null,null,null,null,null,null,null,null,null,null,null,{"$f":"TEXT('Berechnung S'!AE12,\"##\")","v":"16"},{"$f":"'Berechnung S'!Y12","v":"SM"},{"$f":"IF(BH12=\"\",\"\",IF(BI12=Options!$AC$7,Options!$AD$7,IF(BI12=Options!$AC$8,Options!$AD$8,IF(BI12=Options!$AC$9,Options!$AD$9,IF(BI12=Options!$AC$10,Options!$AD$10,IF(BI12=Options!$AC$11,Options!$AD$11,\"unknown\"))))))","v":"Jumpfloat"},{"$f":"'Berechnung S'!AC12","v":"S1"},"Position 1","Jumpfloat at Position 1"]
[null,{"$f":"Berechnung!I37","v":"19"},{"$f":"Berechnung!J37","v":"JEONG"},null,null,null,{"$f":"Berechnung!L37","v":"Lib"},null,null,null,null,null,null,null,null,null,null,null,null,null,null,null,null,null,null,null,null,null,null,null,null,null,null,null,null,null,null,null,null,null,null,null,null,null,null,null,null,null,null,null,null,"Serve:",null,null,null,null,null,null,null,{"$f":"TEXT('Berechnung S'!AE13,\"##\")","v":"17"},{"$f":"'Berechnung S'!Y13","v":"SQ"},{"$f":"IF(BH13=\"\",\"\",IF(BI13=Options!$AC$7,Options!$AD$7,IF(BI13=Options!$AC$8,Options!$AD$8,IF(BI13=Options!$AC$9,Options!$AD$9,IF(BI13=Options!$AC$10,Options!$AD$10,IF(BI13=Options!$AC$11,Options!$AD$11,\"unknown\"))))))","v":"Jumpserve"},{"$f":"'Berechnung S'!AC13","v":"S5"},"Position 5","Jumpserve at Position 5",null,null,"K1 after R#+"]
[null,{"$f":"Berechnung!I38","v":"20"},{"$f":"Berechnung!J38","v":"JI"},null,null,null,{"$f":"Berechnung!L38","v":"MB"},null,{"$f":"IF(OR(BP27=0,BQ27=0),\"\",CONCATENATE(BP27,$BN$26,BQ27))","v":"25% / 1"},null,null,{"$f":"IF(OR(BP28=0,BQ28=0),\"\",CONCATENATE(BP28,$BN$26,BQ28))","v":""},null,null,{"$f":"IF(OR(BP29=0,BQ29=0),\"\",CONCATENATE(BP29,$BN$26,BQ29))","v":"50% / 2"},null,null,null,null,{"$f":"IF(OR(BR27=0,BS27=0),\"\",CONCATENATE(BR27,$BN$26,BS27))","v":"20% / 1"},null,null,{"$f":"IF(OR(BR28=0,BS28=0),\"\",CONCATENATE(BR28,$BN$26,BS28))","v":"60% / 3"},null,null,{"$f":"IF(OR(BR29=0,BS29=0),\"\",CONCATENATE(BR29,$BN$26,BS29))","v":""},null,null,null,null,{"$f":"IF(OR(BT27=0,BU27=0),\"\",CONCATENATE(BT27,$BN$26,BU27))","v":"12% / 1"},null,null,{"$f":"IF(OR(BT28=0,BU28=0),\"\",CONCATENATE(BT28,$BN$26,BU28))","v":"25% / 2"},null,null,{"$f":"IF(OR(BT29=0,BU29=0),\"\",CONCATENATE(BT29,$BN$26,BU29))","v":""},null,null,null,null,null,null,null,null,null,null,null,null,null,null,{"$f":"OFFSET($BM$3,MATCH(AZ8,$BH$3:$BH$22,0)-1,0,1,1)","v":"Jumpfloat at Position 1"},"Jumpserve at Position 6","Jumpfloat at Position 5","Jumpserve at Position 5","Jumpfloat at Position 1","Jumpfloat at Position 5",null,null,{"$f":"TEXT('Berechnung S'!AE14,\"##\")","v":"19"},{"$f":"'Berechnung S'!Y14","v":"SH"},{"$f":"IF(BH14=\"\",\"\",IF(BI14=Options!$AC$7,Options!$AD$7,IF(BI14=Options!$AC$8,Options!$AD$8,IF(BI14=Options!$AC$9,Options!$AD$9,IF(BI14=Options!$AC$10,Options!$AD$10,IF(BI14=Options!$AC$11,Options!$AD$11,\"unknown\"))))))","v":"Float"},{"$f":"'Berechnung S'!AC14","v":"S5"},"Position 5","Float at Position 5",null,null,"r","rE","r#","r#%","r2","r2%","r2E","r2#","r2#%","r3","r3%","r3E","r3#","r3#%","r4","r4%","r4E","r4#","r4#%","r9","r9%","r9E","r9#","r9#%","r8","r8%","r8E","r8#","r8#%","r7","r7%","r7E","r7#","r7#%","rS","rS%","rSE","rS#","rS#%"]
[null,{"$f":"Berechnung!I39","v":"22"},{"$f":"Berechnung!J39","v":"YOU"},null,null,null,{"$f":"Berechnung!L39","v":"Set"},null,{"$f":"IF(OR(BP27=0,BQ27=0),\"\",CONCATENATE(BP34,$BN$26,BQ34))","v":"-100% / 0%"},null,null,{"$f":"IF(OR(BP28=0,BQ28=0),\"\",CONCATENATE(BP35,$BN$26,BQ35))","v":""},null,null,{"$f":"IF(OR(BP29=0,BQ29=0),\"\",CONCATENATE(BP36,$BN$26,BQ36))","v":"50% / 50%"},null,null,null,null,{"$f":"IF(OR(BR27=0,BS27=0),\"\",CONCATENATE(BR34,$BN$26,BS34))","v":"100% / 100%"},null,null,{"$f":"IF(OR(BR28=0,BS28=0),\"\",CONCATENATE(BR35,$BN$26,BS35))","v":"67% / 67%"},null,null,{"$f":"IF(OR(BR29=0,BS29=0),\"\",CONCATENATE(BR36,$BN$26,BS36))","v":""},null,null,null,null,{"$f":"IF(OR(BT27=0,BU27=0),\"\",CONCATENATE(BT34,$BN$26,BU34))","v":"100% / 100%"},null,null,{"$f":"IF(OR(BT28=0,BU28=0),\"\",CONCATENATE(BT35,$BN$26,BU35))","v":"0% / 0%"},null,null,{"$f":"IF(OR(BT29=0,BU29=0),\"\",CONCATENATE(BT36,$BN$26,BU36))","v":""},null,null,null,null,null,null,null,null,null,null,null,null,null,null,"Jumpfloat at Position 1","","Jumpfloat at Position 6","","Jumpserve at Position 6","",null,null,{"$f":"TEXT('Berechnung S'!AE15,\"##\")","v":"20"},{"$f":"'Berechnung S'!Y15","v":"SH"},{"$f":"IF(BH15=\"\",\"\",IF(BI15=Options!$AC$7,Options!$AD$7,IF(BI15=Options!$AC$8,Options!$AD$8,IF(BI15=Options!$AC$9,Options!$AD$9,IF(BI15=Options!$AC$10,Options!$AD$10,IF(BI15=Options!$AC$11,Options!$AD$11,\"unknown\"))))))","v":"Float"},{"$f":"'Berechnung S'!AC15","v":"S5"},"Position 5","Float at Position 5",null,"S1",{"$f":"Daten!B104","v":9},{"$f":"Daten!C104","v":"22%"},{"$f":"Daten!D104","v":4},{"$f":"IF(BP15=0,\"\",BR15/BP15)","v":0.44444444444444442},{"$f":"Daten!E104","v":1},{"$f":"IF(OR($BP15=0,BT15=0),\"\",BT15/$BP15)","v":0.1111111111111111},{"$f":"IF(BT15=0,\"\",Daten!F104)","v":"-100%"},{"$f":"IF(BT15=0,\"\",Daten!G104)","v":0},{"$f":"IF(OR($BP15=0,BT15=0),\"\",BW15/BT15)","v":0},{"$f":"Daten!H104","v":2},{"$f":"IF(OR($BP15=0,BY15=0),\"\",BY15/$BP15)","v":0.22222222222222221},{"$f":"IF(BY15=0,\"\",Daten!I104)","v":"0%"},{"$f":"IF(BY15=0,\"\",Daten!J104)","v":0},{"$f":"IF(OR($BP15=0,BY15=0),\"\",CB15/BY15)","v":0},{"$f":"Daten!K104","v":4},{"$f":"IF(OR($BP15=0,CD15=0),\"\",CD15/$BP15)","v":0.44444444444444442},{"$f":"IF(CD15=0,\"\",Daten!L104)","v":"75%"},{"$f":"IF(CD15=0,\"\",Daten!M104)","v":3},{"$f":"IF(OR($BP15=0,CD15=0),\"\",CG15/CD15)","v":0.75},{"$f":"Daten!N104","v":0},{"$f":"IF(OR($BP15=0,CI15=0),\"\",CI15/$BP15)","v":""},{"$f":"IF(CI15=0,\"\",Daten!O104)","v":""},{"$f":"IF(CI15=0,\"\",Daten!P104)","v":""},{"$f":"IF(OR($BP15=0,CI15=0),\"\",CL15/CI15)","v":""},{"$f":"Daten!Q104","v":2},{"$f":"IF(OR($BP15=0,CN15=0),\"\",CN15/$BP15)","v":0.22222222222222221},{"$f":"IF(CN15=0,\"\",Daten!R104)","v":"0%"},{"$f":"IF(CN15=0,\"\",Daten!S104)","v":1},{"$f":"IF(OR($BP15=0,CN15=0),\"\",CQ15/CN15)","v":0.5},{"$f":"Daten!T104","v":0},{"$f":"IF(OR($BP15=0,CS15=0),\"\",CS15/$BP15)","v":""},{"$f":"IF(CS15=0,\"\",Daten!U104)","v":""},{"$f":"IF(CS15=0,\"\",Daten!V104)","v":""},{"$f":"IF(OR($BP15=0,CS15=0),\"\",CV15/CS15)","v":""},{"$f":"Daten!W104","v":0},{"$f":"IF(OR($BP15=0,CX15=0),\"\",CX15/$BP15)","v":""},{"$f":"IF(CX15=0,\"\",Daten!X104)","v":""},{"$f":"IF(CX15=0,\"\",Daten!Y104)","v":""},{"$f":"IF(OR($BP15=0,CX15=0),\"\",DA15/CX15)","v":""}]
[null,{"$f":"Berechnung!I40","v":"25"},{"$f":"Berechnung!J40","v":"OH"},null,null,null,{"$f":"Berechnung!L40","v":"Lib"},null,null,null,null,null,null,null,null,null,null,null,null,null,null,null,null,null,null,null,null,null,null,null,null,null,null,null,null,null,null,null,null,null,null,null,null,"S6",null,null,null,null,null,null,null,null,null,null,null,null,null,null,null,{"$f":"TEXT('Berechnung S'!AE16,\"##\")","v":"22"},{"$f":"'Berechnung S'!Y16","v":"SM"},{"$f":"IF(BH16=\"\",\"\",IF(BI16=Options!$AC$7,Options!$AD$7,IF(BI16=Options!$AC$8,Options!$AD$8,IF(BI16=Options!$AC$9,Options!$AD$9,IF(BI16=Options!$AC$10,Options!$AD$10,IF(BI16=Options!$AC$11,Options!$AD$11,\"unknown\"))))))","v":"Jumpfloat"},{"$f":"'Berechnung S'!AC16","v":"S1"},"Position 1","Jumpfloat at Position 1",null,"S6",{"$f":"Daten!B105","v":8},{"$f":"Daten!C105","v":"38%"},{"$f":"Daten!D105","v":4},0.5,{"$f":"Daten!E105","v":2},0.25,{"$f":"IF(BT16=0,\"\",Daten!F105)","v":"50%"},{"$f":"IF(BT16=0,\"\",Daten!G105)","v":1},0.5,{"$f":"Daten!H105","v":3},0.375,{"$f":"IF(BY16=0,\"\",Daten!I105)","v":"67%"},{"$f":"IF(BY16=0,\"\",Daten!J105)","v":2},0.66666666666666663,{"$f":"Daten!K105","v":1},0.125,{"$f":"IF(CD16=0,\"\",Daten!L105)","v":"-100%"},{"$f":"IF(CD16=0,\"\",Daten!M105)","v":0},0,{"$f":"Daten!N105","v":0},"",{"$f":"IF(CI16=0,\"\",Daten!O105)","v":""},{"$f":"IF(CI16=0,\"\",Daten!P105)","v":""},"",{"$f":"Daten!Q105","v":2},0.25,{"$f":"IF(CN16=0,\"\",Daten!R105)","v":"50%"},{"$f":"IF(CN16=0,\"\",Daten!S105)","v":1},0.5,{"$f":"Daten!T105","v":0},"",{"$f":"IF(CS16=0,\"\",Daten!U105)","v":""},{"$f":"IF(CS16=0,\"\",Daten!V105)","v":""},"",{"$f":"Daten!W105","v":0},"",{"$f":"IF(CX16=0,\"\",Daten!X105)","v":""},{"$f":"IF(CX16=0,\"\",Daten!Y105)","v":""},""]
[null,{"$f":"Berechnung!I41","v":""},{"$f":"Berechnung!J41","v":""},null,null,null,{"$f":"Berechnung!L41","v":""},null,{"$f":"IF($BA$35=\"x\",BE28,\"\")","v":0},null,null,{"$f":"IF($BA$35=\"x\",BB28,\"\")","v":0.66666666666666663},null,null,null,null,null,null,null,{"$f":"IF($BA$35=\"x\",BE29,\"\")","v":0},null,null,{"$f":"IF($BA$35=\"x\",BB29,\"\")","v":0.5},null,null,null,null,null,null,null,{"$f":"IF($BA$35=\"x\",BE30,\"\")","v":0},null,null,{"$f":"IF($BA$35=\"x\",BB30,\"\")","v":0.5},null,null,null,null,null,null,null,null,null,null,null,null,null,null,null,null,null,null,"∑ K","K1","K2","K7","KD",null,null,{"$f":"TEXT('Berechnung S'!AE17,\"##\")","v":"25"},{"$f":"'Berechnung S'!Y17","v":"SH"},{"$f":"IF(BH17=\"\",\"\",IF(BI17=Options!$AC$7,Options!$AD$7,IF(BI17=Options!$AC$8,Options!$AD$8,IF(BI17=Options!$AC$9,Options!$AD$9,IF(BI17=Options!$AC$10,Options!$AD$10,IF(BI17=Options!$AC$11,Options!$AD$11,\"unknown\"))))))","v":"Float"},{"$f":"'Berechnung S'!AC17","v":"S5"},"Position 5","Float at Position 5",null,"S5",{"$f":"Daten!B106","v":10},{"$f":"Daten!C106","v":"50%"},{"$f":"Daten!D106","v":6},0.6,{"$f":"Daten!E106","v":2},0.2,{"$f":"IF(BT17=0,\"\",Daten!F106)","v":"100%"},{"$f":"IF(BT17=0,\"\",Daten!G106)","v":2},1,{"$f":"Daten!H106","v":3},0.3,{"$f":"IF(BY17=0,\"\",Daten!I106)","v":"33%"},{"$f":"IF(BY17=0,\"\",Daten!J106)","v":1},0.33333333333333331,{"$f":"Daten!K106","v":0},"",{"$f":"IF(CD17=0,\"\",Daten!L106)","v":""},{"$f":"IF(CD17=0,\"\",Daten!M106)","v":""},"",{"$f":"Daten!N106","v":0},"",{"$f":"IF(CI17=0,\"\",Daten!O106)","v":""},{"$f":"IF(CI17=0,\"\",Daten!P106)","v":""},"",{"$f":"Daten!Q106","v":5},0.5,{"$f":"IF(CN17=0,\"\",Daten!R106)","v":"40%"},{"$f":"IF(CN17=0,\"\",Daten!S106)","v":3},0.6,{"$f":"Daten!T106","v":0},"",{"$f":"IF(CS17=0,\"\",Daten!U106)","v":""},{"$f":"IF(CS17=0,\"\",Daten!V106)","v":""},"",{"$f":"Daten!W106","v":0},"",{"$f":"IF(CX17=0,\"\",Daten!X106)","v":""},{"$f":"IF(CX17=0,\"\",Daten!Y106)","v":""},""]
[null,{"$f":"Berechnung!I42","v":""},{"$f":"Berechnung!J42","v":""},null,null,null,{"$f":"Berechnung!L42","v":""},null,null,{"$f":"IF($BA$35=\"x\",BC28,\"\")","v":0.1111111111111111},null,null,{"$f":"IF($BA$35=\"x\",BD28,\"\")","v":0.22222222222222221},null,null,null,null,null,null,null,{"$f":"IF($BA$35=\"x\",BC29,\"\")","v":0.5},null,null,{"$f":"IF($BA$35=\"x\",BD29,\"\")","v":0},null,null,null,null,null,null,null,{"$f":"IF($BA$35=\"x\",BC30,\"\")","v":0},null,null,{"$f":"IF($BA$35=\"x\",BD30,\"\")","v":0.5},null,null,null,null,null,null,null,null,null,null,null,null,null,null,null,null,"S1",{"$f":"SUM(BB18:BE18)","v":9},{"$f":"'R 1'!BL9","v":6},{"$f":"'R 1'!BL15","v":1},{"$f":"'R 1'!BL21","v":2},{"$f":"'R 1'!BL27","v":0},null,null,{"$f":"TEXT('Berechnung S'!AE18,\"##\")","v":""},{"$f":"'Berechnung S'!Y18","v":""},{"$f":"IF(BH18=\"\",\"\",IF(BI18=Options!$AC$7,Options!$AD$7,IF(BI18=Options!$AC$8,Options!$AD$8,IF(BI18=Options!$AC$9,Options!$AD$9,IF(BI18=Options!$AC$10,Options!$AD$10,IF(BI18=Options!$AC$11,Options!$AD$11,\"unknown\"))))))","v":""},{"$f":"'Berechnung S'!AC18","v":""},"","",null,"S4",{"$f":"Daten!B107","v":6},{"$f":"Daten!C107","v":"83%"},{"$f":"Daten!D107","v":5},0.83333333333333337,{"$f":"Daten!E107","v":0},"",{"$f":"IF(BT18=0,\"\",Daten!F107)","v":""},{"$f":"IF(BT18=0,\"\",Daten!G107)","v":""},"",{"$f":"Daten!H107","v":2},0.33333333333333331,{"$f":"IF(BY18=0,\"\",Daten!I107)","v":"100%"},{"$f":"IF(BY18=0,\"\",Daten!J107)","v":2},1,{"$f":"Daten!K107","v":2},0.33333333333333331,{"$f":"IF(CD18=0,\"\",Daten!L107)","v":"50%"},{"$f":"IF(CD18=0,\"\",Daten!M107)","v":1},0.5,{"$f":"Daten!N107","v":1},0.16666666666666666,{"$f":"IF(CI18=0,\"\",Daten!O107)","v":"100%"},{"$f":"IF(CI18=0,\"\",Daten!P107)","v":1},1,{"$f":"Daten!Q107","v":1},0.16666666666666666,{"$f":"IF(CN18=0,\"\",Daten!R107)","v":"100%"},{"$f":"IF(CN18=0,\"\",Daten!S107)","v":1},1,{"$f":"Daten!T107","v":0},"",{"$f":"IF(CS18=0,\"\",Daten!U107)","v":""},{"$f":"IF(CS18=0,\"\",Daten!V107)","v":""},"",{"$f":"Daten!W107","v":0},"",{"$f":"IF(CX18=0,\"\",Daten!X107)","v":""},{"$f":"IF(CX18=0,\"\",Daten!Y107)","v":""},""]
[null,{"$f":"Berechnung!I43","v":""},{"$f":"Berechnung!J43","v":""},null,null,null,{"$f":"Berechnung!L43","v":""},null,null,null,null,null,null,null,null,null,null,null,null,null,null,null,null,null,null,null,null,null,null,null,null,null,null,null,null,null,null,null,null,null,null,null,null,null,null,null,null,null,null,null,null,"S6",8,{"$f":"'R 6'!BL9","v":4},{"$f":"'R 6'!BL15","v":4},{"$f":"'R 6'!BL21","v":0},{"$f":"'R 6'!BL27","v":0},null,null,{"$f":"TEXT('Berechnung S'!AE19,\"##\")","v":""},{"$f":"'Berechnung S'!Y19","v":""},{"$f":"IF(BH19=\"\",\"\",IF(BI19=Options!$AC$7,Options!$AD$7,IF(BI19=Options!$AC$8,Options!$AD$8,IF(BI19=Options!$AC$9,Options!$AD$9,IF(BI19=Options!$AC$10,Options!$AD$10,IF(BI19=Options!$AC$11,Options!$AD$11,\"unknown\"))))))","v":""},{"$f":"'Berechnung S'!AC19","v":""},"","",null,"S3",{"$f":"Daten!B108","v":6},{"$f":"Daten!C108","v":"50%"},{"$f":"Daten!D108","v":4},0.66666666666666663,{"$f":"Daten!E108","v":0},"",{"$f":"IF(BT19=0,\"\",Daten!F108)","v":""},{"$f":"IF(BT19=0,\"\",Daten!G108)","v":""},"",{"$f":"Daten!H108","v":4},0.66666666666666663,{"$f":"IF(BY19=0,\"\",Daten!I108)","v":"75%"},{"$f":"IF(BY19=0,\"\",Daten!J108)","v":3},0.75,{"$f":"Daten!K108","v":1},0.16666666666666666,{"$f":"IF(CD19=0,\"\",Daten!L108)","v":"-100%"},{"$f":"IF(CD19=0,\"\",Daten!M108)","v":0},0,{"$f":"Daten!N108","v":1},0.16666666666666666,{"$f":"IF(CI19=0,\"\",Daten!O108)","v":"100%"},{"$f":"IF(CI19=0,\"\",Daten!P108)","v":1},1,{"$f":"Daten!Q108","v":0},"",{"$f":"IF(CN19=0,\"\",Daten!R108)","v":""},{"$f":"IF(CN19=0,\"\",Daten!S108)","v":""},"",{"$f":"Daten!T108","v":0},"",{"$f":"IF(CS19=0,\"\",Daten!U108)","v":""},{"$f":"IF(CS19=0,\"\",Daten!V108)","v":""},"",{"$f":"Daten!W108","v":0},"",{"$f":"IF(CX19=0,\"\",Daten!X108)","v":""},{"$f":"IF(CX19=0,\"\",Daten!Y108)","v":""},""]
[null,{"$f":"Berechnung!I44","v":""},{"$f":"Berechnung!J44","v":""},null,null,null,{"$f":"Berechnung!L44","v":""},null,null,null,null,null,null,null,null,null,null,null,null,null,null,null,null,null,null,null,null,null,null,null,null,null,null,null,null,null,null,null,null,null,null,null,null,null,null,null,null,null,null,null,null,"S5",10,{"$f":"'R 5'!BL9","v":5},{"$f":"'R 5'!BL15","v":0},{"$f":"'R 5'!BL21","v":5},{"$f":"'R 5'!BL27","v":0},null,null,{"$f":"TEXT('Berechnung S'!AE20,\"##\")","v":""},{"$f":"'Berechnung S'!Y20","v":""},{"$f":"IF(BH20=\"\",\"\",IF(BI20=Options!$AC$7,Options!$AD$7,IF(BI20=Options!$AC$8,Options!$AD$8,IF(BI20=Options!$AC$9,Options!$AD$9,IF(BI20=Options!$AC$10,Options!$AD$10,IF(BI20=Options!$AC$11,Options!$AD$11,\"unknown\"))))))","v":""},{"$f":"'Berechnung S'!AC20","v":""},"","",null,"S2",{"$f":"Daten!B109","v":11},{"$f":"Daten!C109","v":"9%"},{"$f":"Daten!D109","v":6},0.54545454545454541,{"$f":"Daten!E109","v":0},"",{"$f":"IF(BT20=0,\"\",Daten!F109)","v":""},{"$f":"IF(BT20=0,\"\",Daten!G109)","v":""},"",{"$f":"Daten!H109","v":4},0.36363636363636365,{"$f":"IF(BY20=0,\"\",Daten!I109)","v":"50%"},{"$f":"IF(BY20=0,\"\",Daten!J109)","v":3},0.75,{"$f":"Daten!K109","v":3},0.27272727272727271,{"$f":"IF(CD20=0,\"\",Daten!L109)","v":"-33%"},{"$f":"IF(CD20=0,\"\",Daten!M109)","v":1},0.33333333333333331,{"$f":"Daten!N109","v":4},0.36363636363636365,{"$f":"IF(CI20=0,\"\",Daten!O109)","v":"0%"},{"$f":"IF(CI20=0,\"\",Daten!P109)","v":2},0.5,{"$f":"Daten!Q109","v":0},"",{"$f":"IF(CN20=0,\"\",Daten!R109)","v":""},{"$f":"IF(CN20=0,\"\",Daten!S109)","v":""},"",{"$f":"Daten!T109","v":0},"",{"$f":"IF(CS20=0,\"\",Daten!U109)","v":""},{"$f":"IF(CS20=0,\"\",Daten!V109)","v":""},"",{"$f":"Daten!W109","v":0},"",{"$f":"IF(CX20=0,\"\",Daten!X109)","v":""},{"$f":"IF(CX20=0,\"\",Daten!Y109)","v":""},""]
[null,{"$f":"Berechnung!I45","v":""},{"$f":"Berechnung!J45","v":""},null,null,null,{"$f":"Berechnung!L45","v":""},null,null,null,null,null,null,null,null,null,null,null,null,null,null,null,null,null,null,null,null,null,null,null,null,null,null,null,null,null,null,null,null,null,null,null,null,null,null,null,null,null,null,null,null,"S4",6,{"$f":"'R 4'!BL9","v":5},{"$f":"'R 4'!BL15","v":0},{"$f":"'R 4'!BL21","v":1},{"$f":"'R 4'!BL27","v":0},null,null,{"$f":"TEXT('Berechnung S'!AE21,\"##\")","v":""},{"$f":"'Berechnung S'!Y21","v":""},{"$f":"IF(BH21=\"\",\"\",IF(BI21=Options!$AC$7,Options!$AD$7,IF(BI21=Options!$AC$8,Options!$AD$8,IF(BI21=Options!$AC$9,Options!$AD$9,IF(BI21=Options!$AC$10,Options!$AD$10,IF(BI21=Options!$AC$11,Options!$AD$11,\"unknown\"))))))","v":""},{"$f":"'Berechnung S'!AC21","v":""},"",""]
[null,{"$f":"Berechnung!I46","v":""},{"$f":"Berechnung!J46","v":""},null,null,null,{"$f":"Berechnung!L46","v":""},null,null,null,null,null,null,null,null,null,null,null,null,null,null,null,null,null,null,null,null,null,null,null,null,null,null,null,null,null,null,null,null,null,null,null,null,null,null,null,null,null,null,null,null,"S3",7,{"$f":"'R 3'!BL9","v":2},{"$f":"'R 3'!BL15","v":5},{"$f":"'R 3'!BL21","v":0},{"$f":"'R 3'!BL27","v":0},null,null,{"$f":"TEXT('Berechnung S'!AE22,\"##\")","v":""},{"$f":"'Berechnung S'!Y22","v":""},{"$f":"IF(BH22=\"\",\"\",IF(BI22=Options!$AC$7,Options!$AD$7,IF(BI22=Options!$AC$8,Options!$AD$8,IF(BI22=Options!$AC$9,Options!$AD$9,IF(BI22=Options!$AC$10,Options!$AD$10,IF(BI22=Options!$AC$11,Options!$AD$11,\"unknown\"))))))","v":""},{"$f":"'Berechnung S'!AC22","v":""},"",""]
[null,null,null,null,null,null,null,null,"S1",null,null,null,null,null,null,null,null,null,null,"S6",null,null,null,null,null,null,null,null,null,null,"S5",null,null,null,null,null,null,null,null,null,null,null,null,"S5",null,null,null,null,null,null,null,"S2",11,{"$f":"'R 2'!BL9","v":10},{"$f":"'R 2'!BL15","v":0},{"$f":"'R 2'!BL21","v":1},{"$f":"'R 2'!BL27","v":0}]
[]
[null,null,"Starting Lineup:",null,null,{"$f":"IF(AND(Options!D14=\"\",Options!G14=\"\"),\"\",\"Rotation:\")","v":"Rotation:"},null,null,{"$f":"IF(BE9=\"\",\"\",BE9 & \": \"&BE15)","v":""},null,null,null,null,null,null,null,null,null,null,{"$f":"IF(BD9=\"\",\"\",BD9 & \": \"&BD15)","v":"14: Jumpserve at Position 6"},null,null,null,null,null,null,null,null,null,null,{"$f":"IF(BC9=\"\",\"\",BC9 & \": \"&BC15)","v":""},null,null,null,null,null,null,null,null,null,null,null,null,null,null,null,null,null,null,null,null,null,null,null,null,null,null,null,"Critical",null,null,null,null,null,null,"Distribution in rot by setter"]
[null,null,null,null,null,null,null,null,{"$f":"IF(BE8=\"\",\"\",BE8 & \": \"&BE14)","v":"4: Jumpfloat at Position 5"},null,null,null,null,null,null,null,null,null,null,{"$f":"IF(BD8=\"\",\"\",BD8 & \": \"&BD14)","v":"9: Jumpfloat at Position 1"},null,null,null,null,null,null,null,null,null,null,{"$f":"IF(BC8=\"\",\"\",BC8 & \": \"&BC14)","v":"17: Jumpserve at Position 5"},null,null,null,null,null,null,null,null,null,null,null,null,null,null,null,null,null,null,null,null,null,null,null,null,null,null,null,0.05,null,null,null,null,null,null," / ",null,"S 1",null,"S 6",null,"S 5",null,"S 4",null,"S 3",null,"S 2"]
[null,null,{"$f":"AZ10","v":"6/22"},{"$f":"BE10","v":4},{"$f":"BD10","v":"9/14"},null,null,null,{"$f":"CONCATENATE('Daten AfR'!$N$6,'Daten AfR'!$C$8,'Daten AfR'!$O$6)","v":"100%/3"},null,null,{"$f":"CONCATENATE('Daten AfR'!$N$5,'Daten AfR'!$C$8,'Daten AfR'!$O$5)","v":"75%/4"},null,null,{"$f":"CONCATENATE('Daten AfR'!$N$4,'Daten AfR'!$C$8,'Daten AfR'!$O$4)","v":"0%/0"},null,null,null,null,{"$f":"CONCATENATE('Daten AfR'!$L$5,'Daten AfR'!$C$8,'Daten AfR'!$M$5)","v":"0%/0"},null,null,{"$f":"CONCATENATE('Daten AfR'!$L$6,'Daten AfR'!$C$8,'Daten AfR'!$M$6)","v":"100%/5"},null,null,{"$f":"CONCATENATE('Daten AfR'!$L$4,'Daten AfR'!$C$8,'Daten AfR'!$M$4)","v":"0%/0"},null,null,null,null,{"$f":"CONCATENATE('Daten AfR'!$J$6,'Daten AfR'!$C$8,'Daten AfR'!$K$6)","v":"25%/4"},null,null,{"$f":"CONCATENATE('Daten AfR'!$J$4,'Daten AfR'!$C$8,'Daten AfR'!$K$4)","v":"50%/2"},null,null,{"$f":"CONCATENATE('Daten AfR'!$J$5,'Daten AfR'!$C$8,'Daten AfR'!$K$5)","v":"100%/1"},null,null,null,null,null,null,null,null,null,null,null,null,null,null,null,null,"K1","K2","K7","KD",null,null,null,null,null,null,null,null,"Pos 2",null,{"$f":"IF(Options!$B$9=1,'Daten A3'!$C$4,IF(Options!$B$9=2,'Daten A3'!$C$10,IF(Options!$B$9=3,'Daten A3'!$C$16,IF(Options!$B$9=4,'Daten A3'!$C$22,IF(Options!$B$9=5,'Daten A3'!$C$28,IF(Options!$B$9=6,'Daten A3'!$C$34,IF(Options!$B$9=7,'Daten A3'!$C$40,IF(Options!$B$9=8,'Daten A3'!$C$46,IF(Options!$B$9=9,'Daten A3'!$C$52,IF(Options!$B$9=10,'Daten A3'!$C$58,IF(Options!$B$9=11,'Daten A3'!$C$64,IF(Options!$B$9=12,'Daten A3'!$C$70,IF(Options!$B$9=13,'Daten A3'!$C$76,IF(Options!$B$9=14,'Daten A3'!$C$82,IF(Options!$B$9=15,'Daten A3'!$C$88,IF(Options!$B$9=16,'Daten A3'!$C$94,IF(Options!$B$9=17,'Daten A3'!$C$100,IF(Options!$B$9=18,'Daten A3'!$C$106,IF(Options!$B$9=19,'Daten A3'!R4,IF(Options!$B$9=20,'Daten A3'!R10,IF(Options!$B$9=21,'Daten A3'!R16,IF(Options!$B$9=22,'Daten A3'!R22,IF(Options!$B$9=23,'Daten A3'!R28,IF(Options!$B$9=24,'Daten A3'!R34,))))))))))))))))))))))))","v":"25%"},{"$f":"IF(Options!$B$9=1,'Daten A3'!$D$4,IF(Options!$B$9=2,'Daten A3'!$D$10,IF(Options!$B$9=3,'Daten A3'!$D$16,IF(Options!$B$9=4,'Daten A3'!$D$22,IF(Options!$B$9=5,'Daten A3'!$D$28,IF(Options!$B$9=6,'Daten A3'!$D$34,IF(Options!$B$9=7,'Daten A3'!$D$40,IF(Options!$B$9=8,'Daten A3'!$D$46,IF(Options!$B$9=9,'Daten A3'!$D$52,IF(Options!$B$9=10,'Daten A3'!$D$58,IF(Options!$B$9=11,'Daten A3'!$D$64,IF(Options!$B$9=12,'Daten A3'!$D$70,IF(Options!$B$9=13,'Daten A3'!$D$76,IF(Options!$B$9=14,'Daten A3'!$D$82,IF(Options!$B$9=15,'Daten A3'!$D$88,IF(Options!$B$9=16,'Daten A3'!$D$94,IF(Options!$B$9=17,'Daten A3'!$D$100,IF(Options!$B$9=18,'Daten A3'!$D$106,IF(Options!$B$9=19,'Daten A3'!S4,IF(Options!$B$9=20,'Daten A3'!S10,IF(Options!$B$9=21,'Daten A3'!S16,IF(Options!$B$9=22,'Daten A3'!S22,IF(Options!$B$9=23,'Daten A3'!S28,IF(Options!$B$9=24,'Daten A3'!S34,))))))))))))))))))))))))","v":1},{"$f":"IF(Options!$B$9=1,'Daten A3'!$E$4,IF(Options!$B$9=2,'Daten A3'!$E$10,IF(Options!$B$9=3,'Daten A3'!$E$16,IF(Options!$B$9=4,'Daten A3'!$E$22,IF(Options!$B$9=5,'Daten A3'!$E$28,IF(Options!$B$9=6,'Daten A3'!$E$34,IF(Options!$B$9=7,'Daten A3'!$E$40,IF(Options!$B$9=8,'Daten A3'!$E$46,IF(Options!$B$9=9,'Daten A3'!$E$52,IF(Options!$B$9=10,'Daten A3'!$E$58,IF(Options!$B$9=11,'Daten A3'!$E$64,IF(Options!$B$9=12,'Daten A3'!$E$70,IF(Options!$B$9=13,'Daten A3'!$E$76,IF(Options!$B$9=14,'Daten A3'!$E$82,IF(Options!$B$9=15,'Daten A3'!$E$88,IF(Options!$B$9=16,'Daten A3'!$E$94,IF(Options!$B$9=17,'Daten A3'!$E$100,IF(Options!$B$9=18,'Daten A3'!$E$106,IF(Options!$B$9=19,'Daten A3'!T4,IF(Options!$B$9=20,'Daten A3'!T10,IF(Options!$B$9=21,'Daten A3'!T16,IF(Options!$B$9=22,'Daten A3'!T22,IF(Options!$B$9=23,'Daten A3'!T28,IF(Options!$B$9=24,'Daten A3'!T34,))))))))))))))))))))))))","v":"20%"},{"$f":"IF(Options!$B$9=1,'Daten A3'!$F$4,IF(Options!$B$9=2,'Daten A3'!$F$10,IF(Options!$B$9=3,'Daten A3'!$F$16,IF(Options!$B$9=4,'Daten A3'!$F$22,IF(Options!$B$9=5,'Daten A3'!$F$28,IF(Options!$B$9=6,'Daten A3'!$F$34,IF(Options!$B$9=7,'Daten A3'!$F$40,IF(Options!$B$9=8,'Daten A3'!$F$46,IF(Options!$B$9=9,'Daten A3'!$F$52,IF(Options!$B$9=10,'Daten A3'!$F$58,IF(Options!$B$9=11,'Daten A3'!$F$64,IF(Options!$B$9=12,'Daten A3'!$F$70,IF(Options!$B$9=13,'Daten A3'!$F$76,IF(Options!$B$9=14,'Daten A3'!$F$82,IF(Options!$B$9=15,'Daten A3'!$F$88,IF(Options!$B$9=16,'Daten A3'!$F$94,IF(Options!$B$9=17,'Daten A3'!$F$100,IF(Options!$B$9=18,'Daten A3'!$F$106,IF(Options!$B$9=19,'Daten A3'!U4,IF(Options!$B$9=20,'Daten A3'!U10,IF(Options!$B$9=21,'Daten A3'!U16,IF(Options!$B$9=22,'Daten A3'!U22,IF(Options!$B$9=23,'Daten A3'!U28,IF(Options!$B$9=24,'Daten A3'!U34,))))))))))))))))))))))))","v":1},{"$f":"IF(Options!$B$9=1,'Daten A3'!$G$4,IF(Options!$B$9=2,'Daten A3'!$G$10,IF(Options!$B$9=3,'Daten A3'!$G$16,IF(Options!$B$9=4,'Daten A3'!$G$22,IF(Options!$B$9=5,'Daten A3'!$G$28,IF(Options!$B$9=6,'Daten A3'!$G$34,IF(Options!$B$9=7,'Daten A3'!$G$40,IF(Options!$B$9=8,'Daten A3'!$G$46,IF(Options!$B$9=9,'Daten A3'!$G$52,IF(Options!$B$9=10,'Daten A3'!$G$58,IF(Options!$B$9=11,'Daten A3'!$G$64,IF(Options!$B$9=12,'Daten A3'!$G$70,IF(Options!$B$9=13,'Daten A3'!$G$76,IF(Options!$B$9=14,'Daten A3'!$G$82,IF(Options!$B$9=15,'Daten A3'!$G$88,IF(Options!$B$9=16,'Daten A3'!$G$94,IF(Options!$B$9=17,'Daten A3'!$G$100,IF(Options!$B$9=18,'Daten A3'!$G$106,IF(Options!$B$9=19,'Daten A3'!V4,IF(Options!$B$9=20,'Daten A3'!V10,IF(Options!$B$9=21,'Daten A3'!V16,IF(Options!$B$9=22,'Daten A3'!V22,IF(Options!$B$9=23,'Daten A3'!V28,IF(Options!$B$9=24,'Daten A3'!V34,))))))))))))))))))))))))","v":"12%"},{"$f":"IF(Options!$B$9=1,'Daten A3'!$H$4,IF(Options!$B$9=2,'Daten A3'!$H$10,IF(Options!$B$9=3,'Daten A3'!$H$16,IF(Options!$B$9=4,'Daten A3'!$H$22,IF(Options!$B$9=5,'Daten A3'!$H$28,IF(Options!$B$9=6,'Daten A3'!$H$34,IF(Options!$B$9=7,'Daten A3'!$H$40,IF(Options!$B$9=8,'Daten A3'!$H$46,IF(Options!$B$9=9,'Daten A3'!$H$52,IF(Options!$B$9=10,'Daten A3'!$H$58,IF(Options!$B$9=11,'Daten A3'!$H$64,IF(Options!$B$9=12,'Daten A3'!$H$70,IF(Options!$B$9=13,'Daten A3'!$H$76,IF(Options!$B$9=14,'Daten A3'!$H$82,IF(Options!$B$9=15,'Daten A3'!$H$88,IF(Options!$B$9=16,'Daten A3'!$H$94,IF(Options!$B$9=17,'Daten A3'!$H$100,IF(Options!$B$9=18,'Daten A3'!$H$106,IF(Options!$B$9=19,'Daten A3'!W4,IF(Options!$B$9=20,'Daten A3'!W10,IF(Options!$B$9=21,'Daten A3'!W16,IF(Options!$B$9=22,'Daten A3'!W22,IF(Options!$B$9=23,'Daten A3'!W28,IF(Options!$B$9=24,'Daten A3'!W34,))))))))))))))))))))))))","v":1},{"$f":"IF(Options!$B$9=1,'Daten A3'!$I$4,IF(Options!$B$9=2,'Daten A3'!$I$10,IF(Options!$B$9=3,'Daten A3'!$I$16,IF(Options!$B$9=4,'Daten A3'!$I$22,IF(Options!$B$9=5,'Daten A3'!$I$28,IF(Options!$B$9=6,'Daten A3'!$I$34,IF(Options!$B$9=7,'Daten A3'!$I$40,IF(Options!$B$9=8,'Daten A3'!$I$46,IF(Options!$B$9=9,'Daten A3'!$I$52,IF(Options!$B$9=10,'Daten A3'!$I$58,IF(Options!$B$9=11,'Daten A3'!$I$64,IF(Options!$B$9=12,'Daten A3'!$I$70,IF(Options!$B$9=13,'Daten A3'!$I$76,IF(Options!$B$9=14,'Daten A3'!$I$82,IF(Options!$B$9=15,'Daten A3'!$I$88,IF(Options!$B$9=16,'Daten A3'!$I$94,IF(Options!$B$9=17,'Daten A3'!$I$100,IF(Options!$B$9=18,'Daten A3'!$I$106,IF(Options!$B$9=19,'Daten A3'!X4,IF(Options!$B$9=20,'Daten A3'!X10,IF(Options!$B$9=21,'Daten A3'!X16,IF(Options!$B$9=22,'Daten A3'!X22,IF(Options!$B$9=23,'Daten A3'!X28,IF(Options!$B$9=24,'Daten A3'!X34,))))))))))))))))))))))))","v":"0%"},{"$f":"IF(Options!$B$9=1,'Daten A3'!$J$4,IF(Options!$B$9=2,'Daten A3'!$J$10,IF(Options!$B$9=3,'Daten A3'!$J$16,IF(Options!$B$9=4,'Daten A3'!$J$22,IF(Options!$B$9=5,'Daten A3'!$J$28,IF(Options!$B$9=6,'Daten A3'!$J$34,IF(Options!$B$9=7,'Daten A3'!$J$40,IF(Options!$B$9=8,'Daten A3'!$J$46,IF(Options!$B$9=9,'Daten A3'!$J$52,IF(Options!$B$9=10,'Daten A3'!$J$58,IF(Options!$B$9=11,'Daten A3'!$J$64,IF(Options!$B$9=12,'Daten A3'!$J$70,IF(Options!$B$9=13,'Daten A3'!$J$76,IF(Options!$B$9=14,'Daten A3'!$J$82,IF(Options!$B$9=15,'Daten A3'!$J$88,IF(Options!$B$9=16,'Daten A3'!$J$94,IF(Options!$B$9=17,'Daten A3'!$J$100,IF(Options!$B$9=18,'Daten A3'!$J$106,IF(Options!$B$9=19,'Daten A3'!Y4,IF(Options!$B$9=20,'Daten A3'!Y10,IF(Options!$B$9=21,'Daten A3'!Y16,IF(Options!$B$9=22,'Daten A3'!Y22,IF(Options!$B$9=23,'Daten A3'!Y28,IF(Options!$B$9=24,'Daten A3'!Y34,))))))))))))))))))))))))","v":0},{"$f":"IF(Options!$B$9=1,'Daten A3'!$K$4,IF(Options!$B$9=2,'Daten A3'!$K$10,IF(Options!$B$9=3,'Daten A3'!$K$16,IF(Options!$B$9=4,'Daten A3'!$K$22,IF(Options!$B$9=5,'Daten A3'!$K$28,IF(Options!$B$9=6,'Daten A3'!$K$34,IF(Options!$B$9=7,'Daten A3'!$K$40,IF(Options!$B$9=8,'Daten A3'!$K$46,IF(Options!$B$9=9,'Daten A3'!$K$52,IF(Options!$B$9=10,'Daten A3'!$K$58,IF(Options!$B$9=11,'Daten A3'!$K$64,IF(Options!$B$9=12,'Daten A3'!$K$70,IF(Options!$B$9=13,'Daten A3'!$K$76,IF(Options!$B$9=14,'Daten A3'!$K$82,IF(Options!$B$9=15,'Daten A3'!$K$88,IF(Options!$B$9=16,'Daten A3'!$K$94,IF(Options!$B$9=17,'Daten A3'!$K$100,IF(Options!$B$9=18,'Daten A3'!$K$106,IF(Options!$B$9=19,'Daten A3'!Z4,IF(Options!$B$9=20,'Daten A3'!Z10,IF(Options!$B$9=21,'Daten A3'!Z16,IF(Options!$B$9=22,'Daten A3'!Z22,IF(Options!$B$9=23,'Daten A3'!Z28,IF(Options!$B$9=24,'Daten A3'!Z34,))))))))))))))))))))))))","v":"0%"},{"$f":"IF(Options!$B$9=1,'Daten A3'!$L$4,IF(Options!$B$9=2,'Daten A3'!$L$10,IF(Options!$B$9=3,'Daten A3'!$L$16,IF(Options!$B$9=4,'Daten A3'!$L$22,IF(Options!$B$9=5,'Daten A3'!$L$28,IF(Options!$B$9=6,'Daten A3'!$L$34,IF(Options!$B$9=7,'Daten A3'!$L$40,IF(Options!$B$9=8,'Daten A3'!$L$46,IF(Options!$B$9=9,'Daten A3'!$L$52,IF(Options!$B$9=10,'Daten A3'!$L$58,IF(Options!$B$9=11,'Daten A3'!$L$64,IF(Options!$B$9=12,'Daten A3'!$L$70,IF(Options!$B$9=13,'Daten A3'!$L$76,IF(Options!$B$9=14,'Daten A3'!$L$82,IF(Options!$B$9=15,'Daten A3'!$L$88,IF(Options!$B$9=16,'Daten A3'!$L$94,IF(Options!$B$9=17,'Daten A3'!$L$100,IF(Options!$B$9=18,'Daten A3'!$L$106,IF(Options!$B$9=19,'Daten A3'!AA4,IF(Options!$B$9=20,'Daten A3'!AA10,IF(Options!$B$9=21,'Daten A3'!AA16,IF(Options!$B$9=22,'Daten A3'!AA22,IF(Options!$B$9=23,'Daten A3'!AA28,IF(Options!$B$9=24,'Daten A3'!AA34,))))))))))))))))))))))))","v":0},{"$f":"IF(Options!$B$9=1,'Daten A3'!$M$4,IF(Options!$B$9=2,'Daten A3'!$M$10,IF(Options!$B$9=3,'Daten A3'!$M$16,IF(Options!$B$9=4,'Daten A3'!$M$22,IF(Options!$B$9=5,'Daten A3'!$M$28,IF(Options!$B$9=6,'Daten A3'!$M$34,IF(Options!$B$9=7,'Daten A3'!$M$40,IF(Options!$B$9=8,'Daten A3'!$M$46,IF(Options!$B$9=9,'Daten A3'!$M$52,IF(Options!$B$9=10,'Daten A3'!$M$58,IF(Options!$B$9=11,'Daten A3'!$M$64,IF(Options!$B$9=12,'Daten A3'!$M$70,IF(Options!$B$9=13,'Daten A3'!$M$76,IF(Options!$B$9=14,'Daten A3'!$M$82,IF(Options!$B$9=15,'Daten A3'!$M$88,IF(Options!$B$9=16,'Daten A3'!$M$94,IF(Options!$B$9=17,'Daten A3'!$M$100,IF(Options!$B$9=18,'Daten A3'!$M$106,IF(Options!$B$9=19,'Daten A3'!AB4,IF(Options!$B$9=20,'Daten A3'!AB10,IF(Options!$B$9=21,'Daten A3'!AB16,IF(Options!$B$9=22,'Daten A3'!AB22,IF(Options!$B$9=23,'Daten A3'!AB28,IF(Options!$B$9=24,'Daten A3'!AB34,))))))))))))))))))))))))","v":"0%"},{"$f":"IF(Options!$B$9=1,'Daten A3'!$N$4,IF(Options!$B$9=2,'Daten A3'!$N$10,IF(Options!$B$9=3,'Daten A3'!$N$16,IF(Options!$B$9=4,'Daten A3'!$N$22,IF(Options!$B$9=5,'Daten A3'!$N$28,IF(Options!$B$9=6,'Daten A3'!$N$34,IF(Options!$B$9=7,'Daten A3'!$N$40,IF(Options!$B$9=8,'Daten A3'!$N$46,IF(Options!$B$9=9,'Daten A3'!$N$52,IF(Options!$B$9=10,'Daten A3'!$N$58,IF(Options!$B$9=11,'Daten A3'!$N$64,IF(Options!$B$9=12,'Daten A3'!$N$70,IF(Options!$B$9=13,'Daten A3'!$N$76,IF(Options!$B$9=14,'Daten A3'!$N$82,IF(Options!$B$9=15,'Daten A3'!$N$88,IF(Options!$B$9=16,'Daten A3'!$N$94,IF(Options!$B$9=17,'Daten A3'!$N$100,IF(Options!$B$9=18,'Daten A3'!$N$106,IF(Options!$B$9=19,'Daten A3'!AC4,IF(Options!$B$9=20,'Daten A3'!AC10,IF(Options!$B$9=21,'Daten A3'!AC16,IF(Options!$B$9=22,'Daten A3'!AC22,IF(Options!$B$9=23,'Daten A3'!AC28,IF(Options!$B$9=24,'Daten A3'!AC34,))))))))))))))))))))))))","v":0}]
[null,null,null,null,null,{"$f":"IF(Options!$D$14=\"\",\"\",\"Ser: S\"&Options!$D$14)","v":"Ser: S6"},null,null,null,null,null,null,null,null,null,null,null,null,null,null,null,null,null,null,null,null,null,null,null,null,null,null,null,null,null,null,null,null,null,null,null,null,null,null,null,null,null,null,null,null,null,"S1",null,{"$f":"'R 1'!BL9/BA18","v":0.66666666666666663},{"$f":"'R 1'!BL15/BA18","v":0.1111111111111111},{"$f":"'R 1'!BL21/BA18","v":0.22222222222222221},{"$f":"'R 1'!BL27/BA18","v":0},null,null,null,null,null,null,null,null,"Pos 3",null,{"$f":"IF(Options!$B$9=1,'Daten A3'!$C$5,IF(Options!$B$9=2,'Daten A3'!$C$11,IF(Options!$B$9=3,'Daten A3'!$C$17,IF(Options!$B$9=4,'Daten A3'!$C$23,IF(Options!$B$9=5,'Daten A3'!$C$29,IF(Options!$B$9=6,'Daten A3'!$C$35,IF(Options!$B$9=7,'Daten A3'!$C$41,IF(Options!$B$9=8,'Daten A3'!$C$47,IF(Options!$B$9=9,'Daten A3'!$C$53,IF(Options!$B$9=10,'Daten A3'!$C$59,IF(Options!$B$9=11,'Daten A3'!$C$65,IF(Options!$B$9=12,'Daten A3'!$C$71,IF(Options!$B$9=13,'Daten A3'!$C$77,IF(Options!$B$9=14,'Daten A3'!$C$83,IF(Options!$B$9=15,'Daten A3'!$C$89,IF(Options!$B$9=16,'Daten A3'!$C$95,IF(Options!$B$9=17,'Daten A3'!$C$101,IF(Options!$B$9=18,'Daten A3'!$C$107,IF(Options!$B$9=19,'Daten A3'!R5,IF(Options!$B$9=20,'Daten A3'!R11,IF(Options!$B$9=21,'Daten A3'!R17,IF(Options!$B$9=22,'Daten A3'!R23,IF(Options!$B$9=23,'Daten A3'!R29,IF(Options!$B$9=24,'Daten A3'!R35,))))))))))))))))))))))))","v":"0%"},{"$f":"IF(Options!$B$9=1,'Daten A3'!$D$5,IF(Options!$B$9=2,'Daten A3'!$D$11,IF(Options!$B$9=3,'Daten A3'!$D$17,IF(Options!$B$9=4,'Daten A3'!$D$23,IF(Options!$B$9=5,'Daten A3'!$D$29,IF(Options!$B$9=6,'Daten A3'!$D$35,IF(Options!$B$9=7,'Daten A3'!$D$41,IF(Options!$B$9=8,'Daten A3'!$D$47,IF(Options!$B$9=9,'Daten A3'!$D$53,IF(Options!$B$9=10,'Daten A3'!$D$59,IF(Options!$B$9=11,'Daten A3'!$D$65,IF(Options!$B$9=12,'Daten A3'!$D$71,IF(Options!$B$9=13,'Daten A3'!$D$77,IF(Options!$B$9=14,'Daten A3'!$D$83,IF(Options!$B$9=15,'Daten A3'!$D$89,IF(Options!$B$9=16,'Daten A3'!$D$95,IF(Options!$B$9=17,'Daten A3'!$D$101,IF(Options!$B$9=18,'Daten A3'!$D$107,IF(Options!$B$9=19,'Daten A3'!S5,IF(Options!$B$9=20,'Daten A3'!S11,IF(Options!$B$9=21,'Daten A3'!S17,IF(Options!$B$9=22,'Daten A3'!S23,IF(Options!$B$9=23,'Daten A3'!S29,IF(Options!$B$9=24,'Daten A3'!S35,))))))))))))))))))))))))","v":0},{"$f":"IF(Options!$B$9=1,'Daten A3'!$E$5,IF(Options!$B$9=2,'Daten A3'!$E$11,IF(Options!$B$9=3,'Daten A3'!$E$17,IF(Options!$B$9=4,'Daten A3'!$E$23,IF(Options!$B$9=5,'Daten A3'!$E$29,IF(Options!$B$9=6,'Daten A3'!$E$35,IF(Options!$B$9=7,'Daten A3'!$E$41,IF(Options!$B$9=8,'Daten A3'!$E$47,IF(Options!$B$9=9,'Daten A3'!$E$53,IF(Options!$B$9=10,'Daten A3'!$E$59,IF(Options!$B$9=11,'Daten A3'!$E$65,IF(Options!$B$9=12,'Daten A3'!$E$71,IF(Options!$B$9=13,'Daten A3'!$E$77,IF(Options!$B$9=14,'Daten A3'!$E$83,IF(Options!$B$9=15,'Daten A3'!$E$89,IF(Options!$B$9=16,'Daten A3'!$E$95,IF(Options!$B$9=17,'Daten A3'!$E$101,IF(Options!$B$9=18,'Daten A3'!$E$107,IF(Options!$B$9=19,'Daten A3'!T5,IF(Options!$B$9=20,'Daten A3'!T11,IF(Options!$B$9=21,'Daten A3'!T17,IF(Options!$B$9=22,'Daten A3'!T23,IF(Options!$B$9=23,'Daten A3'!T29,IF(Options!$B$9=24,'Daten A3'!T35,))))))))))))))))))))))))","v":"60%"},{"$f":"IF(Options!$B$9=1,'Daten A3'!$F$5,IF(Options!$B$9=2,'Daten A3'!$F$11,IF(Options!$B$9=3,'Daten A3'!$F$17,IF(Options!$B$9=4,'Daten A3'!$F$23,IF(Options!$B$9=5,'Daten A3'!$F$29,IF(Options!$B$9=6,'Daten A3'!$F$35,IF(Options!$B$9=7,'Daten A3'!$F$41,IF(Options!$B$9=8,'Daten A3'!$F$47,IF(Options!$B$9=9,'Daten A3'!$F$53,IF(Options!$B$9=10,'Daten A3'!$F$59,IF(Options!$B$9=11,'Daten A3'!$F$65,IF(Options!$B$9=12,'Daten A3'!$F$71,IF(Options!$B$9=13,'Daten A3'!$F$77,IF(Options!$B$9=14,'Daten A3'!$F$83,IF(Options!$B$9=15,'Daten A3'!$F$89,IF(Options!$B$9=16,'Daten A3'!$F$95,IF(Options!$B$9=17,'Daten A3'!$F$101,IF(Options!$B$9=18,'Daten A3'!$F$107,IF(Options!$B$9=19,'Daten A3'!U5,IF(Options!$B$9=20,'Daten A3'!U11,IF(Options!$B$9=21,'Daten A3'!U17,IF(Options!$B$9=22,'Daten A3'!U23,IF(Options!$B$9=23,'Daten A3'!U29,IF(Options!$B$9=24,'Daten A3'!U35,))))))))))))))))))))))))","v":3},{"$f":"IF(Options!$B$9=1,'Daten A3'!$G$5,IF(Options!$B$9=2,'Daten A3'!$G$11,IF(Options!$B$9=3,'Daten A3'!$G$17,IF(Options!$B$9=4,'Daten A3'!$G$23,IF(Options!$B$9=5,'Daten A3'!$G$29,IF(Options!$B$9=6,'Daten A3'!$G$35,IF(Options!$B$9=7,'Daten A3'!$G$41,IF(Options!$B$9=8,'Daten A3'!$G$47,IF(Options!$B$9=9,'Daten A3'!$G$53,IF(Options!$B$9=10,'Daten A3'!$G$59,IF(Options!$B$9=11,'Daten A3'!$G$65,IF(Options!$B$9=12,'Daten A3'!$G$71,IF(Options!$B$9=13,'Daten A3'!$G$77,IF(Options!$B$9=14,'Daten A3'!$G$83,IF(Options!$B$9=15,'Daten A3'!$G$89,IF(Options!$B$9=16,'Daten A3'!$G$95,IF(Options!$B$9=17,'Daten A3'!$G$101,IF(Options!$B$9=18,'Daten A3'!$G$107,IF(Options!$B$9=19,'Daten A3'!V5,IF(Options!$B$9=20,'Daten A3'!V11,IF(Options!$B$9=21,'Daten A3'!V17,IF(Options!$B$9=22,'Daten A3'!V23,IF(Options!$B$9=23,'Daten A3'!V29,IF(Options!$B$9=24,'Daten A3'!V35,))))))))))))))))))))))))","v":"25%"},{"$f":"IF(Options!$B$9=1,'Daten A3'!$H$5,IF(Options!$B$9=2,'Daten A3'!$H$11,IF(Options!$B$9=3,'Daten A3'!$H$17,IF(Options!$B$9=4,'Daten A3'!$H$23,IF(Options!$B$9=5,'Daten A3'!$H$29,IF(Options!$B$9=6,'Daten A3'!$H$35,IF(Options!$B$9=7,'Daten A3'!$H$41,IF(Options!$B$9=8,'Daten A3'!$H$47,IF(Options!$B$9=9,'Daten A3'!$H$53,IF(Options!$B$9=10,'Daten A3'!$H$59,IF(Options!$B$9=11,'Daten A3'!$H$65,IF(Options!$B$9=12,'Daten A3'!$H$71,IF(Options!$B$9=13,'Daten A3'!$H$77,IF(Options!$B$9=14,'Daten A3'!$H$83,IF(Options!$B$9=15,'Daten A3'!$H$89,IF(Options!$B$9=16,'Daten A3'!$H$95,IF(Options!$B$9=17,'Daten A3'!$H$101,IF(Options!$B$9=18,'Daten A3'!$H$107,IF(Options!$B$9=19,'Daten A3'!W5,IF(Options!$B$9=20,'Daten A3'!W11,IF(Options!$B$9=21,'Daten A3'!W17,IF(Options!$B$9=22,'Daten A3'!W23,IF(Options!$B$9=23,'Daten A3'!W29,IF(Options!$B$9=24,'Daten A3'!W35,))))))))))))))))))))))))","v":2},{"$f":"IF(Options!$B$9=1,'Daten A3'!$I$5,IF(Options!$B$9=2,'Daten A3'!$I$11,IF(Options!$B$9=3,'Daten A3'!$I$17,IF(Options!$B$9=4,'Daten A3'!$I$23,IF(Options!$B$9=5,'Daten A3'!$I$29,IF(Options!$B$9=6,'Daten A3'!$I$35,IF(Options!$B$9=7,'Daten A3'!$I$41,IF(Options!$B$9=8,'Daten A3'!$I$47,IF(Options!$B$9=9,'Daten A3'!$I$53,IF(Options!$B$9=10,'Daten A3'!$I$59,IF(Options!$B$9=11,'Daten A3'!$I$65,IF(Options!$B$9=12,'Daten A3'!$I$71,IF(Options!$B$9=13,'Daten A3'!$I$77,IF(Options!$B$9=14,'Daten A3'!$I$83,IF(Options!$B$9=15,'Daten A3'!$I$89,IF(Options!$B$9=16,'Daten A3'!$I$95,IF(Options!$B$9=17,'Daten A3'!$I$101,IF(Options!$B$9=18,'Daten A3'!$I$107,IF(Options!$B$9=19,'Daten A3'!X5,IF(Options!$B$9=20,'Daten A3'!X11,IF(Options!$B$9=21,'Daten A3'!X17,IF(Options!$B$9=22,'Daten A3'!X23,IF(Options!$B$9=23,'Daten A3'!X29,IF(Options!$B$9=24,'Daten A3'!X35,))))))))))))))))))))))))","v":"50%"},{"$f":"IF(Options!$B$9=1,'Daten A3'!$J$5,IF(Options!$B$9=2,'Daten A3'!$J$11,IF(Options!$B$9=3,'Daten A3'!$J$17,IF(Options!$B$9=4,'Daten A3'!$J$23,IF(Options!$B$9=5,'Daten A3'!$J$29,IF(Options!$B$9=6,'Daten A3'!$J$35,IF(Options!$B$9=7,'Daten A3'!$J$41,IF(Options!$B$9=8,'Daten A3'!$J$47,IF(Options!$B$9=9,'Daten A3'!$J$53,IF(Options!$B$9=10,'Daten A3'!$J$59,IF(Options!$B$9=11,'Daten A3'!$J$65,IF(Options!$B$9=12,'Daten A3'!$J$71,IF(Options!$B$9=13,'Daten A3'!$J$77,IF(Options!$B$9=14,'Daten A3'!$J$83,IF(Options!$B$9=15,'Daten A3'!$J$89,IF(Options!$B$9=16,'Daten A3'!$J$95,IF(Options!$B$9=17,'Daten A3'!$J$101,IF(Options!$B$9=18,'Daten A3'!$J$107,IF(Options!$B$9=19,'Daten A3'!Y5,IF(Options!$B$9=20,'Daten A3'!Y11,IF(Options!$B$9=21,'Daten A3'!Y17,IF(Options!$B$9=22,'Daten A3'!Y23,IF(Options!$B$9=23,'Daten A3'!Y29,IF(Options!$B$9=24,'Daten A3'!Y35,))))))))))))))))))))))))","v":2},{"$f":"IF(Options!$B$9=1,'Daten A3'!$K$5,IF(Options!$B$9=2,'Daten A3'!$K$11,IF(Options!$B$9=3,'Daten A3'!$K$17,IF(Options!$B$9=4,'Daten A3'!$K$23,IF(Options!$B$9=5,'Daten A3'!$K$29,IF(Options!$B$9=6,'Daten A3'!$K$35,IF(Options!$B$9=7,'Daten A3'!$K$41,IF(Options!$B$9=8,'Daten A3'!$K$47,IF(Options!$B$9=9,'Daten A3'!$K$53,IF(Options!$B$9=10,'Daten A3'!$K$59,IF(Options!$B$9=11,'Daten A3'!$K$65,IF(Options!$B$9=12,'Daten A3'!$K$71,IF(Options!$B$9=13,'Daten A3'!$K$77,IF(Options!$B$9=14,'Daten A3'!$K$83,IF(Options!$B$9=15,'Daten A3'!$K$89,IF(Options!$B$9=16,'Daten A3'!$K$95,IF(Options!$B$9=17,'Daten A3'!$K$101,IF(Options!$B$9=18,'Daten A3'!$K$107,IF(Options!$B$9=19,'Daten A3'!Z5,IF(Options!$B$9=20,'Daten A3'!Z11,IF(Options!$B$9=21,'Daten A3'!Z17,IF(Options!$B$9=22,'Daten A3'!Z23,IF(Options!$B$9=23,'Daten A3'!Z29,IF(Options!$B$9=24,'Daten A3'!Z35,))))))))))))))))))))))))","v":"83%"},{"$f":"IF(Options!$B$9=1,'Daten A3'!$L$5,IF(Options!$B$9=2,'Daten A3'!$L$11,IF(Options!$B$9=3,'Daten A3'!$L$17,IF(Options!$B$9=4,'Daten A3'!$L$23,IF(Options!$B$9=5,'Daten A3'!$L$29,IF(Options!$B$9=6,'Daten A3'!$L$35,IF(Options!$B$9=7,'Daten A3'!$L$41,IF(Options!$B$9=8,'Daten A3'!$L$47,IF(Options!$B$9=9,'Daten A3'!$L$53,IF(Options!$B$9=10,'Daten A3'!$L$59,IF(Options!$B$9=11,'Daten A3'!$L$65,IF(Options!$B$9=12,'Daten A3'!$L$71,IF(Options!$B$9=13,'Daten A3'!$L$77,IF(Options!$B$9=14,'Daten A3'!$L$83,IF(Options!$B$9=15,'Daten A3'!$L$89,IF(Options!$B$9=16,'Daten A3'!$L$95,IF(Options!$B$9=17,'Daten A3'!$L$101,IF(Options!$B$9=18,'Daten A3'!$L$107,IF(Options!$B$9=19,'Daten A3'!AA5,IF(Options!$B$9=20,'Daten A3'!AA11,IF(Options!$B$9=21,'Daten A3'!AA17,IF(Options!$B$9=22,'Daten A3'!AA23,IF(Options!$B$9=23,'Daten A3'!AA29,IF(Options!$B$9=24,'Daten A3'!AA35,))))))))))))))))))))))))","v":5},{"$f":"IF(Options!$B$9=1,'Daten A3'!$M$5,IF(Options!$B$9=2,'Daten A3'!$M$11,IF(Options!$B$9=3,'Daten A3'!$M$17,IF(Options!$B$9=4,'Daten A3'!$M$23,IF(Options!$B$9=5,'Daten A3'!$M$29,IF(Options!$B$9=6,'Daten A3'!$M$35,IF(Options!$B$9=7,'Daten A3'!$M$41,IF(Options!$B$9=8,'Daten A3'!$M$47,IF(Options!$B$9=9,'Daten A3'!$M$53,IF(Options!$B$9=10,'Daten A3'!$M$59,IF(Options!$B$9=11,'Daten A3'!$M$65,IF(Options!$B$9=12,'Daten A3'!$M$71,IF(Options!$B$9=13,'Daten A3'!$M$77,IF(Options!$B$9=14,'Daten A3'!$M$83,IF(Options!$B$9=15,'Daten A3'!$M$89,IF(Options!$B$9=16,'Daten A3'!$M$95,IF(Options!$B$9=17,'Daten A3'!$M$101,IF(Options!$B$9=18,'Daten A3'!$M$107,IF(Options!$B$9=19,'Daten A3'!AB5,IF(Options!$B$9=20,'Daten A3'!AB11,IF(Options!$B$9=21,'Daten A3'!AB17,IF(Options!$B$9=22,'Daten A3'!AB23,IF(Options!$B$9=23,'Daten A3'!AB29,IF(Options!$B$9=24,'Daten A3'!AB35,))))))))))))))))))))))))","v":"30%"},{"$f":"IF(Options!$B$9=1,'Daten A3'!$N$5,IF(Options!$B$9=2,'Daten A3'!$N$11,IF(Options!$B$9=3,'Daten A3'!$N$17,IF(Options!$B$9=4,'Daten A3'!$N$23,IF(Options!$B$9=5,'Daten A3'!$N$29,IF(Options!$B$9=6,'Daten A3'!$N$35,IF(Options!$B$9=7,'Daten A3'!$N$41,IF(Options!$B$9=8,'Daten A3'!$N$47,IF(Options!$B$9=9,'Daten A3'!$N$53,IF(Options!$B$9=10,'Daten A3'!$N$59,IF(Options!$B$9=11,'Daten A3'!$N$65,IF(Options!$B$9=12,'Daten A3'!$N$71,IF(Options!$B$9=13,'Daten A3'!$N$77,IF(Options!$B$9=14,'Daten A3'!$N$83,IF(Options!$B$9=15,'Daten A3'!$N$89,IF(Options!$B$9=16,'Daten A3'!$N$95,IF(Options!$B$9=17,'Daten A3'!$N$101,IF(Options!$B$9=18,'Daten A3'!$N$107,IF(Options!$B$9=19,'Daten A3'!AC5,IF(Options!$B$9=20,'Daten A3'!AC11,IF(Options!$B$9=21,'Daten A3'!AC17,IF(Options!$B$9=22,'Daten A3'!AC23,IF(Options!$B$9=23,'Daten A3'!AC29,IF(Options!$B$9=24,'Daten A3'!AC35,))))))))))))))))))))))))","v":3}]
[null,null,null,{"$f":"\"L: \"&BF10","v":"L: 19/25"},null,{"$f":"IF(Options!$G$14=\"\",\"\",\"Rec: S\"&Options!$G$14)","v":"Rec: S6"},null,null,null,null,null,null,null,null,null,null,null,null,null,null,null,null,null,null,null,null,null,null,null,null,null,null,null,null,null,null,null,null,null,null,null,null,null,null,null,null,null,null,null,null,null,"S6",null,{"$f":"'R 6'!BL9/BA19","v":0.5},{"$f":"'R 6'!BL15/BA19","v":0.5},{"$f":"'R 6'!BL21/BA19","v":0},{"$f":"'R 6'!BL27/BA19","v":0},null,null,null,null,null,null,null,null,"Pos 4",null,{"$f":"IF(Options!$B$9=1,'Daten A3'!$C$6,IF(Options!$B$9=2,'Daten A3'!$C$12,IF(Options!$B$9=3,'Daten A3'!$C$18,IF(Options!$B$9=4,'Daten A3'!$C$24,IF(Options!$B$9=5,'Daten A3'!$C$30,IF(Options!$B$9=6,'Daten A3'!$C$36,IF(Options!$B$9=7,'Daten A3'!$C$42,IF(Options!$B$9=8,'Daten A3'!$C$48,IF(Options!$B$9=9,'Daten A3'!$C$54,IF(Options!$B$9=10,'Daten A3'!$C$60,IF(Options!$B$9=11,'Daten A3'!$C$66,IF(Options!$B$9=12,'Daten A3'!$C$72,IF(Options!$B$9=13,'Daten A3'!$C$78,IF(Options!$B$9=14,'Daten A3'!$C$84,IF(Options!$B$9=15,'Daten A3'!$C$90,IF(Options!$B$9=16,'Daten A3'!$C$96,IF(Options!$B$9=17,'Daten A3'!$C$102,IF(Options!$B$9=18,'Daten A3'!$C$108,IF(Options!$B$9=19,'Daten A3'!R6,IF(Options!$B$9=20,'Daten A3'!R12,IF(Options!$B$9=21,'Daten A3'!R18,IF(Options!$B$9=22,'Daten A3'!R24,IF(Options!$B$9=23,'Daten A3'!R30,IF(Options!$B$9=24,'Daten A3'!R36,))))))))))))))))))))))))","v":"50%"},{"$f":"IF(Options!$B$9=1,'Daten A3'!$D$6,IF(Options!$B$9=2,'Daten A3'!$D$12,IF(Options!$B$9=3,'Daten A3'!$D$18,IF(Options!$B$9=4,'Daten A3'!$D$24,IF(Options!$B$9=5,'Daten A3'!$D$30,IF(Options!$B$9=6,'Daten A3'!$D$36,IF(Options!$B$9=7,'Daten A3'!$D$42,IF(Options!$B$9=8,'Daten A3'!$D$48,IF(Options!$B$9=9,'Daten A3'!$D$54,IF(Options!$B$9=10,'Daten A3'!$D$60,IF(Options!$B$9=11,'Daten A3'!$D$66,IF(Options!$B$9=12,'Daten A3'!$D$72,IF(Options!$B$9=13,'Daten A3'!$D$78,IF(Options!$B$9=14,'Daten A3'!$D$84,IF(Options!$B$9=15,'Daten A3'!$D$90,IF(Options!$B$9=16,'Daten A3'!$D$96,IF(Options!$B$9=17,'Daten A3'!$D$102,IF(Options!$B$9=18,'Daten A3'!$D$108,IF(Options!$B$9=19,'Daten A3'!S6,IF(Options!$B$9=20,'Daten A3'!S12,IF(Options!$B$9=21,'Daten A3'!S18,IF(Options!$B$9=22,'Daten A3'!S24,IF(Options!$B$9=23,'Daten A3'!S30,IF(Options!$B$9=24,'Daten A3'!S36,))))))))))))))))))))))))","v":2},{"$f":"IF(Options!$B$9=1,'Daten A3'!$E$6,IF(Options!$B$9=2,'Daten A3'!$E$12,IF(Options!$B$9=3,'Daten A3'!$E$18,IF(Options!$B$9=4,'Daten A3'!$E$24,IF(Options!$B$9=5,'Daten A3'!$E$30,IF(Options!$B$9=6,'Daten A3'!$E$36,IF(Options!$B$9=7,'Daten A3'!$E$42,IF(Options!$B$9=8,'Daten A3'!$E$48,IF(Options!$B$9=9,'Daten A3'!$E$54,IF(Options!$B$9=10,'Daten A3'!$E$60,IF(Options!$B$9=11,'Daten A3'!$E$66,IF(Options!$B$9=12,'Daten A3'!$E$72,IF(Options!$B$9=13,'Daten A3'!$E$78,IF(Options!$B$9=14,'Daten A3'!$E$84,IF(Options!$B$9=15,'Daten A3'!$E$90,IF(Options!$B$9=16,'Daten A3'!$E$96,IF(Options!$B$9=17,'Daten A3'!$E$102,IF(Options!$B$9=18,'Daten A3'!$E$108,IF(Options!$B$9=19,'Daten A3'!T6,IF(Options!$B$9=20,'Daten A3'!T12,IF(Options!$B$9=21,'Daten A3'!T18,IF(Options!$B$9=22,'Daten A3'!T24,IF(Options!$B$9=23,'Daten A3'!T30,IF(Options!$B$9=24,'Daten A3'!T36,))))))))))))))))))))))))","v":"0%"},{"$f":"IF(Options!$B$9=1,'Daten A3'!$F$6,IF(Options!$B$9=2,'Daten A3'!$F$12,IF(Options!$B$9=3,'Daten A3'!$F$18,IF(Options!$B$9=4,'Daten A3'!$F$24,IF(Options!$B$9=5,'Daten A3'!$F$30,IF(Options!$B$9=6,'Daten A3'!$F$36,IF(Options!$B$9=7,'Daten A3'!$F$42,IF(Options!$B$9=8,'Daten A3'!$F$48,IF(Options!$B$9=9,'Daten A3'!$F$54,IF(Options!$B$9=10,'Daten A3'!$F$60,IF(Options!$B$9=11,'Daten A3'!$F$66,IF(Options!$B$9=12,'Daten A3'!$F$72,IF(Options!$B$9=13,'Daten A3'!$F$78,IF(Options!$B$9=14,'Daten A3'!$F$84,IF(Options!$B$9=15,'Daten A3'!$F$90,IF(Options!$B$9=16,'Daten A3'!$F$96,IF(Options!$B$9=17,'Daten A3'!$F$102,IF(Options!$B$9=18,'Daten A3'!$F$108,IF(Options!$B$9=19,'Daten A3'!U6,IF(Options!$B$9=20,'Daten A3'!U12,IF(Options!$B$9=21,'Daten A3'!U18,IF(Options!$B$9=22,'Daten A3'!U24,IF(Options!$B$9=23,'Daten A3'!U30,IF(Options!$B$9=24,'Daten A3'!U36,))))))))))))))))))))))))","v":0},{"$f":"IF(Options!$B$9=1,'Daten A3'!$G$6,IF(Options!$B$9=2,'Daten A3'!$G$12,IF(Options!$B$9=3,'Daten A3'!$G$18,IF(Options!$B$9=4,'Daten A3'!$G$24,IF(Options!$B$9=5,'Daten A3'!$G$30,IF(Options!$B$9=6,'Daten A3'!$G$36,IF(Options!$B$9=7,'Daten A3'!$G$42,IF(Options!$B$9=8,'Daten A3'!$G$48,IF(Options!$B$9=9,'Daten A3'!$G$54,IF(Options!$B$9=10,'Daten A3'!$G$60,IF(Options!$B$9=11,'Daten A3'!$G$66,IF(Options!$B$9=12,'Daten A3'!$G$72,IF(Options!$B$9=13,'Daten A3'!$G$78,IF(Options!$B$9=14,'Daten A3'!$G$84,IF(Options!$B$9=15,'Daten A3'!$G$90,IF(Options!$B$9=16,'Daten A3'!$G$96,IF(Options!$B$9=17,'Daten A3'!$G$102,IF(Options!$B$9=18,'Daten A3'!$G$108,IF(Options!$B$9=19,'Daten A3'!V6,IF(Options!$B$9=20,'Daten A3'!V12,IF(Options!$B$9=21,'Daten A3'!V18,IF(Options!$B$9=22,'Daten A3'!V24,IF(Options!$B$9=23,'Daten A3'!V30,IF(Options!$B$9=24,'Daten A3'!V36,))))))))))))))))))))))))","v":"0%"},{"$f":"IF(Options!$B$9=1,'Daten A3'!$H$6,IF(Options!$B$9=2,'Daten A3'!$H$12,IF(Options!$B$9=3,'Daten A3'!$H$18,IF(Options!$B$9=4,'Daten A3'!$H$24,IF(Options!$B$9=5,'Daten A3'!$H$30,IF(Options!$B$9=6,'Daten A3'!$H$36,IF(Options!$B$9=7,'Daten A3'!$H$42,IF(Options!$B$9=8,'Daten A3'!$H$48,IF(Options!$B$9=9,'Daten A3'!$H$54,IF(Options!$B$9=10,'Daten A3'!$H$60,IF(Options!$B$9=11,'Daten A3'!$H$66,IF(Options!$B$9=12,'Daten A3'!$H$72,IF(Options!$B$9=13,'Daten A3'!$H$78,IF(Options!$B$9=14,'Daten A3'!$H$84,IF(Options!$B$9=15,'Daten A3'!$H$90,IF(Options!$B$9=16,'Daten A3'!$H$96,IF(Options!$B$9=17,'Daten A3'!$H$102,IF(Options!$B$9=18,'Daten A3'!$H$108,IF(Options!$B$9=19,'Daten A3'!W6,IF(Options!$B$9=20,'Daten A3'!W12,IF(Options!$B$9=21,'Daten A3'!W18,IF(Options!$B$9=22,'Daten A3'!W24,IF(Options!$B$9=23,'Daten A3'!W30,IF(Options!$B$9=24,'Daten A3'!W36,))))))))))))))))))))))))","v":0},{"$f":"IF(Options!$B$9=1,'Daten A3'!$I$6,IF(Options!$B$9=2,'Daten A3'!$I$12,IF(Options!$B$9=3,'Daten A3'!$I$18,IF(Options!$B$9=4,'Daten A3'!$I$24,IF(Options!$B$9=5,'Daten A3'!$I$30,IF(Options!$B$9=6,'Daten A3'!$I$36,IF(Options!$B$9=7,'Daten A3'!$I$42,IF(Options!$B$9=8,'Daten A3'!$I$48,IF(Options!$B$9=9,'Daten A3'!$I$54,IF(Options!$B$9=10,'Daten A3'!$I$60,IF(Options!$B$9=11,'Daten A3'!$I$66,IF(Options!$B$9=12,'Daten A3'!$I$72,IF(Options!$B$9=13,'Daten A3'!$I$78,IF(Options!$B$9=14,'Daten A3'!$I$84,IF(Options!$B$9=15,'Daten A3'!$I$90,IF(Options!$B$9=16,'Daten A3'!$I$96,IF(Options!$B$9=17,'Daten A3'!$I$102,IF(Options!$B$9=18,'Daten A3'!$I$108,IF(Options!$B$9=19,'Daten A3'!X6,IF(Options!$B$9=20,'Daten A3'!X12,IF(Options!$B$9=21,'Daten A3'!X18,IF(Options!$B$9=22,'Daten A3'!X24,IF(Options!$B$9=23,'Daten A3'!X30,IF(Options!$B$9=24,'Daten A3'!X36,))))))))))))))))))))))))","v":"25%"},{"$f":"IF(Options!$B$9=1,'Daten A3'!$J$6,IF(Options!$B$9=2,'Daten A3'!$J$12,IF(Options!$B$9=3,'Daten A3'!$J$18,IF(Options!$B$9=4,'Daten A3'!$J$24,IF(Options!$B$9=5,'Daten A3'!$J$30,IF(Options!$B$9=6,'Daten A3'!$J$36,IF(Options!$B$9=7,'Daten A3'!$J$42,IF(Options!$B$9=8,'Daten A3'!$J$48,IF(Options!$B$9=9,'Daten A3'!$J$54,IF(Options!$B$9=10,'Daten A3'!$J$60,IF(Options!$B$9=11,'Daten A3'!$J$66,IF(Options!$B$9=12,'Daten A3'!$J$72,IF(Options!$B$9=13,'Daten A3'!$J$78,IF(Options!$B$9=14,'Daten A3'!$J$84,IF(Options!$B$9=15,'Daten A3'!$J$90,IF(Options!$B$9=16,'Daten A3'!$J$96,IF(Options!$B$9=17,'Daten A3'!$J$102,IF(Options!$B$9=18,'Daten A3'!$J$108,IF(Options!$B$9=19,'Daten A3'!Y6,IF(Options!$B$9=20,'Daten A3'!Y12,IF(Options!$B$9=21,'Daten A3'!Y18,IF(Options!$B$9=22,'Daten A3'!Y24,IF(Options!$B$9=23,'Daten A3'!Y30,IF(Options!$B$9=24,'Daten A3'!Y36,))))))))))))))))))))))))","v":1},{"$f":"IF(Options!$B$9=1,'Daten A3'!$K$6,IF(Options!$B$9=2,'Daten A3'!$K$12,IF(Options!$B$9=3,'Daten A3'!$K$18,IF(Options!$B$9=4,'Daten A3'!$K$24,IF(Options!$B$9=5,'Daten A3'!$K$30,IF(Options!$B$9=6,'Daten A3'!$K$36,IF(Options!$B$9=7,'Daten A3'!$K$42,IF(Options!$B$9=8,'Daten A3'!$K$48,IF(Options!$B$9=9,'Daten A3'!$K$54,IF(Options!$B$9=10,'Daten A3'!$K$60,IF(Options!$B$9=11,'Daten A3'!$K$66,IF(Options!$B$9=12,'Daten A3'!$K$72,IF(Options!$B$9=13,'Daten A3'!$K$78,IF(Options!$B$9=14,'Daten A3'!$K$84,IF(Options!$B$9=15,'Daten A3'!$K$90,IF(Options!$B$9=16,'Daten A3'!$K$96,IF(Options!$B$9=17,'Daten A3'!$K$102,IF(Options!$B$9=18,'Daten A3'!$K$108,IF(Options!$B$9=19,'Daten A3'!Z6,IF(Options!$B$9=20,'Daten A3'!Z12,IF(Options!$B$9=21,'Daten A3'!Z18,IF(Options!$B$9=22,'Daten A3'!Z24,IF(Options!$B$9=23,'Daten A3'!Z30,IF(Options!$B$9=24,'Daten A3'!Z36,))))))))))))))))))))))))","v":"0%"},{"$f":"IF(Options!$B$9=1,'Daten A3'!$L$6,IF(Options!$B$9=2,'Daten A3'!$L$12,IF(Options!$B$9=3,'Daten A3'!$L$18,IF(Options!$B$9=4,'Daten A3'!$L$24,IF(Options!$B$9=5,'Daten A3'!$L$30,IF(Options!$B$9=6,'Daten A3'!$L$36,IF(Options!$B$9=7,'Daten A3'!$L$42,IF(Options!$B$9=8,'Daten A3'!$L$48,IF(Options!$B$9=9,'Daten A3'!$L$54,IF(Options!$B$9=10,'Daten A3'!$L$60,IF(Options!$B$9=11,'Daten A3'!$L$66,IF(Options!$B$9=12,'Daten A3'!$L$72,IF(Options!$B$9=13,'Daten A3'!$L$78,IF(Options!$B$9=14,'Daten A3'!$L$84,IF(Options!$B$9=15,'Daten A3'!$L$90,IF(Options!$B$9=16,'Daten A3'!$L$96,IF(Options!$B$9=17,'Daten A3'!$L$102,IF(Options!$B$9=18,'Daten A3'!$L$108,IF(Options!$B$9=19,'Daten A3'!AA6,IF(Options!$B$9=20,'Daten A3'!AA12,IF(Options!$B$9=21,'Daten A3'!AA18,IF(Options!$B$9=22,'Daten A3'!AA24,IF(Options!$B$9=23,'Daten A3'!AA30,IF(Options!$B$9=24,'Daten A3'!AA36,))))))))))))))))))))))))","v":0},{"$f":"IF(Options!$B$9=1,'Daten A3'!$M$6,IF(Options!$B$9=2,'Daten A3'!$M$12,IF(Options!$B$9=3,'Daten A3'!$M$18,IF(Options!$B$9=4,'Daten A3'!$M$24,IF(Options!$B$9=5,'Daten A3'!$M$30,IF(Options!$B$9=6,'Daten A3'!$M$36,IF(Options!$B$9=7,'Daten A3'!$M$42,IF(Options!$B$9=8,'Daten A3'!$M$48,IF(Options!$B$9=9,'Daten A3'!$M$54,IF(Options!$B$9=10,'Daten A3'!$M$60,IF(Options!$B$9=11,'Daten A3'!$M$66,IF(Options!$B$9=12,'Daten A3'!$M$72,IF(Options!$B$9=13,'Daten A3'!$M$78,IF(Options!$B$9=14,'Daten A3'!$M$84,IF(Options!$B$9=15,'Daten A3'!$M$90,IF(Options!$B$9=16,'Daten A3'!$M$96,IF(Options!$B$9=17,'Daten A3'!$M$102,IF(Options!$B$9=18,'Daten A3'!$M$108,IF(Options!$B$9=19,'Daten A3'!AB6,IF(Options!$B$9=20,'Daten A3'!AB12,IF(Options!$B$9=21,'Daten A3'!AB18,IF(Options!$B$9=22,'Daten A3'!AB24,IF(Options!$B$9=23,'Daten A3'!AB30,IF(Options!$B$9=24,'Daten A3'!AB36,))))))))))))))))))))))))","v":"30%"},{"$f":"IF(Options!$B$9=1,'Daten A3'!$N$6,IF(Options!$B$9=2,'Daten A3'!$N$12,IF(Options!$B$9=3,'Daten A3'!$N$18,IF(Options!$B$9=4,'Daten A3'!$N$24,IF(Options!$B$9=5,'Daten A3'!$N$30,IF(Options!$B$9=6,'Daten A3'!$N$36,IF(Options!$B$9=7,'Daten A3'!$N$42,IF(Options!$B$9=8,'Daten A3'!$N$48,IF(Options!$B$9=9,'Daten A3'!$N$54,IF(Options!$B$9=10,'Daten A3'!$N$60,IF(Options!$B$9=11,'Daten A3'!$N$66,IF(Options!$B$9=12,'Daten A3'!$N$72,IF(Options!$B$9=13,'Daten A3'!$N$78,IF(Options!$B$9=14,'Daten A3'!$N$84,IF(Options!$B$9=15,'Daten A3'!$N$90,IF(Options!$B$9=16,'Daten A3'!$N$96,IF(Options!$B$9=17,'Daten A3'!$N$102,IF(Options!$B$9=18,'Daten A3'!$N$108,IF(Options!$B$9=19,'Daten A3'!AC6,IF(Options!$B$9=20,'Daten A3'!AC12,IF(Options!$B$9=21,'Daten A3'!AC18,IF(Options!$B$9=22,'Daten A3'!AC24,IF(Options!$B$9=23,'Daten A3'!AC30,IF(Options!$B$9=24,'Daten A3'!AC36,))))))))))))))))))))))))","v":3}]
[null,null,null,null,null,null,null,null,null,null,null,null,null,null,null,null,null,null,null,null,null,null,null,null,null,null,null,null,null,null,null,null,null,null,null,null,null,null,null,null,null,null,null,null,null,null,null,null,null,null,null,"S5",null,{"$f":"'R 5'!BL9/BA20","v":0.5},{"$f":"'R 5'!BL15/BA20","v":0},{"$f":"'R 5'!BL21/BA20","v":0.5},{"$f":"'R 5'!BL27/BA20","v":0},null,null,null,null,null,null,null,null,"Pos 8",null,{"$f":"IF(Options!$B$9=1,'Daten A3'!$C$7,IF(Options!$B$9=2,'Daten A3'!$C$13,IF(Options!$B$9=3,'Daten A3'!$C$19,IF(Options!$B$9=4,'Daten A3'!$C$25,IF(Options!$B$9=5,'Daten A3'!$C$31,IF(Options!$B$9=6,'Daten A3'!$C$37,IF(Options!$B$9=7,'Daten A3'!$C$43,IF(Options!$B$9=8,'Daten A3'!$C$49,IF(Options!$B$9=9,'Daten A3'!$C$55,IF(Options!$B$9=10,'Daten A3'!$C$61,IF(Options!$B$9=11,'Daten A3'!$C$67,IF(Options!$B$9=12,'Daten A3'!$C$73,IF(Options!$B$9=13,'Daten A3'!$C$79,IF(Options!$B$9=14,'Daten A3'!$C$85,IF(Options!$B$9=15,'Daten A3'!$C$91,IF(Options!$B$9=16,'Daten A3'!$C$97,IF(Options!$B$9=17,'Daten A3'!$C$103,IF(Options!$B$9=18,'Daten A3'!$C$109,IF(Options!$B$9=19,'Daten A3'!R7,IF(Options!$B$9=20,'Daten A3'!R13,IF(Options!$B$9=21,'Daten A3'!R19,IF(Options!$B$9=22,'Daten A3'!R25,IF(Options!$B$9=23,'Daten A3'!R31,IF(Options!$B$9=24,'Daten A3'!R37,))))))))))))))))))))))))","v":"25%"},{"$f":"IF(Options!$B$9=1,'Daten A3'!$D$7,IF(Options!$B$9=2,'Daten A3'!$D$13,IF(Options!$B$9=3,'Daten A3'!$D$19,IF(Options!$B$9=4,'Daten A3'!$D$25,IF(Options!$B$9=5,'Daten A3'!$D$31,IF(Options!$B$9=6,'Daten A3'!$D$37,IF(Options!$B$9=7,'Daten A3'!$D$43,IF(Options!$B$9=8,'Daten A3'!$D$49,IF(Options!$B$9=9,'Daten A3'!$D$55,IF(Options!$B$9=10,'Daten A3'!$D$61,IF(Options!$B$9=11,'Daten A3'!$D$67,IF(Options!$B$9=12,'Daten A3'!$D$73,IF(Options!$B$9=13,'Daten A3'!$D$79,IF(Options!$B$9=14,'Daten A3'!$D$85,IF(Options!$B$9=15,'Daten A3'!$D$91,IF(Options!$B$9=16,'Daten A3'!$D$97,IF(Options!$B$9=17,'Daten A3'!$D$103,IF(Options!$B$9=18,'Daten A3'!$D$109,IF(Options!$B$9=19,'Daten A3'!S7,IF(Options!$B$9=20,'Daten A3'!S13,IF(Options!$B$9=21,'Daten A3'!S19,IF(Options!$B$9=22,'Daten A3'!S25,IF(Options!$B$9=23,'Daten A3'!S31,IF(Options!$B$9=24,'Daten A3'!S37,))))))))))))))))))))))))","v":1},{"$f":"IF(Options!$B$9=1,'Daten A3'!$E$7,IF(Options!$B$9=2,'Daten A3'!$E$13,IF(Options!$B$9=3,'Daten A3'!$E$19,IF(Options!$B$9=4,'Daten A3'!$E$25,IF(Options!$B$9=5,'Daten A3'!$E$31,IF(Options!$B$9=6,'Daten A3'!$E$37,IF(Options!$B$9=7,'Daten A3'!$E$43,IF(Options!$B$9=8,'Daten A3'!$E$49,IF(Options!$B$9=9,'Daten A3'!$E$55,IF(Options!$B$9=10,'Daten A3'!$E$61,IF(Options!$B$9=11,'Daten A3'!$E$67,IF(Options!$B$9=12,'Daten A3'!$E$73,IF(Options!$B$9=13,'Daten A3'!$E$79,IF(Options!$B$9=14,'Daten A3'!$E$85,IF(Options!$B$9=15,'Daten A3'!$E$91,IF(Options!$B$9=16,'Daten A3'!$E$97,IF(Options!$B$9=17,'Daten A3'!$E$103,IF(Options!$B$9=18,'Daten A3'!$E$109,IF(Options!$B$9=19,'Daten A3'!T7,IF(Options!$B$9=20,'Daten A3'!T13,IF(Options!$B$9=21,'Daten A3'!T19,IF(Options!$B$9=22,'Daten A3'!T25,IF(Options!$B$9=23,'Daten A3'!T31,IF(Options!$B$9=24,'Daten A3'!T37,))))))))))))))))))))))))","v":"20%"},{"$f":"IF(Options!$B$9=1,'Daten A3'!$F$7,IF(Options!$B$9=2,'Daten A3'!$F$13,IF(Options!$B$9=3,'Daten A3'!$F$19,IF(Options!$B$9=4,'Daten A3'!$F$25,IF(Options!$B$9=5,'Daten A3'!$F$31,IF(Options!$B$9=6,'Daten A3'!$F$37,IF(Options!$B$9=7,'Daten A3'!$F$43,IF(Options!$B$9=8,'Daten A3'!$F$49,IF(Options!$B$9=9,'Daten A3'!$F$55,IF(Options!$B$9=10,'Daten A3'!$F$61,IF(Options!$B$9=11,'Daten A3'!$F$67,IF(Options!$B$9=12,'Daten A3'!$F$73,IF(Options!$B$9=13,'Daten A3'!$F$79,IF(Options!$B$9=14,'Daten A3'!$F$85,IF(Options!$B$9=15,'Daten A3'!$F$91,IF(Options!$B$9=16,'Daten A3'!$F$97,IF(Options!$B$9=17,'Daten A3'!$F$103,IF(Options!$B$9=18,'Daten A3'!$F$109,IF(Options!$B$9=19,'Daten A3'!U7,IF(Options!$B$9=20,'Daten A3'!U13,IF(Options!$B$9=21,'Daten A3'!U19,IF(Options!$B$9=22,'Daten A3'!U25,IF(Options!$B$9=23,'Daten A3'!U31,IF(Options!$B$9=24,'Daten A3'!U37,))))))))))))))))))))))))","v":1},{"$f":"IF(Options!$B$9=1,'Daten A3'!$G$7,IF(Options!$B$9=2,'Daten A3'!$G$13,IF(Options!$B$9=3,'Daten A3'!$G$19,IF(Options!$B$9=4,'Daten A3'!$G$25,IF(Options!$B$9=5,'Daten A3'!$G$31,IF(Options!$B$9=6,'Daten A3'!$G$37,IF(Options!$B$9=7,'Daten A3'!$G$43,IF(Options!$B$9=8,'Daten A3'!$G$49,IF(Options!$B$9=9,'Daten A3'!$G$55,IF(Options!$B$9=10,'Daten A3'!$G$61,IF(Options!$B$9=11,'Daten A3'!$G$67,IF(Options!$B$9=12,'Daten A3'!$G$73,IF(Options!$B$9=13,'Daten A3'!$G$79,IF(Options!$B$9=14,'Daten A3'!$G$85,IF(Options!$B$9=15,'Daten A3'!$G$91,IF(Options!$B$9=16,'Daten A3'!$G$97,IF(Options!$B$9=17,'Daten A3'!$G$103,IF(Options!$B$9=18,'Daten A3'!$G$109,IF(Options!$B$9=19,'Daten A3'!V7,IF(Options!$B$9=20,'Daten A3'!V13,IF(Options!$B$9=21,'Daten A3'!V19,IF(Options!$B$9=22,'Daten A3'!V25,IF(Options!$B$9=23,'Daten A3'!V31,IF(Options!$B$9=24,'Daten A3'!V37,))))))))))))))))))))))))","v":"62%"},{"$f":"IF(Options!$B$9=1,'Daten A3'!$H$7,IF(Options!$B$9=2,'Daten A3'!$H$13,IF(Options!$B$9=3,'Daten A3'!$H$19,IF(Options!$B$9=4,'Daten A3'!$H$25,IF(Options!$B$9=5,'Daten A3'!$H$31,IF(Options!$B$9=6,'Daten A3'!$H$37,IF(Options!$B$9=7,'Daten A3'!$H$43,IF(Options!$B$9=8,'Daten A3'!$H$49,IF(Options!$B$9=9,'Daten A3'!$H$55,IF(Options!$B$9=10,'Daten A3'!$H$61,IF(Options!$B$9=11,'Daten A3'!$H$67,IF(Options!$B$9=12,'Daten A3'!$H$73,IF(Options!$B$9=13,'Daten A3'!$H$79,IF(Options!$B$9=14,'Daten A3'!$H$85,IF(Options!$B$9=15,'Daten A3'!$H$91,IF(Options!$B$9=16,'Daten A3'!$H$97,IF(Options!$B$9=17,'Daten A3'!$H$103,IF(Options!$B$9=18,'Daten A3'!$H$109,IF(Options!$B$9=19,'Daten A3'!W7,IF(Options!$B$9=20,'Daten A3'!W13,IF(Options!$B$9=21,'Daten A3'!W19,IF(Options!$B$9=22,'Daten A3'!W25,IF(Options!$B$9=23,'Daten A3'!W31,IF(Options!$B$9=24,'Daten A3'!W37,))))))))))))))))))))))))","v":5},{"$f":"IF(Options!$B$9=1,'Daten A3'!$I$7,IF(Options!$B$9=2,'Daten A3'!$I$13,IF(Options!$B$9=3,'Daten A3'!$I$19,IF(Options!$B$9=4,'Daten A3'!$I$25,IF(Options!$B$9=5,'Daten A3'!$I$31,IF(Options!$B$9=6,'Daten A3'!$I$37,IF(Options!$B$9=7,'Daten A3'!$I$43,IF(Options!$B$9=8,'Daten A3'!$I$49,IF(Options!$B$9=9,'Daten A3'!$I$55,IF(Options!$B$9=10,'Daten A3'!$I$61,IF(Options!$B$9=11,'Daten A3'!$I$67,IF(Options!$B$9=12,'Daten A3'!$I$73,IF(Options!$B$9=13,'Daten A3'!$I$79,IF(Options!$B$9=14,'Daten A3'!$I$85,IF(Options!$B$9=15,'Daten A3'!$I$91,IF(Options!$B$9=16,'Daten A3'!$I$97,IF(Options!$B$9=17,'Daten A3'!$I$103,IF(Options!$B$9=18,'Daten A3'!$I$109,IF(Options!$B$9=19,'Daten A3'!X7,IF(Options!$B$9=20,'Daten A3'!X13,IF(Options!$B$9=21,'Daten A3'!X19,IF(Options!$B$9=22,'Daten A3'!X25,IF(Options!$B$9=23,'Daten A3'!X31,IF(Options!$B$9=24,'Daten A3'!X37,))))))))))))))))))))))))","v":"0%"},{"$f":"IF(Options!$B$9=1,'Daten A3'!$J$7,IF(Options!$B$9=2,'Daten A3'!$J$13,IF(Options!$B$9=3,'Daten A3'!$J$19,IF(Options!$B$9=4,'Daten A3'!$J$25,IF(Options!$B$9=5,'Daten A3'!$J$31,IF(Options!$B$9=6,'Daten A3'!$J$37,IF(Options!$B$9=7,'Daten A3'!$J$43,IF(Options!$B$9=8,'Daten A3'!$J$49,IF(Options!$B$9=9,'Daten A3'!$J$55,IF(Options!$B$9=10,'Daten A3'!$J$61,IF(Options!$B$9=11,'Daten A3'!$J$67,IF(Options!$B$9=12,'Daten A3'!$J$73,IF(Options!$B$9=13,'Daten A3'!$J$79,IF(Options!$B$9=14,'Daten A3'!$J$85,IF(Options!$B$9=15,'Daten A3'!$J$91,IF(Options!$B$9=16,'Daten A3'!$J$97,IF(Options!$B$9=17,'Daten A3'!$J$103,IF(Options!$B$9=18,'Daten A3'!$J$109,IF(Options!$B$9=19,'Daten A3'!Y7,IF(Options!$B$9=20,'Daten A3'!Y13,IF(Options!$B$9=21,'Daten A3'!Y19,IF(Options!$B$9=22,'Daten A3'!Y25,IF(Options!$B$9=23,'Daten A3'!Y31,IF(Options!$B$9=24,'Daten A3'!Y37,))))))))))))))))))))))))","v":0},{"$f":"IF(Options!$B$9=1,'Daten A3'!$K$7,IF(Options!$B$9=2,'Daten A3'!$K$13,IF(Options!$B$9=3,'Daten A3'!$K$19,IF(Options!$B$9=4,'Daten A3'!$K$25,IF(Options!$B$9=5,'Daten A3'!$K$31,IF(Options!$B$9=6,'Daten A3'!$K$37,IF(Options!$B$9=7,'Daten A3'!$K$43,IF(Options!$B$9=8,'Daten A3'!$K$49,IF(Options!$B$9=9,'Daten A3'!$K$55,IF(Options!$B$9=10,'Daten A3'!$K$61,IF(Options!$B$9=11,'Daten A3'!$K$67,IF(Options!$B$9=12,'Daten A3'!$K$73,IF(Options!$B$9=13,'Daten A3'!$K$79,IF(Options!$B$9=14,'Daten A3'!$K$85,IF(Options!$B$9=15,'Daten A3'!$K$91,IF(Options!$B$9=16,'Daten A3'!$K$97,IF(Options!$B$9=17,'Daten A3'!$K$103,IF(Options!$B$9=18,'Daten A3'!$K$109,IF(Options!$B$9=19,'Daten A3'!Z7,IF(Options!$B$9=20,'Daten A3'!Z13,IF(Options!$B$9=21,'Daten A3'!Z19,IF(Options!$B$9=22,'Daten A3'!Z25,IF(Options!$B$9=23,'Daten A3'!Z31,IF(Options!$B$9=24,'Daten A3'!Z37,))))))))))))))))))))))))","v":"0%"},{"$f":"IF(Options!$B$9=1,'Daten A3'!$L$7,IF(Options!$B$9=2,'Daten A3'!$L$13,IF(Options!$B$9=3,'Daten A3'!$L$19,IF(Options!$B$9=4,'Daten A3'!$L$25,IF(Options!$B$9=5,'Daten A3'!$L$31,IF(Options!$B$9=6,'Daten A3'!$L$37,IF(Options!$B$9=7,'Daten A3'!$L$43,IF(Options!$B$9=8,'Daten A3'!$L$49,IF(Options!$B$9=9,'Daten A3'!$L$55,IF(Options!$B$9=10,'Daten A3'!$L$61,IF(Options!$B$9=11,'Daten A3'!$L$67,IF(Options!$B$9=12,'Daten A3'!$L$73,IF(Options!$B$9=13,'Daten A3'!$L$79,IF(Options!$B$9=14,'Daten A3'!$L$85,IF(Options!$B$9=15,'Daten A3'!$L$91,IF(Options!$B$9=16,'Daten A3'!$L$97,IF(Options!$B$9=17,'Daten A3'!$L$103,IF(Options!$B$9=18,'Daten A3'!$L$109,IF(Options!$B$9=19,'Daten A3'!AA7,IF(Options!$B$9=20,'Daten A3'!AA13,IF(Options!$B$9=21,'Daten A3'!AA19,IF(Options!$B$9=22,'Daten A3'!AA25,IF(Options!$B$9=23,'Daten A3'!AA31,IF(Options!$B$9=24,'Daten A3'!AA37,))))))))))))))))))))))))","v":0},{"$f":"IF(Options!$B$9=1,'Daten A3'!$M$7,IF(Options!$B$9=2,'Daten A3'!$M$13,IF(Options!$B$9=3,'Daten A3'!$M$19,IF(Options!$B$9=4,'Daten A3'!$M$25,IF(Options!$B$9=5,'Daten A3'!$M$31,IF(Options!$B$9=6,'Daten A3'!$M$37,IF(Options!$B$9=7,'Daten A3'!$M$43,IF(Options!$B$9=8,'Daten A3'!$M$49,IF(Options!$B$9=9,'Daten A3'!$M$55,IF(Options!$B$9=10,'Daten A3'!$M$61,IF(Options!$B$9=11,'Daten A3'!$M$67,IF(Options!$B$9=12,'Daten A3'!$M$73,IF(Options!$B$9=13,'Daten A3'!$M$79,IF(Options!$B$9=14,'Daten A3'!$M$85,IF(Options!$B$9=15,'Daten A3'!$M$91,IF(Options!$B$9=16,'Daten A3'!$M$97,IF(Options!$B$9=17,'Daten A3'!$M$103,IF(Options!$B$9=18,'Daten A3'!$M$109,IF(Options!$B$9=19,'Daten A3'!AB7,IF(Options!$B$9=20,'Daten A3'!AB13,IF(Options!$B$9=21,'Daten A3'!AB19,IF(Options!$B$9=22,'Daten A3'!AB25,IF(Options!$B$9=23,'Daten A3'!AB31,IF(Options!$B$9=24,'Daten A3'!AB37,))))))))))))))))))))))))","v":"0%"},{"$f":"IF(Options!$B$9=1,'Daten A3'!$N$7,IF(Options!$B$9=2,'Daten A3'!$N$13,IF(Options!$B$9=3,'Daten A3'!$N$19,IF(Options!$B$9=4,'Daten A3'!$N$25,IF(Options!$B$9=5,'Daten A3'!$N$31,IF(Options!$B$9=6,'Daten A3'!$N$37,IF(Options!$B$9=7,'Daten A3'!$N$43,IF(Options!$B$9=8,'Daten A3'!$N$49,IF(Options!$B$9=9,'Daten A3'!$N$55,IF(Options!$B$9=10,'Daten A3'!$N$61,IF(Options!$B$9=11,'Daten A3'!$N$67,IF(Options!$B$9=12,'Daten A3'!$N$73,IF(Options!$B$9=13,'Daten A3'!$N$79,IF(Options!$B$9=14,'Daten A3'!$N$85,IF(Options!$B$9=15,'Daten A3'!$N$91,IF(Options!$B$9=16,'Daten A3'!$N$97,IF(Options!$B$9=17,'Daten A3'!$N$103,IF(Options!$B$9=18,'Daten A3'!$N$109,IF(Options!$B$9=19,'Daten A3'!AC7,IF(Options!$B$9=20,'Daten A3'!AC13,IF(Options!$B$9=21,'Daten A3'!AC19,IF(Options!$B$9=22,'Daten A3'!AC25,IF(Options!$B$9=23,'Daten A3'!AC31,IF(Options!$B$9=24,'Daten A3'!AC37,))))))))))))))))))))))))","v":0}]
[null,null,{"$f":"BA10","v":1},{"$f":"BB10","v":"11/8"},{"$f":"BC10","v":17},null,null,null,{"$f":"IF(OR($BZ$31=0,$CA$31=0),\"\",CONCATENATE($BZ$31,$BN$26,$CA$31))","v":"40% / 4"},null,null,{"$f":"IF(OR($BZ$30=0,$CA$30=0),\"\",CONCATENATE($BZ$30,$BN$26,$CA$30))","v":""},null,null,null,null,null,null,null,{"$f":"IF(OR($BX$31=0,$BY$31=0),\"\",CONCATENATE($BX$31,$BN$26,$BY$31))","v":"17% / 1"},null,null,{"$f":"IF(OR($BX$30=0,$BY$30=0),\"\",CONCATENATE($BX$30,$BN$26,$BY$30))","v":""},null,null,null,null,null,null,null,{"$f":"IF(OR($BV$31=0,$BW$31=0),\"\",CONCATENATE($BV$31,$BN$26,$BW$31))","v":"25% / 1"},null,null,{"$f":"IF(OR($BV$30=0,$BW$30=0),\"\",CONCATENATE($BV$30,$BN$26,$BW$30))","v":""},null,null,null,null,null,null,null,null,null,"S4",null,null,null,null,null,null,null,"S4",null,{"$f":"'R 4'!BL9/BA21","v":0.83333333333333337},{"$f":"'R 4'!BL15/BA21","v":0},{"$f":"'R 4'!BL21/BA21","v":0.16666666666666666},{"$f":"'R 4'!BL27/BA21","v":0},null,null,null,null,null,null,null,null,"Pos 9",null,{"$f":"IF(Options!$B$9=1,'Daten A3'!$C$8,IF(Options!$B$9=2,'Daten A3'!$C$14,IF(Options!$B$9=3,'Daten A3'!$C$20,IF(Options!$B$9=4,'Daten A3'!$C$26,IF(Options!$B$9=5,'Daten A3'!$C$32,IF(Options!$B$9=6,'Daten A3'!$C$38,IF(Options!$B$9=7,'Daten A3'!$C$44,IF(Options!$B$9=8,'Daten A3'!$C$50,IF(Options!$B$9=9,'Daten A3'!$C$56,IF(Options!$B$9=10,'Daten A3'!$C$62,IF(Options!$B$9=11,'Daten A3'!$C$68,IF(Options!$B$9=12,'Daten A3'!$C$74,IF(Options!$B$9=13,'Daten A3'!$C$80,IF(Options!$B$9=14,'Daten A3'!$C$86,IF(Options!$B$9=15,'Daten A3'!$C$92,IF(Options!$B$9=16,'Daten A3'!$C$98,IF(Options!$B$9=17,'Daten A3'!$C$104,IF(Options!$B$9=18,'Daten A3'!$C$110,IF(Options!$B$9=19,'Daten A3'!R8,IF(Options!$B$9=20,'Daten A3'!R14,IF(Options!$B$9=21,'Daten A3'!R20,IF(Options!$B$9=22,'Daten A3'!R26,IF(Options!$B$9=23,'Daten A3'!R32,IF(Options!$B$9=24,'Daten A3'!R38,))))))))))))))))))))))))","v":"0%"},{"$f":"IF(Options!$B$9=1,'Daten A3'!$D$8,IF(Options!$B$9=2,'Daten A3'!$D$14,IF(Options!$B$9=3,'Daten A3'!$D$20,IF(Options!$B$9=4,'Daten A3'!$D$26,IF(Options!$B$9=5,'Daten A3'!$D$32,IF(Options!$B$9=6,'Daten A3'!$D$38,IF(Options!$B$9=7,'Daten A3'!$D$44,IF(Options!$B$9=8,'Daten A3'!$D$50,IF(Options!$B$9=9,'Daten A3'!$D$56,IF(Options!$B$9=10,'Daten A3'!$D$62,IF(Options!$B$9=11,'Daten A3'!$D$68,IF(Options!$B$9=12,'Daten A3'!$D$74,IF(Options!$B$9=13,'Daten A3'!$D$80,IF(Options!$B$9=14,'Daten A3'!$D$86,IF(Options!$B$9=15,'Daten A3'!$D$92,IF(Options!$B$9=16,'Daten A3'!$D$98,IF(Options!$B$9=17,'Daten A3'!$D$104,IF(Options!$B$9=18,'Daten A3'!$D$110,IF(Options!$B$9=19,'Daten A3'!S8,IF(Options!$B$9=20,'Daten A3'!S14,IF(Options!$B$9=21,'Daten A3'!S20,IF(Options!$B$9=22,'Daten A3'!S26,IF(Options!$B$9=23,'Daten A3'!S32,IF(Options!$B$9=24,'Daten A3'!S38,))))))))))))))))))))))))","v":0},{"$f":"IF(Options!$B$9=1,'Daten A3'!$E$8,IF(Options!$B$9=2,'Daten A3'!$E$14,IF(Options!$B$9=3,'Daten A3'!$E$20,IF(Options!$B$9=4,'Daten A3'!$E$26,IF(Options!$B$9=5,'Daten A3'!$E$32,IF(Options!$B$9=6,'Daten A3'!$E$38,IF(Options!$B$9=7,'Daten A3'!$E$44,IF(Options!$B$9=8,'Daten A3'!$E$50,IF(Options!$B$9=9,'Daten A3'!$E$56,IF(Options!$B$9=10,'Daten A3'!$E$62,IF(Options!$B$9=11,'Daten A3'!$E$68,IF(Options!$B$9=12,'Daten A3'!$E$74,IF(Options!$B$9=13,'Daten A3'!$E$80,IF(Options!$B$9=14,'Daten A3'!$E$86,IF(Options!$B$9=15,'Daten A3'!$E$92,IF(Options!$B$9=16,'Daten A3'!$E$98,IF(Options!$B$9=17,'Daten A3'!$E$104,IF(Options!$B$9=18,'Daten A3'!$E$110,IF(Options!$B$9=19,'Daten A3'!T8,IF(Options!$B$9=20,'Daten A3'!T14,IF(Options!$B$9=21,'Daten A3'!T20,IF(Options!$B$9=22,'Daten A3'!T26,IF(Options!$B$9=23,'Daten A3'!T32,IF(Options!$B$9=24,'Daten A3'!T38,))))))))))))))))))))))))","v":"0%"},{"$f":"IF(Options!$B$9=1,'Daten A3'!$F$8,IF(Options!$B$9=2,'Daten A3'!$F$14,IF(Options!$B$9=3,'Daten A3'!$F$20,IF(Options!$B$9=4,'Daten A3'!$F$26,IF(Options!$B$9=5,'Daten A3'!$F$32,IF(Options!$B$9=6,'Daten A3'!$F$38,IF(Options!$B$9=7,'Daten A3'!$F$44,IF(Options!$B$9=8,'Daten A3'!$F$50,IF(Options!$B$9=9,'Daten A3'!$F$56,IF(Options!$B$9=10,'Daten A3'!$F$62,IF(Options!$B$9=11,'Daten A3'!$F$68,IF(Options!$B$9=12,'Daten A3'!$F$74,IF(Options!$B$9=13,'Daten A3'!$F$80,IF(Options!$B$9=14,'Daten A3'!$F$86,IF(Options!$B$9=15,'Daten A3'!$F$92,IF(Options!$B$9=16,'Daten A3'!$F$98,IF(Options!$B$9=17,'Daten A3'!$F$104,IF(Options!$B$9=18,'Daten A3'!$F$110,IF(Options!$B$9=19,'Daten A3'!U8,IF(Options!$B$9=20,'Daten A3'!U14,IF(Options!$B$9=21,'Daten A3'!U20,IF(Options!$B$9=22,'Daten A3'!U26,IF(Options!$B$9=23,'Daten A3'!U32,IF(Options!$B$9=24,'Daten A3'!U38,))))))))))))))))))))))))","v":0},{"$f":"IF(Options!$B$9=1,'Daten A3'!$G$8,IF(Options!$B$9=2,'Daten A3'!$G$14,IF(Options!$B$9=3,'Daten A3'!$G$20,IF(Options!$B$9=4,'Daten A3'!$G$26,IF(Options!$B$9=5,'Daten A3'!$G$32,IF(Options!$B$9=6,'Daten A3'!$G$38,IF(Options!$B$9=7,'Daten A3'!$G$44,IF(Options!$B$9=8,'Daten A3'!$G$50,IF(Options!$B$9=9,'Daten A3'!$G$56,IF(Options!$B$9=10,'Daten A3'!$G$62,IF(Options!$B$9=11,'Daten A3'!$G$68,IF(Options!$B$9=12,'Daten A3'!$G$74,IF(Options!$B$9=13,'Daten A3'!$G$80,IF(Options!$B$9=14,'Daten A3'!$G$86,IF(Options!$B$9=15,'Daten A3'!$G$92,IF(Options!$B$9=16,'Daten A3'!$G$98,IF(Options!$B$9=17,'Daten A3'!$G$104,IF(Options!$B$9=18,'Daten A3'!$G$110,IF(Options!$B$9=19,'Daten A3'!V8,IF(Options!$B$9=20,'Daten A3'!V14,IF(Options!$B$9=21,'Daten A3'!V20,IF(Options!$B$9=22,'Daten A3'!V26,IF(Options!$B$9=23,'Daten A3'!V32,IF(Options!$B$9=24,'Daten A3'!V38,))))))))))))))))))))))))","v":"0%"},{"$f":"IF(Options!$B$9=1,'Daten A3'!$H$8,IF(Options!$B$9=2,'Daten A3'!$H$14,IF(Options!$B$9=3,'Daten A3'!$H$20,IF(Options!$B$9=4,'Daten A3'!$H$26,IF(Options!$B$9=5,'Daten A3'!$H$32,IF(Options!$B$9=6,'Daten A3'!$H$38,IF(Options!$B$9=7,'Daten A3'!$H$44,IF(Options!$B$9=8,'Daten A3'!$H$50,IF(Options!$B$9=9,'Daten A3'!$H$56,IF(Options!$B$9=10,'Daten A3'!$H$62,IF(Options!$B$9=11,'Daten A3'!$H$68,IF(Options!$B$9=12,'Daten A3'!$H$74,IF(Options!$B$9=13,'Daten A3'!$H$80,IF(Options!$B$9=14,'Daten A3'!$H$86,IF(Options!$B$9=15,'Daten A3'!$H$92,IF(Options!$B$9=16,'Daten A3'!$H$98,IF(Options!$B$9=17,'Daten A3'!$H$104,IF(Options!$B$9=18,'Daten A3'!$H$110,IF(Options!$B$9=19,'Daten A3'!W8,IF(Options!$B$9=20,'Daten A3'!W14,IF(Options!$B$9=21,'Daten A3'!W20,IF(Options!$B$9=22,'Daten A3'!W26,IF(Options!$B$9=23,'Daten A3'!W32,IF(Options!$B$9=24,'Daten A3'!W38,))))))))))))))))))))))))","v":0},{"$f":"IF(Options!$B$9=1,'Daten A3'!$I$8,IF(Options!$B$9=2,'Daten A3'!$I$14,IF(Options!$B$9=3,'Daten A3'!$I$20,IF(Options!$B$9=4,'Daten A3'!$I$26,IF(Options!$B$9=5,'Daten A3'!$I$32,IF(Options!$B$9=6,'Daten A3'!$I$38,IF(Options!$B$9=7,'Daten A3'!$I$44,IF(Options!$B$9=8,'Daten A3'!$I$50,IF(Options!$B$9=9,'Daten A3'!$I$56,IF(Options!$B$9=10,'Daten A3'!$I$62,IF(Options!$B$9=11,'Daten A3'!$I$68,IF(Options!$B$9=12,'Daten A3'!$I$74,IF(Options!$B$9=13,'Daten A3'!$I$80,IF(Options!$B$9=14,'Daten A3'!$I$86,IF(Options!$B$9=15,'Daten A3'!$I$92,IF(Options!$B$9=16,'Daten A3'!$I$98,IF(Options!$B$9=17,'Daten A3'!$I$104,IF(Options!$B$9=18,'Daten A3'!$I$110,IF(Options!$B$9=19,'Daten A3'!X8,IF(Options!$B$9=20,'Daten A3'!X14,IF(Options!$B$9=21,'Daten A3'!X20,IF(Options!$B$9=22,'Daten A3'!X26,IF(Options!$B$9=23,'Daten A3'!X32,IF(Options!$B$9=24,'Daten A3'!X38,))))))))))))))))))))))))","v":"25%"},{"$f":"IF(Options!$B$9=1,'Daten A3'!$J$8,IF(Options!$B$9=2,'Daten A3'!$J$14,IF(Options!$B$9=3,'Daten A3'!$J$20,IF(Options!$B$9=4,'Daten A3'!$J$26,IF(Options!$B$9=5,'Daten A3'!$J$32,IF(Options!$B$9=6,'Daten A3'!$J$38,IF(Options!$B$9=7,'Daten A3'!$J$44,IF(Options!$B$9=8,'Daten A3'!$J$50,IF(Options!$B$9=9,'Daten A3'!$J$56,IF(Options!$B$9=10,'Daten A3'!$J$62,IF(Options!$B$9=11,'Daten A3'!$J$68,IF(Options!$B$9=12,'Daten A3'!$J$74,IF(Options!$B$9=13,'Daten A3'!$J$80,IF(Options!$B$9=14,'Daten A3'!$J$86,IF(Options!$B$9=15,'Daten A3'!$J$92,IF(Options!$B$9=16,'Daten A3'!$J$98,IF(Options!$B$9=17,'Daten A3'!$J$104,IF(Options!$B$9=18,'Daten A3'!$J$110,IF(Options!$B$9=19,'Daten A3'!Y8,IF(Options!$B$9=20,'Daten A3'!Y14,IF(Options!$B$9=21,'Daten A3'!Y20,IF(Options!$B$9=22,'Daten A3'!Y26,IF(Options!$B$9=23,'Daten A3'!Y32,IF(Options!$B$9=24,'Daten A3'!Y38,))))))))))))))))))))))))","v":1},{"$f":"IF(Options!$B$9=1,'Daten A3'!$K$8,IF(Options!$B$9=2,'Daten A3'!$K$14,IF(Options!$B$9=3,'Daten A3'!$K$20,IF(Options!$B$9=4,'Daten A3'!$K$26,IF(Options!$B$9=5,'Daten A3'!$K$32,IF(Options!$B$9=6,'Daten A3'!$K$38,IF(Options!$B$9=7,'Daten A3'!$K$44,IF(Options!$B$9=8,'Daten A3'!$K$50,IF(Options!$B$9=9,'Daten A3'!$K$56,IF(Options!$B$9=10,'Daten A3'!$K$62,IF(Options!$B$9=11,'Daten A3'!$K$68,IF(Options!$B$9=12,'Daten A3'!$K$74,IF(Options!$B$9=13,'Daten A3'!$K$80,IF(Options!$B$9=14,'Daten A3'!$K$86,IF(Options!$B$9=15,'Daten A3'!$K$92,IF(Options!$B$9=16,'Daten A3'!$K$98,IF(Options!$B$9=17,'Daten A3'!$K$104,IF(Options!$B$9=18,'Daten A3'!$K$110,IF(Options!$B$9=19,'Daten A3'!Z8,IF(Options!$B$9=20,'Daten A3'!Z14,IF(Options!$B$9=21,'Daten A3'!Z20,IF(Options!$B$9=22,'Daten A3'!Z26,IF(Options!$B$9=23,'Daten A3'!Z32,IF(Options!$B$9=24,'Daten A3'!Z38,))))))))))))))))))))))))","v":"17%"},{"$f":"IF(Options!$B$9=1,'Daten A3'!$L$8,IF(Options!$B$9=2,'Daten A3'!$L$14,IF(Options!$B$9=3,'Daten A3'!$L$20,IF(Options!$B$9=4,'Daten A3'!$L$26,IF(Options!$B$9=5,'Daten A3'!$L$32,IF(Options!$B$9=6,'Daten A3'!$L$38,IF(Options!$B$9=7,'Daten A3'!$L$44,IF(Options!$B$9=8,'Daten A3'!$L$50,IF(Options!$B$9=9,'Daten A3'!$L$56,IF(Options!$B$9=10,'Daten A3'!$L$62,IF(Options!$B$9=11,'Daten A3'!$L$68,IF(Options!$B$9=12,'Daten A3'!$L$74,IF(Options!$B$9=13,'Daten A3'!$L$80,IF(Options!$B$9=14,'Daten A3'!$L$86,IF(Options!$B$9=15,'Daten A3'!$L$92,IF(Options!$B$9=16,'Daten A3'!$L$98,IF(Options!$B$9=17,'Daten A3'!$L$104,IF(Options!$B$9=18,'Daten A3'!$L$110,IF(Options!$B$9=19,'Daten A3'!AA8,IF(Options!$B$9=20,'Daten A3'!AA14,IF(Options!$B$9=21,'Daten A3'!AA20,IF(Options!$B$9=22,'Daten A3'!AA26,IF(Options!$B$9=23,'Daten A3'!AA32,IF(Options!$B$9=24,'Daten A3'!AA38,))))))))))))))))))))))))","v":1},{"$f":"IF(Options!$B$9=1,'Daten A3'!$M$8,IF(Options!$B$9=2,'Daten A3'!$M$14,IF(Options!$B$9=3,'Daten A3'!$M$20,IF(Options!$B$9=4,'Daten A3'!$M$26,IF(Options!$B$9=5,'Daten A3'!$M$32,IF(Options!$B$9=6,'Daten A3'!$M$38,IF(Options!$B$9=7,'Daten A3'!$M$44,IF(Options!$B$9=8,'Daten A3'!$M$50,IF(Options!$B$9=9,'Daten A3'!$M$56,IF(Options!$B$9=10,'Daten A3'!$M$62,IF(Options!$B$9=11,'Daten A3'!$M$68,IF(Options!$B$9=12,'Daten A3'!$M$74,IF(Options!$B$9=13,'Daten A3'!$M$80,IF(Options!$B$9=14,'Daten A3'!$M$86,IF(Options!$B$9=15,'Daten A3'!$M$92,IF(Options!$B$9=16,'Daten A3'!$M$98,IF(Options!$B$9=17,'Daten A3'!$M$104,IF(Options!$B$9=18,'Daten A3'!$M$110,IF(Options!$B$9=19,'Daten A3'!AB8,IF(Options!$B$9=20,'Daten A3'!AB14,IF(Options!$B$9=21,'Daten A3'!AB20,IF(Options!$B$9=22,'Daten A3'!AB26,IF(Options!$B$9=23,'Daten A3'!AB32,IF(Options!$B$9=24,'Daten A3'!AB38,))))))))))))))))))))))))","v":"40%"},{"$f":"IF(Options!$B$9=1,'Daten A3'!$N$8,IF(Options!$B$9=2,'Daten A3'!$N$14,IF(Options!$B$9=3,'Daten A3'!$N$20,IF(Options!$B$9=4,'Daten A3'!$N$26,IF(Options!$B$9=5,'Daten A3'!$N$32,IF(Options!$B$9=6,'Daten A3'!$N$38,IF(Options!$B$9=7,'Daten A3'!$N$44,IF(Options!$B$9=8,'Daten A3'!$N$50,IF(Options!$B$9=9,'Daten A3'!$N$56,IF(Options!$B$9=10,'Daten A3'!$N$62,IF(Options!$B$9=11,'Daten A3'!$N$68,IF(Options!$B$9=12,'Daten A3'!$N$74,IF(Options!$B$9=13,'Daten A3'!$N$80,IF(Options!$B$9=14,'Daten A3'!$N$86,IF(Options!$B$9=15,'Daten A3'!$N$92,IF(Options!$B$9=16,'Daten A3'!$N$98,IF(Options!$B$9=17,'Daten A3'!$N$104,IF(Options!$B$9=18,'Daten A3'!$N$110,IF(Options!$B$9=19,'Daten A3'!AC8,IF(Options!$B$9=20,'Daten A3'!AC14,IF(Options!$B$9=21,'Daten A3'!AC20,IF(Options!$B$9=22,'Daten A3'!AC26,IF(Options!$B$9=23,'Daten A3'!AC32,IF(Options!$B$9=24,'Daten A3'!AC38,))))))))))))))))))))))))","v":4}]
[null,null,null,null,null,null,null,null,{"$f":"IF(OR($BZ$31=0,$CA$31=0),\"\",CONCATENATE($BZ$38,$BN$26,$CA$38))","v":"0% / 50%"},null,null,{"$f":"IF(OR($BZ$30=0,$CA$30=0),\"\",CONCATENATE($BZ$37,$BN$26,$CA$37))","v":""},null,null,null,null,null,null,null,{"$f":"IF(OR($BX$31=0,$BY$31=0),\"\",CONCATENATE($BX$38,$BN$26,$BY$38))","v":"100% / 100%"},null,null,{"$f":"IF(OR($BX$30=0,$BY$30=0),\"\",CONCATENATE($BX$37,$BN$26,$BY$37))","v":""},null,null,null,null,null,null,null,{"$f":"IF(OR($BV$31=0,$BW$31=0),\"\",CONCATENATE($BV$38,$BN$26,$BW$38))","v":"100% / 100%"},null,null,{"$f":"IF(OR($BV$30=0,$BW$30=0),\"\",CONCATENATE($BV$37,$BN$26,$BW$37))","v":""},null,null,null,null,null,null,null,null,null,null,null,null,null,null,null,null,null,"S3",null,{"$f":"'R 3'!BL9/BA22","v":0.2857142857142857},{"$f":"'R 3'!BL15/BA22","v":0.7142857142857143},{"$f":"'R 3'!BL21/BA22","v":0},{"$f":"'R 3'!BL27/BA22","v":0},null,null,null,null,null,null,null,null,"Eff & #% in rot by setter"]
[null,null,null,null,null,null,null,null,null,null,null,null,null,null,null,null,null,null,null,null,null,null,null,null,null,null,null,null,null,null,null,null,null,null,null,null,null,null,null,null,null,null,null,null,null,null,null,null,null,null,null,"S2",null,{"$f":"'R 2'!BL9/BA23","v":0.90909090909090906},{"$f":"'R 2'!BL15/BA23","v":0},{"$f":"'R 2'!BL21/BA23","v":9.0909090909090912E-2},{"$f":"'R 2'!BL27/BA23","v":0},null,null,null,null,null,null,null,null,"  ",null,"S 1",null,"S 6",null,"S 5",null,"S 4",null,"S 3",null,"S 2"]
[null,null,null,null,null,null,null,null,null,null,null,null,null,null,null,null,null,null,null,null,null,null,null,null,null,null,null,null,null,null,null,null,null,null,null,null,null,null,null,null,null,null,null,null,null,null,null,null,null,null,null,null,null,null,null,null,null,null,null,null,null,null,null,null,null,"Pos 2",null,{"$f":"IF(Options!$B$9=1,'Daten A4'!$C$4,IF(Options!$B$9=2,'Daten A4'!$C$10,IF(Options!$B$9=3,'Daten A4'!$C$16,IF(Options!$B$9=4,'Daten A4'!$C$22,IF(Options!$B$9=5,'Daten A4'!$C$28,IF(Options!$B$9=6,'Daten A4'!$C$34,IF(Options!$B$9=7,'Daten A4'!$C$40,IF(Options!$B$9=8,'Daten A4'!$C$46,IF(Options!$B$9=9,'Daten A4'!$C$52,IF(Options!$B$9=10,'Daten A4'!$C$58,IF(Options!$B$9=11,'Daten A4'!$C$64,IF(Options!$B$9=12,'Daten A4'!$C$70,IF(Options!$B$9=13,'Daten A4'!$C$76,IF(Options!$B$9=14,'Daten A4'!$C$82,IF(Options!$B$9=15,'Daten A4'!$C$88,IF(Options!$B$9=16,'Daten A4'!$C$94,IF(Options!$B$9=17,'Daten A4'!$C$100,IF(Options!$B$9=18,'Daten A4'!$C$106,IF(Options!$B$9=19,'Daten A4'!R11,IF(Options!$B$9=20,'Daten A4'!R17,IF(Options!$B$9=21,'Daten A4'!R23,IF(Options!$B$9=22,'Daten A4'!R29,IF(Options!$B$9=23,'Daten A4'!R35,IF(Options!$B$9=24,'Daten A4'!R41,))))))))))))))))))))))))","v":"-100%"},{"$f":"IF(Options!$B$9=1,'Daten A4'!$D$4,IF(Options!$B$9=2,'Daten A4'!$D$10,IF(Options!$B$9=3,'Daten A4'!$D$16,IF(Options!$B$9=4,'Daten A4'!$D$22,IF(Options!$B$9=5,'Daten A4'!$D$28,IF(Options!$B$9=6,'Daten A4'!$D$34,IF(Options!$B$9=7,'Daten A4'!$D$40,IF(Options!$B$9=8,'Daten A4'!$D$46,IF(Options!$B$9=9,'Daten A4'!$D$52,IF(Options!$B$9=10,'Daten A4'!$D$58,IF(Options!$B$9=11,'Daten A4'!$D$64,IF(Options!$B$9=12,'Daten A4'!$D$70,IF(Options!$B$9=13,'Daten A4'!$D$76,IF(Options!$B$9=14,'Daten A4'!$D$82,IF(Options!$B$9=15,'Daten A4'!$D$88,IF(Options!$B$9=16,'Daten A4'!$D$94,IF(Options!$B$9=17,'Daten A4'!$D$100,IF(Options!$B$9=18,'Daten A4'!$D$106,IF(Options!$B$9=19,'Daten A4'!S11,IF(Options!$B$9=20,'Daten A4'!S17,IF(Options!$B$9=21,'Daten A4'!S23,IF(Options!$B$9=22,'Daten A4'!S29,IF(Options!$B$9=23,'Daten A4'!S35,IF(Options!$B$9=24,'Daten A4'!S41,))))))))))))))))))))))))","v":"0%"},{"$f":"IF(Options!$B$9=1,'Daten A4'!$E$4,IF(Options!$B$9=2,'Daten A4'!$E$10,IF(Options!$B$9=3,'Daten A4'!$E$16,IF(Options!$B$9=4,'Daten A4'!$E$22,IF(Options!$B$9=5,'Daten A4'!$E$28,IF(Options!$B$9=6,'Daten A4'!$E$34,IF(Options!$B$9=7,'Daten A4'!$E$40,IF(Options!$B$9=8,'Daten A4'!$E$46,IF(Options!$B$9=9,'Daten A4'!$E$52,IF(Options!$B$9=10,'Daten A4'!$E$58,IF(Options!$B$9=11,'Daten A4'!$E$64,IF(Options!$B$9=12,'Daten A4'!$E$70,IF(Options!$B$9=13,'Daten A4'!$E$76,IF(Options!$B$9=14,'Daten A4'!$E$82,IF(Options!$B$9=15,'Daten A4'!$E$88,IF(Options!$B$9=16,'Daten A4'!$E$94,IF(Options!$B$9=17,'Daten A4'!$E$100,IF(Options!$B$9=18,'Daten A4'!$E$106,IF(Options!$B$9=19,'Daten A4'!T11,IF(Options!$B$9=20,'Daten A4'!T17,IF(Options!$B$9=21,'Daten A4'!T23,IF(Options!$B$9=22,'Daten A4'!T29,IF(Options!$B$9=23,'Daten A4'!T35,IF(Options!$B$9=24,'Daten A4'!T41,))))))))))))))))))))))))","v":"100%"},{"$f":"IF(Options!$B$9=1,'Daten A4'!$F$4,IF(Options!$B$9=2,'Daten A4'!$F$10,IF(Options!$B$9=3,'Daten A4'!$F$16,IF(Options!$B$9=4,'Daten A4'!$F$22,IF(Options!$B$9=5,'Daten A4'!$F$28,IF(Options!$B$9=6,'Daten A4'!$F$34,IF(Options!$B$9=7,'Daten A4'!$F$40,IF(Options!$B$9=8,'Daten A4'!$F$46,IF(Options!$B$9=9,'Daten A4'!$F$52,IF(Options!$B$9=10,'Daten A4'!$F$58,IF(Options!$B$9=11,'Daten A4'!$F$64,IF(Options!$B$9=12,'Daten A4'!$F$70,IF(Options!$B$9=13,'Daten A4'!$F$76,IF(Options!$B$9=14,'Daten A4'!$F$82,IF(Options!$B$9=15,'Daten A4'!$F$88,IF(Options!$B$9=16,'Daten A4'!$F$94,IF(Options!$B$9=17,'Daten A4'!$F$100,IF(Options!$B$9=18,'Daten A4'!$F$106,IF(Options!$B$9=19,'Daten A4'!U11,IF(Options!$B$9=20,'Daten A4'!U17,IF(Options!$B$9=21,'Daten A4'!U23,IF(Options!$B$9=22,'Daten A4'!U29,IF(Options!$B$9=23,'Daten A4'!U35,IF(Options!$B$9=24,'Daten A4'!U41,))))))))))))))))))))))))","v":"100%"},{"$f":"IF(Options!$B$9=1,'Daten A4'!$G$4,IF(Options!$B$9=2,'Daten A4'!$G$10,IF(Options!$B$9=3,'Daten A4'!$G$16,IF(Options!$B$9=4,'Daten A4'!$G$22,IF(Options!$B$9=5,'Daten A4'!$G$28,IF(Options!$B$9=6,'Daten A4'!$G$34,IF(Options!$B$9=7,'Daten A4'!$G$40,IF(Options!$B$9=8,'Daten A4'!$G$46,IF(Options!$B$9=9,'Daten A4'!$G$52,IF(Options!$B$9=10,'Daten A4'!$G$58,IF(Options!$B$9=11,'Daten A4'!$G$64,IF(Options!$B$9=12,'Daten A4'!$G$70,IF(Options!$B$9=13,'Daten A4'!$G$76,IF(Options!$B$9=14,'Daten A4'!$G$82,IF(Options!$B$9=15,'Daten A4'!$G$88,IF(Options!$B$9=16,'Daten A4'!$G$94,IF(Options!$B$9=17,'Daten A4'!$G$100,IF(Options!$B$9=18,'Daten A4'!$G$106,IF(Options!$B$9=19,'Daten A4'!V11,IF(Options!$B$9=20,'Daten A4'!V17,IF(Options!$B$9=21,'Daten A4'!V23,IF(Options!$B$9=22,'Daten A4'!V29,IF(Options!$B$9=23,'Daten A4'!V35,IF(Options!$B$9=24,'Daten A4'!V41,))))))))))))))))))))))))","v":"100%"},{"$f":"IF(Options!$B$9=1,'Daten A4'!$H$4,IF(Options!$B$9=2,'Daten A4'!$H$10,IF(Options!$B$9=3,'Daten A4'!$H$16,IF(Options!$B$9=4,'Daten A4'!$H$22,IF(Options!$B$9=5,'Daten A4'!$H$28,IF(Options!$B$9=6,'Daten A4'!$H$34,IF(Options!$B$9=7,'Daten A4'!$H$40,IF(Options!$B$9=8,'Daten A4'!$H$46,IF(Options!$B$9=9,'Daten A4'!$H$52,IF(Options!$B$9=10,'Daten A4'!$H$58,IF(Options!$B$9=11,'Daten A4'!$H$64,IF(Options!$B$9=12,'Daten A4'!$H$70,IF(Options!$B$9=13,'Daten A4'!$H$76,IF(Options!$B$9=14,'Daten A4'!$H$82,IF(Options!$B$9=15,'Daten A4'!$H$88,IF(Options!$B$9=16,'Daten A4'!$H$94,IF(Options!$B$9=17,'Daten A4'!$H$100,IF(Options!$B$9=18,'Daten A4'!$H$106,IF(Options!$B$9=19,'Daten A4'!W11,IF(Options!$B$9=20,'Daten A4'!W17,IF(Options!$B$9=21,'Daten A4'!W23,IF(Options!$B$9=22,'Daten A4'!W29,IF(Options!$B$9=23,'Daten A4'!W35,IF(Options!$B$9=24,'Daten A4'!W41,))))))))))))))))))))))))","v":"100%"},{"$f":"IF(Options!$B$9=1,'Daten A4'!$I$4,IF(Options!$B$9=2,'Daten A4'!$I$10,IF(Options!$B$9=3,'Daten A4'!$I$16,IF(Options!$B$9=4,'Daten A4'!$I$22,IF(Options!$B$9=5,'Daten A4'!$I$28,IF(Options!$B$9=6,'Daten A4'!$I$34,IF(Options!$B$9=7,'Daten A4'!$I$40,IF(Options!$B$9=8,'Daten A4'!$I$46,IF(Options!$B$9=9,'Daten A4'!$I$52,IF(Options!$B$9=10,'Daten A4'!$I$58,IF(Options!$B$9=11,'Daten A4'!$I$64,IF(Options!$B$9=12,'Daten A4'!$I$70,IF(Options!$B$9=13,'Daten A4'!$I$76,IF(Options!$B$9=14,'Daten A4'!$I$82,IF(Options!$B$9=15,'Daten A4'!$I$88,IF(Options!$B$9=16,'Daten A4'!$I$94,IF(Options!$B$9=17,'Daten A4'!$I$100,IF(Options!$B$9=18,'Daten A4'!$I$106,IF(Options!$B$9=19,'Daten A4'!X11,IF(Options!$B$9=20,'Daten A4'!X17,IF(Options!$B$9=21,'Daten A4'!X23,IF(Options!$B$9=22,'Daten A4'!X29,IF(Options!$B$9=23,'Daten A4'!X35,IF(Options!$B$9=24,'Daten A4'!X41,))))))))))))))))))))))))","v":"0%"},{"$f":"IF(Options!$B$9=1,'Daten A4'!$J$4,IF(Options!$B$9=2,'Daten A4'!$J$10,IF(Options!$B$9=3,'Daten A4'!$J$16,IF(Options!$B$9=4,'Daten A4'!$J$22,IF(Options!$B$9=5,'Daten A4'!$J$28,IF(Options!$B$9=6,'Daten A4'!$J$34,IF(Options!$B$9=7,'Daten A4'!$J$40,IF(Options!$B$9=8,'Daten A4'!$J$46,IF(Options!$B$9=9,'Daten A4'!$J$52,IF(Options!$B$9=10,'Daten A4'!$J$58,IF(Options!$B$9=11,'Daten A4'!$J$64,IF(Options!$B$9=12,'Daten A4'!$J$70,IF(Options!$B$9=13,'Daten A4'!$J$76,IF(Options!$B$9=14,'Daten A4'!$J$82,IF(Options!$B$9=15,'Daten A4'!$J$88,IF(Options!$B$9=16,'Daten A4'!$J$94,IF(Options!$B$9=17,'Daten A4'!$J$100,IF(Options!$B$9=18,'Daten A4'!$J$106,IF(Options!$B$9=19,'Daten A4'!Y11,IF(Options!$B$9=20,'Daten A4'!Y17,IF(Options!$B$9=21,'Daten A4'!Y23,IF(Options!$B$9=22,'Daten A4'!Y29,IF(Options!$B$9=23,'Daten A4'!Y35,IF(Options!$B$9=24,'Daten A4'!Y41,))))))))))))))))))))))))","v":"----"},{"$f":"IF(Options!$B$9=1,'Daten A4'!$K$4,IF(Options!$B$9=2,'Daten A4'!$K$10,IF(Options!$B$9=3,'Daten A4'!$K$16,IF(Options!$B$9=4,'Daten A4'!$K$22,IF(Options!$B$9=5,'Daten A4'!$K$28,IF(Options!$B$9=6,'Daten A4'!$K$34,IF(Options!$B$9=7,'Daten A4'!$K$40,IF(Options!$B$9=8,'Daten A4'!$K$46,IF(Options!$B$9=9,'Daten A4'!$K$52,IF(Options!$B$9=10,'Daten A4'!$K$58,IF(Options!$B$9=11,'Daten A4'!$K$64,IF(Options!$B$9=12,'Daten A4'!$K$70,IF(Options!$B$9=13,'Daten A4'!$K$76,IF(Options!$B$9=14,'Daten A4'!$K$82,IF(Options!$B$9=15,'Daten A4'!$K$88,IF(Options!$B$9=16,'Daten A4'!$K$94,IF(Options!$B$9=17,'Daten A4'!$K$100,IF(Options!$B$9=18,'Daten A4'!$K$106,IF(Options!$B$9=19,'Daten A4'!Z11,IF(Options!$B$9=20,'Daten A4'!Z17,IF(Options!$B$9=21,'Daten A4'!Z23,IF(Options!$B$9=22,'Daten A4'!Z29,IF(Options!$B$9=23,'Daten A4'!Z35,IF(Options!$B$9=24,'Daten A4'!Z41,))))))))))))))))))))))))","v":"0%"},{"$f":"IF(Options!$B$9=1,'Daten A4'!$L$4,IF(Options!$B$9=2,'Daten A4'!$L$10,IF(Options!$B$9=3,'Daten A4'!$L$16,IF(Options!$B$9=4,'Daten A4'!$L$22,IF(Options!$B$9=5,'Daten A4'!$L$28,IF(Options!$B$9=6,'Daten A4'!$L$34,IF(Options!$B$9=7,'Daten A4'!$L$40,IF(Options!$B$9=8,'Daten A4'!$L$46,IF(Options!$B$9=9,'Daten A4'!$L$52,IF(Options!$B$9=10,'Daten A4'!$L$58,IF(Options!$B$9=11,'Daten A4'!$L$64,IF(Options!$B$9=12,'Daten A4'!$L$70,IF(Options!$B$9=13,'Daten A4'!$L$76,IF(Options!$B$9=14,'Daten A4'!$L$82,IF(Options!$B$9=15,'Daten A4'!$L$88,IF(Options!$B$9=16,'Daten A4'!$L$94,IF(Options!$B$9=17,'Daten A4'!$L$100,IF(Options!$B$9=18,'Daten A4'!$L$106,IF(Options!$B$9=19,'Daten A4'!AA11,IF(Options!$B$9=20,'Daten A4'!AA17,IF(Options!$B$9=21,'Daten A4'!AA23,IF(Options!$B$9=22,'Daten A4'!AA29,IF(Options!$B$9=23,'Daten A4'!AA35,IF(Options!$B$9=24,'Daten A4'!AA41,))))))))))))))))))))))))","v":"----"},{"$f":"IF(Options!$B$9=1,'Daten A4'!$M$4,IF(Options!$B$9=2,'Daten A4'!$M$10,IF(Options!$B$9=3,'Daten A4'!$M$16,IF(Options!$B$9=4,'Daten A4'!$M$22,IF(Options!$B$9=5,'Daten A4'!$M$28,IF(Options!$B$9=6,'Daten A4'!$M$34,IF(Options!$B$9=7,'Daten A4'!$M$40,IF(Options!$B$9=8,'Daten A4'!$M$46,IF(Options!$B$9=9,'Daten A4'!$M$52,IF(Options!$B$9=10,'Daten A4'!$M$58,IF(Options!$B$9=11,'Daten A4'!$M$64,IF(Options!$B$9=12,'Daten A4'!$M$70,IF(Options!$B$9=13,'Daten A4'!$M$76,IF(Options!$B$9=14,'Daten A4'!$M$82,IF(Options!$B$9=15,'Daten A4'!$M$88,IF(Options!$B$9=16,'Daten A4'!$M$94,IF(Options!$B$9=17,'Daten A4'!$M$100,IF(Options!$B$9=18,'Daten A4'!$M$106,IF(Options!$B$9=19,'Daten A4'!AB11,IF(Options!$B$9=20,'Daten A4'!AB17,IF(Options!$B$9=21,'Daten A4'!AB23,IF(Options!$B$9=22,'Daten A4'!AB29,IF(Options!$B$9=23,'Daten A4'!AB35,IF(Options!$B$9=24,'Daten A4'!AB41,))))))))))))))))))))))))","v":"0%"},{"$f":"IF(Options!$B$9=1,'Daten A4'!$N$4,IF(Options!$B$9=2,'Daten A4'!$N$10,IF(Options!$B$9=3,'Daten A4'!$N$16,IF(Options!$B$9=4,'Daten A4'!$N$22,IF(Options!$B$9=5,'Daten A4'!$N$28,IF(Options!$B$9=6,'Daten A4'!$N$34,IF(Options!$B$9=7,'Daten A4'!$N$40,IF(Options!$B$9=8,'Daten A4'!$N$46,IF(Options!$B$9=9,'Daten A4'!$N$52,IF(Options!$B$9=10,'Daten A4'!$N$58,IF(Options!$B$9=11,'Daten A4'!$N$64,IF(Options!$B$9=12,'Daten A4'!$N$70,IF(Options!$B$9=13,'Daten A4'!$N$76,IF(Options!$B$9=14,'Daten A4'!$N$82,IF(Options!$B$9=15,'Daten A4'!$N$88,IF(Options!$B$9=16,'Daten A4'!$N$94,IF(Options!$B$9=17,'Daten A4'!$N$100,IF(Options!$B$9=18,'Daten A4'!$N$106,IF(Options!$B$9=19,'Daten A4'!AC11,IF(Options!$B$9=20,'Daten A4'!AC17,IF(Options!$B$9=21,'Daten A4'!AC23,IF(Options!$B$9=22,'Daten A4'!AC29,IF(Options!$B$9=23,'Daten A4'!AC35,IF(Options!$B$9=24,'Daten A4'!AC41,))))))))))))))))))))))))","v":"----"}]
[null,null,null,null,null,null,null,null,null,null,null,null,null,null,null,null,null,null,null,null,null,null,null,null,null,null,null,null,null,null,null,null,null,null,null,null,null,null,null,null,null,null,null,null,null,null,null,null,null,null,null,null,"x","if x then settercall in match schedule",null,null,null,null,null,null,null,null,null,null,null,"Pos 3",null,{"$f":"IF(Options!$B$9=1,'Daten A4'!$C$5,IF(Options!$B$9=2,'Daten A4'!$C$11,IF(Options!$B$9=3,'Daten A4'!$C$17,IF(Options!$B$9=4,'Daten A4'!$C$23,IF(Options!$B$9=5,'Daten A4'!$C$29,IF(Options!$B$9=6,'Daten A4'!$C$35,IF(Options!$B$9=7,'Daten A4'!$C$41,IF(Options!$B$9=8,'Daten A4'!$C$47,IF(Options!$B$9=9,'Daten A4'!$C$53,IF(Options!$B$9=10,'Daten A4'!$C$59,IF(Options!$B$9=11,'Daten A4'!$C$65,IF(Options!$B$9=12,'Daten A4'!$C$71,IF(Options!$B$9=13,'Daten A4'!$C$77,IF(Options!$B$9=14,'Daten A4'!$C$83,IF(Options!$B$9=15,'Daten A4'!$C$89,IF(Options!$B$9=16,'Daten A4'!$C$95,IF(Options!$B$9=17,'Daten A4'!$C$101,IF(Options!$B$9=18,'Daten A4'!$C$107,IF(Options!$B$9=19,'Daten A4'!R12,IF(Options!$B$9=20,'Daten A4'!R18,IF(Options!$B$9=21,'Daten A4'!R24,IF(Options!$B$9=22,'Daten A4'!R30,IF(Options!$B$9=23,'Daten A4'!R36,IF(Options!$B$9=24,'Daten A4'!R42,))))))))))))))))))))))))","v":"0%"},{"$f":"IF(Options!$B$9=1,'Daten A4'!$D$5,IF(Options!$B$9=2,'Daten A4'!$D$11,IF(Options!$B$9=3,'Daten A4'!$D$17,IF(Options!$B$9=4,'Daten A4'!$D$23,IF(Options!$B$9=5,'Daten A4'!$D$29,IF(Options!$B$9=6,'Daten A4'!$D$35,IF(Options!$B$9=7,'Daten A4'!$D$41,IF(Options!$B$9=8,'Daten A4'!$D$47,IF(Options!$B$9=9,'Daten A4'!$D$53,IF(Options!$B$9=10,'Daten A4'!$D$59,IF(Options!$B$9=11,'Daten A4'!$D$65,IF(Options!$B$9=12,'Daten A4'!$D$71,IF(Options!$B$9=13,'Daten A4'!$D$77,IF(Options!$B$9=14,'Daten A4'!$D$83,IF(Options!$B$9=15,'Daten A4'!$D$89,IF(Options!$B$9=16,'Daten A4'!$D$95,IF(Options!$B$9=17,'Daten A4'!$D$101,IF(Options!$B$9=18,'Daten A4'!$D$107,IF(Options!$B$9=19,'Daten A4'!S12,IF(Options!$B$9=20,'Daten A4'!S18,IF(Options!$B$9=21,'Daten A4'!S24,IF(Options!$B$9=22,'Daten A4'!S30,IF(Options!$B$9=23,'Daten A4'!S36,IF(Options!$B$9=24,'Daten A4'!S42,))))))))))))))))))))))))","v":"----"},{"$f":"IF(Options!$B$9=1,'Daten A4'!$E$5,IF(Options!$B$9=2,'Daten A4'!$E$11,IF(Options!$B$9=3,'Daten A4'!$E$17,IF(Options!$B$9=4,'Daten A4'!$E$23,IF(Options!$B$9=5,'Daten A4'!$E$29,IF(Options!$B$9=6,'Daten A4'!$E$35,IF(Options!$B$9=7,'Daten A4'!$E$41,IF(Options!$B$9=8,'Daten A4'!$E$47,IF(Options!$B$9=9,'Daten A4'!$E$53,IF(Options!$B$9=10,'Daten A4'!$E$59,IF(Options!$B$9=11,'Daten A4'!$E$65,IF(Options!$B$9=12,'Daten A4'!$E$71,IF(Options!$B$9=13,'Daten A4'!$E$77,IF(Options!$B$9=14,'Daten A4'!$E$83,IF(Options!$B$9=15,'Daten A4'!$E$89,IF(Options!$B$9=16,'Daten A4'!$E$95,IF(Options!$B$9=17,'Daten A4'!$E$101,IF(Options!$B$9=18,'Daten A4'!$E$107,IF(Options!$B$9=19,'Daten A4'!T12,IF(Options!$B$9=20,'Daten A4'!T18,IF(Options!$B$9=21,'Daten A4'!T24,IF(Options!$B$9=22,'Daten A4'!T30,IF(Options!$B$9=23,'Daten A4'!T36,IF(Options!$B$9=24,'Daten A4'!T42,))))))))))))))))))))))))","v":"67%"},{"$f":"IF(Options!$B$9=1,'Daten A4'!$F$5,IF(Options!$B$9=2,'Daten A4'!$F$11,IF(Options!$B$9=3,'Daten A4'!$F$17,IF(Options!$B$9=4,'Daten A4'!$F$23,IF(Options!$B$9=5,'Daten A4'!$F$29,IF(Options!$B$9=6,'Daten A4'!$F$35,IF(Options!$B$9=7,'Daten A4'!$F$41,IF(Options!$B$9=8,'Daten A4'!$F$47,IF(Options!$B$9=9,'Daten A4'!$F$53,IF(Options!$B$9=10,'Daten A4'!$F$59,IF(Options!$B$9=11,'Daten A4'!$F$65,IF(Options!$B$9=12,'Daten A4'!$F$71,IF(Options!$B$9=13,'Daten A4'!$F$77,IF(Options!$B$9=14,'Daten A4'!$F$83,IF(Options!$B$9=15,'Daten A4'!$F$89,IF(Options!$B$9=16,'Daten A4'!$F$95,IF(Options!$B$9=17,'Daten A4'!$F$101,IF(Options!$B$9=18,'Daten A4'!$F$107,IF(Options!$B$9=19,'Daten A4'!U12,IF(Options!$B$9=20,'Daten A4'!U18,IF(Options!$B$9=21,'Daten A4'!U24,IF(Options!$B$9=22,'Daten A4'!U30,IF(Options!$B$9=23,'Daten A4'!U36,IF(Options!$B$9=24,'Daten A4'!U42,))))))))))))))))))))))))","v":"67%"},{"$f":"IF(Options!$B$9=1,'Daten A4'!$G$5,IF(Options!$B$9=2,'Daten A4'!$G$11,IF(Options!$B$9=3,'Daten A4'!$G$17,IF(Options!$B$9=4,'Daten A4'!$G$23,IF(Options!$B$9=5,'Daten A4'!$G$29,IF(Options!$B$9=6,'Daten A4'!$G$35,IF(Options!$B$9=7,'Daten A4'!$G$41,IF(Options!$B$9=8,'Daten A4'!$G$47,IF(Options!$B$9=9,'Daten A4'!$G$53,IF(Options!$B$9=10,'Daten A4'!$G$59,IF(Options!$B$9=11,'Daten A4'!$G$65,IF(Options!$B$9=12,'Daten A4'!$G$71,IF(Options!$B$9=13,'Daten A4'!$G$77,IF(Options!$B$9=14,'Daten A4'!$G$83,IF(Options!$B$9=15,'Daten A4'!$G$89,IF(Options!$B$9=16,'Daten A4'!$G$95,IF(Options!$B$9=17,'Daten A4'!$G$101,IF(Options!$B$9=18,'Daten A4'!$G$107,IF(Options!$B$9=19,'Daten A4'!V12,IF(Options!$B$9=20,'Daten A4'!V18,IF(Options!$B$9=21,'Daten A4'!V24,IF(Options!$B$9=22,'Daten A4'!V30,IF(Options!$B$9=23,'Daten A4'!V36,IF(Options!$B$9=24,'Daten A4'!V42,))))))))))))))))))))))))","v":"0%"},{"$f":"IF(Options!$B$9=1,'Daten A4'!$H$5,IF(Options!$B$9=2,'Daten A4'!$H$11,IF(Options!$B$9=3,'Daten A4'!$H$17,IF(Options!$B$9=4,'Daten A4'!$H$23,IF(Options!$B$9=5,'Daten A4'!$H$29,IF(Options!$B$9=6,'Daten A4'!$H$35,IF(Options!$B$9=7,'Daten A4'!$H$41,IF(Options!$B$9=8,'Daten A4'!$H$47,IF(Options!$B$9=9,'Daten A4'!$H$53,IF(Options!$B$9=10,'Daten A4'!$H$59,IF(Options!$B$9=11,'Daten A4'!$H$65,IF(Options!$B$9=12,'Daten A4'!$H$71,IF(Options!$B$9=13,'Daten A4'!$H$77,IF(Options!$B$9=14,'Daten A4'!$H$83,IF(Options!$B$9=15,'Daten A4'!$H$89,IF(Options!$B$9=16,'Daten A4'!$H$95,IF(Options!$B$9=17,'Daten A4'!$H$101,IF(Options!$B$9=18,'Daten A4'!$H$107,IF(Options!$B$9=19,'Daten A4'!W12,IF(Options!$B$9=20,'Daten A4'!W18,IF(Options!$B$9=21,'Daten A4'!W24,IF(Options!$B$9=22,'Daten A4'!W30,IF(Options!$B$9=23,'Daten A4'!W36,IF(Options!$B$9=24,'Daten A4'!W42,))))))))))))))))))))))))","v":"0%"},{"$f":"IF(Options!$B$9=1,'Daten A4'!$I$5,IF(Options!$B$9=2,'Daten A4'!$I$11,IF(Options!$B$9=3,'Daten A4'!$I$17,IF(Options!$B$9=4,'Daten A4'!$I$23,IF(Options!$B$9=5,'Daten A4'!$I$29,IF(Options!$B$9=6,'Daten A4'!$I$35,IF(Options!$B$9=7,'Daten A4'!$I$41,IF(Options!$B$9=8,'Daten A4'!$I$47,IF(Options!$B$9=9,'Daten A4'!$I$53,IF(Options!$B$9=10,'Daten A4'!$I$59,IF(Options!$B$9=11,'Daten A4'!$I$65,IF(Options!$B$9=12,'Daten A4'!$I$71,IF(Options!$B$9=13,'Daten A4'!$I$77,IF(Options!$B$9=14,'Daten A4'!$I$83,IF(Options!$B$9=15,'Daten A4'!$I$89,IF(Options!$B$9=16,'Daten A4'!$I$95,IF(Options!$B$9=17,'Daten A4'!$I$101,IF(Options!$B$9=18,'Daten A4'!$I$107,IF(Options!$B$9=19,'Daten A4'!X12,IF(Options!$B$9=20,'Daten A4'!X18,IF(Options!$B$9=21,'Daten A4'!X24,IF(Options!$B$9=22,'Daten A4'!X30,IF(Options!$B$9=23,'Daten A4'!X36,IF(Options!$B$9=24,'Daten A4'!X42,))))))))))))))))))))))))","v":"100%"},{"$f":"IF(Options!$B$9=1,'Daten A4'!$J$5,IF(Options!$B$9=2,'Daten A4'!$J$11,IF(Options!$B$9=3,'Daten A4'!$J$17,IF(Options!$B$9=4,'Daten A4'!$J$23,IF(Options!$B$9=5,'Daten A4'!$J$29,IF(Options!$B$9=6,'Daten A4'!$J$35,IF(Options!$B$9=7,'Daten A4'!$J$41,IF(Options!$B$9=8,'Daten A4'!$J$47,IF(Options!$B$9=9,'Daten A4'!$J$53,IF(Options!$B$9=10,'Daten A4'!$J$59,IF(Options!$B$9=11,'Daten A4'!$J$65,IF(Options!$B$9=12,'Daten A4'!$J$71,IF(Options!$B$9=13,'Daten A4'!$J$77,IF(Options!$B$9=14,'Daten A4'!$J$83,IF(Options!$B$9=15,'Daten A4'!$J$89,IF(Options!$B$9=16,'Daten A4'!$J$95,IF(Options!$B$9=17,'Daten A4'!$J$101,IF(Options!$B$9=18,'Daten A4'!$J$107,IF(Options!$B$9=19,'Daten A4'!Y12,IF(Options!$B$9=20,'Daten A4'!Y18,IF(Options!$B$9=21,'Daten A4'!Y24,IF(Options!$B$9=22,'Daten A4'!Y30,IF(Options!$B$9=23,'Daten A4'!Y36,IF(Options!$B$9=24,'Daten A4'!Y42,))))))))))))))))))))))))","v":"100%"},{"$f":"IF(Options!$B$9=1,'Daten A4'!$K$5,IF(Options!$B$9=2,'Daten A4'!$K$11,IF(Options!$B$9=3,'Daten A4'!$K$17,IF(Options!$B$9=4,'Daten A4'!$K$23,IF(Options!$B$9=5,'Daten A4'!$K$29,IF(Options!$B$9=6,'Daten A4'!$K$35,IF(Options!$B$9=7,'Daten A4'!$K$41,IF(Options!$B$9=8,'Daten A4'!$K$47,IF(Options!$B$9=9,'Daten A4'!$K$53,IF(Options!$B$9=10,'Daten A4'!$K$59,IF(Options!$B$9=11,'Daten A4'!$K$65,IF(Options!$B$9=12,'Daten A4'!$K$71,IF(Options!$B$9=13,'Daten A4'!$K$77,IF(Options!$B$9=14,'Daten A4'!$K$83,IF(Options!$B$9=15,'Daten A4'!$K$89,IF(Options!$B$9=16,'Daten A4'!$K$95,IF(Options!$B$9=17,'Daten A4'!$K$101,IF(Options!$B$9=18,'Daten A4'!$K$107,IF(Options!$B$9=19,'Daten A4'!Z12,IF(Options!$B$9=20,'Daten A4'!Z18,IF(Options!$B$9=21,'Daten A4'!Z24,IF(Options!$B$9=22,'Daten A4'!Z30,IF(Options!$B$9=23,'Daten A4'!Z36,IF(Options!$B$9=24,'Daten A4'!Z42,))))))))))))))))))))))))","v":"80%"},{"$f":"IF(Options!$B$9=1,'Daten A4'!$L$5,IF(Options!$B$9=2,'Daten A4'!$L$11,IF(Options!$B$9=3,'Daten A4'!$L$17,IF(Options!$B$9=4,'Daten A4'!$L$23,IF(Options!$B$9=5,'Daten A4'!$L$29,IF(Options!$B$9=6,'Daten A4'!$L$35,IF(Options!$B$9=7,'Daten A4'!$L$41,IF(Options!$B$9=8,'Daten A4'!$L$47,IF(Options!$B$9=9,'Daten A4'!$L$53,IF(Options!$B$9=10,'Daten A4'!$L$59,IF(Options!$B$9=11,'Daten A4'!$L$65,IF(Options!$B$9=12,'Daten A4'!$L$71,IF(Options!$B$9=13,'Daten A4'!$L$77,IF(Options!$B$9=14,'Daten A4'!$L$83,IF(Options!$B$9=15,'Daten A4'!$L$89,IF(Options!$B$9=16,'Daten A4'!$L$95,IF(Options!$B$9=17,'Daten A4'!$L$101,IF(Options!$B$9=18,'Daten A4'!$L$107,IF(Options!$B$9=19,'Daten A4'!AA12,IF(Options!$B$9=20,'Daten A4'!AA18,IF(Options!$B$9=21,'Daten A4'!AA24,IF(Options!$B$9=22,'Daten A4'!AA30,IF(Options!$B$9=23,'Daten A4'!AA36,IF(Options!$B$9=24,'Daten A4'!AA42,))))))))))))))))))))))))","v":"80%"},{"$f":"IF(Options!$B$9=1,'Daten A4'!$M$5,IF(Options!$B$9=2,'Daten A4'!$M$11,IF(Options!$B$9=3,'Daten A4'!$M$17,IF(Options!$B$9=4,'Daten A4'!$M$23,IF(Options!$B$9=5,'Daten A4'!$M$29,IF(Options!$B$9=6,'Daten A4'!$M$35,IF(Options!$B$9=7,'Daten A4'!$M$41,IF(Options!$B$9=8,'Daten A4'!$M$47,IF(Options!$B$9=9,'Daten A4'!$M$53,IF(Options!$B$9=10,'Daten A4'!$M$59,IF(Options!$B$9=11,'Daten A4'!$M$65,IF(Options!$B$9=12,'Daten A4'!$M$71,IF(Options!$B$9=13,'Daten A4'!$M$77,IF(Options!$B$9=14,'Daten A4'!$M$83,IF(Options!$B$9=15,'Daten A4'!$M$89,IF(Options!$B$9=16,'Daten A4'!$M$95,IF(Options!$B$9=17,'Daten A4'!$M$101,IF(Options!$B$9=18,'Daten A4'!$M$107,IF(Options!$B$9=19,'Daten A4'!AB12,IF(Options!$B$9=20,'Daten A4'!AB18,IF(Options!$B$9=21,'Daten A4'!AB24,IF(Options!$B$9=22,'Daten A4'!AB30,IF(Options!$B$9=23,'Daten A4'!AB36,IF(Options!$B$9=24,'Daten A4'!AB42,))))))))))))))))))))))))","v":"33%"},{"$f":"IF(Options!$B$9=1,'Daten A4'!$N$5,IF(Options!$B$9=2,'Daten A4'!$N$11,IF(Options!$B$9=3,'Daten A4'!$N$17,IF(Options!$B$9=4,'Daten A4'!$N$23,IF(Options!$B$9=5,'Daten A4'!$N$29,IF(Options!$B$9=6,'Daten A4'!$N$35,IF(Options!$B$9=7,'Daten A4'!$N$41,IF(Options!$B$9=8,'Daten A4'!$N$47,IF(Options!$B$9=9,'Daten A4'!$N$53,IF(Options!$B$9=10,'Daten A4'!$N$59,IF(Options!$B$9=11,'Daten A4'!$N$65,IF(Options!$B$9=12,'Daten A4'!$N$71,IF(Options!$B$9=13,'Daten A4'!$N$77,IF(Options!$B$9=14,'Daten A4'!$N$83,IF(Options!$B$9=15,'Daten A4'!$N$89,IF(Options!$B$9=16,'Daten A4'!$N$95,IF(Options!$B$9=17,'Daten A4'!$N$101,IF(Options!$B$9=18,'Daten A4'!$N$107,IF(Options!$B$9=19,'Daten A4'!AC12,IF(Options!$B$9=20,'Daten A4'!AC18,IF(Options!$B$9=21,'Daten A4'!AC24,IF(Options!$B$9=22,'Daten A4'!AC30,IF(Options!$B$9=23,'Daten A4'!AC36,IF(Options!$B$9=24,'Daten A4'!AC42,))))))))))))))))))))))))","v":"67%"}]
[null,null,null,null,null,null,null,null,{"$f":"IF(OR($BZ$27=0,$CA$27=0),\"\",CONCATENATE($BZ$27,$BN$26,$CA$27))","v":""},null,null,{"$f":"IF(OR($BZ$28=0,$CA$28=0),\"\",CONCATENATE($BZ$28,$BN$26,$CA$28))","v":"30% / 3"},null,null,{"$f":"IF(OR($BZ$29=0,$CA$29=0),\"\",CONCATENATE($BZ$29,$BN$26,$CA$29))","v":"30% / 3"},null,null,null,null,{"$f":"IF(OR($BX$27=0,$BY$27=0),\"\",CONCATENATE($BX$27,$BN$26,$BY$27))","v":""},null,null,{"$f":"IF(OR($BX$28=0,$BY$28=0),\"\",CONCATENATE($BX$28,$BN$26,$BY$28))","v":"83% / 5"},null,null,{"$f":"IF(OR($BX$29=0,$BY$29=0),\"\",CONCATENATE($BX$29,$BN$26,$BY$29))","v":""},null,null,null,null,{"$f":"IF(OR($BV$27=0,$BW$27=0),\"\",CONCATENATE($BV$27,$BN$26,$BW$27))","v":""},null,null,{"$f":"IF(OR($BV$28=0,$BW$28=0),\"\",CONCATENATE($BV$28,$BN$26,$BW$28))","v":"50% / 2"},null,null,{"$f":"IF(OR($BV$29=0,$BW$29=0),\"\",CONCATENATE($BV$29,$BN$26,$BW$29))","v":"25% / 1"},null,null,null,null,null,null,null,null,null,null,null,null,null,null,null,null,null,null,null,null,null,null,null,null,null,null,null,null,"Pos 4",null,{"$f":"IF(Options!$B$9=1,'Daten A4'!$C$6,IF(Options!$B$9=2,'Daten A4'!$C$12,IF(Options!$B$9=3,'Daten A4'!$C$18,IF(Options!$B$9=4,'Daten A4'!$C$24,IF(Options!$B$9=5,'Daten A4'!$C$30,IF(Options!$B$9=6,'Daten A4'!$C$36,IF(Options!$B$9=7,'Daten A4'!$C$42,IF(Options!$B$9=8,'Daten A4'!$C$48,IF(Options!$B$9=9,'Daten A4'!$C$54,IF(Options!$B$9=10,'Daten A4'!$C$60,IF(Options!$B$9=11,'Daten A4'!$C$66,IF(Options!$B$9=12,'Daten A4'!$C$72,IF(Options!$B$9=13,'Daten A4'!$C$78,IF(Options!$B$9=14,'Daten A4'!$C$84,IF(Options!$B$9=15,'Daten A4'!$C$90,IF(Options!$B$9=16,'Daten A4'!$C$96,IF(Options!$B$9=17,'Daten A4'!$C$102,IF(Options!$B$9=18,'Daten A4'!$C$108,IF(Options!$B$9=19,'Daten A4'!R13,IF(Options!$B$9=20,'Daten A4'!R19,IF(Options!$B$9=21,'Daten A4'!R25,IF(Options!$B$9=22,'Daten A4'!R31,IF(Options!$B$9=23,'Daten A4'!R37,IF(Options!$B$9=24,'Daten A4'!R43,))))))))))))))))))))))))","v":"50%"},{"$f":"IF(Options!$B$9=1,'Daten A4'!$D$6,IF(Options!$B$9=2,'Daten A4'!$D$12,IF(Options!$B$9=3,'Daten A4'!$D$18,IF(Options!$B$9=4,'Daten A4'!$D$24,IF(Options!$B$9=5,'Daten A4'!$D$30,IF(Options!$B$9=6,'Daten A4'!$D$36,IF(Options!$B$9=7,'Daten A4'!$D$42,IF(Options!$B$9=8,'Daten A4'!$D$48,IF(Options!$B$9=9,'Daten A4'!$D$54,IF(Options!$B$9=10,'Daten A4'!$D$60,IF(Options!$B$9=11,'Daten A4'!$D$66,IF(Options!$B$9=12,'Daten A4'!$D$72,IF(Options!$B$9=13,'Daten A4'!$D$78,IF(Options!$B$9=14,'Daten A4'!$D$84,IF(Options!$B$9=15,'Daten A4'!$D$90,IF(Options!$B$9=16,'Daten A4'!$D$96,IF(Options!$B$9=17,'Daten A4'!$D$102,IF(Options!$B$9=18,'Daten A4'!$D$108,IF(Options!$B$9=19,'Daten A4'!S13,IF(Options!$B$9=20,'Daten A4'!S19,IF(Options!$B$9=21,'Daten A4'!S25,IF(Options!$B$9=22,'Daten A4'!S31,IF(Options!$B$9=23,'Daten A4'!S37,IF(Options!$B$9=24,'Daten A4'!S43,))))))))))))))))))))))))","v":"50%"},{"$f":"IF(Options!$B$9=1,'Daten A4'!$E$6,IF(Options!$B$9=2,'Daten A4'!$E$12,IF(Options!$B$9=3,'Daten A4'!$E$18,IF(Options!$B$9=4,'Daten A4'!$E$24,IF(Options!$B$9=5,'Daten A4'!$E$30,IF(Options!$B$9=6,'Daten A4'!$E$36,IF(Options!$B$9=7,'Daten A4'!$E$42,IF(Options!$B$9=8,'Daten A4'!$E$48,IF(Options!$B$9=9,'Daten A4'!$E$54,IF(Options!$B$9=10,'Daten A4'!$E$60,IF(Options!$B$9=11,'Daten A4'!$E$66,IF(Options!$B$9=12,'Daten A4'!$E$72,IF(Options!$B$9=13,'Daten A4'!$E$78,IF(Options!$B$9=14,'Daten A4'!$E$84,IF(Options!$B$9=15,'Daten A4'!$E$90,IF(Options!$B$9=16,'Daten A4'!$E$96,IF(Options!$B$9=17,'Daten A4'!$E$102,IF(Options!$B$9=18,'Daten A4'!$E$108,IF(Options!$B$9=19,'Daten A4'!T13,IF(Options!$B$9=20,'Daten A4'!T19,IF(Options!$B$9=21,'Daten A4'!T25,IF(Options!$B$9=22,'Daten A4'!T31,IF(Options!$B$9=23,'Daten A4'!T37,IF(Options!$B$9=24,'Daten A4'!T43,))))))))))))))))))))))))","v":"0%"},{"$f":"IF(Options!$B$9=1,'Daten A4'!$F$6,IF(Options!$B$9=2,'Daten A4'!$F$12,IF(Options!$B$9=3,'Daten A4'!$F$18,IF(Options!$B$9=4,'Daten A4'!$F$24,IF(Options!$B$9=5,'Daten A4'!$F$30,IF(Options!$B$9=6,'Daten A4'!$F$36,IF(Options!$B$9=7,'Daten A4'!$F$42,IF(Options!$B$9=8,'Daten A4'!$F$48,IF(Options!$B$9=9,'Daten A4'!$F$54,IF(Options!$B$9=10,'Daten A4'!$F$60,IF(Options!$B$9=11,'Daten A4'!$F$66,IF(Options!$B$9=12,'Daten A4'!$F$72,IF(Options!$B$9=13,'Daten A4'!$F$78,IF(Options!$B$9=14,'Daten A4'!$F$84,IF(Options!$B$9=15,'Daten A4'!$F$90,IF(Options!$B$9=16,'Daten A4'!$F$96,IF(Options!$B$9=17,'Daten A4'!$F$102,IF(Options!$B$9=18,'Daten A4'!$F$108,IF(Options!$B$9=19,'Daten A4'!U13,IF(Options!$B$9=20,'Daten A4'!U19,IF(Options!$B$9=21,'Daten A4'!U25,IF(Options!$B$9=22,'Daten A4'!U31,IF(Options!$B$9=23,'Daten A4'!U37,IF(Options!$B$9=24,'Daten A4'!U43,))))))))))))))))))))))))","v":"----"},{"$f":"IF(Options!$B$9=1,'Daten A4'!$G$6,IF(Options!$B$9=2,'Daten A4'!$G$12,IF(Options!$B$9=3,'Daten A4'!$G$18,IF(Options!$B$9=4,'Daten A4'!$G$24,IF(Options!$B$9=5,'Daten A4'!$G$30,IF(Options!$B$9=6,'Daten A4'!$G$36,IF(Options!$B$9=7,'Daten A4'!$G$42,IF(Options!$B$9=8,'Daten A4'!$G$48,IF(Options!$B$9=9,'Daten A4'!$G$54,IF(Options!$B$9=10,'Daten A4'!$G$60,IF(Options!$B$9=11,'Daten A4'!$G$66,IF(Options!$B$9=12,'Daten A4'!$G$72,IF(Options!$B$9=13,'Daten A4'!$G$78,IF(Options!$B$9=14,'Daten A4'!$G$84,IF(Options!$B$9=15,'Daten A4'!$G$90,IF(Options!$B$9=16,'Daten A4'!$G$96,IF(Options!$B$9=17,'Daten A4'!$G$102,IF(Options!$B$9=18,'Daten A4'!$G$108,IF(Options!$B$9=19,'Daten A4'!V13,IF(Options!$B$9=20,'Daten A4'!V19,IF(Options!$B$9=21,'Daten A4'!V25,IF(Options!$B$9=22,'Daten A4'!V31,IF(Options!$B$9=23,'Daten A4'!V37,IF(Options!$B$9=24,'Daten A4'!V43,))))))))))))))))))))))))","v":"0%"},{"$f":"IF(Options!$B$9=1,'Daten A4'!$H$6,IF(Options!$B$9=2,'Daten A4'!$H$12,IF(Options!$B$9=3,'Daten A4'!$H$18,IF(Options!$B$9=4,'Daten A4'!$H$24,IF(Options!$B$9=5,'Daten A4'!$H$30,IF(Options!$B$9=6,'Daten A4'!$H$36,IF(Options!$B$9=7,'Daten A4'!$H$42,IF(Options!$B$9=8,'Daten A4'!$H$48,IF(Options!$B$9=9,'Daten A4'!$H$54,IF(Options!$B$9=10,'Daten A4'!$H$60,IF(Options!$B$9=11,'Daten A4'!$H$66,IF(Options!$B$9=12,'Daten A4'!$H$72,IF(Options!$B$9=13,'Daten A4'!$H$78,IF(Options!$B$9=14,'Daten A4'!$H$84,IF(Options!$B$9=15,'Daten A4'!$H$90,IF(Options!$B$9=16,'Daten A4'!$H$96,IF(Options!$B$9=17,'Daten A4'!$H$102,IF(Options!$B$9=18,'Daten A4'!$H$108,IF(Options!$B$9=19,'Daten A4'!W13,IF(Options!$B$9=20,'Daten A4'!W19,IF(Options!$B$9=21,'Daten A4'!W25,IF(Options!$B$9=22,'Daten A4'!W31,IF(Options!$B$9=23,'Daten A4'!W37,IF(Options!$B$9=24,'Daten A4'!W43,))))))))))))))))))))))))","v":"----"},{"$f":"IF(Options!$B$9=1,'Daten A4'!$I$6,IF(Options!$B$9=2,'Daten A4'!$I$12,IF(Options!$B$9=3,'Daten A4'!$I$18,IF(Options!$B$9=4,'Daten A4'!$I$24,IF(Options!$B$9=5,'Daten A4'!$I$30,IF(Options!$B$9=6,'Daten A4'!$I$36,IF(Options!$B$9=7,'Daten A4'!$I$42,IF(Options!$B$9=8,'Daten A4'!$I$48,IF(Options!$B$9=9,'Daten A4'!$I$54,IF(Options!$B$9=10,'Daten A4'!$I$60,IF(Options!$B$9=11,'Daten A4'!$I$66,IF(Options!$B$9=12,'Daten A4'!$I$72,IF(Options!$B$9=13,'Daten A4'!$I$78,IF(Options!$B$9=14,'Daten A4'!$I$84,IF(Options!$B$9=15,'Daten A4'!$I$90,IF(Options!$B$9=16,'Daten A4'!$I$96,IF(Options!$B$9=17,'Daten A4'!$I$102,IF(Options!$B$9=18,'Daten A4'!$I$108,IF(Options!$B$9=19,'Daten A4'!X13,IF(Options!$B$9=20,'Daten A4'!X19,IF(Options!$B$9=21,'Daten A4'!X25,IF(Options!$B$9=22,'Daten A4'!X31,IF(Options!$B$9=23,'Daten A4'!X37,IF(Options!$B$9=24,'Daten A4'!X43,))))))))))))))))))))))))","v":"100%"},{"$f":"IF(Options!$B$9=1,'Daten A4'!$J$6,IF(Options!$B$9=2,'Daten A4'!$J$12,IF(Options!$B$9=3,'Daten A4'!$J$18,IF(Options!$B$9=4,'Daten A4'!$J$24,IF(Options!$B$9=5,'Daten A4'!$J$30,IF(Options!$B$9=6,'Daten A4'!$J$36,IF(Options!$B$9=7,'Daten A4'!$J$42,IF(Options!$B$9=8,'Daten A4'!$J$48,IF(Options!$B$9=9,'Daten A4'!$J$54,IF(Options!$B$9=10,'Daten A4'!$J$60,IF(Options!$B$9=11,'Daten A4'!$J$66,IF(Options!$B$9=12,'Daten A4'!$J$72,IF(Options!$B$9=13,'Daten A4'!$J$78,IF(Options!$B$9=14,'Daten A4'!$J$84,IF(Options!$B$9=15,'Daten A4'!$J$90,IF(Options!$B$9=16,'Daten A4'!$J$96,IF(Options!$B$9=17,'Daten A4'!$J$102,IF(Options!$B$9=18,'Daten A4'!$J$108,IF(Options!$B$9=19,'Daten A4'!Y13,IF(Options!$B$9=20,'Daten A4'!Y19,IF(Options!$B$9=21,'Daten A4'!Y25,IF(Options!$B$9=22,'Daten A4'!Y31,IF(Options!$B$9=23,'Daten A4'!Y37,IF(Options!$B$9=24,'Daten A4'!Y43,))))))))))))))))))))))))","v":"100%"},{"$f":"IF(Options!$B$9=1,'Daten A4'!$K$6,IF(Options!$B$9=2,'Daten A4'!$K$12,IF(Options!$B$9=3,'Daten A4'!$K$18,IF(Options!$B$9=4,'Daten A4'!$K$24,IF(Options!$B$9=5,'Daten A4'!$K$30,IF(Options!$B$9=6,'Daten A4'!$K$36,IF(Options!$B$9=7,'Daten A4'!$K$42,IF(Options!$B$9=8,'Daten A4'!$K$48,IF(Options!$B$9=9,'Daten A4'!$K$54,IF(Options!$B$9=10,'Daten A4'!$K$60,IF(Options!$B$9=11,'Daten A4'!$K$66,IF(Options!$B$9=12,'Daten A4'!$K$72,IF(Options!$B$9=13,'Daten A4'!$K$78,IF(Options!$B$9=14,'Daten A4'!$K$84,IF(Options!$B$9=15,'Daten A4'!$K$90,IF(Options!$B$9=16,'Daten A4'!$K$96,IF(Options!$B$9=17,'Daten A4'!$K$102,IF(Options!$B$9=18,'Daten A4'!$K$108,IF(Options!$B$9=19,'Daten A4'!Z13,IF(Options!$B$9=20,'Daten A4'!Z19,IF(Options!$B$9=21,'Daten A4'!Z25,IF(Options!$B$9=22,'Daten A4'!Z31,IF(Options!$B$9=23,'Daten A4'!Z37,IF(Options!$B$9=24,'Daten A4'!Z43,))))))))))))))))))))))))","v":"0%"},{"$f":"IF(Options!$B$9=1,'Daten A4'!$L$6,IF(Options!$B$9=2,'Daten A4'!$L$12,IF(Options!$B$9=3,'Daten A4'!$L$18,IF(Options!$B$9=4,'Daten A4'!$L$24,IF(Options!$B$9=5,'Daten A4'!$L$30,IF(Options!$B$9=6,'Daten A4'!$L$36,IF(Options!$B$9=7,'Daten A4'!$L$42,IF(Options!$B$9=8,'Daten A4'!$L$48,IF(Options!$B$9=9,'Daten A4'!$L$54,IF(Options!$B$9=10,'Daten A4'!$L$60,IF(Options!$B$9=11,'Daten A4'!$L$66,IF(Options!$B$9=12,'Daten A4'!$L$72,IF(Options!$B$9=13,'Daten A4'!$L$78,IF(Options!$B$9=14,'Daten A4'!$L$84,IF(Options!$B$9=15,'Daten A4'!$L$90,IF(Options!$B$9=16,'Daten A4'!$L$96,IF(Options!$B$9=17,'Daten A4'!$L$102,IF(Options!$B$9=18,'Daten A4'!$L$108,IF(Options!$B$9=19,'Daten A4'!AA13,IF(Options!$B$9=20,'Daten A4'!AA19,IF(Options!$B$9=21,'Daten A4'!AA25,IF(Options!$B$9=22,'Daten A4'!AA31,IF(Options!$B$9=23,'Daten A4'!AA37,IF(Options!$B$9=24,'Daten A4'!AA43,))))))))))))))))))))))))","v":"----"},{"$f":"IF(Options!$B$9=1,'Daten A4'!$M$6,IF(Options!$B$9=2,'Daten A4'!$M$12,IF(Options!$B$9=3,'Daten A4'!$M$18,IF(Options!$B$9=4,'Daten A4'!$M$24,IF(Options!$B$9=5,'Daten A4'!$M$30,IF(Options!$B$9=6,'Daten A4'!$M$36,IF(Options!$B$9=7,'Daten A4'!$M$42,IF(Options!$B$9=8,'Daten A4'!$M$48,IF(Options!$B$9=9,'Daten A4'!$M$54,IF(Options!$B$9=10,'Daten A4'!$M$60,IF(Options!$B$9=11,'Daten A4'!$M$66,IF(Options!$B$9=12,'Daten A4'!$M$72,IF(Options!$B$9=13,'Daten A4'!$M$78,IF(Options!$B$9=14,'Daten A4'!$M$84,IF(Options!$B$9=15,'Daten A4'!$M$90,IF(Options!$B$9=16,'Daten A4'!$M$96,IF(Options!$B$9=17,'Daten A4'!$M$102,IF(Options!$B$9=18,'Daten A4'!$M$108,IF(Options!$B$9=19,'Daten A4'!AB13,IF(Options!$B$9=20,'Daten A4'!AB19,IF(Options!$B$9=21,'Daten A4'!AB25,IF(Options!$B$9=22,'Daten A4'!AB31,IF(Options!$B$9=23,'Daten A4'!AB37,IF(Options!$B$9=24,'Daten A4'!AB43,))))))))))))))))))))))))","v":"-33%"},{"$f":"IF(Options!$B$9=1,'Daten A4'!$N$6,IF(Options!$B$9=2,'Daten A4'!$N$12,IF(Options!$B$9=3,'Daten A4'!$N$18,IF(Options!$B$9=4,'Daten A4'!$N$24,IF(Options!$B$9=5,'Daten A4'!$N$30,IF(Options!$B$9=6,'Daten A4'!$N$36,IF(Options!$B$9=7,'Daten A4'!$N$42,IF(Options!$B$9=8,'Daten A4'!$N$48,IF(Options!$B$9=9,'Daten A4'!$N$54,IF(Options!$B$9=10,'Daten A4'!$N$60,IF(Options!$B$9=11,'Daten A4'!$N$66,IF(Options!$B$9=12,'Daten A4'!$N$72,IF(Options!$B$9=13,'Daten A4'!$N$78,IF(Options!$B$9=14,'Daten A4'!$N$84,IF(Options!$B$9=15,'Daten A4'!$N$90,IF(Options!$B$9=16,'Daten A4'!$N$96,IF(Options!$B$9=17,'Daten A4'!$N$102,IF(Options!$B$9=18,'Daten A4'!$N$108,IF(Options!$B$9=19,'Daten A4'!AC13,IF(Options!$B$9=20,'Daten A4'!AC19,IF(Options!$B$9=21,'Daten A4'!AC25,IF(Options!$B$9=22,'Daten A4'!AC31,IF(Options!$B$9=23,'Daten A4'!AC37,IF(Options!$B$9=24,'Daten A4'!AC43,))))))))))))))))))))))))","v":"33%"}]
[null,null,null,null,null,null,null,null,{"$f":"IF(OR($BZ$27=0,$CA$27=0),\"\",CONCATENATE($BZ$34,$BN$26,$CA$34))","v":""},null,null,{"$f":"IF(OR($BZ$28=0,$CA$28=0),\"\",CONCATENATE($BZ$35,$BN$26,$CA$35))","v":"33% / 67%"},null,null,{"$f":"IF(OR($BZ$29=0,$CA$29=0),\"\",CONCATENATE($BZ$36,$BN$26,$CA$36))","v":"-33% / 33%"},null,null,null,null,{"$f":"IF(OR($BX$27=0,$BY$27=0),\"\",CONCATENATE($BX$34,$BN$26,$BY$34))","v":""},null,null,{"$f":"IF(OR($BX$28=0,$BY$28=0),\"\",CONCATENATE($BX$35,$BN$26,$BY$35))","v":"80% / 80%"},null,null,{"$f":"IF(OR($BX$29=0,$BY$29=0),\"\",CONCATENATE($BX$36,$BN$26,$BY$36))","v":""},null,null,null,null,{"$f":"IF(OR($BV$27=0,$BW$27=0),\"\",CONCATENATE($BV$34,$BN$26,$BW$34))","v":""},null,null,{"$f":"IF(OR($BV$28=0,$BW$28=0),\"\",CONCATENATE($BV$35,$BN$26,$BW$35))","v":"100% / 100%"},null,null,{"$f":"IF(OR($BV$29=0,$BW$29=0),\"\",CONCATENATE($BV$36,$BN$26,$BW$36))","v":"100% / 100%"},null,null,null,null,null,null,null,null,null,null,null,null,null,null,null,null,null,null,null,null,null,null,null,null,null,null,null,null,"Pos 8",null,{"$f":"IF(Options!$B$9=1,'Daten A4'!$C$7,IF(Options!$B$9=2,'Daten A4'!$C$13,IF(Options!$B$9=3,'Daten A4'!$C$19,IF(Options!$B$9=4,'Daten A4'!$C$25,IF(Options!$B$9=5,'Daten A4'!$C$31,IF(Options!$B$9=6,'Daten A4'!$C$37,IF(Options!$B$9=7,'Daten A4'!$C$43,IF(Options!$B$9=8,'Daten A4'!$C$49,IF(Options!$B$9=9,'Daten A4'!$C$55,IF(Options!$B$9=10,'Daten A4'!$C$61,IF(Options!$B$9=11,'Daten A4'!$C$67,IF(Options!$B$9=12,'Daten A4'!$C$73,IF(Options!$B$9=13,'Daten A4'!$C$79,IF(Options!$B$9=14,'Daten A4'!$C$85,IF(Options!$B$9=15,'Daten A4'!$C$91,IF(Options!$B$9=16,'Daten A4'!$C$97,IF(Options!$B$9=17,'Daten A4'!$C$103,IF(Options!$B$9=18,'Daten A4'!$C$109,IF(Options!$B$9=19,'Daten A4'!R14,IF(Options!$B$9=20,'Daten A4'!R20,IF(Options!$B$9=21,'Daten A4'!R26,IF(Options!$B$9=22,'Daten A4'!R32,IF(Options!$B$9=23,'Daten A4'!R38,IF(Options!$B$9=24,'Daten A4'!R44,))))))))))))))))))))))))","v":"-100%"},{"$f":"IF(Options!$B$9=1,'Daten A4'!$D$7,IF(Options!$B$9=2,'Daten A4'!$D$13,IF(Options!$B$9=3,'Daten A4'!$D$19,IF(Options!$B$9=4,'Daten A4'!$D$25,IF(Options!$B$9=5,'Daten A4'!$D$31,IF(Options!$B$9=6,'Daten A4'!$D$37,IF(Options!$B$9=7,'Daten A4'!$D$43,IF(Options!$B$9=8,'Daten A4'!$D$49,IF(Options!$B$9=9,'Daten A4'!$D$55,IF(Options!$B$9=10,'Daten A4'!$D$61,IF(Options!$B$9=11,'Daten A4'!$D$67,IF(Options!$B$9=12,'Daten A4'!$D$73,IF(Options!$B$9=13,'Daten A4'!$D$79,IF(Options!$B$9=14,'Daten A4'!$D$85,IF(Options!$B$9=15,'Daten A4'!$D$91,IF(Options!$B$9=16,'Daten A4'!$D$97,IF(Options!$B$9=17,'Daten A4'!$D$103,IF(Options!$B$9=18,'Daten A4'!$D$109,IF(Options!$B$9=19,'Daten A4'!S14,IF(Options!$B$9=20,'Daten A4'!S20,IF(Options!$B$9=21,'Daten A4'!S26,IF(Options!$B$9=22,'Daten A4'!S32,IF(Options!$B$9=23,'Daten A4'!S38,IF(Options!$B$9=24,'Daten A4'!S44,))))))))))))))))))))))))","v":"0%"},{"$f":"IF(Options!$B$9=1,'Daten A4'!$E$7,IF(Options!$B$9=2,'Daten A4'!$E$13,IF(Options!$B$9=3,'Daten A4'!$E$19,IF(Options!$B$9=4,'Daten A4'!$E$25,IF(Options!$B$9=5,'Daten A4'!$E$31,IF(Options!$B$9=6,'Daten A4'!$E$37,IF(Options!$B$9=7,'Daten A4'!$E$43,IF(Options!$B$9=8,'Daten A4'!$E$49,IF(Options!$B$9=9,'Daten A4'!$E$55,IF(Options!$B$9=10,'Daten A4'!$E$61,IF(Options!$B$9=11,'Daten A4'!$E$67,IF(Options!$B$9=12,'Daten A4'!$E$73,IF(Options!$B$9=13,'Daten A4'!$E$79,IF(Options!$B$9=14,'Daten A4'!$E$85,IF(Options!$B$9=15,'Daten A4'!$E$91,IF(Options!$B$9=16,'Daten A4'!$E$97,IF(Options!$B$9=17,'Daten A4'!$E$103,IF(Options!$B$9=18,'Daten A4'!$E$109,IF(Options!$B$9=19,'Daten A4'!T14,IF(Options!$B$9=20,'Daten A4'!T20,IF(Options!$B$9=21,'Daten A4'!T26,IF(Options!$B$9=22,'Daten A4'!T32,IF(Options!$B$9=23,'Daten A4'!T38,IF(Options!$B$9=24,'Daten A4'!T44,))))))))))))))))))))))))","v":"0%"},{"$f":"IF(Options!$B$9=1,'Daten A4'!$F$7,IF(Options!$B$9=2,'Daten A4'!$F$13,IF(Options!$B$9=3,'Daten A4'!$F$19,IF(Options!$B$9=4,'Daten A4'!$F$25,IF(Options!$B$9=5,'Daten A4'!$F$31,IF(Options!$B$9=6,'Daten A4'!$F$37,IF(Options!$B$9=7,'Daten A4'!$F$43,IF(Options!$B$9=8,'Daten A4'!$F$49,IF(Options!$B$9=9,'Daten A4'!$F$55,IF(Options!$B$9=10,'Daten A4'!$F$61,IF(Options!$B$9=11,'Daten A4'!$F$67,IF(Options!$B$9=12,'Daten A4'!$F$73,IF(Options!$B$9=13,'Daten A4'!$F$79,IF(Options!$B$9=14,'Daten A4'!$F$85,IF(Options!$B$9=15,'Daten A4'!$F$91,IF(Options!$B$9=16,'Daten A4'!$F$97,IF(Options!$B$9=17,'Daten A4'!$F$103,IF(Options!$B$9=18,'Daten A4'!$F$109,IF(Options!$B$9=19,'Daten A4'!U14,IF(Options!$B$9=20,'Daten A4'!U20,IF(Options!$B$9=21,'Daten A4'!U26,IF(Options!$B$9=22,'Daten A4'!U32,IF(Options!$B$9=23,'Daten A4'!U38,IF(Options!$B$9=24,'Daten A4'!U44,))))))))))))))))))))))))","v":"0%"},{"$f":"IF(Options!$B$9=1,'Daten A4'!$G$7,IF(Options!$B$9=2,'Daten A4'!$G$13,IF(Options!$B$9=3,'Daten A4'!$G$19,IF(Options!$B$9=4,'Daten A4'!$G$25,IF(Options!$B$9=5,'Daten A4'!$G$31,IF(Options!$B$9=6,'Daten A4'!$G$37,IF(Options!$B$9=7,'Daten A4'!$G$43,IF(Options!$B$9=8,'Daten A4'!$G$49,IF(Options!$B$9=9,'Daten A4'!$G$55,IF(Options!$B$9=10,'Daten A4'!$G$61,IF(Options!$B$9=11,'Daten A4'!$G$67,IF(Options!$B$9=12,'Daten A4'!$G$73,IF(Options!$B$9=13,'Daten A4'!$G$79,IF(Options!$B$9=14,'Daten A4'!$G$85,IF(Options!$B$9=15,'Daten A4'!$G$91,IF(Options!$B$9=16,'Daten A4'!$G$97,IF(Options!$B$9=17,'Daten A4'!$G$103,IF(Options!$B$9=18,'Daten A4'!$G$109,IF(Options!$B$9=19,'Daten A4'!V14,IF(Options!$B$9=20,'Daten A4'!V20,IF(Options!$B$9=21,'Daten A4'!V26,IF(Options!$B$9=22,'Daten A4'!V32,IF(Options!$B$9=23,'Daten A4'!V38,IF(Options!$B$9=24,'Daten A4'!V44,))))))))))))))))))))))))","v":"40%"},{"$f":"IF(Options!$B$9=1,'Daten A4'!$H$7,IF(Options!$B$9=2,'Daten A4'!$H$13,IF(Options!$B$9=3,'Daten A4'!$H$19,IF(Options!$B$9=4,'Daten A4'!$H$25,IF(Options!$B$9=5,'Daten A4'!$H$31,IF(Options!$B$9=6,'Daten A4'!$H$37,IF(Options!$B$9=7,'Daten A4'!$H$43,IF(Options!$B$9=8,'Daten A4'!$H$49,IF(Options!$B$9=9,'Daten A4'!$H$55,IF(Options!$B$9=10,'Daten A4'!$H$61,IF(Options!$B$9=11,'Daten A4'!$H$67,IF(Options!$B$9=12,'Daten A4'!$H$73,IF(Options!$B$9=13,'Daten A4'!$H$79,IF(Options!$B$9=14,'Daten A4'!$H$85,IF(Options!$B$9=15,'Daten A4'!$H$91,IF(Options!$B$9=16,'Daten A4'!$H$97,IF(Options!$B$9=17,'Daten A4'!$H$103,IF(Options!$B$9=18,'Daten A4'!$H$109,IF(Options!$B$9=19,'Daten A4'!W14,IF(Options!$B$9=20,'Daten A4'!W20,IF(Options!$B$9=21,'Daten A4'!W26,IF(Options!$B$9=22,'Daten A4'!W32,IF(Options!$B$9=23,'Daten A4'!W38,IF(Options!$B$9=24,'Daten A4'!W44,))))))))))))))))))))))))","v":"60%"},{"$f":"IF(Options!$B$9=1,'Daten A4'!$I$7,IF(Options!$B$9=2,'Daten A4'!$I$13,IF(Options!$B$9=3,'Daten A4'!$I$19,IF(Options!$B$9=4,'Daten A4'!$I$25,IF(Options!$B$9=5,'Daten A4'!$I$31,IF(Options!$B$9=6,'Daten A4'!$I$37,IF(Options!$B$9=7,'Daten A4'!$I$43,IF(Options!$B$9=8,'Daten A4'!$I$49,IF(Options!$B$9=9,'Daten A4'!$I$55,IF(Options!$B$9=10,'Daten A4'!$I$61,IF(Options!$B$9=11,'Daten A4'!$I$67,IF(Options!$B$9=12,'Daten A4'!$I$73,IF(Options!$B$9=13,'Daten A4'!$I$79,IF(Options!$B$9=14,'Daten A4'!$I$85,IF(Options!$B$9=15,'Daten A4'!$I$91,IF(Options!$B$9=16,'Daten A4'!$I$97,IF(Options!$B$9=17,'Daten A4'!$I$103,IF(Options!$B$9=18,'Daten A4'!$I$109,IF(Options!$B$9=19,'Daten A4'!X14,IF(Options!$B$9=20,'Daten A4'!X20,IF(Options!$B$9=21,'Daten A4'!X26,IF(Options!$B$9=22,'Daten A4'!X32,IF(Options!$B$9=23,'Daten A4'!X38,IF(Options!$B$9=24,'Daten A4'!X44,))))))))))))))))))))))))","v":"0%"},{"$f":"IF(Options!$B$9=1,'Daten A4'!$J$7,IF(Options!$B$9=2,'Daten A4'!$J$13,IF(Options!$B$9=3,'Daten A4'!$J$19,IF(Options!$B$9=4,'Daten A4'!$J$25,IF(Options!$B$9=5,'Daten A4'!$J$31,IF(Options!$B$9=6,'Daten A4'!$J$37,IF(Options!$B$9=7,'Daten A4'!$J$43,IF(Options!$B$9=8,'Daten A4'!$J$49,IF(Options!$B$9=9,'Daten A4'!$J$55,IF(Options!$B$9=10,'Daten A4'!$J$61,IF(Options!$B$9=11,'Daten A4'!$J$67,IF(Options!$B$9=12,'Daten A4'!$J$73,IF(Options!$B$9=13,'Daten A4'!$J$79,IF(Options!$B$9=14,'Daten A4'!$J$85,IF(Options!$B$9=15,'Daten A4'!$J$91,IF(Options!$B$9=16,'Daten A4'!$J$97,IF(Options!$B$9=17,'Daten A4'!$J$103,IF(Options!$B$9=18,'Daten A4'!$J$109,IF(Options!$B$9=19,'Daten A4'!Y14,IF(Options!$B$9=20,'Daten A4'!Y20,IF(Options!$B$9=21,'Daten A4'!Y26,IF(Options!$B$9=22,'Daten A4'!Y32,IF(Options!$B$9=23,'Daten A4'!Y38,IF(Options!$B$9=24,'Daten A4'!Y44,))))))))))))))))))))))))","v":"----"},{"$f":"IF(Options!$B$9=1,'Daten A4'!$K$7,IF(Options!$B$9=2,'Daten A4'!$K$13,IF(Options!$B$9=3,'Daten A4'!$K$19,IF(Options!$B$9=4,'Daten A4'!$K$25,IF(Options!$B$9=5,'Daten A4'!$K$31,IF(Options!$B$9=6,'Daten A4'!$K$37,IF(Options!$B$9=7,'Daten A4'!$K$43,IF(Options!$B$9=8,'Daten A4'!$K$49,IF(Options!$B$9=9,'Daten A4'!$K$55,IF(Options!$B$9=10,'Daten A4'!$K$61,IF(Options!$B$9=11,'Daten A4'!$K$67,IF(Options!$B$9=12,'Daten A4'!$K$73,IF(Options!$B$9=13,'Daten A4'!$K$79,IF(Options!$B$9=14,'Daten A4'!$K$85,IF(Options!$B$9=15,'Daten A4'!$K$91,IF(Options!$B$9=16,'Daten A4'!$K$97,IF(Options!$B$9=17,'Daten A4'!$K$103,IF(Options!$B$9=18,'Daten A4'!$K$109,IF(Options!$B$9=19,'Daten A4'!Z14,IF(Options!$B$9=20,'Daten A4'!Z20,IF(Options!$B$9=21,'Daten A4'!Z26,IF(Options!$B$9=22,'Daten A4'!Z32,IF(Options!$B$9=23,'Daten A4'!Z38,IF(Options!$B$9=24,'Daten A4'!Z44,))))))))))))))))))))))))","v":"0%"},{"$f":"IF(Options!$B$9=1,'Daten A4'!$L$7,IF(Options!$B$9=2,'Daten A4'!$L$13,IF(Options!$B$9=3,'Daten A4'!$L$19,IF(Options!$B$9=4,'Daten A4'!$L$25,IF(Options!$B$9=5,'Daten A4'!$L$31,IF(Options!$B$9=6,'Daten A4'!$L$37,IF(Options!$B$9=7,'Daten A4'!$L$43,IF(Options!$B$9=8,'Daten A4'!$L$49,IF(Options!$B$9=9,'Daten A4'!$L$55,IF(Options!$B$9=10,'Daten A4'!$L$61,IF(Options!$B$9=11,'Daten A4'!$L$67,IF(Options!$B$9=12,'Daten A4'!$L$73,IF(Options!$B$9=13,'Daten A4'!$L$79,IF(Options!$B$9=14,'Daten A4'!$L$85,IF(Options!$B$9=15,'Daten A4'!$L$91,IF(Options!$B$9=16,'Daten A4'!$L$97,IF(Options!$B$9=17,'Daten A4'!$L$103,IF(Options!$B$9=18,'Daten A4'!$L$109,IF(Options!$B$9=19,'Daten A4'!AA14,IF(Options!$B$9=20,'Daten A4'!AA20,IF(Options!$B$9=21,'Daten A4'!AA26,IF(Options!$B$9=22,'Daten A4'!AA32,IF(Options!$B$9=23,'Daten A4'!AA38,IF(Options!$B$9=24,'Daten A4'!AA44,))))))))))))))))))))))))","v":"----"},{"$f":"IF(Options!$B$9=1,'Daten A4'!$M$7,IF(Options!$B$9=2,'Daten A4'!$M$13,IF(Options!$B$9=3,'Daten A4'!$M$19,IF(Options!$B$9=4,'Daten A4'!$M$25,IF(Options!$B$9=5,'Daten A4'!$M$31,IF(Options!$B$9=6,'Daten A4'!$M$37,IF(Options!$B$9=7,'Daten A4'!$M$43,IF(Options!$B$9=8,'Daten A4'!$M$49,IF(Options!$B$9=9,'Daten A4'!$M$55,IF(Options!$B$9=10,'Daten A4'!$M$61,IF(Options!$B$9=11,'Daten A4'!$M$67,IF(Options!$B$9=12,'Daten A4'!$M$73,IF(Options!$B$9=13,'Daten A4'!$M$79,IF(Options!$B$9=14,'Daten A4'!$M$85,IF(Options!$B$9=15,'Daten A4'!$M$91,IF(Options!$B$9=16,'Daten A4'!$M$97,IF(Options!$B$9=17,'Daten A4'!$M$103,IF(Options!$B$9=18,'Daten A4'!$M$109,IF(Options!$B$9=19,'Daten A4'!AB14,IF(Options!$B$9=20,'Daten A4'!AB20,IF(Options!$B$9=21,'Daten A4'!AB26,IF(Options!$B$9=22,'Daten A4'!AB32,IF(Options!$B$9=23,'Daten A4'!AB38,IF(Options!$B$9=24,'Daten A4'!AB44,))))))))))))))))))))))))","v":"0%"},{"$f":"IF(Options!$B$9=1,'Daten A4'!$N$7,IF(Options!$B$9=2,'Daten A4'!$N$13,IF(Options!$B$9=3,'Daten A4'!$N$19,IF(Options!$B$9=4,'Daten A4'!$N$25,IF(Options!$B$9=5,'Daten A4'!$N$31,IF(Options!$B$9=6,'Daten A4'!$N$37,IF(Options!$B$9=7,'Daten A4'!$N$43,IF(Options!$B$9=8,'Daten A4'!$N$49,IF(Options!$B$9=9,'Daten A4'!$N$55,IF(Options!$B$9=10,'Daten A4'!$N$61,IF(Options!$B$9=11,'Daten A4'!$N$67,IF(Options!$B$9=12,'Daten A4'!$N$73,IF(Options!$B$9=13,'Daten A4'!$N$79,IF(Options!$B$9=14,'Daten A4'!$N$85,IF(Options!$B$9=15,'Daten A4'!$N$91,IF(Options!$B$9=16,'Daten A4'!$N$97,IF(Options!$B$9=17,'Daten A4'!$N$103,IF(Options!$B$9=18,'Daten A4'!$N$109,IF(Options!$B$9=19,'Daten A4'!AC14,IF(Options!$B$9=20,'Daten A4'!AC20,IF(Options!$B$9=21,'Daten A4'!AC26,IF(Options!$B$9=22,'Daten A4'!AC32,IF(Options!$B$9=23,'Daten A4'!AC38,IF(Options!$B$9=24,'Daten A4'!AC44,))))))))))))))))))))))))","v":"----"}]
[null,null,null,null,null,null,null,null,null,null,null,null,null,null,null,null,null,null,null,null,null,null,null,null,null,null,null,null,null,null,null,null,null,null,null,null,null,null,null,null,null,null,null,"S3",null,null,null,null,null,null,null,null,null,null,null,null,null,null,null,null,null,null,null,null,null,"Pos 9",null,{"$f":"IF(Options!$B$9=1,'Daten A4'!$C$8,IF(Options!$B$9=2,'Daten A4'!$C$14,IF(Options!$B$9=3,'Daten A4'!$C$20,IF(Options!$B$9=4,'Daten A4'!$C$26,IF(Options!$B$9=5,'Daten A4'!$C$32,IF(Options!$B$9=6,'Daten A4'!$C$38,IF(Options!$B$9=7,'Daten A4'!$C$44,IF(Options!$B$9=8,'Daten A4'!$C$50,IF(Options!$B$9=9,'Daten A4'!$C$56,IF(Options!$B$9=10,'Daten A4'!$C$62,IF(Options!$B$9=11,'Daten A4'!$C$68,IF(Options!$B$9=12,'Daten A4'!$C$74,IF(Options!$B$9=13,'Daten A4'!$C$80,IF(Options!$B$9=14,'Daten A4'!$C$86,IF(Options!$B$9=15,'Daten A4'!$C$92,IF(Options!$B$9=16,'Daten A4'!$C$98,IF(Options!$B$9=17,'Daten A4'!$C$104,IF(Options!$B$9=18,'Daten A4'!$C$110,IF(Options!$B$9=19,'Daten A4'!R15,IF(Options!$B$9=20,'Daten A4'!R21,IF(Options!$B$9=21,'Daten A4'!R27,IF(Options!$B$9=22,'Daten A4'!R33,IF(Options!$B$9=23,'Daten A4'!R39,IF(Options!$B$9=24,'Daten A4'!R45,))))))))))))))))))))))))","v":"0%"},{"$f":"IF(Options!$B$9=1,'Daten A4'!$D$8,IF(Options!$B$9=2,'Daten A4'!$D$14,IF(Options!$B$9=3,'Daten A4'!$D$20,IF(Options!$B$9=4,'Daten A4'!$D$26,IF(Options!$B$9=5,'Daten A4'!$D$32,IF(Options!$B$9=6,'Daten A4'!$D$38,IF(Options!$B$9=7,'Daten A4'!$D$44,IF(Options!$B$9=8,'Daten A4'!$D$50,IF(Options!$B$9=9,'Daten A4'!$D$56,IF(Options!$B$9=10,'Daten A4'!$D$62,IF(Options!$B$9=11,'Daten A4'!$D$68,IF(Options!$B$9=12,'Daten A4'!$D$74,IF(Options!$B$9=13,'Daten A4'!$D$80,IF(Options!$B$9=14,'Daten A4'!$D$86,IF(Options!$B$9=15,'Daten A4'!$D$92,IF(Options!$B$9=16,'Daten A4'!$D$98,IF(Options!$B$9=17,'Daten A4'!$D$104,IF(Options!$B$9=18,'Daten A4'!$D$110,IF(Options!$B$9=19,'Daten A4'!S15,IF(Options!$B$9=20,'Daten A4'!S21,IF(Options!$B$9=21,'Daten A4'!S27,IF(Options!$B$9=22,'Daten A4'!S33,IF(Options!$B$9=23,'Daten A4'!S39,IF(Options!$B$9=24,'Daten A4'!S45,))))))))))))))))))))))))","v":"----"},{"$f":"IF(Options!$B$9=1,'Daten A4'!$E$8,IF(Options!$B$9=2,'Daten A4'!$E$14,IF(Options!$B$9=3,'Daten A4'!$E$20,IF(Options!$B$9=4,'Daten A4'!$E$26,IF(Options!$B$9=5,'Daten A4'!$E$32,IF(Options!$B$9=6,'Daten A4'!$E$38,IF(Options!$B$9=7,'Daten A4'!$E$44,IF(Options!$B$9=8,'Daten A4'!$E$50,IF(Options!$B$9=9,'Daten A4'!$E$56,IF(Options!$B$9=10,'Daten A4'!$E$62,IF(Options!$B$9=11,'Daten A4'!$E$68,IF(Options!$B$9=12,'Daten A4'!$E$74,IF(Options!$B$9=13,'Daten A4'!$E$80,IF(Options!$B$9=14,'Daten A4'!$E$86,IF(Options!$B$9=15,'Daten A4'!$E$92,IF(Options!$B$9=16,'Daten A4'!$E$98,IF(Options!$B$9=17,'Daten A4'!$E$104,IF(Options!$B$9=18,'Daten A4'!$E$110,IF(Options!$B$9=19,'Daten A4'!T15,IF(Options!$B$9=20,'Daten A4'!T21,IF(Options!$B$9=21,'Daten A4'!T27,IF(Options!$B$9=22,'Daten A4'!T33,IF(Options!$B$9=23,'Daten A4'!T39,IF(Options!$B$9=24,'Daten A4'!T45,))))))))))))))))))))))))","v":"0%"},{"$f":"IF(Options!$B$9=1,'Daten A4'!$F$8,IF(Options!$B$9=2,'Daten A4'!$F$14,IF(Options!$B$9=3,'Daten A4'!$F$20,IF(Options!$B$9=4,'Daten A4'!$F$26,IF(Options!$B$9=5,'Daten A4'!$F$32,IF(Options!$B$9=6,'Daten A4'!$F$38,IF(Options!$B$9=7,'Daten A4'!$F$44,IF(Options!$B$9=8,'Daten A4'!$F$50,IF(Options!$B$9=9,'Daten A4'!$F$56,IF(Options!$B$9=10,'Daten A4'!$F$62,IF(Options!$B$9=11,'Daten A4'!$F$68,IF(Options!$B$9=12,'Daten A4'!$F$74,IF(Options!$B$9=13,'Daten A4'!$F$80,IF(Options!$B$9=14,'Daten A4'!$F$86,IF(Options!$B$9=15,'Daten A4'!$F$92,IF(Options!$B$9=16,'Daten A4'!$F$98,IF(Options!$B$9=17,'Daten A4'!$F$104,IF(Options!$B$9=18,'Daten A4'!$F$110,IF(Options!$B$9=19,'Daten A4'!U15,IF(Options!$B$9=20,'Daten A4'!U21,IF(Options!$B$9=21,'Daten A4'!U27,IF(Options!$B$9=22,'Daten A4'!U33,IF(Options!$B$9=23,'Daten A4'!U39,IF(Options!$B$9=24,'Daten A4'!U45,))))))))))))))))))))))))","v":"----"},{"$f":"IF(Options!$B$9=1,'Daten A4'!$G$8,IF(Options!$B$9=2,'Daten A4'!$G$14,IF(Options!$B$9=3,'Daten A4'!$G$20,IF(Options!$B$9=4,'Daten A4'!$G$26,IF(Options!$B$9=5,'Daten A4'!$G$32,IF(Options!$B$9=6,'Daten A4'!$G$38,IF(Options!$B$9=7,'Daten A4'!$G$44,IF(Options!$B$9=8,'Daten A4'!$G$50,IF(Options!$B$9=9,'Daten A4'!$G$56,IF(Options!$B$9=10,'Daten A4'!$G$62,IF(Options!$B$9=11,'Daten A4'!$G$68,IF(Options!$B$9=12,'Daten A4'!$G$74,IF(Options!$B$9=13,'Daten A4'!$G$80,IF(Options!$B$9=14,'Daten A4'!$G$86,IF(Options!$B$9=15,'Daten A4'!$G$92,IF(Options!$B$9=16,'Daten A4'!$G$98,IF(Options!$B$9=17,'Daten A4'!$G$104,IF(Options!$B$9=18,'Daten A4'!$G$110,IF(Options!$B$9=19,'Daten A4'!V15,IF(Options!$B$9=20,'Daten A4'!V21,IF(Options!$B$9=21,'Daten A4'!V27,IF(Options!$B$9=22,'Daten A4'!V33,IF(Options!$B$9=23,'Daten A4'!V39,IF(Options!$B$9=24,'Daten A4'!V45,))))))))))))))))))))))))","v":"0%"},{"$f":"IF(Options!$B$9=1,'Daten A4'!$H$8,IF(Options!$B$9=2,'Daten A4'!$H$14,IF(Options!$B$9=3,'Daten A4'!$H$20,IF(Options!$B$9=4,'Daten A4'!$H$26,IF(Options!$B$9=5,'Daten A4'!$H$32,IF(Options!$B$9=6,'Daten A4'!$H$38,IF(Options!$B$9=7,'Daten A4'!$H$44,IF(Options!$B$9=8,'Daten A4'!$H$50,IF(Options!$B$9=9,'Daten A4'!$H$56,IF(Options!$B$9=10,'Daten A4'!$H$62,IF(Options!$B$9=11,'Daten A4'!$H$68,IF(Options!$B$9=12,'Daten A4'!$H$74,IF(Options!$B$9=13,'Daten A4'!$H$80,IF(Options!$B$9=14,'Daten A4'!$H$86,IF(Options!$B$9=15,'Daten A4'!$H$92,IF(Options!$B$9=16,'Daten A4'!$H$98,IF(Options!$B$9=17,'Daten A4'!$H$104,IF(Options!$B$9=18,'Daten A4'!$H$110,IF(Options!$B$9=19,'Daten A4'!W15,IF(Options!$B$9=20,'Daten A4'!W21,IF(Options!$B$9=21,'Daten A4'!W27,IF(Options!$B$9=22,'Daten A4'!W33,IF(Options!$B$9=23,'Daten A4'!W39,IF(Options!$B$9=24,'Daten A4'!W45,))))))))))))))))))))))))","v":"----"},{"$f":"IF(Options!$B$9=1,'Daten A4'!$I$8,IF(Options!$B$9=2,'Daten A4'!$I$14,IF(Options!$B$9=3,'Daten A4'!$I$20,IF(Options!$B$9=4,'Daten A4'!$I$26,IF(Options!$B$9=5,'Daten A4'!$I$32,IF(Options!$B$9=6,'Daten A4'!$I$38,IF(Options!$B$9=7,'Daten A4'!$I$44,IF(Options!$B$9=8,'Daten A4'!$I$50,IF(Options!$B$9=9,'Daten A4'!$I$56,IF(Options!$B$9=10,'Daten A4'!$I$62,IF(Options!$B$9=11,'Daten A4'!$I$68,IF(Options!$B$9=12,'Daten A4'!$I$74,IF(Options!$B$9=13,'Daten A4'!$I$80,IF(Options!$B$9=14,'Daten A4'!$I$86,IF(Options!$B$9=15,'Daten A4'!$I$92,IF(Options!$B$9=16,'Daten A4'!$I$98,IF(Options!$B$9=17,'Daten A4'!$I$104,IF(Options!$B$9=18,'Daten A4'!$I$110,IF(Options!$B$9=19,'Daten A4'!X15,IF(Options!$B$9=20,'Daten A4'!X21,IF(Options!$B$9=21,'Daten A4'!X27,IF(Options!$B$9=22,'Daten A4'!X33,IF(Options!$B$9=23,'Daten A4'!X39,IF(Options!$B$9=24,'Daten A4'!X45,))))))))))))))))))))))))","v":"100%"},{"$f":"IF(Options!$B$9=1,'Daten A4'!$J$8,IF(Options!$B$9=2,'Daten A4'!$J$14,IF(Options!$B$9=3,'Daten A4'!$J$20,IF(Options!$B$9=4,'Daten A4'!$J$26,IF(Options!$B$9=5,'Daten A4'!$J$32,IF(Options!$B$9=6,'Daten A4'!$J$38,IF(Options!$B$9=7,'Daten A4'!$J$44,IF(Options!$B$9=8,'Daten A4'!$J$50,IF(Options!$B$9=9,'Daten A4'!$J$56,IF(Options!$B$9=10,'Daten A4'!$J$62,IF(Options!$B$9=11,'Daten A4'!$J$68,IF(Options!$B$9=12,'Daten A4'!$J$74,IF(Options!$B$9=13,'Daten A4'!$J$80,IF(Options!$B$9=14,'Daten A4'!$J$86,IF(Options!$B$9=15,'Daten A4'!$J$92,IF(Options!$B$9=16,'Daten A4'!$J$98,IF(Options!$B$9=17,'Daten A4'!$J$104,IF(Options!$B$9=18,'Daten A4'!$J$110,IF(Options!$B$9=19,'Daten A4'!Y15,IF(Options!$B$9=20,'Daten A4'!Y21,IF(Options!$B$9=21,'Daten A4'!Y27,IF(Options!$B$9=22,'Daten A4'!Y33,IF(Options!$B$9=23,'Daten A4'!Y39,IF(Options!$B$9=24,'Daten A4'!Y45,))))))))))))))))))))))))","v":"100%"},{"$f":"IF(Options!$B$9=1,'Daten A4'!$K$8,IF(Options!$B$9=2,'Daten A4'!$K$14,IF(Options!$B$9=3,'Daten A4'!$K$20,IF(Options!$B$9=4,'Daten A4'!$K$26,IF(Options!$B$9=5,'Daten A4'!$K$32,IF(Options!$B$9=6,'Daten A4'!$K$38,IF(Options!$B$9=7,'Daten A4'!$K$44,IF(Options!$B$9=8,'Daten A4'!$K$50,IF(Options!$B$9=9,'Daten A4'!$K$56,IF(Options!$B$9=10,'Daten A4'!$K$62,IF(Options!$B$9=11,'Daten A4'!$K$68,IF(Options!$B$9=12,'Daten A4'!$K$74,IF(Options!$B$9=13,'Daten A4'!$K$80,IF(Options!$B$9=14,'Daten A4'!$K$86,IF(Options!$B$9=15,'Daten A4'!$K$92,IF(Options!$B$9=16,'Daten A4'!$K$98,IF(Options!$B$9=17,'Daten A4'!$K$104,IF(Options!$B$9=18,'Daten A4'!$K$110,IF(Options!$B$9=19,'Daten A4'!Z15,IF(Options!$B$9=20,'Daten A4'!Z21,IF(Options!$B$9=21,'Daten A4'!Z27,IF(Options!$B$9=22,'Daten A4'!Z33,IF(Options!$B$9=23,'Daten A4'!Z39,IF(Options!$B$9=24,'Daten A4'!Z45,))))))))))))))))))))))))","v":"100%"},{"$f":"IF(Options!$B$9=1,'Daten A4'!$L$8,IF(Options!$B$9=2,'Daten A4'!$L$14,IF(Options!$B$9=3,'Daten A4'!$L$20,IF(Options!$B$9=4,'Daten A4'!$L$26,IF(Options!$B$9=5,'Daten A4'!$L$32,IF(Options!$B$9=6,'Daten A4'!$L$38,IF(Options!$B$9=7,'Daten A4'!$L$44,IF(Options!$B$9=8,'Daten A4'!$L$50,IF(Options!$B$9=9,'Daten A4'!$L$56,IF(Options!$B$9=10,'Daten A4'!$L$62,IF(Options!$B$9=11,'Daten A4'!$L$68,IF(Options!$B$9=12,'Daten A4'!$L$74,IF(Options!$B$9=13,'Daten A4'!$L$80,IF(Options!$B$9=14,'Daten A4'!$L$86,IF(Options!$B$9=15,'Daten A4'!$L$92,IF(Options!$B$9=16,'Daten A4'!$L$98,IF(Options!$B$9=17,'Daten A4'!$L$104,IF(Options!$B$9=18,'Daten A4'!$L$110,IF(Options!$B$9=19,'Daten A4'!AA15,IF(Options!$B$9=20,'Daten A4'!AA21,IF(Options!$B$9=21,'Daten A4'!AA27,IF(Options!$B$9=22,'Daten A4'!AA33,IF(Options!$B$9=23,'Daten A4'!AA39,IF(Options!$B$9=24,'Daten A4'!AA45,))))))))))))))))))))))))","v":"100%"},{"$f":"IF(Options!$B$9=1,'Daten A4'!$M$8,IF(Options!$B$9=2,'Daten A4'!$M$14,IF(Options!$B$9=3,'Daten A4'!$M$20,IF(Options!$B$9=4,'Daten A4'!$M$26,IF(Options!$B$9=5,'Daten A4'!$M$32,IF(Options!$B$9=6,'Daten A4'!$M$38,IF(Options!$B$9=7,'Daten A4'!$M$44,IF(Options!$B$9=8,'Daten A4'!$M$50,IF(Options!$B$9=9,'Daten A4'!$M$56,IF(Options!$B$9=10,'Daten A4'!$M$62,IF(Options!$B$9=11,'Daten A4'!$M$68,IF(Options!$B$9=12,'Daten A4'!$M$74,IF(Options!$B$9=13,'Daten A4'!$M$80,IF(Options!$B$9=14,'Daten A4'!$M$86,IF(Options!$B$9=15,'Daten A4'!$M$92,IF(Options!$B$9=16,'Daten A4'!$M$98,IF(Options!$B$9=17,'Daten A4'!$M$104,IF(Options!$B$9=18,'Daten A4'!$M$110,IF(Options!$B$9=19,'Daten A4'!AB15,IF(Options!$B$9=20,'Daten A4'!AB21,IF(Options!$B$9=21,'Daten A4'!AB27,IF(Options!$B$9=22,'Daten A4'!AB33,IF(Options!$B$9=23,'Daten A4'!AB39,IF(Options!$B$9=24,'Daten A4'!AB45,))))))))))))))))))))))))","v":"0%"},{"$f":"IF(Options!$B$9=1,'Daten A4'!$N$8,IF(Options!$B$9=2,'Daten A4'!$N$14,IF(Options!$B$9=3,'Daten A4'!$N$20,IF(Options!$B$9=4,'Daten A4'!$N$26,IF(Options!$B$9=5,'Daten A4'!$N$32,IF(Options!$B$9=6,'Daten A4'!$N$38,IF(Options!$B$9=7,'Daten A4'!$N$44,IF(Options!$B$9=8,'Daten A4'!$N$50,IF(Options!$B$9=9,'Daten A4'!$N$56,IF(Options!$B$9=10,'Daten A4'!$N$62,IF(Options!$B$9=11,'Daten A4'!$N$68,IF(Options!$B$9=12,'Daten A4'!$N$74,IF(Options!$B$9=13,'Daten A4'!$N$80,IF(Options!$B$9=14,'Daten A4'!$N$86,IF(Options!$B$9=15,'Daten A4'!$N$92,IF(Options!$B$9=16,'Daten A4'!$N$98,IF(Options!$B$9=17,'Daten A4'!$N$104,IF(Options!$B$9=18,'Daten A4'!$N$110,IF(Options!$B$9=19,'Daten A4'!AC15,IF(Options!$B$9=20,'Daten A4'!AC21,IF(Options!$B$9=21,'Daten A4'!AC27,IF(Options!$B$9=22,'Daten A4'!AC33,IF(Options!$B$9=23,'Daten A4'!AC39,IF(Options!$B$9=24,'Daten A4'!AC45,))))))))))))))))))))))))","v":"50%"}]
[null,null,null,null,null,null,null,null,{"$f":"IF($BA$35=\"x\",BE33,\"\")","v":0},null,null,{"$f":"IF($BA$35=\"x\",BB33,\"\")","v":0.90909090909090906},null,null,null,null,null,null,null,{"$f":"IF($BA$35=\"x\",BE32,\"\")","v":0},null,null,{"$f":"IF($BA$35=\"x\",BB32,\"\")","v":0.2857142857142857},null,null,null,null,null,null,null,{"$f":"IF($BA$35=\"x\",BE31,\"\")","v":0},null,null,{"$f":"IF($BA$35=\"x\",BB31,\"\")","v":0.83333333333333337}]
[null,null,null,null,null,null,null,null,null,{"$f":"IF($BA$35=\"x\",BC33,\"\")","v":0},null,null,{"$f":"IF($BA$35=\"x\",BD33,\"\")","v":9.0909090909090912E-2},null,null,null,null,null,null,null,{"$f":"IF($BA$35=\"x\",BC32,\"\")","v":0.7142857142857143},null,null,{"$f":"IF($BA$35=\"x\",BD32,\"\")","v":0},null,null,null,null,null,null,null,{"$f":"IF($BA$35=\"x\",BC31,\"\")","v":0},null,null,{"$f":"IF($BA$35=\"x\",BD31,\"\")","v":0.16666666666666666}]
[]
[]
[]
[]
[null,null,null,null,null,null,null,null,"S2",null,null,null,null,null,null,null,null,null,null,"S3",null,null,null,null,null,null,null,null,null,null,"S4",null,null,null,null,null,null,null,null,null,null,null,null,"S2"]

{"sheet":"Matchplan T","index":3,"n_rows":45,"n_cols":69,"rows_kept":45,"cut":false,"hidden":false,"merged":[[2,57,2,66],[3,47,3,52],[1,1,1,31],[1,47,1,52],[2,47,2,52],[8,1,8,3],[8,4,8,6],[8,12,8,14],[8,15,8,17],[8,23,8,25],[8,26,8,28],[9,1,9,3],[9,4,9,6],[9,12,9,14],[9,15,9,17],[9,23,9,25],[9,26,9,28],[12,57,12,66],[13,1,13,3],[13,4,13,6],[13,7,13,9],[13,12,13,14],[13,15,13,17],[13,18,13,20],[13,23,13,25],[13,26,13,28],[13,29,13,31],[14,29,14,31],[16,1,16,2],[16,4,16,5],[16,12,16,13],[16,15,16,16],[16,23,16,24],[16,26,16,27],[14,1,14,3],[14,4,14,6],[14,7,14,9],[14,12,14,14],[14,15,14,17],[14,18,14,20],[14,23,14,25],[14,26,14,28],[17,2,17,3],[17,5,17,6],[17,13,17,14],[17,16,17,17],[17,24,17,25],[17,27,17,28],[21,1,21,9],[21,12,21,20],[21,23,21,31],[22,1,22,9],[22,12,22,20],[22,23,22,31],[20,1,20,9],[20,12,20,20],[20,23,20,31],[25,63,25,64],[25,65,25,66],[25,67,25,68],[24,55,24,61],[25,55,25,56],[25,57,25,58],[25,59,25,60],[25,61,25,62],[30,15,30,17],[30,23,30,25],[30,26,30,28],[30,55,30,56],[26,55,26,56],[27,55,27,56],[28,55,28,56],[29,55,29,56],[31,1,31,3],[31,4,31,6],[31,12,31,14],[31,15,31,17],[31,23,31,25],[31,26,31,28],[30,1,30,3],[30,4,30,6],[30,12,30,14],[31,55,31,61],[32,65,32,66],[32,67,32,68],[33,55,33,56],[34,55,34,56],[35,1,35,3],[35,4,35,6],[35,7,35,9],[35,12,35,14],[35,15,35,17],[35,18,35,20],[32,55,32,56],[32,57,32,58],[32,59,32,60],[32,61,32,62],[32,63,32,64],[36,55,36,56],[37,55,37,56],[38,1,38,2],[38,4,38,5],[38,12,38,13],[38,15,38,16],[38,23,38,24],[35,23,35,25],[35,26,35,28],[35,29,35,31],[35,55,35,56],[36,1,36,3],[36,4,36,6],[36,7,36,9],[36,12,36,14],[36,15,36,17],[36,18,36,20],[38,26,38,27],[39,2,39,3],[39,5,39,6],[39,13,39,14],[39,16,39,17],[39,24,39,25],[39,27,39,28],[36,23,36,25],[36,26,36,28],[44,1,44,9],[44,12,44,20],[44,23,44,31],[36,29,36,31],[42,1,42,9],[42,12,42,20],[42,23,42,31],[43,1,43,9],[43,12,43,20],[43,23,43,31]]}
[]
[null,{"$f":"Options!B1&\"     \"&AV3&\" - \"&TEXT(AV4,\"tt.MM.jjjj\")","v":"KOREA      - "},null,null,null,null,null,null,null,null,null,null,null,null,null,null,null,null,null,null,null,null,null,null,null,null,null,null,null,null,null,null,null,null,null,null,null,null,null,null,null,null,null,null,null,null,null,{"$f":"Options!B1","v":"KOREA"}]
[null,null,null,null,null,null,null,null,null,null,null,null,null,null,null,null,null,null,null,null,null,null,null,null,null,null,null,null,null,null,null,null,null,null,null,null,null,null,null,null,null,null,null,null,null,null,null,{"$f":"IF(Options!D3=\"\",\"\",Options!D3)","v":""}]
[null,null,null,null,null,null,null,null,null,null,null,null,null,null,null,null,null,null,null,null,null,null,null,null,null,null,null,null,null,null,null,null,null,null,null,null,null,null,null,null,null,null,null,null,null,null,null,{"$f":"IF(Options!D2=\"\",\"\",Options!D2)","v":""}]
[]
[null,null,null,null,null,null,null,null,null,null,null,null,null,null,null,null,null,null,null,null,null,null,null,null,null,null,null,null,null,null,null,null,null,null,null,null,null,null,null,null,null,null,null,null,null,null,null,"LineUp:"]
[null,null,null,null,null,null,null,null,null,null,null,null,null,null,null,null,null,null,null,null,null,null,null,null,null,null,null,null,null,null,null,null,null,null,null,null,null,null,null,null,null,null,null,null,null,null,null,"Pos 1","Pos 2","Pos 3","Pos 4","Pos 5","Pos 6","L"]
[null,null,null,null,null,null,null,null,null,null,null,null,null,null,null,null,null,null,null,null,null,null,null,null,null,null,null,null,null,null,null,null,null,null,null,null,null,null,null,null,null,null,null,null,null,null,"1.",{"$f":"IF(Options!B9=\"\",\"\",TEXT(Options!B9,\"##\"))","v":"6"},{"$f":"IF(Options!C9=\"\",\"\",TEXT(Options!C9,\"##\"))","v":"1"},{"$f":"IF(Options!D9=\"\",\"\",TEXT(Options!D9,\"##\"))","v":"11"},{"$f":"IF(Options!E9=\"\",\"\",TEXT(Options!E9,\"##\"))","v":"17"},{"$f":"IF(Options!F9=\"\",\"\",TEXT(Options!F9,\"##\"))","v":"9"},{"$f":"IF(Options!G9=\"\",\"\",TEXT(Options!G9,\"##\"))","v":"4"},{"$f":"IF(Options!H9=\"\",\"\",TEXT(Options!H9,\"##\"))","v":"19"}]
[null,{"$f":"IF(OR(BF31=0,BG31=0),\"\",CONCATENATE(BF31,$BD$26,BG31))","v":""},null,null,{"$f":"IF(OR(BF30=0,BG30=0),\"\",CONCATENATE(BF30,$BD$26,BG30))","v":""},null,null,null,null,null,null,null,{"$f":"IF(OR(BH31=0,BI31=0),\"\",CONCATENATE(BH31,$BD$26,BI31))","v":""},null,null,{"$f":"IF(OR(BF30=0,BG30=0),\"\",CONCATENATE(BF30,$BD$26,BG30))","v":""},null,null,null,null,null,null,null,{"$f":"IF(OR(BJ31=0,BK31=0),\"\",CONCATENATE(BJ31,$BD$26,BK31))","v":""},null,null,{"$f":"IF(OR(BJ30=0,BK30=0),\"\",CONCATENATE(BJ30,$BD$26,BK30))","v":"20% / 1"},null,null,null,null,null,null,null,null,null,null,null,null,null,null,null,null,null,null,null,"2.",{"$f":"IF(Options!B10=\"\",\"\",TEXT(Options!B10,\"##\"))","v":"22"},{"$f":"IF(Options!C10=\"\",\"\",TEXT(Options!C10,\"##\"))","v":""},{"$f":"IF(Options!D10=\"\",\"\",TEXT(Options!D10,\"##\"))","v":"8"},{"$f":"IF(Options!E10=\"\",\"\",TEXT(Options!E10,\"##\"))","v":""},{"$f":"IF(Options!F10=\"\",\"\",TEXT(Options!F10,\"##\"))","v":"14"},{"$f":"IF(Options!G10=\"\",\"\",TEXT(Options!G10,\"##\"))","v":""},{"$f":"IF(Options!H10=\"\",\"\",TEXT(Options!H10,\"##\"))","v":"25"}]
[null,{"$f":"IF(OR(BF31=0,BG31=0),\"\",CONCATENATE(BF38,$BD$26,BG38))","v":""},null,null,{"$f":"IF(OR(BF30=0,BG30=0),\"\",CONCATENATE(BF37,$BD$26,BG37))","v":""},null,null,null,null,null,null,null,{"$f":"IF(OR(BH31=0,BI31=0),\"\",CONCATENATE(BH38,$BD$26,BI38))","v":""},null,null,{"$f":"IF(OR(BF30=0,BG30=0),\"\",CONCATENATE(BF31,$BD$26,BG31))","v":""},null,null,null,null,null,null,null,{"$f":"IF(OR(BJ31=0,BK31=0),\"\",CONCATENATE(BJ38,$BD$26,BK38))","v":""},null,null,{"$f":"IF(OR(BJ30=0,BK30=0),\"\",CONCATENATE(BJ37,$BD$26,BK37))","v":"100% / 100%"},null,null,null,null,null,null,null,null,null,null,null,null,null,null,null,null,null,null,null,"∑",{"$f":"IF(Options!B11=\"\",\"\",Options!B11)","v":"6/22"},{"$f":"IF(Options!C11=\"\",\"\",Options!C11)","v":1},{"$f":"IF(Options!D11=\"\",\"\",Options!D11)","v":"11/8"},{"$f":"IF(Options!E11=\"\",\"\",Options!E11)","v":17},{"$f":"IF(Options!F11=\"\",\"\",Options!F11)","v":"9/14"},{"$f":"IF(Options!G11=\"\",\"\",Options!G11)","v":4},{"$f":"IF(Options!H11=\"\",\"\",Options!H11)","v":"19/25"}]
[]
[]
[]
[null,{"$f":"IF(OR(BF27=0,BG27=0),\"\",CONCATENATE(BF27,$BD$26,BG27))","v":""},null,null,{"$f":"IF(OR(BF28=0,BG28=0),\"\",CONCATENATE(BF28,$BD$26,BG28))","v":""},null,null,{"$f":"IF(OR(BF29=0,BG29=0),\"\",CONCATENATE(BF29,$BD$26,BG29))","v":"100% / 4"},null,null,null,null,{"$f":"IF(OR(BH27=0,BI27=0),\"\",CONCATENATE(BH27,$BD$26,BI27))","v":"50% / 2"},null,null,{"$f":"IF(OR(BH28=0,BI28=0),\"\",CONCATENATE(BH28,$BD$26,BI28))","v":"25% / 1"},null,null,{"$f":"IF(OR(BH29=0,BI29=0),\"\",CONCATENATE(BH29,$BD$26,BI29))","v":"25% / 1"},null,null,null,null,{"$f":"IF(OR(BJ27=0,BK27=0),\"\",CONCATENATE(BJ27,$BD$26,BK27))","v":"40% / 2"},null,null,{"$f":"IF(OR(BJ28=0,BK28=0),\"\",CONCATENATE(BJ28,$BD$26,BK28))","v":""},null,null,{"$f":"IF(OR(BJ29=0,BK29=0),\"\",CONCATENATE(BJ29,$BD$26,BK29))","v":"40% / 2"}]
[null,{"$f":"IF(OR(BF27=0,BG27=0),\"\",CONCATENATE(BF34,$BD$26,BG34))","v":""},null,null,{"$f":"IF(OR(BF28=0,BG28=0),\"\",CONCATENATE(BF35,$BD$26,BG35))","v":""},null,null,{"$f":"IF(OR(BF29=0,BG29=0),\"\",CONCATENATE(BF36,$BD$26,BG36))","v":"-25% / 25%"},null,null,null,null,{"$f":"IF(OR(BH27=0,BI27=0),\"\",CONCATENATE(BH34,$BD$26,BI34))","v":"-100% / 0%"},null,null,{"$f":"IF(OR(BH28=0,BI28=0),\"\",CONCATENATE(BH35,$BD$26,BI35))","v":"100% / 100%"},null,null,{"$f":"IF(OR(BH29=0,BI29=0),\"\",CONCATENATE(BH36,$BD$26,BI36))","v":"-100% / 0%"},null,null,null,null,{"$f":"IF(OR(BJ27=0,BK27=0),\"\",CONCATENATE(BJ34,$BD$26,BK34))","v":"100% / 100%"},null,null,{"$f":"IF(OR(BJ28=0,BK28=0),\"\",CONCATENATE(BJ35,$BD$26,BK35))","v":""},null,null,{"$f":"IF(OR(BJ29=0,BK29=0),\"\",CONCATENATE(BJ36,$BD$26,BK36))","v":"50% / 50%"}]
[]
[null,{"$f":"IF($AW$35=\"x\",BA28,\"\")","v":""},null,null,{"$f":"IF($AW$35=\"x\",AX28,\"\")","v":""},null,null,null,null,null,null,null,{"$f":"IF($AW$35=\"x\",BA29,\"\")","v":""},null,null,{"$f":"IF($AW$35=\"x\",AX29,\"\")","v":""},null,null,null,null,null,null,null,{"$f":"IF($AW$35=\"x\",BA30,\"\")","v":""},null,null,{"$f":"IF($AW$35=\"x\",AX30,\"\")","v":""},null,null,null,null,null,null,null,null,null,null,null,null,null,null,null,null,null,null,null,null,null,"∑ K","K1","K2","K7","KD"]
[null,null,{"$f":"IF($AW$35=\"x\",AY28,\"\")","v":""},null,null,{"$f":"IF($AW$35=\"x\",AZ28,\"\")","v":""},null,null,null,null,null,null,null,{"$f":"IF($AW$35=\"x\",AY29,\"\")","v":""},null,null,{"$f":"IF($AW$35=\"x\",AZ29,\"\")","v":""},null,null,null,null,null,null,null,{"$f":"IF($AW$35=\"x\",AY30,\"\")","v":""},null,null,{"$f":"IF($AW$35=\"x\",AZ30,\"\")","v":""},null,null,null,null,null,null,null,null,null,null,null,null,null,null,null,null,null,null,null,"S1",{"$f":"SUM(AX18:BB18)","v":0},{"$f":"'Daten AfR'!D9","v":0},{"$f":"'Daten AfR'!E9","v":0},{"$f":"'Daten AfR'!F9","v":0},{"$f":"'Daten AfR'!G9","v":0},{"$f":"'Daten AfR'!H9","v":0}]
[null,null,null,null,null,null,null,null,null,null,null,null,null,null,null,null,null,null,null,null,null,null,null,null,null,null,null,null,null,null,null,null,null,null,null,null,null,null,null,null,null,null,null,null,null,null,null,"S6",{"$f":"SUM(AX19:BB19)","v":0},{"$f":"'Daten AfR'!D10","v":0},{"$f":"'Daten AfR'!E10","v":0},{"$f":"'Daten AfR'!F10","v":0},{"$f":"'Daten AfR'!G10","v":0},{"$f":"'Daten AfR'!H10","v":0}]
[null,null,null,null,null,null,null,null,null,null,null,null,null,null,null,null,null,null,null,null,null,null,null,null,null,null,null,null,null,null,null,null,null,null,null,null,null,null,null,null,null,null,null,null,null,null,null,"S5",0,{"$f":"'Daten AfR'!D11","v":0},{"$f":"'Daten AfR'!E11","v":0},{"$f":"'Daten AfR'!F11","v":0},{"$f":"'Daten AfR'!G11","v":0},{"$f":"'Daten AfR'!H11","v":0}]
[null,null,null,null,null,null,null,null,null,null,null,null,null,null,null,null,null,null,null,null,null,null,null,null,null,null,null,null,null,null,null,null,null,null,null,null,null,null,null,null,null,null,null,null,null,null,null,"S4",0,{"$f":"'Daten AfR'!D12","v":0},{"$f":"'Daten AfR'!E12","v":0},{"$f":"'Daten AfR'!F12","v":0},{"$f":"'Daten AfR'!G12","v":0},{"$f":"'Daten AfR'!H12","v":0}]
[null,null,null,null,null,null,null,null,null,null,null,null,null,null,null,null,null,null,null,null,null,null,null,null,null,null,null,null,null,null,null,null,null,null,null,null,null,null,null,null,null,null,null,null,null,null,null,"S3",0,{"$f":"'Daten AfR'!D13","v":0},{"$f":"'Daten AfR'!E13","v":0},{"$f":"'Daten AfR'!F13","v":0},{"$f":"'Daten AfR'!G13","v":0},{"$f":"'Daten AfR'!H13","v":0}]
[null,"S1",null,null,null,null,null,null,null,null,null,null,"S6",null,null,null,null,null,null,null,null,null,null,"S5",null,null,null,null,null,null,null,null,null,null,null,null,null,null,null,null,null,null,null,null,null,null,null,"S2",0,{"$f":"'Daten AfR'!D14","v":0},{"$f":"'Daten AfR'!E14","v":0},{"$f":"'Daten AfR'!F14","v":0},{"$f":"'Daten AfR'!G14","v":0},{"$f":"'Daten AfR'!H14","v":0}]
[]
[null,null,null,null,null,null,null,null,null,null,null,null,null,null,null,null,null,null,null,null,null,null,null,null,null,null,null,null,null,null,null,null,null,null,null,null,null,null,null,null,null,null,null,null,null,null,null,null,null,null,null,null,null,null,null,"Distribution in rot by setter"]
[null,null,null,null,null,null,null,null,null,null,null,null,null,null,null,null,null,null,null,null,null,null,null,null,null,null,null,null,null,null,null,null,null,null,null,null,null,null,null,null,null,null,null,null,null,null,null,null,null,null,null,null,null,null,null," / ",null,"S 1",null,"S 6",null,"S 5",null,"S 4",null,"S 3",null,"S 2"]
[null,null,null,null,null,null,null,null,null,null,null,null,null,null,null,null,null,null,null,null,null,null,null,null,null,null,null,null,null,null,null,null,null,null,null,null,null,null,null,null,null,null,null,null,null,null,null,null,null,"K1","K2","K7","KD",null,null,"Pos 2",null,{"$f":"IF(Options!$B$9=1,'Daten A5'!$C$4,IF(Options!$B$9=2,'Daten A5'!$C$10,IF(Options!$B$9=3,'Daten A5'!$C$16,IF(Options!$B$9=4,'Daten A5'!$C$22,IF(Options!$B$9=5,'Daten A5'!$C$28,IF(Options!$B$9=6,'Daten A5'!$C$34,IF(Options!$B$9=7,'Daten A5'!$C$40,IF(Options!$B$9=8,'Daten A5'!$C$46,IF(Options!$B$9=9,'Daten A5'!$C$52,IF(Options!$B$9=10,'Daten A5'!$C$58,IF(Options!$B$9=11,'Daten A5'!$C$64,IF(Options!$B$9=12,'Daten A5'!$C$70,IF(Options!$B$9=13,'Daten A5'!$C$76,IF(Options!$B$9=14,'Daten A5'!$C$82,IF(Options!$B$9=15,'Daten A5'!$C$88,IF(Options!$B$9=16,'Daten A5'!$C$94,IF(Options!$B$9=17,'Daten A5'!$C$100,IF(Options!$B$9=18,'Daten A5'!$C$106,IF(Options!$B$9=19,'Daten A5'!R4,IF(Options!$B$9=20,'Daten A5'!R10,IF(Options!$B$9=21,'Daten A5'!R16,IF(Options!$B$9=22,'Daten A5'!R22,IF(Options!$B$9=23,'Daten A5'!R28,IF(Options!$B$9=24,'Daten A5'!R34,))))))))))))))))))))))))","v":"0%"},{"$f":"IF(Options!$B$9=1,'Daten A5'!$D$4,IF(Options!$B$9=2,'Daten A5'!$D$10,IF(Options!$B$9=3,'Daten A5'!$D$16,IF(Options!$B$9=4,'Daten A5'!$D$22,IF(Options!$B$9=5,'Daten A5'!$D$28,IF(Options!$B$9=6,'Daten A5'!$D$34,IF(Options!$B$9=7,'Daten A5'!$D$40,IF(Options!$B$9=8,'Daten A5'!$D$46,IF(Options!$B$9=9,'Daten A5'!$D$52,IF(Options!$B$9=10,'Daten A5'!$D$58,IF(Options!$B$9=11,'Daten A5'!$D$64,IF(Options!$B$9=12,'Daten A5'!$D$70,IF(Options!$B$9=13,'Daten A5'!$D$76,IF(Options!$B$9=14,'Daten A5'!$D$82,IF(Options!$B$9=15,'Daten A5'!$D$88,IF(Options!$B$9=16,'Daten A5'!$D$94,IF(Options!$B$9=17,'Daten A5'!$D$100,IF(Options!$B$9=18,'Daten A5'!$D$106,IF(Options!$B$9=19,'Daten A5'!S4,IF(Options!$B$9=20,'Daten A5'!S10,IF(Options!$B$9=21,'Daten A5'!S16,IF(Options!$B$9=22,'Daten A5'!S22,IF(Options!$B$9=23,'Daten A5'!S28,IF(Options!$B$9=24,'Daten A5'!S34,))))))))))))))))))))))))","v":0},{"$f":"IF(Options!$B$9=1,'Daten A5'!$E$4,IF(Options!$B$9=2,'Daten A5'!$E$10,IF(Options!$B$9=3,'Daten A5'!$E$16,IF(Options!$B$9=4,'Daten A5'!$E$22,IF(Options!$B$9=5,'Daten A5'!$E$28,IF(Options!$B$9=6,'Daten A5'!$E$34,IF(Options!$B$9=7,'Daten A5'!$E$40,IF(Options!$B$9=8,'Daten A5'!$E$46,IF(Options!$B$9=9,'Daten A5'!$E$52,IF(Options!$B$9=10,'Daten A5'!$E$58,IF(Options!$B$9=11,'Daten A5'!$E$64,IF(Options!$B$9=12,'Daten A5'!$E$70,IF(Options!$B$9=13,'Daten A5'!$E$76,IF(Options!$B$9=14,'Daten A5'!$E$82,IF(Options!$B$9=15,'Daten A5'!$E$88,IF(Options!$B$9=16,'Daten A5'!$E$94,IF(Options!$B$9=17,'Daten A5'!$E$100,IF(Options!$B$9=18,'Daten A5'!$E$106,IF(Options!$B$9=19,'Daten A5'!T4,IF(Options!$B$9=20,'Daten A5'!T10,IF(Options!$B$9=21,'Daten A5'!T16,IF(Options!$B$9=22,'Daten A5'!T22,IF(Options!$B$9=23,'Daten A5'!T28,IF(Options!$B$9=24,'Daten A5'!T34,))))))))))))))))))))))))","v":"50%"},{"$f":"IF(Options!$B$9=1,'Daten A5'!$F$4,IF(Options!$B$9=2,'Daten A5'!$F$10,IF(Options!$B$9=3,'Daten A5'!$F$16,IF(Options!$B$9=4,'Daten A5'!$F$22,IF(Options!$B$9=5,'Daten A5'!$F$28,IF(Options!$B$9=6,'Daten A5'!$F$34,IF(Options!$B$9=7,'Daten A5'!$F$40,IF(Options!$B$9=8,'Daten A5'!$F$46,IF(Options!$B$9=9,'Daten A5'!$F$52,IF(Options!$B$9=10,'Daten A5'!$F$58,IF(Options!$B$9=11,'Daten A5'!$F$64,IF(Options!$B$9=12,'Daten A5'!$F$70,IF(Options!$B$9=13,'Daten A5'!$F$76,IF(Options!$B$9=14,'Daten A5'!$F$82,IF(Options!$B$9=15,'Daten A5'!$F$88,IF(Options!$B$9=16,'Daten A5'!$F$94,IF(Options!$B$9=17,'Daten A5'!$F$100,IF(Options!$B$9=18,'Daten A5'!$F$106,IF(Options!$B$9=19,'Daten A5'!U4,IF(Options!$B$9=20,'Daten A5'!U10,IF(Options!$B$9=21,'Daten A5'!U16,IF(Options!$B$9=22,'Daten A5'!U22,IF(Options!$B$9=23,'Daten A5'!U28,IF(Options!$B$9=24,'Daten A5'!U34,))))))))))))))))))))))))","v":2},{"$f":"IF(Options!$B$9=1,'Daten A5'!$G$4,IF(Options!$B$9=2,'Daten A5'!$G$10,IF(Options!$B$9=3,'Daten A5'!$G$16,IF(Options!$B$9=4,'Daten A5'!$G$22,IF(Options!$B$9=5,'Daten A5'!$G$28,IF(Options!$B$9=6,'Daten A5'!$G$34,IF(Options!$B$9=7,'Daten A5'!$G$40,IF(Options!$B$9=8,'Daten A5'!$G$46,IF(Options!$B$9=9,'Daten A5'!$G$52,IF(Options!$B$9=10,'Daten A5'!$G$58,IF(Options!$B$9=11,'Daten A5'!$G$64,IF(Options!$B$9=12,'Daten A5'!$G$70,IF(Options!$B$9=13,'Daten A5'!$G$76,IF(Options!$B$9=14,'Daten A5'!$G$82,IF(Options!$B$9=15,'Daten A5'!$G$88,IF(Options!$B$9=16,'Daten A5'!$G$94,IF(Options!$B$9=17,'Daten A5'!$G$100,IF(Options!$B$9=18,'Daten A5'!$G$106,IF(Options!$B$9=19,'Daten A5'!V4,IF(Options!$B$9=20,'Daten A5'!V10,IF(Options!$B$9=21,'Daten A5'!V16,IF(Options!$B$9=22,'Daten A5'!V22,IF(Options!$B$9=23,'Daten A5'!V28,IF(Options!$B$9=24,'Daten A5'!V34,))))))))))))))))))))))))","v":"40%"},{"$f":"IF(Options!$B$9=1,'Daten A5'!$H$4,IF(Options!$B$9=2,'Daten A5'!$H$10,IF(Options!$B$9=3,'Daten A5'!$H$16,IF(Options!$B$9=4,'Daten A5'!$H$22,IF(Options!$B$9=5,'Daten A5'!$H$28,IF(Options!$B$9=6,'Daten A5'!$H$34,IF(Options!$B$9=7,'Daten A5'!$H$40,IF(Options!$B$9=8,'Daten A5'!$H$46,IF(Options!$B$9=9,'Daten A5'!$H$52,IF(Options!$B$9=10,'Daten A5'!$H$58,IF(Options!$B$9=11,'Daten A5'!$H$64,IF(Options!$B$9=12,'Daten A5'!$H$70,IF(Options!$B$9=13,'Daten A5'!$H$76,IF(Options!$B$9=14,'Daten A5'!$H$82,IF(Options!$B$9=15,'Daten A5'!$H$88,IF(Options!$B$9=16,'Daten A5'!$H$94,IF(Options!$B$9=17,'Daten A5'!$H$100,IF(Options!$B$9=18,'Daten A5'!$H$106,IF(Options!$B$9=19,'Daten A5'!W4,IF(Options!$B$9=20,'Daten A5'!W10,IF(Options!$B$9=21,'Daten A5'!W16,IF(Options!$B$9=22,'Daten A5'!W22,IF(Options!$B$9=23,'Daten A5'!W28,IF(Options!$B$9=24,'Daten A5'!W34,))))))))))))))))))))))))","v":2},{"$f":"IF(Options!$B$9=1,'Daten A5'!$I$4,IF(Options!$B$9=2,'Daten A5'!$I$10,IF(Options!$B$9=3,'Daten A5'!$I$16,IF(Options!$B$9=4,'Daten A5'!$I$22,IF(Options!$B$9=5,'Daten A5'!$I$28,IF(Options!$B$9=6,'Daten A5'!$I$34,IF(Options!$B$9=7,'Daten A5'!$I$40,IF(Options!$B$9=8,'Daten A5'!$I$46,IF(Options!$B$9=9,'Daten A5'!$I$52,IF(Options!$B$9=10,'Daten A5'!$I$58,IF(Options!$B$9=11,'Daten A5'!$I$64,IF(Options!$B$9=12,'Daten A5'!$I$70,IF(Options!$B$9=13,'Daten A5'!$I$76,IF(Options!$B$9=14,'Daten A5'!$I$82,IF(Options!$B$9=15,'Daten A5'!$I$88,IF(Options!$B$9=16,'Daten A5'!$I$94,IF(Options!$B$9=17,'Daten A5'!$I$100,IF(Options!$B$9=18,'Daten A5'!$I$106,IF(Options!$B$9=19,'Daten A5'!X4,IF(Options!$B$9=20,'Daten A5'!X10,IF(Options!$B$9=21,'Daten A5'!X16,IF(Options!$B$9=22,'Daten A5'!X22,IF(Options!$B$9=23,'Daten A5'!X28,IF(Options!$B$9=24,'Daten A5'!X34,))))))))))))))))))))))))","v":"0%"},{"$f":"IF(Options!$B$9=1,'Daten A5'!$J$4,IF(Options!$B$9=2,'Daten A5'!$J$10,IF(Options!$B$9=3,'Daten A5'!$J$16,IF(Options!$B$9=4,'Daten A5'!$J$22,IF(Options!$B$9=5,'Daten A5'!$J$28,IF(Options!$B$9=6,'Daten A5'!$J$34,IF(Options!$B$9=7,'Daten A5'!$J$40,IF(Options!$B$9=8,'Daten A5'!$J$46,IF(Options!$B$9=9,'Daten A5'!$J$52,IF(Options!$B$9=10,'Daten A5'!$J$58,IF(Options!$B$9=11,'Daten A5'!$J$64,IF(Options!$B$9=12,'Daten A5'!$J$70,IF(Options!$B$9=13,'Daten A5'!$J$76,IF(Options!$B$9=14,'Daten A5'!$J$82,IF(Options!$B$9=15,'Daten A5'!$J$88,IF(Options!$B$9=16,'Daten A5'!$J$94,IF(Options!$B$9=17,'Daten A5'!$J$100,IF(Options!$B$9=18,'Daten A5'!$J$106,IF(Options!$B$9=19,'Daten A5'!Y4,IF(Options!$B$9=20,'Daten A5'!Y10,IF(Options!$B$9=21,'Daten A5'!Y16,IF(Options!$B$9=22,'Daten A5'!Y22,IF(Options!$B$9=23,'Daten A5'!Y28,IF(Options!$B$9=24,'Daten A5'!Y34,))))))))))))))))))))))))","v":0},{"$f":"IF(Options!$B$9=1,'Daten A5'!$K$4,IF(Options!$B$9=2,'Daten A5'!$K$10,IF(Options!$B$9=3,'Daten A5'!$K$16,IF(Options!$B$9=4,'Daten A5'!$K$22,IF(Options!$B$9=5,'Daten A5'!$K$28,IF(Options!$B$9=6,'Daten A5'!$K$34,IF(Options!$B$9=7,'Daten A5'!$K$40,IF(Options!$B$9=8,'Daten A5'!$K$46,IF(Options!$B$9=9,'Daten A5'!$K$52,IF(Options!$B$9=10,'Daten A5'!$K$58,IF(Options!$B$9=11,'Daten A5'!$K$64,IF(Options!$B$9=12,'Daten A5'!$K$70,IF(Options!$B$9=13,'Daten A5'!$K$76,IF(Options!$B$9=14,'Daten A5'!$K$82,IF(Options!$B$9=15,'Daten A5'!$K$88,IF(Options!$B$9=16,'Daten A5'!$K$94,IF(Options!$B$9=17,'Daten A5'!$K$100,IF(Options!$B$9=18,'Daten A5'!$K$106,IF(Options!$B$9=19,'Daten A5'!Z4,IF(Options!$B$9=20,'Daten A5'!Z10,IF(Options!$B$9=21,'Daten A5'!Z16,IF(Options!$B$9=22,'Daten A5'!Z22,IF(Options!$B$9=23,'Daten A5'!Z28,IF(Options!$B$9=24,'Daten A5'!Z34,))))))))))))))))))))))))","v":"----"},{"$f":"IF(Options!$B$9=1,'Daten A5'!$L$4,IF(Options!$B$9=2,'Daten A5'!$L$10,IF(Options!$B$9=3,'Daten A5'!$L$16,IF(Options!$B$9=4,'Daten A5'!$L$22,IF(Options!$B$9=5,'Daten A5'!$L$28,IF(Options!$B$9=6,'Daten A5'!$L$34,IF(Options!$B$9=7,'Daten A5'!$L$40,IF(Options!$B$9=8,'Daten A5'!$L$46,IF(Options!$B$9=9,'Daten A5'!$L$52,IF(Options!$B$9=10,'Daten A5'!$L$58,IF(Options!$B$9=11,'Daten A5'!$L$64,IF(Options!$B$9=12,'Daten A5'!$L$70,IF(Options!$B$9=13,'Daten A5'!$L$76,IF(Options!$B$9=14,'Daten A5'!$L$82,IF(Options!$B$9=15,'Daten A5'!$L$88,IF(Options!$B$9=16,'Daten A5'!$L$94,IF(Options!$B$9=17,'Daten A5'!$L$100,IF(Options!$B$9=18,'Daten A5'!$L$106,IF(Options!$B$9=19,'Daten A5'!AA4,IF(Options!$B$9=20,'Daten A5'!AA10,IF(Options!$B$9=21,'Daten A5'!AA16,IF(Options!$B$9=22,'Daten A5'!AA22,IF(Options!$B$9=23,'Daten A5'!AA28,IF(Options!$B$9=24,'Daten A5'!AA34,))))))))))))))))))))))))","v":0},{"$f":"IF(Options!$B$9=1,'Daten A5'!$M$4,IF(Options!$B$9=2,'Daten A5'!$M$10,IF(Options!$B$9=3,'Daten A5'!$M$16,IF(Options!$B$9=4,'Daten A5'!$M$22,IF(Options!$B$9=5,'Daten A5'!$M$28,IF(Options!$B$9=6,'Daten A5'!$M$34,IF(Options!$B$9=7,'Daten A5'!$M$40,IF(Options!$B$9=8,'Daten A5'!$M$46,IF(Options!$B$9=9,'Daten A5'!$M$52,IF(Options!$B$9=10,'Daten A5'!$M$58,IF(Options!$B$9=11,'Daten A5'!$M$64,IF(Options!$B$9=12,'Daten A5'!$M$70,IF(Options!$B$9=13,'Daten A5'!$M$76,IF(Options!$B$9=14,'Daten A5'!$M$82,IF(Options!$B$9=15,'Daten A5'!$M$88,IF(Options!$B$9=16,'Daten A5'!$M$94,IF(Options!$B$9=17,'Daten A5'!$M$100,IF(Options!$B$9=18,'Daten A5'!$M$106,IF(Options!$B$9=19,'Daten A5'!AB4,IF(Options!$B$9=20,'Daten A5'!AB10,IF(Options!$B$9=21,'Daten A5'!AB16,IF(Options!$B$9=22,'Daten A5'!AB22,IF(Options!$B$9=23,'Daten A5'!AB28,IF(Options!$B$9=24,'Daten A5'!AB34,))))))))))))))))))))))))","v":"0%"},{"$f":"IF(Options!$B$9=1,'Daten A5'!$N$4,IF(Options!$B$9=2,'Daten A5'!$N$10,IF(Options!$B$9=3,'Daten A5'!$N$16,IF(Options!$B$9=4,'Daten A5'!$N$22,IF(Options!$B$9=5,'Daten A5'!$N$28,IF(Options!$B$9=6,'Daten A5'!$N$34,IF(Options!$B$9=7,'Daten A5'!$N$40,IF(Options!$B$9=8,'Daten A5'!$N$46,IF(Options!$B$9=9,'Daten A5'!$N$52,IF(Options!$B$9=10,'Daten A5'!$N$58,IF(Options!$B$9=11,'Daten A5'!$N$64,IF(Options!$B$9=12,'Daten A5'!$N$70,IF(Options!$B$9=13,'Daten A5'!$N$76,IF(Options!$B$9=14,'Daten A5'!$N$82,IF(Options!$B$9=15,'Daten A5'!$N$88,IF(Options!$B$9=16,'Daten A5'!$N$94,IF(Options!$B$9=17,'Daten A5'!$N$100,IF(Options!$B$9=18,'Daten A5'!$N$106,IF(Options!$B$9=19,'Daten A5'!AC4,IF(Options!$B$9=20,'Daten A5'!AC10,IF(Options!$B$9=21,'Daten A5'!AC16,IF(Options!$B$9=22,'Daten A5'!AC22,IF(Options!$B$9=23,'Daten A5'!AC28,IF(Options!$B$9=24,'Daten A5'!AC34,))))))))))))))))))))))))","v":0}]
[null,null,null,null,null,null,null,null,null,null,null,null,null,null,null,null,null,null,null,null,null,null,null,null,null,null,null,null,null,null,null,null,null,null,null,null,null,null,null,null,null,null,null,null,null,null,null,"S1",null,{"$f":"AX18/$AW$18","v":{"$error":"#DIV/0!"}},{"$f":"AY18/$AW$18","v":{"$error":"#DIV/0!"}},{"$error":"#DIV/0!"},{"$error":"#DIV/0!"},{"$error":"#DIV/0!"},null,"Pos 3",null,{"$f":"IF(Options!$B$9=1,'Daten A5'!$C$5,IF(Options!$B$9=2,'Daten A5'!$C$11,IF(Options!$B$9=3,'Daten A5'!$C$17,IF(Options!$B$9=4,'Daten A5'!$C$23,IF(Options!$B$9=5,'Daten A5'!$C$29,IF(Options!$B$9=6,'Daten A5'!$C$35,IF(Options!$B$9=7,'Daten A5'!$C$41,IF(Options!$B$9=8,'Daten A5'!$C$47,IF(Options!$B$9=9,'Daten A5'!$C$53,IF(Options!$B$9=10,'Daten A5'!$C$59,IF(Options!$B$9=11,'Daten A5'!$C$65,IF(Options!$B$9=12,'Daten A5'!$C$71,IF(Options!$B$9=13,'Daten A5'!$C$77,IF(Options!$B$9=14,'Daten A5'!$C$83,IF(Options!$B$9=15,'Daten A5'!$C$89,IF(Options!$B$9=16,'Daten A5'!$C$95,IF(Options!$B$9=17,'Daten A5'!$C$101,IF(Options!$B$9=18,'Daten A5'!$C$107,IF(Options!$B$9=19,'Daten A5'!R5,IF(Options!$B$9=20,'Daten A5'!R11,IF(Options!$B$9=21,'Daten A5'!R17,IF(Options!$B$9=22,'Daten A5'!R23,IF(Options!$B$9=23,'Daten A5'!R29,IF(Options!$B$9=24,'Daten A5'!R35,))))))))))))))))))))))))","v":"0%"},{"$f":"IF(Options!$B$9=1,'Daten A5'!$D$5,IF(Options!$B$9=2,'Daten A5'!$D$11,IF(Options!$B$9=3,'Daten A5'!$D$17,IF(Options!$B$9=4,'Daten A5'!$D$23,IF(Options!$B$9=5,'Daten A5'!$D$29,IF(Options!$B$9=6,'Daten A5'!$D$35,IF(Options!$B$9=7,'Daten A5'!$D$41,IF(Options!$B$9=8,'Daten A5'!$D$47,IF(Options!$B$9=9,'Daten A5'!$D$53,IF(Options!$B$9=10,'Daten A5'!$D$59,IF(Options!$B$9=11,'Daten A5'!$D$65,IF(Options!$B$9=12,'Daten A5'!$D$71,IF(Options!$B$9=13,'Daten A5'!$D$77,IF(Options!$B$9=14,'Daten A5'!$D$83,IF(Options!$B$9=15,'Daten A5'!$D$89,IF(Options!$B$9=16,'Daten A5'!$D$95,IF(Options!$B$9=17,'Daten A5'!$D$101,IF(Options!$B$9=18,'Daten A5'!$D$107,IF(Options!$B$9=19,'Daten A5'!S5,IF(Options!$B$9=20,'Daten A5'!S11,IF(Options!$B$9=21,'Daten A5'!S17,IF(Options!$B$9=22,'Daten A5'!S23,IF(Options!$B$9=23,'Daten A5'!S29,IF(Options!$B$9=24,'Daten A5'!S35,))))))))))))))))))))))))","v":0},{"$f":"IF(Options!$B$9=1,'Daten A5'!$E$5,IF(Options!$B$9=2,'Daten A5'!$E$11,IF(Options!$B$9=3,'Daten A5'!$E$17,IF(Options!$B$9=4,'Daten A5'!$E$23,IF(Options!$B$9=5,'Daten A5'!$E$29,IF(Options!$B$9=6,'Daten A5'!$E$35,IF(Options!$B$9=7,'Daten A5'!$E$41,IF(Options!$B$9=8,'Daten A5'!$E$47,IF(Options!$B$9=9,'Daten A5'!$E$53,IF(Options!$B$9=10,'Daten A5'!$E$59,IF(Options!$B$9=11,'Daten A5'!$E$65,IF(Options!$B$9=12,'Daten A5'!$E$71,IF(Options!$B$9=13,'Daten A5'!$E$77,IF(Options!$B$9=14,'Daten A5'!$E$83,IF(Options!$B$9=15,'Daten A5'!$E$89,IF(Options!$B$9=16,'Daten A5'!$E$95,IF(Options!$B$9=17,'Daten A5'!$E$101,IF(Options!$B$9=18,'Daten A5'!$E$107,IF(Options!$B$9=19,'Daten A5'!T5,IF(Options!$B$9=20,'Daten A5'!T11,IF(Options!$B$9=21,'Daten A5'!T17,IF(Options!$B$9=22,'Daten A5'!T23,IF(Options!$B$9=23,'Daten A5'!T29,IF(Options!$B$9=24,'Daten A5'!T35,))))))))))))))))))))))))","v":"25%"},{"$f":"IF(Options!$B$9=1,'Daten A5'!$F$5,IF(Options!$B$9=2,'Daten A5'!$F$11,IF(Options!$B$9=3,'Daten A5'!$F$17,IF(Options!$B$9=4,'Daten A5'!$F$23,IF(Options!$B$9=5,'Daten A5'!$F$29,IF(Options!$B$9=6,'Daten A5'!$F$35,IF(Options!$B$9=7,'Daten A5'!$F$41,IF(Options!$B$9=8,'Daten A5'!$F$47,IF(Options!$B$9=9,'Daten A5'!$F$53,IF(Options!$B$9=10,'Daten A5'!$F$59,IF(Options!$B$9=11,'Daten A5'!$F$65,IF(Options!$B$9=12,'Daten A5'!$F$71,IF(Options!$B$9=13,'Daten A5'!$F$77,IF(Options!$B$9=14,'Daten A5'!$F$83,IF(Options!$B$9=15,'Daten A5'!$F$89,IF(Options!$B$9=16,'Daten A5'!$F$95,IF(Options!$B$9=17,'Daten A5'!$F$101,IF(Options!$B$9=18,'Daten A5'!$F$107,IF(Options!$B$9=19,'Daten A5'!U5,IF(Options!$B$9=20,'Daten A5'!U11,IF(Options!$B$9=21,'Daten A5'!U17,IF(Options!$B$9=22,'Daten A5'!U23,IF(Options!$B$9=23,'Daten A5'!U29,IF(Options!$B$9=24,'Daten A5'!U35,))))))))))))))))))))))))","v":1},{"$f":"IF(Options!$B$9=1,'Daten A5'!$G$5,IF(Options!$B$9=2,'Daten A5'!$G$11,IF(Options!$B$9=3,'Daten A5'!$G$17,IF(Options!$B$9=4,'Daten A5'!$G$23,IF(Options!$B$9=5,'Daten A5'!$G$29,IF(Options!$B$9=6,'Daten A5'!$G$35,IF(Options!$B$9=7,'Daten A5'!$G$41,IF(Options!$B$9=8,'Daten A5'!$G$47,IF(Options!$B$9=9,'Daten A5'!$G$53,IF(Options!$B$9=10,'Daten A5'!$G$59,IF(Options!$B$9=11,'Daten A5'!$G$65,IF(Options!$B$9=12,'Daten A5'!$G$71,IF(Options!$B$9=13,'Daten A5'!$G$77,IF(Options!$B$9=14,'Daten A5'!$G$83,IF(Options!$B$9=15,'Daten A5'!$G$89,IF(Options!$B$9=16,'Daten A5'!$G$95,IF(Options!$B$9=17,'Daten A5'!$G$101,IF(Options!$B$9=18,'Daten A5'!$G$107,IF(Options!$B$9=19,'Daten A5'!V5,IF(Options!$B$9=20,'Daten A5'!V11,IF(Options!$B$9=21,'Daten A5'!V17,IF(Options!$B$9=22,'Daten A5'!V23,IF(Options!$B$9=23,'Daten A5'!V29,IF(Options!$B$9=24,'Daten A5'!V35,))))))))))))))))))))))))","v":"0%"},{"$f":"IF(Options!$B$9=1,'Daten A5'!$H$5,IF(Options!$B$9=2,'Daten A5'!$H$11,IF(Options!$B$9=3,'Daten A5'!$H$17,IF(Options!$B$9=4,'Daten A5'!$H$23,IF(Options!$B$9=5,'Daten A5'!$H$29,IF(Options!$B$9=6,'Daten A5'!$H$35,IF(Options!$B$9=7,'Daten A5'!$H$41,IF(Options!$B$9=8,'Daten A5'!$H$47,IF(Options!$B$9=9,'Daten A5'!$H$53,IF(Options!$B$9=10,'Daten A5'!$H$59,IF(Options!$B$9=11,'Daten A5'!$H$65,IF(Options!$B$9=12,'Daten A5'!$H$71,IF(Options!$B$9=13,'Daten A5'!$H$77,IF(Options!$B$9=14,'Daten A5'!$H$83,IF(Options!$B$9=15,'Daten A5'!$H$89,IF(Options!$B$9=16,'Daten A5'!$H$95,IF(Options!$B$9=17,'Daten A5'!$H$101,IF(Options!$B$9=18,'Daten A5'!$H$107,IF(Options!$B$9=19,'Daten A5'!W5,IF(Options!$B$9=20,'Daten A5'!W11,IF(Options!$B$9=21,'Daten A5'!W17,IF(Options!$B$9=22,'Daten A5'!W23,IF(Options!$B$9=23,'Daten A5'!W29,IF(Options!$B$9=24,'Daten A5'!W35,))))))))))))))))))))))))","v":0},{"$f":"IF(Options!$B$9=1,'Daten A5'!$I$5,IF(Options!$B$9=2,'Daten A5'!$I$11,IF(Options!$B$9=3,'Daten A5'!$I$17,IF(Options!$B$9=4,'Daten A5'!$I$23,IF(Options!$B$9=5,'Daten A5'!$I$29,IF(Options!$B$9=6,'Daten A5'!$I$35,IF(Options!$B$9=7,'Daten A5'!$I$41,IF(Options!$B$9=8,'Daten A5'!$I$47,IF(Options!$B$9=9,'Daten A5'!$I$53,IF(Options!$B$9=10,'Daten A5'!$I$59,IF(Options!$B$9=11,'Daten A5'!$I$65,IF(Options!$B$9=12,'Daten A5'!$I$71,IF(Options!$B$9=13,'Daten A5'!$I$77,IF(Options!$B$9=14,'Daten A5'!$I$83,IF(Options!$B$9=15,'Daten A5'!$I$89,IF(Options!$B$9=16,'Daten A5'!$I$95,IF(Options!$B$9=17,'Daten A5'!$I$101,IF(Options!$B$9=18,'Daten A5'!$I$107,IF(Options!$B$9=19,'Daten A5'!X5,IF(Options!$B$9=20,'Daten A5'!X11,IF(Options!$B$9=21,'Daten A5'!X17,IF(Options!$B$9=22,'Daten A5'!X23,IF(Options!$B$9=23,'Daten A5'!X29,IF(Options!$B$9=24,'Daten A5'!X35,))))))))))))))))))))))))","v":"0%"},{"$f":"IF(Options!$B$9=1,'Daten A5'!$J$5,IF(Options!$B$9=2,'Daten A5'!$J$11,IF(Options!$B$9=3,'Daten A5'!$J$17,IF(Options!$B$9=4,'Daten A5'!$J$23,IF(Options!$B$9=5,'Daten A5'!$J$29,IF(Options!$B$9=6,'Daten A5'!$J$35,IF(Options!$B$9=7,'Daten A5'!$J$41,IF(Options!$B$9=8,'Daten A5'!$J$47,IF(Options!$B$9=9,'Daten A5'!$J$53,IF(Options!$B$9=10,'Daten A5'!$J$59,IF(Options!$B$9=11,'Daten A5'!$J$65,IF(Options!$B$9=12,'Daten A5'!$J$71,IF(Options!$B$9=13,'Daten A5'!$J$77,IF(Options!$B$9=14,'Daten A5'!$J$83,IF(Options!$B$9=15,'Daten A5'!$J$89,IF(Options!$B$9=16,'Daten A5'!$J$95,IF(Options!$B$9=17,'Daten A5'!$J$101,IF(Options!$B$9=18,'Daten A5'!$J$107,IF(Options!$B$9=19,'Daten A5'!Y5,IF(Options!$B$9=20,'Daten A5'!Y11,IF(Options!$B$9=21,'Daten A5'!Y17,IF(Options!$B$9=22,'Daten A5'!Y23,IF(Options!$B$9=23,'Daten A5'!Y29,IF(Options!$B$9=24,'Daten A5'!Y35,))))))))))))))))))))))))","v":0},{"$f":"IF(Options!$B$9=1,'Daten A5'!$K$5,IF(Options!$B$9=2,'Daten A5'!$K$11,IF(Options!$B$9=3,'Daten A5'!$K$17,IF(Options!$B$9=4,'Daten A5'!$K$23,IF(Options!$B$9=5,'Daten A5'!$K$29,IF(Options!$B$9=6,'Daten A5'!$K$35,IF(Options!$B$9=7,'Daten A5'!$K$41,IF(Options!$B$9=8,'Daten A5'!$K$47,IF(Options!$B$9=9,'Daten A5'!$K$53,IF(Options!$B$9=10,'Daten A5'!$K$59,IF(Options!$B$9=11,'Daten A5'!$K$65,IF(Options!$B$9=12,'Daten A5'!$K$71,IF(Options!$B$9=13,'Daten A5'!$K$77,IF(Options!$B$9=14,'Daten A5'!$K$83,IF(Options!$B$9=15,'Daten A5'!$K$89,IF(Options!$B$9=16,'Daten A5'!$K$95,IF(Options!$B$9=17,'Daten A5'!$K$101,IF(Options!$B$9=18,'Daten A5'!$K$107,IF(Options!$B$9=19,'Daten A5'!Z5,IF(Options!$B$9=20,'Daten A5'!Z11,IF(Options!$B$9=21,'Daten A5'!Z17,IF(Options!$B$9=22,'Daten A5'!Z23,IF(Options!$B$9=23,'Daten A5'!Z29,IF(Options!$B$9=24,'Daten A5'!Z35,))))))))))))))))))))))))","v":"----"},{"$f":"IF(Options!$B$9=1,'Daten A5'!$L$5,IF(Options!$B$9=2,'Daten A5'!$L$11,IF(Options!$B$9=3,'Daten A5'!$L$17,IF(Options!$B$9=4,'Daten A5'!$L$23,IF(Options!$B$9=5,'Daten A5'!$L$29,IF(Options!$B$9=6,'Daten A5'!$L$35,IF(Options!$B$9=7,'Daten A5'!$L$41,IF(Options!$B$9=8,'Daten A5'!$L$47,IF(Options!$B$9=9,'Daten A5'!$L$53,IF(Options!$B$9=10,'Daten A5'!$L$59,IF(Options!$B$9=11,'Daten A5'!$L$65,IF(Options!$B$9=12,'Daten A5'!$L$71,IF(Options!$B$9=13,'Daten A5'!$L$77,IF(Options!$B$9=14,'Daten A5'!$L$83,IF(Options!$B$9=15,'Daten A5'!$L$89,IF(Options!$B$9=16,'Daten A5'!$L$95,IF(Options!$B$9=17,'Daten A5'!$L$101,IF(Options!$B$9=18,'Daten A5'!$L$107,IF(Options!$B$9=19,'Daten A5'!AA5,IF(Options!$B$9=20,'Daten A5'!AA11,IF(Options!$B$9=21,'Daten A5'!AA17,IF(Options!$B$9=22,'Daten A5'!AA23,IF(Options!$B$9=23,'Daten A5'!AA29,IF(Options!$B$9=24,'Daten A5'!AA35,))))))))))))))))))))))))","v":0},{"$f":"IF(Options!$B$9=1,'Daten A5'!$M$5,IF(Options!$B$9=2,'Daten A5'!$M$11,IF(Options!$B$9=3,'Daten A5'!$M$17,IF(Options!$B$9=4,'Daten A5'!$M$23,IF(Options!$B$9=5,'Daten A5'!$M$29,IF(Options!$B$9=6,'Daten A5'!$M$35,IF(Options!$B$9=7,'Daten A5'!$M$41,IF(Options!$B$9=8,'Daten A5'!$M$47,IF(Options!$B$9=9,'Daten A5'!$M$53,IF(Options!$B$9=10,'Daten A5'!$M$59,IF(Options!$B$9=11,'Daten A5'!$M$65,IF(Options!$B$9=12,'Daten A5'!$M$71,IF(Options!$B$9=13,'Daten A5'!$M$77,IF(Options!$B$9=14,'Daten A5'!$M$83,IF(Options!$B$9=15,'Daten A5'!$M$89,IF(Options!$B$9=16,'Daten A5'!$M$95,IF(Options!$B$9=17,'Daten A5'!$M$101,IF(Options!$B$9=18,'Daten A5'!$M$107,IF(Options!$B$9=19,'Daten A5'!AB5,IF(Options!$B$9=20,'Daten A5'!AB11,IF(Options!$B$9=21,'Daten A5'!AB17,IF(Options!$B$9=22,'Daten A5'!AB23,IF(Options!$B$9=23,'Daten A5'!AB29,IF(Options!$B$9=24,'Daten A5'!AB35,))))))))))))))))))))))))","v":"25%"},{"$f":"IF(Options!$B$9=1,'Daten A5'!$N$5,IF(Options!$B$9=2,'Daten A5'!$N$11,IF(Options!$B$9=3,'Daten A5'!$N$17,IF(Options!$B$9=4,'Daten A5'!$N$23,IF(Options!$B$9=5,'Daten A5'!$N$29,IF(Options!$B$9=6,'Daten A5'!$N$35,IF(Options!$B$9=7,'Daten A5'!$N$41,IF(Options!$B$9=8,'Daten A5'!$N$47,IF(Options!$B$9=9,'Daten A5'!$N$53,IF(Options!$B$9=10,'Daten A5'!$N$59,IF(Options!$B$9=11,'Daten A5'!$N$65,IF(Options!$B$9=12,'Daten A5'!$N$71,IF(Options!$B$9=13,'Daten A5'!$N$77,IF(Options!$B$9=14,'Daten A5'!$N$83,IF(Options!$B$9=15,'Daten A5'!$N$89,IF(Options!$B$9=16,'Daten A5'!$N$95,IF(Options!$B$9=17,'Daten A5'!$N$101,IF(Options!$B$9=18,'Daten A5'!$N$107,IF(Options!$B$9=19,'Daten A5'!AC5,IF(Options!$B$9=20,'Daten A5'!AC11,IF(Options!$B$9=21,'Daten A5'!AC17,IF(Options!$B$9=22,'Daten A5'!AC23,IF(Options!$B$9=23,'Daten A5'!AC29,IF(Options!$B$9=24,'Daten A5'!AC35,))))))))))))))))))))))))","v":1}]
[null,null,null,null,null,null,null,null,null,null,null,null,null,null,null,null,null,null,null,null,null,null,null,null,null,null,null,null,null,null,null,null,null,null,null,null,null,null,null,null,null,null,null,null,null,null,null,"S6",null,{"$f":"AX19/$AW$19","v":{"$error":"#DIV/0!"}},{"$f":"AY19/$AW$19","v":{"$error":"#DIV/0!"}},{"$error":"#DIV/0!"},{"$error":"#DIV/0!"},{"$f":"BB19/$AW$18","v":{"$error":"#DIV/0!"}},null,"Pos 4",null,{"$f":"IF(Options!$B$9=1,'Daten A5'!$C$6,IF(Options!$B$9=2,'Daten A5'!$C$12,IF(Options!$B$9=3,'Daten A5'!$C$18,IF(Options!$B$9=4,'Daten A5'!$C$24,IF(Options!$B$9=5,'Daten A5'!$C$30,IF(Options!$B$9=6,'Daten A5'!$C$36,IF(Options!$B$9=7,'Daten A5'!$C$42,IF(Options!$B$9=8,'Daten A5'!$C$48,IF(Options!$B$9=9,'Daten A5'!$C$54,IF(Options!$B$9=10,'Daten A5'!$C$60,IF(Options!$B$9=11,'Daten A5'!$C$66,IF(Options!$B$9=12,'Daten A5'!$C$72,IF(Options!$B$9=13,'Daten A5'!$C$78,IF(Options!$B$9=14,'Daten A5'!$C$84,IF(Options!$B$9=15,'Daten A5'!$C$90,IF(Options!$B$9=16,'Daten A5'!$C$96,IF(Options!$B$9=17,'Daten A5'!$C$102,IF(Options!$B$9=18,'Daten A5'!$C$108,IF(Options!$B$9=19,'Daten A5'!R6,IF(Options!$B$9=20,'Daten A5'!R12,IF(Options!$B$9=21,'Daten A5'!R18,IF(Options!$B$9=22,'Daten A5'!R24,IF(Options!$B$9=23,'Daten A5'!R30,IF(Options!$B$9=24,'Daten A5'!R36,))))))))))))))))))))))))","v":"100%"},{"$f":"IF(Options!$B$9=1,'Daten A5'!$D$6,IF(Options!$B$9=2,'Daten A5'!$D$12,IF(Options!$B$9=3,'Daten A5'!$D$18,IF(Options!$B$9=4,'Daten A5'!$D$24,IF(Options!$B$9=5,'Daten A5'!$D$30,IF(Options!$B$9=6,'Daten A5'!$D$36,IF(Options!$B$9=7,'Daten A5'!$D$42,IF(Options!$B$9=8,'Daten A5'!$D$48,IF(Options!$B$9=9,'Daten A5'!$D$54,IF(Options!$B$9=10,'Daten A5'!$D$60,IF(Options!$B$9=11,'Daten A5'!$D$66,IF(Options!$B$9=12,'Daten A5'!$D$72,IF(Options!$B$9=13,'Daten A5'!$D$78,IF(Options!$B$9=14,'Daten A5'!$D$84,IF(Options!$B$9=15,'Daten A5'!$D$90,IF(Options!$B$9=16,'Daten A5'!$D$96,IF(Options!$B$9=17,'Daten A5'!$D$102,IF(Options!$B$9=18,'Daten A5'!$D$108,IF(Options!$B$9=19,'Daten A5'!S6,IF(Options!$B$9=20,'Daten A5'!S12,IF(Options!$B$9=21,'Daten A5'!S18,IF(Options!$B$9=22,'Daten A5'!S24,IF(Options!$B$9=23,'Daten A5'!S30,IF(Options!$B$9=24,'Daten A5'!S36,))))))))))))))))))))))))","v":4},{"$f":"IF(Options!$B$9=1,'Daten A5'!$E$6,IF(Options!$B$9=2,'Daten A5'!$E$12,IF(Options!$B$9=3,'Daten A5'!$E$18,IF(Options!$B$9=4,'Daten A5'!$E$24,IF(Options!$B$9=5,'Daten A5'!$E$30,IF(Options!$B$9=6,'Daten A5'!$E$36,IF(Options!$B$9=7,'Daten A5'!$E$42,IF(Options!$B$9=8,'Daten A5'!$E$48,IF(Options!$B$9=9,'Daten A5'!$E$54,IF(Options!$B$9=10,'Daten A5'!$E$60,IF(Options!$B$9=11,'Daten A5'!$E$66,IF(Options!$B$9=12,'Daten A5'!$E$72,IF(Options!$B$9=13,'Daten A5'!$E$78,IF(Options!$B$9=14,'Daten A5'!$E$84,IF(Options!$B$9=15,'Daten A5'!$E$90,IF(Options!$B$9=16,'Daten A5'!$E$96,IF(Options!$B$9=17,'Daten A5'!$E$102,IF(Options!$B$9=18,'Daten A5'!$E$108,IF(Options!$B$9=19,'Daten A5'!T6,IF(Options!$B$9=20,'Daten A5'!T12,IF(Options!$B$9=21,'Daten A5'!T18,IF(Options!$B$9=22,'Daten A5'!T24,IF(Options!$B$9=23,'Daten A5'!T30,IF(Options!$B$9=24,'Daten A5'!T36,))))))))))))))))))))))))","v":"25%"},{"$f":"IF(Options!$B$9=1,'Daten A5'!$F$6,IF(Options!$B$9=2,'Daten A5'!$F$12,IF(Options!$B$9=3,'Daten A5'!$F$18,IF(Options!$B$9=4,'Daten A5'!$F$24,IF(Options!$B$9=5,'Daten A5'!$F$30,IF(Options!$B$9=6,'Daten A5'!$F$36,IF(Options!$B$9=7,'Daten A5'!$F$42,IF(Options!$B$9=8,'Daten A5'!$F$48,IF(Options!$B$9=9,'Daten A5'!$F$54,IF(Options!$B$9=10,'Daten A5'!$F$60,IF(Options!$B$9=11,'Daten A5'!$F$66,IF(Options!$B$9=12,'Daten A5'!$F$72,IF(Options!$B$9=13,'Daten A5'!$F$78,IF(Options!$B$9=14,'Daten A5'!$F$84,IF(Options!$B$9=15,'Daten A5'!$F$90,IF(Options!$B$9=16,'Daten A5'!$F$96,IF(Options!$B$9=17,'Daten A5'!$F$102,IF(Options!$B$9=18,'Daten A5'!$F$108,IF(Options!$B$9=19,'Daten A5'!U6,IF(Options!$B$9=20,'Daten A5'!U12,IF(Options!$B$9=21,'Daten A5'!U18,IF(Options!$B$9=22,'Daten A5'!U24,IF(Options!$B$9=23,'Daten A5'!U30,IF(Options!$B$9=24,'Daten A5'!U36,))))))))))))))))))))))))","v":1},{"$f":"IF(Options!$B$9=1,'Daten A5'!$G$6,IF(Options!$B$9=2,'Daten A5'!$G$12,IF(Options!$B$9=3,'Daten A5'!$G$18,IF(Options!$B$9=4,'Daten A5'!$G$24,IF(Options!$B$9=5,'Daten A5'!$G$30,IF(Options!$B$9=6,'Daten A5'!$G$36,IF(Options!$B$9=7,'Daten A5'!$G$42,IF(Options!$B$9=8,'Daten A5'!$G$48,IF(Options!$B$9=9,'Daten A5'!$G$54,IF(Options!$B$9=10,'Daten A5'!$G$60,IF(Options!$B$9=11,'Daten A5'!$G$66,IF(Options!$B$9=12,'Daten A5'!$G$72,IF(Options!$B$9=13,'Daten A5'!$G$78,IF(Options!$B$9=14,'Daten A5'!$G$84,IF(Options!$B$9=15,'Daten A5'!$G$90,IF(Options!$B$9=16,'Daten A5'!$G$96,IF(Options!$B$9=17,'Daten A5'!$G$102,IF(Options!$B$9=18,'Daten A5'!$G$108,IF(Options!$B$9=19,'Daten A5'!V6,IF(Options!$B$9=20,'Daten A5'!V12,IF(Options!$B$9=21,'Daten A5'!V18,IF(Options!$B$9=22,'Daten A5'!V24,IF(Options!$B$9=23,'Daten A5'!V30,IF(Options!$B$9=24,'Daten A5'!V36,))))))))))))))))))))))))","v":"40%"},{"$f":"IF(Options!$B$9=1,'Daten A5'!$H$6,IF(Options!$B$9=2,'Daten A5'!$H$12,IF(Options!$B$9=3,'Daten A5'!$H$18,IF(Options!$B$9=4,'Daten A5'!$H$24,IF(Options!$B$9=5,'Daten A5'!$H$30,IF(Options!$B$9=6,'Daten A5'!$H$36,IF(Options!$B$9=7,'Daten A5'!$H$42,IF(Options!$B$9=8,'Daten A5'!$H$48,IF(Options!$B$9=9,'Daten A5'!$H$54,IF(Options!$B$9=10,'Daten A5'!$H$60,IF(Options!$B$9=11,'Daten A5'!$H$66,IF(Options!$B$9=12,'Daten A5'!$H$72,IF(Options!$B$9=13,'Daten A5'!$H$78,IF(Options!$B$9=14,'Daten A5'!$H$84,IF(Options!$B$9=15,'Daten A5'!$H$90,IF(Options!$B$9=16,'Daten A5'!$H$96,IF(Options!$B$9=17,'Daten A5'!$H$102,IF(Options!$B$9=18,'Daten A5'!$H$108,IF(Options!$B$9=19,'Daten A5'!W6,IF(Options!$B$9=20,'Daten A5'!W12,IF(Options!$B$9=21,'Daten A5'!W18,IF(Options!$B$9=22,'Daten A5'!W24,IF(Options!$B$9=23,'Daten A5'!W30,IF(Options!$B$9=24,'Daten A5'!W36,))))))))))))))))))))))))","v":2},{"$f":"IF(Options!$B$9=1,'Daten A5'!$I$6,IF(Options!$B$9=2,'Daten A5'!$I$12,IF(Options!$B$9=3,'Daten A5'!$I$18,IF(Options!$B$9=4,'Daten A5'!$I$24,IF(Options!$B$9=5,'Daten A5'!$I$30,IF(Options!$B$9=6,'Daten A5'!$I$36,IF(Options!$B$9=7,'Daten A5'!$I$42,IF(Options!$B$9=8,'Daten A5'!$I$48,IF(Options!$B$9=9,'Daten A5'!$I$54,IF(Options!$B$9=10,'Daten A5'!$I$60,IF(Options!$B$9=11,'Daten A5'!$I$66,IF(Options!$B$9=12,'Daten A5'!$I$72,IF(Options!$B$9=13,'Daten A5'!$I$78,IF(Options!$B$9=14,'Daten A5'!$I$84,IF(Options!$B$9=15,'Daten A5'!$I$90,IF(Options!$B$9=16,'Daten A5'!$I$96,IF(Options!$B$9=17,'Daten A5'!$I$102,IF(Options!$B$9=18,'Daten A5'!$I$108,IF(Options!$B$9=19,'Daten A5'!X6,IF(Options!$B$9=20,'Daten A5'!X12,IF(Options!$B$9=21,'Daten A5'!X18,IF(Options!$B$9=22,'Daten A5'!X24,IF(Options!$B$9=23,'Daten A5'!X30,IF(Options!$B$9=24,'Daten A5'!X36,))))))))))))))))))))))))","v":"100%"},{"$f":"IF(Options!$B$9=1,'Daten A5'!$J$6,IF(Options!$B$9=2,'Daten A5'!$J$12,IF(Options!$B$9=3,'Daten A5'!$J$18,IF(Options!$B$9=4,'Daten A5'!$J$24,IF(Options!$B$9=5,'Daten A5'!$J$30,IF(Options!$B$9=6,'Daten A5'!$J$36,IF(Options!$B$9=7,'Daten A5'!$J$42,IF(Options!$B$9=8,'Daten A5'!$J$48,IF(Options!$B$9=9,'Daten A5'!$J$54,IF(Options!$B$9=10,'Daten A5'!$J$60,IF(Options!$B$9=11,'Daten A5'!$J$66,IF(Options!$B$9=12,'Daten A5'!$J$72,IF(Options!$B$9=13,'Daten A5'!$J$78,IF(Options!$B$9=14,'Daten A5'!$J$84,IF(Options!$B$9=15,'Daten A5'!$J$90,IF(Options!$B$9=16,'Daten A5'!$J$96,IF(Options!$B$9=17,'Daten A5'!$J$102,IF(Options!$B$9=18,'Daten A5'!$J$108,IF(Options!$B$9=19,'Daten A5'!Y6,IF(Options!$B$9=20,'Daten A5'!Y12,IF(Options!$B$9=21,'Daten A5'!Y18,IF(Options!$B$9=22,'Daten A5'!Y24,IF(Options!$B$9=23,'Daten A5'!Y30,IF(Options!$B$9=24,'Daten A5'!Y36,))))))))))))))))))))))))","v":1},{"$f":"IF(Options!$B$9=1,'Daten A5'!$K$6,IF(Options!$B$9=2,'Daten A5'!$K$12,IF(Options!$B$9=3,'Daten A5'!$K$18,IF(Options!$B$9=4,'Daten A5'!$K$24,IF(Options!$B$9=5,'Daten A5'!$K$30,IF(Options!$B$9=6,'Daten A5'!$K$36,IF(Options!$B$9=7,'Daten A5'!$K$42,IF(Options!$B$9=8,'Daten A5'!$K$48,IF(Options!$B$9=9,'Daten A5'!$K$54,IF(Options!$B$9=10,'Daten A5'!$K$60,IF(Options!$B$9=11,'Daten A5'!$K$66,IF(Options!$B$9=12,'Daten A5'!$K$72,IF(Options!$B$9=13,'Daten A5'!$K$78,IF(Options!$B$9=14,'Daten A5'!$K$84,IF(Options!$B$9=15,'Daten A5'!$K$90,IF(Options!$B$9=16,'Daten A5'!$K$96,IF(Options!$B$9=17,'Daten A5'!$K$102,IF(Options!$B$9=18,'Daten A5'!$K$108,IF(Options!$B$9=19,'Daten A5'!Z6,IF(Options!$B$9=20,'Daten A5'!Z12,IF(Options!$B$9=21,'Daten A5'!Z18,IF(Options!$B$9=22,'Daten A5'!Z24,IF(Options!$B$9=23,'Daten A5'!Z30,IF(Options!$B$9=24,'Daten A5'!Z36,))))))))))))))))))))))))","v":"----"},{"$f":"IF(Options!$B$9=1,'Daten A5'!$L$6,IF(Options!$B$9=2,'Daten A5'!$L$12,IF(Options!$B$9=3,'Daten A5'!$L$18,IF(Options!$B$9=4,'Daten A5'!$L$24,IF(Options!$B$9=5,'Daten A5'!$L$30,IF(Options!$B$9=6,'Daten A5'!$L$36,IF(Options!$B$9=7,'Daten A5'!$L$42,IF(Options!$B$9=8,'Daten A5'!$L$48,IF(Options!$B$9=9,'Daten A5'!$L$54,IF(Options!$B$9=10,'Daten A5'!$L$60,IF(Options!$B$9=11,'Daten A5'!$L$66,IF(Options!$B$9=12,'Daten A5'!$L$72,IF(Options!$B$9=13,'Daten A5'!$L$78,IF(Options!$B$9=14,'Daten A5'!$L$84,IF(Options!$B$9=15,'Daten A5'!$L$90,IF(Options!$B$9=16,'Daten A5'!$L$96,IF(Options!$B$9=17,'Daten A5'!$L$102,IF(Options!$B$9=18,'Daten A5'!$L$108,IF(Options!$B$9=19,'Daten A5'!AA6,IF(Options!$B$9=20,'Daten A5'!AA12,IF(Options!$B$9=21,'Daten A5'!AA18,IF(Options!$B$9=22,'Daten A5'!AA24,IF(Options!$B$9=23,'Daten A5'!AA30,IF(Options!$B$9=24,'Daten A5'!AA36,))))))))))))))))))))))))","v":0},{"$f":"IF(Options!$B$9=1,'Daten A5'!$M$6,IF(Options!$B$9=2,'Daten A5'!$M$12,IF(Options!$B$9=3,'Daten A5'!$M$18,IF(Options!$B$9=4,'Daten A5'!$M$24,IF(Options!$B$9=5,'Daten A5'!$M$30,IF(Options!$B$9=6,'Daten A5'!$M$36,IF(Options!$B$9=7,'Daten A5'!$M$42,IF(Options!$B$9=8,'Daten A5'!$M$48,IF(Options!$B$9=9,'Daten A5'!$M$54,IF(Options!$B$9=10,'Daten A5'!$M$60,IF(Options!$B$9=11,'Daten A5'!$M$66,IF(Options!$B$9=12,'Daten A5'!$M$72,IF(Options!$B$9=13,'Daten A5'!$M$78,IF(Options!$B$9=14,'Daten A5'!$M$84,IF(Options!$B$9=15,'Daten A5'!$M$90,IF(Options!$B$9=16,'Daten A5'!$M$96,IF(Options!$B$9=17,'Daten A5'!$M$102,IF(Options!$B$9=18,'Daten A5'!$M$108,IF(Options!$B$9=19,'Daten A5'!AB6,IF(Options!$B$9=20,'Daten A5'!AB12,IF(Options!$B$9=21,'Daten A5'!AB18,IF(Options!$B$9=22,'Daten A5'!AB24,IF(Options!$B$9=23,'Daten A5'!AB30,IF(Options!$B$9=24,'Daten A5'!AB36,))))))))))))))))))))))))","v":"75%"},{"$f":"IF(Options!$B$9=1,'Daten A5'!$N$6,IF(Options!$B$9=2,'Daten A5'!$N$12,IF(Options!$B$9=3,'Daten A5'!$N$18,IF(Options!$B$9=4,'Daten A5'!$N$24,IF(Options!$B$9=5,'Daten A5'!$N$30,IF(Options!$B$9=6,'Daten A5'!$N$36,IF(Options!$B$9=7,'Daten A5'!$N$42,IF(Options!$B$9=8,'Daten A5'!$N$48,IF(Options!$B$9=9,'Daten A5'!$N$54,IF(Options!$B$9=10,'Daten A5'!$N$60,IF(Options!$B$9=11,'Daten A5'!$N$66,IF(Options!$B$9=12,'Daten A5'!$N$72,IF(Options!$B$9=13,'Daten A5'!$N$78,IF(Options!$B$9=14,'Daten A5'!$N$84,IF(Options!$B$9=15,'Daten A5'!$N$90,IF(Options!$B$9=16,'Daten A5'!$N$96,IF(Options!$B$9=17,'Daten A5'!$N$102,IF(Options!$B$9=18,'Daten A5'!$N$108,IF(Options!$B$9=19,'Daten A5'!AC6,IF(Options!$B$9=20,'Daten A5'!AC12,IF(Options!$B$9=21,'Daten A5'!AC18,IF(Options!$B$9=22,'Daten A5'!AC24,IF(Options!$B$9=23,'Daten A5'!AC30,IF(Options!$B$9=24,'Daten A5'!AC36,))))))))))))))))))))))))","v":3}]
[null,null,null,null,null,null,null,null,null,null,null,null,null,null,null,null,null,null,null,null,null,null,null,null,null,null,null,null,null,null,null,null,null,null,null,null,null,null,null,null,null,null,null,null,null,null,null,"S5",null,{"$f":"AX20/$AW$20","v":{"$error":"#DIV/0!"}},{"$f":"AY20/$AW$20","v":{"$error":"#DIV/0!"}},{"$error":"#DIV/0!"},{"$error":"#DIV/0!"},{"$f":"BB20/$AW$18","v":{"$error":"#DIV/0!"}},null,"Pos 8",null,{"$f":"IF(Options!$B$9=1,'Daten A5'!$C$7,IF(Options!$B$9=2,'Daten A5'!$C$13,IF(Options!$B$9=3,'Daten A5'!$C$19,IF(Options!$B$9=4,'Daten A5'!$C$25,IF(Options!$B$9=5,'Daten A5'!$C$31,IF(Options!$B$9=6,'Daten A5'!$C$37,IF(Options!$B$9=7,'Daten A5'!$C$43,IF(Options!$B$9=8,'Daten A5'!$C$49,IF(Options!$B$9=9,'Daten A5'!$C$55,IF(Options!$B$9=10,'Daten A5'!$C$61,IF(Options!$B$9=11,'Daten A5'!$C$67,IF(Options!$B$9=12,'Daten A5'!$C$73,IF(Options!$B$9=13,'Daten A5'!$C$79,IF(Options!$B$9=14,'Daten A5'!$C$85,IF(Options!$B$9=15,'Daten A5'!$C$91,IF(Options!$B$9=16,'Daten A5'!$C$97,IF(Options!$B$9=17,'Daten A5'!$C$103,IF(Options!$B$9=18,'Daten A5'!$C$109,IF(Options!$B$9=19,'Daten A5'!R7,IF(Options!$B$9=20,'Daten A5'!R13,IF(Options!$B$9=21,'Daten A5'!R19,IF(Options!$B$9=22,'Daten A5'!R25,IF(Options!$B$9=23,'Daten A5'!R31,IF(Options!$B$9=24,'Daten A5'!R37,))))))))))))))))))))))))","v":"0%"},{"$f":"IF(Options!$B$9=1,'Daten A5'!$D$7,IF(Options!$B$9=2,'Daten A5'!$D$13,IF(Options!$B$9=3,'Daten A5'!$D$19,IF(Options!$B$9=4,'Daten A5'!$D$25,IF(Options!$B$9=5,'Daten A5'!$D$31,IF(Options!$B$9=6,'Daten A5'!$D$37,IF(Options!$B$9=7,'Daten A5'!$D$43,IF(Options!$B$9=8,'Daten A5'!$D$49,IF(Options!$B$9=9,'Daten A5'!$D$55,IF(Options!$B$9=10,'Daten A5'!$D$61,IF(Options!$B$9=11,'Daten A5'!$D$67,IF(Options!$B$9=12,'Daten A5'!$D$73,IF(Options!$B$9=13,'Daten A5'!$D$79,IF(Options!$B$9=14,'Daten A5'!$D$85,IF(Options!$B$9=15,'Daten A5'!$D$91,IF(Options!$B$9=16,'Daten A5'!$D$97,IF(Options!$B$9=17,'Daten A5'!$D$103,IF(Options!$B$9=18,'Daten A5'!$D$109,IF(Options!$B$9=19,'Daten A5'!S7,IF(Options!$B$9=20,'Daten A5'!S13,IF(Options!$B$9=21,'Daten A5'!S19,IF(Options!$B$9=22,'Daten A5'!S25,IF(Options!$B$9=23,'Daten A5'!S31,IF(Options!$B$9=24,'Daten A5'!S37,))))))))))))))))))))))))","v":0},{"$f":"IF(Options!$B$9=1,'Daten A5'!$E$7,IF(Options!$B$9=2,'Daten A5'!$E$13,IF(Options!$B$9=3,'Daten A5'!$E$19,IF(Options!$B$9=4,'Daten A5'!$E$25,IF(Options!$B$9=5,'Daten A5'!$E$31,IF(Options!$B$9=6,'Daten A5'!$E$37,IF(Options!$B$9=7,'Daten A5'!$E$43,IF(Options!$B$9=8,'Daten A5'!$E$49,IF(Options!$B$9=9,'Daten A5'!$E$55,IF(Options!$B$9=10,'Daten A5'!$E$61,IF(Options!$B$9=11,'Daten A5'!$E$67,IF(Options!$B$9=12,'Daten A5'!$E$73,IF(Options!$B$9=13,'Daten A5'!$E$79,IF(Options!$B$9=14,'Daten A5'!$E$85,IF(Options!$B$9=15,'Daten A5'!$E$91,IF(Options!$B$9=16,'Daten A5'!$E$97,IF(Options!$B$9=17,'Daten A5'!$E$103,IF(Options!$B$9=18,'Daten A5'!$E$109,IF(Options!$B$9=19,'Daten A5'!T7,IF(Options!$B$9=20,'Daten A5'!T13,IF(Options!$B$9=21,'Daten A5'!T19,IF(Options!$B$9=22,'Daten A5'!T25,IF(Options!$B$9=23,'Daten A5'!T31,IF(Options!$B$9=24,'Daten A5'!T37,))))))))))))))))))))))))","v":"0%"},{"$f":"IF(Options!$B$9=1,'Daten A5'!$F$7,IF(Options!$B$9=2,'Daten A5'!$F$13,IF(Options!$B$9=3,'Daten A5'!$F$19,IF(Options!$B$9=4,'Daten A5'!$F$25,IF(Options!$B$9=5,'Daten A5'!$F$31,IF(Options!$B$9=6,'Daten A5'!$F$37,IF(Options!$B$9=7,'Daten A5'!$F$43,IF(Options!$B$9=8,'Daten A5'!$F$49,IF(Options!$B$9=9,'Daten A5'!$F$55,IF(Options!$B$9=10,'Daten A5'!$F$61,IF(Options!$B$9=11,'Daten A5'!$F$67,IF(Options!$B$9=12,'Daten A5'!$F$73,IF(Options!$B$9=13,'Daten A5'!$F$79,IF(Options!$B$9=14,'Daten A5'!$F$85,IF(Options!$B$9=15,'Daten A5'!$F$91,IF(Options!$B$9=16,'Daten A5'!$F$97,IF(Options!$B$9=17,'Daten A5'!$F$103,IF(Options!$B$9=18,'Daten A5'!$F$109,IF(Options!$B$9=19,'Daten A5'!U7,IF(Options!$B$9=20,'Daten A5'!U13,IF(Options!$B$9=21,'Daten A5'!U19,IF(Options!$B$9=22,'Daten A5'!U25,IF(Options!$B$9=23,'Daten A5'!U31,IF(Options!$B$9=24,'Daten A5'!U37,))))))))))))))))))))))))","v":0},{"$f":"IF(Options!$B$9=1,'Daten A5'!$G$7,IF(Options!$B$9=2,'Daten A5'!$G$13,IF(Options!$B$9=3,'Daten A5'!$G$19,IF(Options!$B$9=4,'Daten A5'!$G$25,IF(Options!$B$9=5,'Daten A5'!$G$31,IF(Options!$B$9=6,'Daten A5'!$G$37,IF(Options!$B$9=7,'Daten A5'!$G$43,IF(Options!$B$9=8,'Daten A5'!$G$49,IF(Options!$B$9=9,'Daten A5'!$G$55,IF(Options!$B$9=10,'Daten A5'!$G$61,IF(Options!$B$9=11,'Daten A5'!$G$67,IF(Options!$B$9=12,'Daten A5'!$G$73,IF(Options!$B$9=13,'Daten A5'!$G$79,IF(Options!$B$9=14,'Daten A5'!$G$85,IF(Options!$B$9=15,'Daten A5'!$G$91,IF(Options!$B$9=16,'Daten A5'!$G$97,IF(Options!$B$9=17,'Daten A5'!$G$103,IF(Options!$B$9=18,'Daten A5'!$G$109,IF(Options!$B$9=19,'Daten A5'!V7,IF(Options!$B$9=20,'Daten A5'!V13,IF(Options!$B$9=21,'Daten A5'!V19,IF(Options!$B$9=22,'Daten A5'!V25,IF(Options!$B$9=23,'Daten A5'!V31,IF(Options!$B$9=24,'Daten A5'!V37,))))))))))))))))))))))))","v":"20%"},{"$f":"IF(Options!$B$9=1,'Daten A5'!$H$7,IF(Options!$B$9=2,'Daten A5'!$H$13,IF(Options!$B$9=3,'Daten A5'!$H$19,IF(Options!$B$9=4,'Daten A5'!$H$25,IF(Options!$B$9=5,'Daten A5'!$H$31,IF(Options!$B$9=6,'Daten A5'!$H$37,IF(Options!$B$9=7,'Daten A5'!$H$43,IF(Options!$B$9=8,'Daten A5'!$H$49,IF(Options!$B$9=9,'Daten A5'!$H$55,IF(Options!$B$9=10,'Daten A5'!$H$61,IF(Options!$B$9=11,'Daten A5'!$H$67,IF(Options!$B$9=12,'Daten A5'!$H$73,IF(Options!$B$9=13,'Daten A5'!$H$79,IF(Options!$B$9=14,'Daten A5'!$H$85,IF(Options!$B$9=15,'Daten A5'!$H$91,IF(Options!$B$9=16,'Daten A5'!$H$97,IF(Options!$B$9=17,'Daten A5'!$H$103,IF(Options!$B$9=18,'Daten A5'!$H$109,IF(Options!$B$9=19,'Daten A5'!W7,IF(Options!$B$9=20,'Daten A5'!W13,IF(Options!$B$9=21,'Daten A5'!W19,IF(Options!$B$9=22,'Daten A5'!W25,IF(Options!$B$9=23,'Daten A5'!W31,IF(Options!$B$9=24,'Daten A5'!W37,))))))))))))))))))))))))","v":1},{"$f":"IF(Options!$B$9=1,'Daten A5'!$I$7,IF(Options!$B$9=2,'Daten A5'!$I$13,IF(Options!$B$9=3,'Daten A5'!$I$19,IF(Options!$B$9=4,'Daten A5'!$I$25,IF(Options!$B$9=5,'Daten A5'!$I$31,IF(Options!$B$9=6,'Daten A5'!$I$37,IF(Options!$B$9=7,'Daten A5'!$I$43,IF(Options!$B$9=8,'Daten A5'!$I$49,IF(Options!$B$9=9,'Daten A5'!$I$55,IF(Options!$B$9=10,'Daten A5'!$I$61,IF(Options!$B$9=11,'Daten A5'!$I$67,IF(Options!$B$9=12,'Daten A5'!$I$73,IF(Options!$B$9=13,'Daten A5'!$I$79,IF(Options!$B$9=14,'Daten A5'!$I$85,IF(Options!$B$9=15,'Daten A5'!$I$91,IF(Options!$B$9=16,'Daten A5'!$I$97,IF(Options!$B$9=17,'Daten A5'!$I$103,IF(Options!$B$9=18,'Daten A5'!$I$109,IF(Options!$B$9=19,'Daten A5'!X7,IF(Options!$B$9=20,'Daten A5'!X13,IF(Options!$B$9=21,'Daten A5'!X19,IF(Options!$B$9=22,'Daten A5'!X25,IF(Options!$B$9=23,'Daten A5'!X31,IF(Options!$B$9=24,'Daten A5'!X37,))))))))))))))))))))))))","v":"0%"},{"$f":"IF(Options!$B$9=1,'Daten A5'!$J$7,IF(Options!$B$9=2,'Daten A5'!$J$13,IF(Options!$B$9=3,'Daten A5'!$J$19,IF(Options!$B$9=4,'Daten A5'!$J$25,IF(Options!$B$9=5,'Daten A5'!$J$31,IF(Options!$B$9=6,'Daten A5'!$J$37,IF(Options!$B$9=7,'Daten A5'!$J$43,IF(Options!$B$9=8,'Daten A5'!$J$49,IF(Options!$B$9=9,'Daten A5'!$J$55,IF(Options!$B$9=10,'Daten A5'!$J$61,IF(Options!$B$9=11,'Daten A5'!$J$67,IF(Options!$B$9=12,'Daten A5'!$J$73,IF(Options!$B$9=13,'Daten A5'!$J$79,IF(Options!$B$9=14,'Daten A5'!$J$85,IF(Options!$B$9=15,'Daten A5'!$J$91,IF(Options!$B$9=16,'Daten A5'!$J$97,IF(Options!$B$9=17,'Daten A5'!$J$103,IF(Options!$B$9=18,'Daten A5'!$J$109,IF(Options!$B$9=19,'Daten A5'!Y7,IF(Options!$B$9=20,'Daten A5'!Y13,IF(Options!$B$9=21,'Daten A5'!Y19,IF(Options!$B$9=22,'Daten A5'!Y25,IF(Options!$B$9=23,'Daten A5'!Y31,IF(Options!$B$9=24,'Daten A5'!Y37,))))))))))))))))))))))))","v":0},{"$f":"IF(Options!$B$9=1,'Daten A5'!$K$7,IF(Options!$B$9=2,'Daten A5'!$K$13,IF(Options!$B$9=3,'Daten A5'!$K$19,IF(Options!$B$9=4,'Daten A5'!$K$25,IF(Options!$B$9=5,'Daten A5'!$K$31,IF(Options!$B$9=6,'Daten A5'!$K$37,IF(Options!$B$9=7,'Daten A5'!$K$43,IF(Options!$B$9=8,'Daten A5'!$K$49,IF(Options!$B$9=9,'Daten A5'!$K$55,IF(Options!$B$9=10,'Daten A5'!$K$61,IF(Options!$B$9=11,'Daten A5'!$K$67,IF(Options!$B$9=12,'Daten A5'!$K$73,IF(Options!$B$9=13,'Daten A5'!$K$79,IF(Options!$B$9=14,'Daten A5'!$K$85,IF(Options!$B$9=15,'Daten A5'!$K$91,IF(Options!$B$9=16,'Daten A5'!$K$97,IF(Options!$B$9=17,'Daten A5'!$K$103,IF(Options!$B$9=18,'Daten A5'!$K$109,IF(Options!$B$9=19,'Daten A5'!Z7,IF(Options!$B$9=20,'Daten A5'!Z13,IF(Options!$B$9=21,'Daten A5'!Z19,IF(Options!$B$9=22,'Daten A5'!Z25,IF(Options!$B$9=23,'Daten A5'!Z31,IF(Options!$B$9=24,'Daten A5'!Z37,))))))))))))))))))))))))","v":"----"},{"$f":"IF(Options!$B$9=1,'Daten A5'!$L$7,IF(Options!$B$9=2,'Daten A5'!$L$13,IF(Options!$B$9=3,'Daten A5'!$L$19,IF(Options!$B$9=4,'Daten A5'!$L$25,IF(Options!$B$9=5,'Daten A5'!$L$31,IF(Options!$B$9=6,'Daten A5'!$L$37,IF(Options!$B$9=7,'Daten A5'!$L$43,IF(Options!$B$9=8,'Daten A5'!$L$49,IF(Options!$B$9=9,'Daten A5'!$L$55,IF(Options!$B$9=10,'Daten A5'!$L$61,IF(Options!$B$9=11,'Daten A5'!$L$67,IF(Options!$B$9=12,'Daten A5'!$L$73,IF(Options!$B$9=13,'Daten A5'!$L$79,IF(Options!$B$9=14,'Daten A5'!$L$85,IF(Options!$B$9=15,'Daten A5'!$L$91,IF(Options!$B$9=16,'Daten A5'!$L$97,IF(Options!$B$9=17,'Daten A5'!$L$103,IF(Options!$B$9=18,'Daten A5'!$L$109,IF(Options!$B$9=19,'Daten A5'!AA7,IF(Options!$B$9=20,'Daten A5'!AA13,IF(Options!$B$9=21,'Daten A5'!AA19,IF(Options!$B$9=22,'Daten A5'!AA25,IF(Options!$B$9=23,'Daten A5'!AA31,IF(Options!$B$9=24,'Daten A5'!AA37,))))))))))))))))))))))))","v":0},{"$f":"IF(Options!$B$9=1,'Daten A5'!$M$7,IF(Options!$B$9=2,'Daten A5'!$M$13,IF(Options!$B$9=3,'Daten A5'!$M$19,IF(Options!$B$9=4,'Daten A5'!$M$25,IF(Options!$B$9=5,'Daten A5'!$M$31,IF(Options!$B$9=6,'Daten A5'!$M$37,IF(Options!$B$9=7,'Daten A5'!$M$43,IF(Options!$B$9=8,'Daten A5'!$M$49,IF(Options!$B$9=9,'Daten A5'!$M$55,IF(Options!$B$9=10,'Daten A5'!$M$61,IF(Options!$B$9=11,'Daten A5'!$M$67,IF(Options!$B$9=12,'Daten A5'!$M$73,IF(Options!$B$9=13,'Daten A5'!$M$79,IF(Options!$B$9=14,'Daten A5'!$M$85,IF(Options!$B$9=15,'Daten A5'!$M$91,IF(Options!$B$9=16,'Daten A5'!$M$97,IF(Options!$B$9=17,'Daten A5'!$M$103,IF(Options!$B$9=18,'Daten A5'!$M$109,IF(Options!$B$9=19,'Daten A5'!AB7,IF(Options!$B$9=20,'Daten A5'!AB13,IF(Options!$B$9=21,'Daten A5'!AB19,IF(Options!$B$9=22,'Daten A5'!AB25,IF(Options!$B$9=23,'Daten A5'!AB31,IF(Options!$B$9=24,'Daten A5'!AB37,))))))))))))))))))))))))","v":"0%"},{"$f":"IF(Options!$B$9=1,'Daten A5'!$N$7,IF(Options!$B$9=2,'Daten A5'!$N$13,IF(Options!$B$9=3,'Daten A5'!$N$19,IF(Options!$B$9=4,'Daten A5'!$N$25,IF(Options!$B$9=5,'Daten A5'!$N$31,IF(Options!$B$9=6,'Daten A5'!$N$37,IF(Options!$B$9=7,'Daten A5'!$N$43,IF(Options!$B$9=8,'Daten A5'!$N$49,IF(Options!$B$9=9,'Daten A5'!$N$55,IF(Options!$B$9=10,'Daten A5'!$N$61,IF(Options!$B$9=11,'Daten A5'!$N$67,IF(Options!$B$9=12,'Daten A5'!$N$73,IF(Options!$B$9=13,'Daten A5'!$N$79,IF(Options!$B$9=14,'Daten A5'!$N$85,IF(Options!$B$9=15,'Daten A5'!$N$91,IF(Options!$B$9=16,'Daten A5'!$N$97,IF(Options!$B$9=17,'Daten A5'!$N$103,IF(Options!$B$9=18,'Daten A5'!$N$109,IF(Options!$B$9=19,'Daten A5'!AC7,IF(Options!$B$9=20,'Daten A5'!AC13,IF(Options!$B$9=21,'Daten A5'!AC19,IF(Options!$B$9=22,'Daten A5'!AC25,IF(Options!$B$9=23,'Daten A5'!AC31,IF(Options!$B$9=24,'Daten A5'!AC37,))))))))))))))))))))))))","v":0}]
[null,{"$f":"IF(OR($BP$31=0,$BQ$31=0),\"\",CONCATENATE($BP$31,$BD$26,$BQ$31))","v":""},null,null,{"$f":"IF(OR($BP$30=0,$BQ$30=0),\"\",CONCATENATE($BP$30,$BD$26,$BQ$30))","v":""},null,null,null,null,null,null,null,{"$f":"IF(OR($BN$31=0,$BO$31=0),\"\",CONCATENATE($BN$31,$BD$26,$BO$31))","v":""},null,null,{"$f":"IF(OR($BN$30=0,$BO$30=0),\"\",CONCATENATE($BN$30,$BD$26,$BO$30))","v":""},null,null,null,null,null,null,null,{"$f":"IF(OR($BL$31=0,$BM$31=0),\"\",CONCATENATE($BL$31,$BD$26,$BM$31))","v":""},null,null,{"$f":"IF(OR($BL$30=0,$BM$30=0),\"\",CONCATENATE($BL$30,$BD$26,$BM$30))","v":""},null,null,null,null,null,null,null,null,null,null,null,null,null,null,null,null,null,null,null,null,"S4",null,{"$f":"AX21/$AW$21","v":{"$error":"#DIV/0!"}},{"$f":"AY21/$AW$21","v":{"$error":"#DIV/0!"}},{"$error":"#DIV/0!"},{"$error":"#DIV/0!"},{"$f":"BB21/$AW$18","v":{"$error":"#DIV/0!"}},null,"Pos 9",null,{"$f":"IF(Options!$B$9=1,'Daten A5'!$C$8,IF(Options!$B$9=2,'Daten A5'!$C$14,IF(Options!$B$9=3,'Daten A5'!$C$20,IF(Options!$B$9=4,'Daten A5'!$C$26,IF(Options!$B$9=5,'Daten A5'!$C$32,IF(Options!$B$9=6,'Daten A5'!$C$38,IF(Options!$B$9=7,'Daten A5'!$C$44,IF(Options!$B$9=8,'Daten A5'!$C$50,IF(Options!$B$9=9,'Daten A5'!$C$56,IF(Options!$B$9=10,'Daten A5'!$C$62,IF(Options!$B$9=11,'Daten A5'!$C$68,IF(Options!$B$9=12,'Daten A5'!$C$74,IF(Options!$B$9=13,'Daten A5'!$C$80,IF(Options!$B$9=14,'Daten A5'!$C$86,IF(Options!$B$9=15,'Daten A5'!$C$92,IF(Options!$B$9=16,'Daten A5'!$C$98,IF(Options!$B$9=17,'Daten A5'!$C$104,IF(Options!$B$9=18,'Daten A5'!$C$110,IF(Options!$B$9=19,'Daten A5'!R8,IF(Options!$B$9=20,'Daten A5'!R14,IF(Options!$B$9=21,'Daten A5'!R20,IF(Options!$B$9=22,'Daten A5'!R26,IF(Options!$B$9=23,'Daten A5'!R32,IF(Options!$B$9=24,'Daten A5'!R38,))))))))))))))))))))))))","v":"0%"},{"$f":"IF(Options!$B$9=1,'Daten A5'!$D$8,IF(Options!$B$9=2,'Daten A5'!$D$14,IF(Options!$B$9=3,'Daten A5'!$D$20,IF(Options!$B$9=4,'Daten A5'!$D$26,IF(Options!$B$9=5,'Daten A5'!$D$32,IF(Options!$B$9=6,'Daten A5'!$D$38,IF(Options!$B$9=7,'Daten A5'!$D$44,IF(Options!$B$9=8,'Daten A5'!$D$50,IF(Options!$B$9=9,'Daten A5'!$D$56,IF(Options!$B$9=10,'Daten A5'!$D$62,IF(Options!$B$9=11,'Daten A5'!$D$68,IF(Options!$B$9=12,'Daten A5'!$D$74,IF(Options!$B$9=13,'Daten A5'!$D$80,IF(Options!$B$9=14,'Daten A5'!$D$86,IF(Options!$B$9=15,'Daten A5'!$D$92,IF(Options!$B$9=16,'Daten A5'!$D$98,IF(Options!$B$9=17,'Daten A5'!$D$104,IF(Options!$B$9=18,'Daten A5'!$D$110,IF(Options!$B$9=19,'Daten A5'!S8,IF(Options!$B$9=20,'Daten A5'!S14,IF(Options!$B$9=21,'Daten A5'!S20,IF(Options!$B$9=22,'Daten A5'!S26,IF(Options!$B$9=23,'Daten A5'!S32,IF(Options!$B$9=24,'Daten A5'!S38,))))))))))))))))))))))))","v":0},{"$f":"IF(Options!$B$9=1,'Daten A5'!$E$8,IF(Options!$B$9=2,'Daten A5'!$E$14,IF(Options!$B$9=3,'Daten A5'!$E$20,IF(Options!$B$9=4,'Daten A5'!$E$26,IF(Options!$B$9=5,'Daten A5'!$E$32,IF(Options!$B$9=6,'Daten A5'!$E$38,IF(Options!$B$9=7,'Daten A5'!$E$44,IF(Options!$B$9=8,'Daten A5'!$E$50,IF(Options!$B$9=9,'Daten A5'!$E$56,IF(Options!$B$9=10,'Daten A5'!$E$62,IF(Options!$B$9=11,'Daten A5'!$E$68,IF(Options!$B$9=12,'Daten A5'!$E$74,IF(Options!$B$9=13,'Daten A5'!$E$80,IF(Options!$B$9=14,'Daten A5'!$E$86,IF(Options!$B$9=15,'Daten A5'!$E$92,IF(Options!$B$9=16,'Daten A5'!$E$98,IF(Options!$B$9=17,'Daten A5'!$E$104,IF(Options!$B$9=18,'Daten A5'!$E$110,IF(Options!$B$9=19,'Daten A5'!T8,IF(Options!$B$9=20,'Daten A5'!T14,IF(Options!$B$9=21,'Daten A5'!T20,IF(Options!$B$9=22,'Daten A5'!T26,IF(Options!$B$9=23,'Daten A5'!T32,IF(Options!$B$9=24,'Daten A5'!T38,))))))))))))))))))))))))","v":"0%"},{"$f":"IF(Options!$B$9=1,'Daten A5'!$F$8,IF(Options!$B$9=2,'Daten A5'!$F$14,IF(Options!$B$9=3,'Daten A5'!$F$20,IF(Options!$B$9=4,'Daten A5'!$F$26,IF(Options!$B$9=5,'Daten A5'!$F$32,IF(Options!$B$9=6,'Daten A5'!$F$38,IF(Options!$B$9=7,'Daten A5'!$F$44,IF(Options!$B$9=8,'Daten A5'!$F$50,IF(Options!$B$9=9,'Daten A5'!$F$56,IF(Options!$B$9=10,'Daten A5'!$F$62,IF(Options!$B$9=11,'Daten A5'!$F$68,IF(Options!$B$9=12,'Daten A5'!$F$74,IF(Options!$B$9=13,'Daten A5'!$F$80,IF(Options!$B$9=14,'Daten A5'!$F$86,IF(Options!$B$9=15,'Daten A5'!$F$92,IF(Options!$B$9=16,'Daten A5'!$F$98,IF(Options!$B$9=17,'Daten A5'!$F$104,IF(Options!$B$9=18,'Daten A5'!$F$110,IF(Options!$B$9=19,'Daten A5'!U8,IF(Options!$B$9=20,'Daten A5'!U14,IF(Options!$B$9=21,'Daten A5'!U20,IF(Options!$B$9=22,'Daten A5'!U26,IF(Options!$B$9=23,'Daten A5'!U32,IF(Options!$B$9=24,'Daten A5'!U38,))))))))))))))))))))))))","v":0},{"$f":"IF(Options!$B$9=1,'Daten A5'!$G$8,IF(Options!$B$9=2,'Daten A5'!$G$14,IF(Options!$B$9=3,'Daten A5'!$G$20,IF(Options!$B$9=4,'Daten A5'!$G$26,IF(Options!$B$9=5,'Daten A5'!$G$32,IF(Options!$B$9=6,'Daten A5'!$G$38,IF(Options!$B$9=7,'Daten A5'!$G$44,IF(Options!$B$9=8,'Daten A5'!$G$50,IF(Options!$B$9=9,'Daten A5'!$G$56,IF(Options!$B$9=10,'Daten A5'!$G$62,IF(Options!$B$9=11,'Daten A5'!$G$68,IF(Options!$B$9=12,'Daten A5'!$G$74,IF(Options!$B$9=13,'Daten A5'!$G$80,IF(Options!$B$9=14,'Daten A5'!$G$86,IF(Options!$B$9=15,'Daten A5'!$G$92,IF(Options!$B$9=16,'Daten A5'!$G$98,IF(Options!$B$9=17,'Daten A5'!$G$104,IF(Options!$B$9=18,'Daten A5'!$G$110,IF(Options!$B$9=19,'Daten A5'!V8,IF(Options!$B$9=20,'Daten A5'!V14,IF(Options!$B$9=21,'Daten A5'!V20,IF(Options!$B$9=22,'Daten A5'!V26,IF(Options!$B$9=23,'Daten A5'!V32,IF(Options!$B$9=24,'Daten A5'!V38,))))))))))))))))))))))))","v":"0%"},{"$f":"IF(Options!$B$9=1,'Daten A5'!$H$8,IF(Options!$B$9=2,'Daten A5'!$H$14,IF(Options!$B$9=3,'Daten A5'!$H$20,IF(Options!$B$9=4,'Daten A5'!$H$26,IF(Options!$B$9=5,'Daten A5'!$H$32,IF(Options!$B$9=6,'Daten A5'!$H$38,IF(Options!$B$9=7,'Daten A5'!$H$44,IF(Options!$B$9=8,'Daten A5'!$H$50,IF(Options!$B$9=9,'Daten A5'!$H$56,IF(Options!$B$9=10,'Daten A5'!$H$62,IF(Options!$B$9=11,'Daten A5'!$H$68,IF(Options!$B$9=12,'Daten A5'!$H$74,IF(Options!$B$9=13,'Daten A5'!$H$80,IF(Options!$B$9=14,'Daten A5'!$H$86,IF(Options!$B$9=15,'Daten A5'!$H$92,IF(Options!$B$9=16,'Daten A5'!$H$98,IF(Options!$B$9=17,'Daten A5'!$H$104,IF(Options!$B$9=18,'Daten A5'!$H$110,IF(Options!$B$9=19,'Daten A5'!W8,IF(Options!$B$9=20,'Daten A5'!W14,IF(Options!$B$9=21,'Daten A5'!W20,IF(Options!$B$9=22,'Daten A5'!W26,IF(Options!$B$9=23,'Daten A5'!W32,IF(Options!$B$9=24,'Daten A5'!W38,))))))))))))))))))))))))","v":0},{"$f":"IF(Options!$B$9=1,'Daten A5'!$I$8,IF(Options!$B$9=2,'Daten A5'!$I$14,IF(Options!$B$9=3,'Daten A5'!$I$20,IF(Options!$B$9=4,'Daten A5'!$I$26,IF(Options!$B$9=5,'Daten A5'!$I$32,IF(Options!$B$9=6,'Daten A5'!$I$38,IF(Options!$B$9=7,'Daten A5'!$I$44,IF(Options!$B$9=8,'Daten A5'!$I$50,IF(Options!$B$9=9,'Daten A5'!$I$56,IF(Options!$B$9=10,'Daten A5'!$I$62,IF(Options!$B$9=11,'Daten A5'!$I$68,IF(Options!$B$9=12,'Daten A5'!$I$74,IF(Options!$B$9=13,'Daten A5'!$I$80,IF(Options!$B$9=14,'Daten A5'!$I$86,IF(Options!$B$9=15,'Daten A5'!$I$92,IF(Options!$B$9=16,'Daten A5'!$I$98,IF(Options!$B$9=17,'Daten A5'!$I$104,IF(Options!$B$9=18,'Daten A5'!$I$110,IF(Options!$B$9=19,'Daten A5'!X8,IF(Options!$B$9=20,'Daten A5'!X14,IF(Options!$B$9=21,'Daten A5'!X20,IF(Options!$B$9=22,'Daten A5'!X26,IF(Options!$B$9=23,'Daten A5'!X32,IF(Options!$B$9=24,'Daten A5'!X38,))))))))))))))))))))))))","v":"0%"},{"$f":"IF(Options!$B$9=1,'Daten A5'!$J$8,IF(Options!$B$9=2,'Daten A5'!$J$14,IF(Options!$B$9=3,'Daten A5'!$J$20,IF(Options!$B$9=4,'Daten A5'!$J$26,IF(Options!$B$9=5,'Daten A5'!$J$32,IF(Options!$B$9=6,'Daten A5'!$J$38,IF(Options!$B$9=7,'Daten A5'!$J$44,IF(Options!$B$9=8,'Daten A5'!$J$50,IF(Options!$B$9=9,'Daten A5'!$J$56,IF(Options!$B$9=10,'Daten A5'!$J$62,IF(Options!$B$9=11,'Daten A5'!$J$68,IF(Options!$B$9=12,'Daten A5'!$J$74,IF(Options!$B$9=13,'Daten A5'!$J$80,IF(Options!$B$9=14,'Daten A5'!$J$86,IF(Options!$B$9=15,'Daten A5'!$J$92,IF(Options!$B$9=16,'Daten A5'!$J$98,IF(Options!$B$9=17,'Daten A5'!$J$104,IF(Options!$B$9=18,'Daten A5'!$J$110,IF(Options!$B$9=19,'Daten A5'!Y8,IF(Options!$B$9=20,'Daten A5'!Y14,IF(Options!$B$9=21,'Daten A5'!Y20,IF(Options!$B$9=22,'Daten A5'!Y26,IF(Options!$B$9=23,'Daten A5'!Y32,IF(Options!$B$9=24,'Daten A5'!Y38,))))))))))))))))))))))))","v":0},{"$f":"IF(Options!$B$9=1,'Daten A5'!$K$8,IF(Options!$B$9=2,'Daten A5'!$K$14,IF(Options!$B$9=3,'Daten A5'!$K$20,IF(Options!$B$9=4,'Daten A5'!$K$26,IF(Options!$B$9=5,'Daten A5'!$K$32,IF(Options!$B$9=6,'Daten A5'!$K$38,IF(Options!$B$9=7,'Daten A5'!$K$44,IF(Options!$B$9=8,'Daten A5'!$K$50,IF(Options!$B$9=9,'Daten A5'!$K$56,IF(Options!$B$9=10,'Daten A5'!$K$62,IF(Options!$B$9=11,'Daten A5'!$K$68,IF(Options!$B$9=12,'Daten A5'!$K$74,IF(Options!$B$9=13,'Daten A5'!$K$80,IF(Options!$B$9=14,'Daten A5'!$K$86,IF(Options!$B$9=15,'Daten A5'!$K$92,IF(Options!$B$9=16,'Daten A5'!$K$98,IF(Options!$B$9=17,'Daten A5'!$K$104,IF(Options!$B$9=18,'Daten A5'!$K$110,IF(Options!$B$9=19,'Daten A5'!Z8,IF(Options!$B$9=20,'Daten A5'!Z14,IF(Options!$B$9=21,'Daten A5'!Z20,IF(Options!$B$9=22,'Daten A5'!Z26,IF(Options!$B$9=23,'Daten A5'!Z32,IF(Options!$B$9=24,'Daten A5'!Z38,))))))))))))))))))))))))","v":"----"},{"$f":"IF(Options!$B$9=1,'Daten A5'!$L$8,IF(Options!$B$9=2,'Daten A5'!$L$14,IF(Options!$B$9=3,'Daten A5'!$L$20,IF(Options!$B$9=4,'Daten A5'!$L$26,IF(Options!$B$9=5,'Daten A5'!$L$32,IF(Options!$B$9=6,'Daten A5'!$L$38,IF(Options!$B$9=7,'Daten A5'!$L$44,IF(Options!$B$9=8,'Daten A5'!$L$50,IF(Options!$B$9=9,'Daten A5'!$L$56,IF(Options!$B$9=10,'Daten A5'!$L$62,IF(Options!$B$9=11,'Daten A5'!$L$68,IF(Options!$B$9=12,'Daten A5'!$L$74,IF(Options!$B$9=13,'Daten A5'!$L$80,IF(Options!$B$9=14,'Daten A5'!$L$86,IF(Options!$B$9=15,'Daten A5'!$L$92,IF(Options!$B$9=16,'Daten A5'!$L$98,IF(Options!$B$9=17,'Daten A5'!$L$104,IF(Options!$B$9=18,'Daten A5'!$L$110,IF(Options!$B$9=19,'Daten A5'!AA8,IF(Options!$B$9=20,'Daten A5'!AA14,IF(Options!$B$9=21,'Daten A5'!AA20,IF(Options!$B$9=22,'Daten A5'!AA26,IF(Options!$B$9=23,'Daten A5'!AA32,IF(Options!$B$9=24,'Daten A5'!AA38,))))))))))))))))))))))))","v":0},{"$f":"IF(Options!$B$9=1,'Daten A5'!$M$8,IF(Options!$B$9=2,'Daten A5'!$M$14,IF(Options!$B$9=3,'Daten A5'!$M$20,IF(Options!$B$9=4,'Daten A5'!$M$26,IF(Options!$B$9=5,'Daten A5'!$M$32,IF(Options!$B$9=6,'Daten A5'!$M$38,IF(Options!$B$9=7,'Daten A5'!$M$44,IF(Options!$B$9=8,'Daten A5'!$M$50,IF(Options!$B$9=9,'Daten A5'!$M$56,IF(Options!$B$9=10,'Daten A5'!$M$62,IF(Options!$B$9=11,'Daten A5'!$M$68,IF(Options!$B$9=12,'Daten A5'!$M$74,IF(Options!$B$9=13,'Daten A5'!$M$80,IF(Options!$B$9=14,'Daten A5'!$M$86,IF(Options!$B$9=15,'Daten A5'!$M$92,IF(Options!$B$9=16,'Daten A5'!$M$98,IF(Options!$B$9=17,'Daten A5'!$M$104,IF(Options!$B$9=18,'Daten A5'!$M$110,IF(Options!$B$9=19,'Daten A5'!AB8,IF(Options!$B$9=20,'Daten A5'!AB14,IF(Options!$B$9=21,'Daten A5'!AB20,IF(Options!$B$9=22,'Daten A5'!AB26,IF(Options!$B$9=23,'Daten A5'!AB32,IF(Options!$B$9=24,'Daten A5'!AB38,))))))))))))))))))))))))","v":"0%"},{"$f":"IF(Options!$B$9=1,'Daten A5'!$N$8,IF(Options!$B$9=2,'Daten A5'!$N$14,IF(Options!$B$9=3,'Daten A5'!$N$20,IF(Options!$B$9=4,'Daten A5'!$N$26,IF(Options!$B$9=5,'Daten A5'!$N$32,IF(Options!$B$9=6,'Daten A5'!$N$38,IF(Options!$B$9=7,'Daten A5'!$N$44,IF(Options!$B$9=8,'Daten A5'!$N$50,IF(Options!$B$9=9,'Daten A5'!$N$56,IF(Options!$B$9=10,'Daten A5'!$N$62,IF(Options!$B$9=11,'Daten A5'!$N$68,IF(Options!$B$9=12,'Daten A5'!$N$74,IF(Options!$B$9=13,'Daten A5'!$N$80,IF(Options!$B$9=14,'Daten A5'!$N$86,IF(Options!$B$9=15,'Daten A5'!$N$92,IF(Options!$B$9=16,'Daten A5'!$N$98,IF(Options!$B$9=17,'Daten A5'!$N$104,IF(Options!$B$9=18,'Daten A5'!$N$110,IF(Options!$B$9=19,'Daten A5'!AC8,IF(Options!$B$9=20,'Daten A5'!AC14,IF(Options!$B$9=21,'Daten A5'!AC20,IF(Options!$B$9=22,'Daten A5'!AC26,IF(Options!$B$9=23,'Daten A5'!AC32,IF(Options!$B$9=24,'Daten A5'!AC38,))))))))))))))))))))))))","v":0}]
[null,{"$f":"IF(OR($BP$31=0,$BQ$31=0),\"\",CONCATENATE($BP$38,$BD$26,$BQ$38))","v":""},null,null,{"$f":"IF(OR($BP$30=0,$BQ$30=0),\"\",CONCATENATE($BP$37,$BD$26,$BQ$37))","v":""},null,null,null,null,null,null,null,{"$f":"IF(OR($BN$31=0,$BO$31=0),\"\",CONCATENATE($BN$38,$BD$26,$BO$38))","v":""},null,null,{"$f":"IF(OR($BN$30=0,$BO$30=0),\"\",CONCATENATE($BN$37,$BD$26,$BO$37))","v":""},null,null,null,null,null,null,null,{"$f":"IF(OR($BL$31=0,$BM$31=0),\"\",CONCATENATE($BL$38,$BD$26,$BM$38))","v":""},null,null,{"$f":"IF(OR($BL$30=0,$BM$30=0),\"\",CONCATENATE($BL$37,$BD$26,$BM$37))","v":""},null,null,null,null,null,null,null,null,null,null,null,null,null,null,null,null,null,null,null,null,"S3",null,{"$f":"AX22/$AW$22","v":{"$error":"#DIV/0!"}},{"$f":"AY22/$AW$22","v":{"$error":"#DIV/0!"}},{"$error":"#DIV/0!"},{"$error":"#DIV/0!"},{"$f":"BB22/$AW$18","v":{"$error":"#DIV/0!"}},null,"Eff & #% in rot by setter"]
[null,null,null,null,null,null,null,null,null,null,null,null,null,null,null,null,null,null,null,null,null,null,null,null,null,null,null,null,null,null,null,null,null,null,null,null,null,null,null,null,null,null,null,null,null,null,null,"S2",null,{"$f":"AX23/$AW$23","v":{"$error":"#DIV/0!"}},{"$f":"AY23/$AW$23","v":{"$error":"#DIV/0!"}},{"$error":"#DIV/0!"},{"$error":"#DIV/0!"},{"$f":"BB23/$AW$18","v":{"$error":"#DIV/0!"}},null,"  ",null,"S 1",null,"S 6",null,"S 5",null,"S 4",null,"S 3",null,"S 2"]
[null,null,null,null,null,null,null,null,null,null,null,null,null,null,null,null,null,null,null,null,null,null,null,null,null,null,null,null,null,null,null,null,null,null,null,null,null,null,null,null,null,null,null,null,null,null,null,null,null,null,null,null,null,null,null,"Pos 2",null,{"$f":"IF(Options!$B$9=1,'Daten A6'!$C$4,IF(Options!$B$9=2,'Daten A6'!$C$10,IF(Options!$B$9=3,'Daten A6'!$C$16,IF(Options!$B$9=4,'Daten A6'!$C$22,IF(Options!$B$9=5,'Daten A6'!$C$28,IF(Options!$B$9=6,'Daten A6'!$C$34,IF(Options!$B$9=7,'Daten A6'!$C$40,IF(Options!$B$9=8,'Daten A6'!$C$46,IF(Options!$B$9=9,'Daten A6'!$C$52,IF(Options!$B$9=10,'Daten A6'!$C$58,IF(Options!$B$9=11,'Daten A6'!$C$64,IF(Options!$B$9=12,'Daten A6'!$C$70,IF(Options!$B$9=13,'Daten A6'!$C$76,IF(Options!$B$9=14,'Daten A6'!$C$82,IF(Options!$B$9=15,'Daten A6'!$C$88,IF(Options!$B$9=16,'Daten A6'!$C$94,IF(Options!$B$9=17,'Daten A6'!$C$100,IF(Options!$B$9=18,'Daten A6'!$C$106,IF(Options!$B$9=19,'Daten A6'!R11,IF(Options!$B$9=20,'Daten A6'!R17,IF(Options!$B$9=21,'Daten A6'!R23,IF(Options!$B$9=22,'Daten A6'!R29,IF(Options!$B$9=23,'Daten A6'!R35,IF(Options!$B$9=24,'Daten A6'!R41,))))))))))))))))))))))))","v":"0%"},{"$f":"IF(Options!$B$9=1,'Daten A6'!$D$4,IF(Options!$B$9=2,'Daten A6'!$D$10,IF(Options!$B$9=3,'Daten A6'!$D$16,IF(Options!$B$9=4,'Daten A6'!$D$22,IF(Options!$B$9=5,'Daten A6'!$D$28,IF(Options!$B$9=6,'Daten A6'!$D$34,IF(Options!$B$9=7,'Daten A6'!$D$40,IF(Options!$B$9=8,'Daten A6'!$D$46,IF(Options!$B$9=9,'Daten A6'!$D$52,IF(Options!$B$9=10,'Daten A6'!$D$58,IF(Options!$B$9=11,'Daten A6'!$D$64,IF(Options!$B$9=12,'Daten A6'!$D$70,IF(Options!$B$9=13,'Daten A6'!$D$76,IF(Options!$B$9=14,'Daten A6'!$D$82,IF(Options!$B$9=15,'Daten A6'!$D$88,IF(Options!$B$9=16,'Daten A6'!$D$94,IF(Options!$B$9=17,'Daten A6'!$D$100,IF(Options!$B$9=18,'Daten A6'!$D$106,IF(Options!$B$9=19,'Daten A6'!S11,IF(Options!$B$9=20,'Daten A6'!S17,IF(Options!$B$9=21,'Daten A6'!S23,IF(Options!$B$9=22,'Daten A6'!S29,IF(Options!$B$9=23,'Daten A6'!S35,IF(Options!$B$9=24,'Daten A6'!S41,))))))))))))))))))))))))","v":"----"},{"$f":"IF(Options!$B$9=1,'Daten A6'!$E$4,IF(Options!$B$9=2,'Daten A6'!$E$10,IF(Options!$B$9=3,'Daten A6'!$E$16,IF(Options!$B$9=4,'Daten A6'!$E$22,IF(Options!$B$9=5,'Daten A6'!$E$28,IF(Options!$B$9=6,'Daten A6'!$E$34,IF(Options!$B$9=7,'Daten A6'!$E$40,IF(Options!$B$9=8,'Daten A6'!$E$46,IF(Options!$B$9=9,'Daten A6'!$E$52,IF(Options!$B$9=10,'Daten A6'!$E$58,IF(Options!$B$9=11,'Daten A6'!$E$64,IF(Options!$B$9=12,'Daten A6'!$E$70,IF(Options!$B$9=13,'Daten A6'!$E$76,IF(Options!$B$9=14,'Daten A6'!$E$82,IF(Options!$B$9=15,'Daten A6'!$E$88,IF(Options!$B$9=16,'Daten A6'!$E$94,IF(Options!$B$9=17,'Daten A6'!$E$100,IF(Options!$B$9=18,'Daten A6'!$E$106,IF(Options!$B$9=19,'Daten A6'!T11,IF(Options!$B$9=20,'Daten A6'!T17,IF(Options!$B$9=21,'Daten A6'!T23,IF(Options!$B$9=22,'Daten A6'!T29,IF(Options!$B$9=23,'Daten A6'!T35,IF(Options!$B$9=24,'Daten A6'!T41,))))))))))))))))))))))))","v":"-100%"},{"$f":"IF(Options!$B$9=1,'Daten A6'!$F$4,IF(Options!$B$9=2,'Daten A6'!$F$10,IF(Options!$B$9=3,'Daten A6'!$F$16,IF(Options!$B$9=4,'Daten A6'!$F$22,IF(Options!$B$9=5,'Daten A6'!$F$28,IF(Options!$B$9=6,'Daten A6'!$F$34,IF(Options!$B$9=7,'Daten A6'!$F$40,IF(Options!$B$9=8,'Daten A6'!$F$46,IF(Options!$B$9=9,'Daten A6'!$F$52,IF(Options!$B$9=10,'Daten A6'!$F$58,IF(Options!$B$9=11,'Daten A6'!$F$64,IF(Options!$B$9=12,'Daten A6'!$F$70,IF(Options!$B$9=13,'Daten A6'!$F$76,IF(Options!$B$9=14,'Daten A6'!$F$82,IF(Options!$B$9=15,'Daten A6'!$F$88,IF(Options!$B$9=16,'Daten A6'!$F$94,IF(Options!$B$9=17,'Daten A6'!$F$100,IF(Options!$B$9=18,'Daten A6'!$F$106,IF(Options!$B$9=19,'Daten A6'!U11,IF(Options!$B$9=20,'Daten A6'!U17,IF(Options!$B$9=21,'Daten A6'!U23,IF(Options!$B$9=22,'Daten A6'!U29,IF(Options!$B$9=23,'Daten A6'!U35,IF(Options!$B$9=24,'Daten A6'!U41,))))))))))))))))))))))))","v":"0%"},{"$f":"IF(Options!$B$9=1,'Daten A6'!$G$4,IF(Options!$B$9=2,'Daten A6'!$G$10,IF(Options!$B$9=3,'Daten A6'!$G$16,IF(Options!$B$9=4,'Daten A6'!$G$22,IF(Options!$B$9=5,'Daten A6'!$G$28,IF(Options!$B$9=6,'Daten A6'!$G$34,IF(Options!$B$9=7,'Daten A6'!$G$40,IF(Options!$B$9=8,'Daten A6'!$G$46,IF(Options!$B$9=9,'Daten A6'!$G$52,IF(Options!$B$9=10,'Daten A6'!$G$58,IF(Options!$B$9=11,'Daten A6'!$G$64,IF(Options!$B$9=12,'Daten A6'!$G$70,IF(Options!$B$9=13,'Daten A6'!$G$76,IF(Options!$B$9=14,'Daten A6'!$G$82,IF(Options!$B$9=15,'Daten A6'!$G$88,IF(Options!$B$9=16,'Daten A6'!$G$94,IF(Options!$B$9=17,'Daten A6'!$G$100,IF(Options!$B$9=18,'Daten A6'!$G$106,IF(Options!$B$9=19,'Daten A6'!V11,IF(Options!$B$9=20,'Daten A6'!V17,IF(Options!$B$9=21,'Daten A6'!V23,IF(Options!$B$9=22,'Daten A6'!V29,IF(Options!$B$9=23,'Daten A6'!V35,IF(Options!$B$9=24,'Daten A6'!V41,))))))))))))))))))))))))","v":"100%"},{"$f":"IF(Options!$B$9=1,'Daten A6'!$H$4,IF(Options!$B$9=2,'Daten A6'!$H$10,IF(Options!$B$9=3,'Daten A6'!$H$16,IF(Options!$B$9=4,'Daten A6'!$H$22,IF(Options!$B$9=5,'Daten A6'!$H$28,IF(Options!$B$9=6,'Daten A6'!$H$34,IF(Options!$B$9=7,'Daten A6'!$H$40,IF(Options!$B$9=8,'Daten A6'!$H$46,IF(Options!$B$9=9,'Daten A6'!$H$52,IF(Options!$B$9=10,'Daten A6'!$H$58,IF(Options!$B$9=11,'Daten A6'!$H$64,IF(Options!$B$9=12,'Daten A6'!$H$70,IF(Options!$B$9=13,'Daten A6'!$H$76,IF(Options!$B$9=14,'Daten A6'!$H$82,IF(Options!$B$9=15,'Daten A6'!$H$88,IF(Options!$B$9=16,'Daten A6'!$H$94,IF(Options!$B$9=17,'Daten A6'!$H$100,IF(Options!$B$9=18,'Daten A6'!$H$106,IF(Options!$B$9=19,'Daten A6'!W11,IF(Options!$B$9=20,'Daten A6'!W17,IF(Options!$B$9=21,'Daten A6'!W23,IF(Options!$B$9=22,'Daten A6'!W29,IF(Options!$B$9=23,'Daten A6'!W35,IF(Options!$B$9=24,'Daten A6'!W41,))))))))))))))))))))))))","v":"100%"},{"$f":"IF(Options!$B$9=1,'Daten A6'!$I$4,IF(Options!$B$9=2,'Daten A6'!$I$10,IF(Options!$B$9=3,'Daten A6'!$I$16,IF(Options!$B$9=4,'Daten A6'!$I$22,IF(Options!$B$9=5,'Daten A6'!$I$28,IF(Options!$B$9=6,'Daten A6'!$I$34,IF(Options!$B$9=7,'Daten A6'!$I$40,IF(Options!$B$9=8,'Daten A6'!$I$46,IF(Options!$B$9=9,'Daten A6'!$I$52,IF(Options!$B$9=10,'Daten A6'!$I$58,IF(Options!$B$9=11,'Daten A6'!$I$64,IF(Options!$B$9=12,'Daten A6'!$I$70,IF(Options!$B$9=13,'Daten A6'!$I$76,IF(Options!$B$9=14,'Daten A6'!$I$82,IF(Options!$B$9=15,'Daten A6'!$I$88,IF(Options!$B$9=16,'Daten A6'!$I$94,IF(Options!$B$9=17,'Daten A6'!$I$100,IF(Options!$B$9=18,'Daten A6'!$I$106,IF(Options!$B$9=19,'Daten A6'!X11,IF(Options!$B$9=20,'Daten A6'!X17,IF(Options!$B$9=21,'Daten A6'!X23,IF(Options!$B$9=22,'Daten A6'!X29,IF(Options!$B$9=23,'Daten A6'!X35,IF(Options!$B$9=24,'Daten A6'!X41,))))))))))))))))))))))))","v":"0%"},{"$f":"IF(Options!$B$9=1,'Daten A6'!$J$4,IF(Options!$B$9=2,'Daten A6'!$J$10,IF(Options!$B$9=3,'Daten A6'!$J$16,IF(Options!$B$9=4,'Daten A6'!$J$22,IF(Options!$B$9=5,'Daten A6'!$J$28,IF(Options!$B$9=6,'Daten A6'!$J$34,IF(Options!$B$9=7,'Daten A6'!$J$40,IF(Options!$B$9=8,'Daten A6'!$J$46,IF(Options!$B$9=9,'Daten A6'!$J$52,IF(Options!$B$9=10,'Daten A6'!$J$58,IF(Options!$B$9=11,'Daten A6'!$J$64,IF(Options!$B$9=12,'Daten A6'!$J$70,IF(Options!$B$9=13,'Daten A6'!$J$76,IF(Options!$B$9=14,'Daten A6'!$J$82,IF(Options!$B$9=15,'Daten A6'!$J$88,IF(Options!$B$9=16,'Daten A6'!$J$94,IF(Options!$B$9=17,'Daten A6'!$J$100,IF(Options!$B$9=18,'Daten A6'!$J$106,IF(Options!$B$9=19,'Daten A6'!Y11,IF(Options!$B$9=20,'Daten A6'!Y17,IF(Options!$B$9=21,'Daten A6'!Y23,IF(Options!$B$9=22,'Daten A6'!Y29,IF(Options!$B$9=23,'Daten A6'!Y35,IF(Options!$B$9=24,'Daten A6'!Y41,))))))))))))))))))))))))","v":"----"},{"$f":"IF(Options!$B$9=1,'Daten A6'!$K$4,IF(Options!$B$9=2,'Daten A6'!$K$10,IF(Options!$B$9=3,'Daten A6'!$K$16,IF(Options!$B$9=4,'Daten A6'!$K$22,IF(Options!$B$9=5,'Daten A6'!$K$28,IF(Options!$B$9=6,'Daten A6'!$K$34,IF(Options!$B$9=7,'Daten A6'!$K$40,IF(Options!$B$9=8,'Daten A6'!$K$46,IF(Options!$B$9=9,'Daten A6'!$K$52,IF(Options!$B$9=10,'Daten A6'!$K$58,IF(Options!$B$9=11,'Daten A6'!$K$64,IF(Options!$B$9=12,'Daten A6'!$K$70,IF(Options!$B$9=13,'Daten A6'!$K$76,IF(Options!$B$9=14,'Daten A6'!$K$82,IF(Options!$B$9=15,'Daten A6'!$K$88,IF(Options!$B$9=16,'Daten A6'!$K$94,IF(Options!$B$9=17,'Daten A6'!$K$100,IF(Options!$B$9=18,'Daten A6'!$K$106,IF(Options!$B$9=19,'Daten A6'!Z11,IF(Options!$B$9=20,'Daten A6'!Z17,IF(Options!$B$9=21,'Daten A6'!Z23,IF(Options!$B$9=22,'Daten A6'!Z29,IF(Options!$B$9=23,'Daten A6'!Z35,IF(Options!$B$9=24,'Daten A6'!Z41,))))))))))))))))))))))))","v":"0%"},{"$f":"IF(Options!$B$9=1,'Daten A6'!$L$4,IF(Options!$B$9=2,'Daten A6'!$L$10,IF(Options!$B$9=3,'Daten A6'!$L$16,IF(Options!$B$9=4,'Daten A6'!$L$22,IF(Options!$B$9=5,'Daten A6'!$L$28,IF(Options!$B$9=6,'Daten A6'!$L$34,IF(Options!$B$9=7,'Daten A6'!$L$40,IF(Options!$B$9=8,'Daten A6'!$L$46,IF(Options!$B$9=9,'Daten A6'!$L$52,IF(Options!$B$9=10,'Daten A6'!$L$58,IF(Options!$B$9=11,'Daten A6'!$L$64,IF(Options!$B$9=12,'Daten A6'!$L$70,IF(Options!$B$9=13,'Daten A6'!$L$76,IF(Options!$B$9=14,'Daten A6'!$L$82,IF(Options!$B$9=15,'Daten A6'!$L$88,IF(Options!$B$9=16,'Daten A6'!$L$94,IF(Options!$B$9=17,'Daten A6'!$L$100,IF(Options!$B$9=18,'Daten A6'!$L$106,IF(Options!$B$9=19,'Daten A6'!AA11,IF(Options!$B$9=20,'Daten A6'!AA17,IF(Options!$B$9=21,'Daten A6'!AA23,IF(Options!$B$9=22,'Daten A6'!AA29,IF(Options!$B$9=23,'Daten A6'!AA35,IF(Options!$B$9=24,'Daten A6'!AA41,))))))))))))))))))))))))","v":"----"},{"$f":"IF(Options!$B$9=1,'Daten A6'!$M$4,IF(Options!$B$9=2,'Daten A6'!$M$10,IF(Options!$B$9=3,'Daten A6'!$M$16,IF(Options!$B$9=4,'Daten A6'!$M$22,IF(Options!$B$9=5,'Daten A6'!$M$28,IF(Options!$B$9=6,'Daten A6'!$M$34,IF(Options!$B$9=7,'Daten A6'!$M$40,IF(Options!$B$9=8,'Daten A6'!$M$46,IF(Options!$B$9=9,'Daten A6'!$M$52,IF(Options!$B$9=10,'Daten A6'!$M$58,IF(Options!$B$9=11,'Daten A6'!$M$64,IF(Options!$B$9=12,'Daten A6'!$M$70,IF(Options!$B$9=13,'Daten A6'!$M$76,IF(Options!$B$9=14,'Daten A6'!$M$82,IF(Options!$B$9=15,'Daten A6'!$M$88,IF(Options!$B$9=16,'Daten A6'!$M$94,IF(Options!$B$9=17,'Daten A6'!$M$100,IF(Options!$B$9=18,'Daten A6'!$M$106,IF(Options!$B$9=19,'Daten A6'!AB11,IF(Options!$B$9=20,'Daten A6'!AB17,IF(Options!$B$9=21,'Daten A6'!AB23,IF(Options!$B$9=22,'Daten A6'!AB29,IF(Options!$B$9=23,'Daten A6'!AB35,IF(Options!$B$9=24,'Daten A6'!AB41,))))))))))))))))))))))))","v":"0%"},{"$f":"IF(Options!$B$9=1,'Daten A6'!$N$4,IF(Options!$B$9=2,'Daten A6'!$N$10,IF(Options!$B$9=3,'Daten A6'!$N$16,IF(Options!$B$9=4,'Daten A6'!$N$22,IF(Options!$B$9=5,'Daten A6'!$N$28,IF(Options!$B$9=6,'Daten A6'!$N$34,IF(Options!$B$9=7,'Daten A6'!$N$40,IF(Options!$B$9=8,'Daten A6'!$N$46,IF(Options!$B$9=9,'Daten A6'!$N$52,IF(Options!$B$9=10,'Daten A6'!$N$58,IF(Options!$B$9=11,'Daten A6'!$N$64,IF(Options!$B$9=12,'Daten A6'!$N$70,IF(Options!$B$9=13,'Daten A6'!$N$76,IF(Options!$B$9=14,'Daten A6'!$N$82,IF(Options!$B$9=15,'Daten A6'!$N$88,IF(Options!$B$9=16,'Daten A6'!$N$94,IF(Options!$B$9=17,'Daten A6'!$N$100,IF(Options!$B$9=18,'Daten A6'!$N$106,IF(Options!$B$9=19,'Daten A6'!AC11,IF(Options!$B$9=20,'Daten A6'!AC17,IF(Options!$B$9=21,'Daten A6'!AC23,IF(Options!$B$9=22,'Daten A6'!AC29,IF(Options!$B$9=23,'Daten A6'!AC35,IF(Options!$B$9=24,'Daten A6'!AC41,))))))))))))))))))))))))","v":"----"}]
[null,null,null,null,null,null,null,null,null,null,null,null,null,null,null,null,null,null,null,null,null,null,null,null,null,null,null,null,null,null,null,null,null,null,null,null,null,null,null,null,null,null,null,null,null,null,null,null,null,"if x then settercall in match schedule",null,null,null,null,null,"Pos 3",null,{"$f":"IF(Options!$B$9=1,'Daten A6'!$C$5,IF(Options!$B$9=2,'Daten A6'!$C$11,IF(Options!$B$9=3,'Daten A6'!$C$17,IF(Options!$B$9=4,'Daten A6'!$C$23,IF(Options!$B$9=5,'Daten A6'!$C$29,IF(Options!$B$9=6,'Daten A6'!$C$35,IF(Options!$B$9=7,'Daten A6'!$C$41,IF(Options!$B$9=8,'Daten A6'!$C$47,IF(Options!$B$9=9,'Daten A6'!$C$53,IF(Options!$B$9=10,'Daten A6'!$C$59,IF(Options!$B$9=11,'Daten A6'!$C$65,IF(Options!$B$9=12,'Daten A6'!$C$71,IF(Options!$B$9=13,'Daten A6'!$C$77,IF(Options!$B$9=14,'Daten A6'!$C$83,IF(Options!$B$9=15,'Daten A6'!$C$89,IF(Options!$B$9=16,'Daten A6'!$C$95,IF(Options!$B$9=17,'Daten A6'!$C$101,IF(Options!$B$9=18,'Daten A6'!$C$107,IF(Options!$B$9=19,'Daten A6'!R12,IF(Options!$B$9=20,'Daten A6'!R18,IF(Options!$B$9=21,'Daten A6'!R24,IF(Options!$B$9=22,'Daten A6'!R30,IF(Options!$B$9=23,'Daten A6'!R36,IF(Options!$B$9=24,'Daten A6'!R42,))))))))))))))))))))))))","v":"0%"},{"$f":"IF(Options!$B$9=1,'Daten A6'!$D$5,IF(Options!$B$9=2,'Daten A6'!$D$11,IF(Options!$B$9=3,'Daten A6'!$D$17,IF(Options!$B$9=4,'Daten A6'!$D$23,IF(Options!$B$9=5,'Daten A6'!$D$29,IF(Options!$B$9=6,'Daten A6'!$D$35,IF(Options!$B$9=7,'Daten A6'!$D$41,IF(Options!$B$9=8,'Daten A6'!$D$47,IF(Options!$B$9=9,'Daten A6'!$D$53,IF(Options!$B$9=10,'Daten A6'!$D$59,IF(Options!$B$9=11,'Daten A6'!$D$65,IF(Options!$B$9=12,'Daten A6'!$D$71,IF(Options!$B$9=13,'Daten A6'!$D$77,IF(Options!$B$9=14,'Daten A6'!$D$83,IF(Options!$B$9=15,'Daten A6'!$D$89,IF(Options!$B$9=16,'Daten A6'!$D$95,IF(Options!$B$9=17,'Daten A6'!$D$101,IF(Options!$B$9=18,'Daten A6'!$D$107,IF(Options!$B$9=19,'Daten A6'!S12,IF(Options!$B$9=20,'Daten A6'!S18,IF(Options!$B$9=21,'Daten A6'!S24,IF(Options!$B$9=22,'Daten A6'!S30,IF(Options!$B$9=23,'Daten A6'!S36,IF(Options!$B$9=24,'Daten A6'!S42,))))))))))))))))))))))))","v":"----"},{"$f":"IF(Options!$B$9=1,'Daten A6'!$E$5,IF(Options!$B$9=2,'Daten A6'!$E$11,IF(Options!$B$9=3,'Daten A6'!$E$17,IF(Options!$B$9=4,'Daten A6'!$E$23,IF(Options!$B$9=5,'Daten A6'!$E$29,IF(Options!$B$9=6,'Daten A6'!$E$35,IF(Options!$B$9=7,'Daten A6'!$E$41,IF(Options!$B$9=8,'Daten A6'!$E$47,IF(Options!$B$9=9,'Daten A6'!$E$53,IF(Options!$B$9=10,'Daten A6'!$E$59,IF(Options!$B$9=11,'Daten A6'!$E$65,IF(Options!$B$9=12,'Daten A6'!$E$71,IF(Options!$B$9=13,'Daten A6'!$E$77,IF(Options!$B$9=14,'Daten A6'!$E$83,IF(Options!$B$9=15,'Daten A6'!$E$89,IF(Options!$B$9=16,'Daten A6'!$E$95,IF(Options!$B$9=17,'Daten A6'!$E$101,IF(Options!$B$9=18,'Daten A6'!$E$107,IF(Options!$B$9=19,'Daten A6'!T12,IF(Options!$B$9=20,'Daten A6'!T18,IF(Options!$B$9=21,'Daten A6'!T24,IF(Options!$B$9=22,'Daten A6'!T30,IF(Options!$B$9=23,'Daten A6'!T36,IF(Options!$B$9=24,'Daten A6'!T42,))))))))))))))))))))))))","v":"100%"},{"$f":"IF(Options!$B$9=1,'Daten A6'!$F$5,IF(Options!$B$9=2,'Daten A6'!$F$11,IF(Options!$B$9=3,'Daten A6'!$F$17,IF(Options!$B$9=4,'Daten A6'!$F$23,IF(Options!$B$9=5,'Daten A6'!$F$29,IF(Options!$B$9=6,'Daten A6'!$F$35,IF(Options!$B$9=7,'Daten A6'!$F$41,IF(Options!$B$9=8,'Daten A6'!$F$47,IF(Options!$B$9=9,'Daten A6'!$F$53,IF(Options!$B$9=10,'Daten A6'!$F$59,IF(Options!$B$9=11,'Daten A6'!$F$65,IF(Options!$B$9=12,'Daten A6'!$F$71,IF(Options!$B$9=13,'Daten A6'!$F$77,IF(Options!$B$9=14,'Daten A6'!$F$83,IF(Options!$B$9=15,'Daten A6'!$F$89,IF(Options!$B$9=16,'Daten A6'!$F$95,IF(Options!$B$9=17,'Daten A6'!$F$101,IF(Options!$B$9=18,'Daten A6'!$F$107,IF(Options!$B$9=19,'Daten A6'!U12,IF(Options!$B$9=20,'Daten A6'!U18,IF(Options!$B$9=21,'Daten A6'!U24,IF(Options!$B$9=22,'Daten A6'!U30,IF(Options!$B$9=23,'Daten A6'!U36,IF(Options!$B$9=24,'Daten A6'!U42,))))))))))))))))))))))))","v":"100%"},{"$f":"IF(Options!$B$9=1,'Daten A6'!$G$5,IF(Options!$B$9=2,'Daten A6'!$G$11,IF(Options!$B$9=3,'Daten A6'!$G$17,IF(Options!$B$9=4,'Daten A6'!$G$23,IF(Options!$B$9=5,'Daten A6'!$G$29,IF(Options!$B$9=6,'Daten A6'!$G$35,IF(Options!$B$9=7,'Daten A6'!$G$41,IF(Options!$B$9=8,'Daten A6'!$G$47,IF(Options!$B$9=9,'Daten A6'!$G$53,IF(Options!$B$9=10,'Daten A6'!$G$59,IF(Options!$B$9=11,'Daten A6'!$G$65,IF(Options!$B$9=12,'Daten A6'!$G$71,IF(Options!$B$9=13,'Daten A6'!$G$77,IF(Options!$B$9=14,'Daten A6'!$G$83,IF(Options!$B$9=15,'Daten A6'!$G$89,IF(Options!$B$9=16,'Daten A6'!$G$95,IF(Options!$B$9=17,'Daten A6'!$G$101,IF(Options!$B$9=18,'Daten A6'!$G$107,IF(Options!$B$9=19,'Daten A6'!V12,IF(Options!$B$9=20,'Daten A6'!V18,IF(Options!$B$9=21,'Daten A6'!V24,IF(Options!$B$9=22,'Daten A6'!V30,IF(Options!$B$9=23,'Daten A6'!V36,IF(Options!$B$9=24,'Daten A6'!V42,))))))))))))))))))))))))","v":"0%"},{"$f":"IF(Options!$B$9=1,'Daten A6'!$H$5,IF(Options!$B$9=2,'Daten A6'!$H$11,IF(Options!$B$9=3,'Daten A6'!$H$17,IF(Options!$B$9=4,'Daten A6'!$H$23,IF(Options!$B$9=5,'Daten A6'!$H$29,IF(Options!$B$9=6,'Daten A6'!$H$35,IF(Options!$B$9=7,'Daten A6'!$H$41,IF(Options!$B$9=8,'Daten A6'!$H$47,IF(Options!$B$9=9,'Daten A6'!$H$53,IF(Options!$B$9=10,'Daten A6'!$H$59,IF(Options!$B$9=11,'Daten A6'!$H$65,IF(Options!$B$9=12,'Daten A6'!$H$71,IF(Options!$B$9=13,'Daten A6'!$H$77,IF(Options!$B$9=14,'Daten A6'!$H$83,IF(Options!$B$9=15,'Daten A6'!$H$89,IF(Options!$B$9=16,'Daten A6'!$H$95,IF(Options!$B$9=17,'Daten A6'!$H$101,IF(Options!$B$9=18,'Daten A6'!$H$107,IF(Options!$B$9=19,'Daten A6'!W12,IF(Options!$B$9=20,'Daten A6'!W18,IF(Options!$B$9=21,'Daten A6'!W24,IF(Options!$B$9=22,'Daten A6'!W30,IF(Options!$B$9=23,'Daten A6'!W36,IF(Options!$B$9=24,'Daten A6'!W42,))))))))))))))))))))))))","v":"----"},{"$f":"IF(Options!$B$9=1,'Daten A6'!$I$5,IF(Options!$B$9=2,'Daten A6'!$I$11,IF(Options!$B$9=3,'Daten A6'!$I$17,IF(Options!$B$9=4,'Daten A6'!$I$23,IF(Options!$B$9=5,'Daten A6'!$I$29,IF(Options!$B$9=6,'Daten A6'!$I$35,IF(Options!$B$9=7,'Daten A6'!$I$41,IF(Options!$B$9=8,'Daten A6'!$I$47,IF(Options!$B$9=9,'Daten A6'!$I$53,IF(Options!$B$9=10,'Daten A6'!$I$59,IF(Options!$B$9=11,'Daten A6'!$I$65,IF(Options!$B$9=12,'Daten A6'!$I$71,IF(Options!$B$9=13,'Daten A6'!$I$77,IF(Options!$B$9=14,'Daten A6'!$I$83,IF(Options!$B$9=15,'Daten A6'!$I$89,IF(Options!$B$9=16,'Daten A6'!$I$95,IF(Options!$B$9=17,'Daten A6'!$I$101,IF(Options!$B$9=18,'Daten A6'!$I$107,IF(Options!$B$9=19,'Daten A6'!X12,IF(Options!$B$9=20,'Daten A6'!X18,IF(Options!$B$9=21,'Daten A6'!X24,IF(Options!$B$9=22,'Daten A6'!X30,IF(Options!$B$9=23,'Daten A6'!X36,IF(Options!$B$9=24,'Daten A6'!X42,))))))))))))))))))))))))","v":"0%"},{"$f":"IF(Options!$B$9=1,'Daten A6'!$J$5,IF(Options!$B$9=2,'Daten A6'!$J$11,IF(Options!$B$9=3,'Daten A6'!$J$17,IF(Options!$B$9=4,'Daten A6'!$J$23,IF(Options!$B$9=5,'Daten A6'!$J$29,IF(Options!$B$9=6,'Daten A6'!$J$35,IF(Options!$B$9=7,'Daten A6'!$J$41,IF(Options!$B$9=8,'Daten A6'!$J$47,IF(Options!$B$9=9,'Daten A6'!$J$53,IF(Options!$B$9=10,'Daten A6'!$J$59,IF(Options!$B$9=11,'Daten A6'!$J$65,IF(Options!$B$9=12,'Daten A6'!$J$71,IF(Options!$B$9=13,'Daten A6'!$J$77,IF(Options!$B$9=14,'Daten A6'!$J$83,IF(Options!$B$9=15,'Daten A6'!$J$89,IF(Options!$B$9=16,'Daten A6'!$J$95,IF(Options!$B$9=17,'Daten A6'!$J$101,IF(Options!$B$9=18,'Daten A6'!$J$107,IF(Options!$B$9=19,'Daten A6'!Y12,IF(Options!$B$9=20,'Daten A6'!Y18,IF(Options!$B$9=21,'Daten A6'!Y24,IF(Options!$B$9=22,'Daten A6'!Y30,IF(Options!$B$9=23,'Daten A6'!Y36,IF(Options!$B$9=24,'Daten A6'!Y42,))))))))))))))))))))))))","v":"----"},{"$f":"IF(Options!$B$9=1,'Daten A6'!$K$5,IF(Options!$B$9=2,'Daten A6'!$K$11,IF(Options!$B$9=3,'Daten A6'!$K$17,IF(Options!$B$9=4,'Daten A6'!$K$23,IF(Options!$B$9=5,'Daten A6'!$K$29,IF(Options!$B$9=6,'Daten A6'!$K$35,IF(Options!$B$9=7,'Daten A6'!$K$41,IF(Options!$B$9=8,'Daten A6'!$K$47,IF(Options!$B$9=9,'Daten A6'!$K$53,IF(Options!$B$9=10,'Daten A6'!$K$59,IF(Options!$B$9=11,'Daten A6'!$K$65,IF(Options!$B$9=12,'Daten A6'!$K$71,IF(Options!$B$9=13,'Daten A6'!$K$77,IF(Options!$B$9=14,'Daten A6'!$K$83,IF(Options!$B$9=15,'Daten A6'!$K$89,IF(Options!$B$9=16,'Daten A6'!$K$95,IF(Options!$B$9=17,'Daten A6'!$K$101,IF(Options!$B$9=18,'Daten A6'!$K$107,IF(Options!$B$9=19,'Daten A6'!Z12,IF(Options!$B$9=20,'Daten A6'!Z18,IF(Options!$B$9=21,'Daten A6'!Z24,IF(Options!$B$9=22,'Daten A6'!Z30,IF(Options!$B$9=23,'Daten A6'!Z36,IF(Options!$B$9=24,'Daten A6'!Z42,))))))))))))))))))))))))","v":"0%"},{"$f":"IF(Options!$B$9=1,'Daten A6'!$L$5,IF(Options!$B$9=2,'Daten A6'!$L$11,IF(Options!$B$9=3,'Daten A6'!$L$17,IF(Options!$B$9=4,'Daten A6'!$L$23,IF(Options!$B$9=5,'Daten A6'!$L$29,IF(Options!$B$9=6,'Daten A6'!$L$35,IF(Options!$B$9=7,'Daten A6'!$L$41,IF(Options!$B$9=8,'Daten A6'!$L$47,IF(Options!$B$9=9,'Daten A6'!$L$53,IF(Options!$B$9=10,'Daten A6'!$L$59,IF(Options!$B$9=11,'Daten A6'!$L$65,IF(Options!$B$9=12,'Daten A6'!$L$71,IF(Options!$B$9=13,'Daten A6'!$L$77,IF(Options!$B$9=14,'Daten A6'!$L$83,IF(Options!$B$9=15,'Daten A6'!$L$89,IF(Options!$B$9=16,'Daten A6'!$L$95,IF(Options!$B$9=17,'Daten A6'!$L$101,IF(Options!$B$9=18,'Daten A6'!$L$107,IF(Options!$B$9=19,'Daten A6'!AA12,IF(Options!$B$9=20,'Daten A6'!AA18,IF(Options!$B$9=21,'Daten A6'!AA24,IF(Options!$B$9=22,'Daten A6'!AA30,IF(Options!$B$9=23,'Daten A6'!AA36,IF(Options!$B$9=24,'Daten A6'!AA42,))))))))))))))))))))))))","v":"----"},{"$f":"IF(Options!$B$9=1,'Daten A6'!$M$5,IF(Options!$B$9=2,'Daten A6'!$M$11,IF(Options!$B$9=3,'Daten A6'!$M$17,IF(Options!$B$9=4,'Daten A6'!$M$23,IF(Options!$B$9=5,'Daten A6'!$M$29,IF(Options!$B$9=6,'Daten A6'!$M$35,IF(Options!$B$9=7,'Daten A6'!$M$41,IF(Options!$B$9=8,'Daten A6'!$M$47,IF(Options!$B$9=9,'Daten A6'!$M$53,IF(Options!$B$9=10,'Daten A6'!$M$59,IF(Options!$B$9=11,'Daten A6'!$M$65,IF(Options!$B$9=12,'Daten A6'!$M$71,IF(Options!$B$9=13,'Daten A6'!$M$77,IF(Options!$B$9=14,'Daten A6'!$M$83,IF(Options!$B$9=15,'Daten A6'!$M$89,IF(Options!$B$9=16,'Daten A6'!$M$95,IF(Options!$B$9=17,'Daten A6'!$M$101,IF(Options!$B$9=18,'Daten A6'!$M$107,IF(Options!$B$9=19,'Daten A6'!AB12,IF(Options!$B$9=20,'Daten A6'!AB18,IF(Options!$B$9=21,'Daten A6'!AB24,IF(Options!$B$9=22,'Daten A6'!AB30,IF(Options!$B$9=23,'Daten A6'!AB36,IF(Options!$B$9=24,'Daten A6'!AB42,))))))))))))))))))))))))","v":"0%"},{"$f":"IF(Options!$B$9=1,'Daten A6'!$N$5,IF(Options!$B$9=2,'Daten A6'!$N$11,IF(Options!$B$9=3,'Daten A6'!$N$17,IF(Options!$B$9=4,'Daten A6'!$N$23,IF(Options!$B$9=5,'Daten A6'!$N$29,IF(Options!$B$9=6,'Daten A6'!$N$35,IF(Options!$B$9=7,'Daten A6'!$N$41,IF(Options!$B$9=8,'Daten A6'!$N$47,IF(Options!$B$9=9,'Daten A6'!$N$53,IF(Options!$B$9=10,'Daten A6'!$N$59,IF(Options!$B$9=11,'Daten A6'!$N$65,IF(Options!$B$9=12,'Daten A6'!$N$71,IF(Options!$B$9=13,'Daten A6'!$N$77,IF(Options!$B$9=14,'Daten A6'!$N$83,IF(Options!$B$9=15,'Daten A6'!$N$89,IF(Options!$B$9=16,'Daten A6'!$N$95,IF(Options!$B$9=17,'Daten A6'!$N$101,IF(Options!$B$9=18,'Daten A6'!$N$107,IF(Options!$B$9=19,'Daten A6'!AC12,IF(Options!$B$9=20,'Daten A6'!AC18,IF(Options!$B$9=21,'Daten A6'!AC24,IF(Options!$B$9=22,'Daten A6'!AC30,IF(Options!$B$9=23,'Daten A6'!AC36,IF(Options!$B$9=24,'Daten A6'!AC42,))))))))))))))))))))))))","v":"0%"}]
[null,{"$f":"IF(OR($BP$27=0,$BQ$27=0),\"\",CONCATENATE($BP$27,$BD$26,$BQ$27))","v":""},null,null,{"$f":"IF(OR($BP$28=0,$BQ$28=0),\"\",CONCATENATE($BP$28,$BD$26,$BQ$28))","v":"25% / 1"},null,null,{"$f":"IF(OR($BP$29=0,$BQ$29=0),\"\",CONCATENATE($BP$29,$BD$26,$BQ$29))","v":"75% / 3"},null,null,null,null,{"$f":"IF(OR($BN$27=0,$BO$27=0),\"\",CONCATENATE($BN$27,$BD$26,$BO$27))","v":""},null,null,{"$f":"IF(OR($BN$28=0,$BO$28=0),\"\",CONCATENATE($BN$28,$BD$26,$BO$28))","v":""},null,null,{"$f":"IF(OR($BN$29=0,$BO$29=0),\"\",CONCATENATE($BN$29,$BD$26,$BO$29))","v":""},null,null,null,null,{"$f":"IF(OR($BL$27=0,$BM$27=0),\"\",CONCATENATE($BL$27,$BD$26,$BM$27))","v":""},null,null,{"$f":"IF(OR($BL$28=0,$BM$28=0),\"\",CONCATENATE($BL$28,$BD$26,$BM$28))","v":""},null,null,{"$f":"IF(OR($BL$29=0,$BM$29=0),\"\",CONCATENATE($BL$29,$BD$26,$BM$29))","v":"100% / 1"},null,null,null,null,null,null,null,null,null,null,null,null,null,null,null,null,null,null,null,null,null,null,null,null,null,"Pos 4",null,{"$f":"IF(Options!$B$9=1,'Daten A6'!$C$6,IF(Options!$B$9=2,'Daten A6'!$C$12,IF(Options!$B$9=3,'Daten A6'!$C$18,IF(Options!$B$9=4,'Daten A6'!$C$24,IF(Options!$B$9=5,'Daten A6'!$C$30,IF(Options!$B$9=6,'Daten A6'!$C$36,IF(Options!$B$9=7,'Daten A6'!$C$42,IF(Options!$B$9=8,'Daten A6'!$C$48,IF(Options!$B$9=9,'Daten A6'!$C$54,IF(Options!$B$9=10,'Daten A6'!$C$60,IF(Options!$B$9=11,'Daten A6'!$C$66,IF(Options!$B$9=12,'Daten A6'!$C$72,IF(Options!$B$9=13,'Daten A6'!$C$78,IF(Options!$B$9=14,'Daten A6'!$C$84,IF(Options!$B$9=15,'Daten A6'!$C$90,IF(Options!$B$9=16,'Daten A6'!$C$96,IF(Options!$B$9=17,'Daten A6'!$C$102,IF(Options!$B$9=18,'Daten A6'!$C$108,IF(Options!$B$9=19,'Daten A6'!R13,IF(Options!$B$9=20,'Daten A6'!R19,IF(Options!$B$9=21,'Daten A6'!R25,IF(Options!$B$9=22,'Daten A6'!R31,IF(Options!$B$9=23,'Daten A6'!R37,IF(Options!$B$9=24,'Daten A6'!R43,))))))))))))))))))))))))","v":"-25%"},{"$f":"IF(Options!$B$9=1,'Daten A6'!$D$6,IF(Options!$B$9=2,'Daten A6'!$D$12,IF(Options!$B$9=3,'Daten A6'!$D$18,IF(Options!$B$9=4,'Daten A6'!$D$24,IF(Options!$B$9=5,'Daten A6'!$D$30,IF(Options!$B$9=6,'Daten A6'!$D$36,IF(Options!$B$9=7,'Daten A6'!$D$42,IF(Options!$B$9=8,'Daten A6'!$D$48,IF(Options!$B$9=9,'Daten A6'!$D$54,IF(Options!$B$9=10,'Daten A6'!$D$60,IF(Options!$B$9=11,'Daten A6'!$D$66,IF(Options!$B$9=12,'Daten A6'!$D$72,IF(Options!$B$9=13,'Daten A6'!$D$78,IF(Options!$B$9=14,'Daten A6'!$D$84,IF(Options!$B$9=15,'Daten A6'!$D$90,IF(Options!$B$9=16,'Daten A6'!$D$96,IF(Options!$B$9=17,'Daten A6'!$D$102,IF(Options!$B$9=18,'Daten A6'!$D$108,IF(Options!$B$9=19,'Daten A6'!S13,IF(Options!$B$9=20,'Daten A6'!S19,IF(Options!$B$9=21,'Daten A6'!S25,IF(Options!$B$9=22,'Daten A6'!S31,IF(Options!$B$9=23,'Daten A6'!S37,IF(Options!$B$9=24,'Daten A6'!S43,))))))))))))))))))))))))","v":"25%"},{"$f":"IF(Options!$B$9=1,'Daten A6'!$E$6,IF(Options!$B$9=2,'Daten A6'!$E$12,IF(Options!$B$9=3,'Daten A6'!$E$18,IF(Options!$B$9=4,'Daten A6'!$E$24,IF(Options!$B$9=5,'Daten A6'!$E$30,IF(Options!$B$9=6,'Daten A6'!$E$36,IF(Options!$B$9=7,'Daten A6'!$E$42,IF(Options!$B$9=8,'Daten A6'!$E$48,IF(Options!$B$9=9,'Daten A6'!$E$54,IF(Options!$B$9=10,'Daten A6'!$E$60,IF(Options!$B$9=11,'Daten A6'!$E$66,IF(Options!$B$9=12,'Daten A6'!$E$72,IF(Options!$B$9=13,'Daten A6'!$E$78,IF(Options!$B$9=14,'Daten A6'!$E$84,IF(Options!$B$9=15,'Daten A6'!$E$90,IF(Options!$B$9=16,'Daten A6'!$E$96,IF(Options!$B$9=17,'Daten A6'!$E$102,IF(Options!$B$9=18,'Daten A6'!$E$108,IF(Options!$B$9=19,'Daten A6'!T13,IF(Options!$B$9=20,'Daten A6'!T19,IF(Options!$B$9=21,'Daten A6'!T25,IF(Options!$B$9=22,'Daten A6'!T31,IF(Options!$B$9=23,'Daten A6'!T37,IF(Options!$B$9=24,'Daten A6'!T43,))))))))))))))))))))))))","v":"-100%"},{"$f":"IF(Options!$B$9=1,'Daten A6'!$F$6,IF(Options!$B$9=2,'Daten A6'!$F$12,IF(Options!$B$9=3,'Daten A6'!$F$18,IF(Options!$B$9=4,'Daten A6'!$F$24,IF(Options!$B$9=5,'Daten A6'!$F$30,IF(Options!$B$9=6,'Daten A6'!$F$36,IF(Options!$B$9=7,'Daten A6'!$F$42,IF(Options!$B$9=8,'Daten A6'!$F$48,IF(Options!$B$9=9,'Daten A6'!$F$54,IF(Options!$B$9=10,'Daten A6'!$F$60,IF(Options!$B$9=11,'Daten A6'!$F$66,IF(Options!$B$9=12,'Daten A6'!$F$72,IF(Options!$B$9=13,'Daten A6'!$F$78,IF(Options!$B$9=14,'Daten A6'!$F$84,IF(Options!$B$9=15,'Daten A6'!$F$90,IF(Options!$B$9=16,'Daten A6'!$F$96,IF(Options!$B$9=17,'Daten A6'!$F$102,IF(Options!$B$9=18,'Daten A6'!$F$108,IF(Options!$B$9=19,'Daten A6'!U13,IF(Options!$B$9=20,'Daten A6'!U19,IF(Options!$B$9=21,'Daten A6'!U25,IF(Options!$B$9=22,'Daten A6'!U31,IF(Options!$B$9=23,'Daten A6'!U37,IF(Options!$B$9=24,'Daten A6'!U43,))))))))))))))))))))))))","v":"0%"},{"$f":"IF(Options!$B$9=1,'Daten A6'!$G$6,IF(Options!$B$9=2,'Daten A6'!$G$12,IF(Options!$B$9=3,'Daten A6'!$G$18,IF(Options!$B$9=4,'Daten A6'!$G$24,IF(Options!$B$9=5,'Daten A6'!$G$30,IF(Options!$B$9=6,'Daten A6'!$G$36,IF(Options!$B$9=7,'Daten A6'!$G$42,IF(Options!$B$9=8,'Daten A6'!$G$48,IF(Options!$B$9=9,'Daten A6'!$G$54,IF(Options!$B$9=10,'Daten A6'!$G$60,IF(Options!$B$9=11,'Daten A6'!$G$66,IF(Options!$B$9=12,'Daten A6'!$G$72,IF(Options!$B$9=13,'Daten A6'!$G$78,IF(Options!$B$9=14,'Daten A6'!$G$84,IF(Options!$B$9=15,'Daten A6'!$G$90,IF(Options!$B$9=16,'Daten A6'!$G$96,IF(Options!$B$9=17,'Daten A6'!$G$102,IF(Options!$B$9=18,'Daten A6'!$G$108,IF(Options!$B$9=19,'Daten A6'!V13,IF(Options!$B$9=20,'Daten A6'!V19,IF(Options!$B$9=21,'Daten A6'!V25,IF(Options!$B$9=22,'Daten A6'!V31,IF(Options!$B$9=23,'Daten A6'!V37,IF(Options!$B$9=24,'Daten A6'!V43,))))))))))))))))))))))))","v":"50%"},{"$f":"IF(Options!$B$9=1,'Daten A6'!$H$6,IF(Options!$B$9=2,'Daten A6'!$H$12,IF(Options!$B$9=3,'Daten A6'!$H$18,IF(Options!$B$9=4,'Daten A6'!$H$24,IF(Options!$B$9=5,'Daten A6'!$H$30,IF(Options!$B$9=6,'Daten A6'!$H$36,IF(Options!$B$9=7,'Daten A6'!$H$42,IF(Options!$B$9=8,'Daten A6'!$H$48,IF(Options!$B$9=9,'Daten A6'!$H$54,IF(Options!$B$9=10,'Daten A6'!$H$60,IF(Options!$B$9=11,'Daten A6'!$H$66,IF(Options!$B$9=12,'Daten A6'!$H$72,IF(Options!$B$9=13,'Daten A6'!$H$78,IF(Options!$B$9=14,'Daten A6'!$H$84,IF(Options!$B$9=15,'Daten A6'!$H$90,IF(Options!$B$9=16,'Daten A6'!$H$96,IF(Options!$B$9=17,'Daten A6'!$H$102,IF(Options!$B$9=18,'Daten A6'!$H$108,IF(Options!$B$9=19,'Daten A6'!W13,IF(Options!$B$9=20,'Daten A6'!W19,IF(Options!$B$9=21,'Daten A6'!W25,IF(Options!$B$9=22,'Daten A6'!W31,IF(Options!$B$9=23,'Daten A6'!W37,IF(Options!$B$9=24,'Daten A6'!W43,))))))))))))))))))))))))","v":"50%"},{"$f":"IF(Options!$B$9=1,'Daten A6'!$I$6,IF(Options!$B$9=2,'Daten A6'!$I$12,IF(Options!$B$9=3,'Daten A6'!$I$18,IF(Options!$B$9=4,'Daten A6'!$I$24,IF(Options!$B$9=5,'Daten A6'!$I$30,IF(Options!$B$9=6,'Daten A6'!$I$36,IF(Options!$B$9=7,'Daten A6'!$I$42,IF(Options!$B$9=8,'Daten A6'!$I$48,IF(Options!$B$9=9,'Daten A6'!$I$54,IF(Options!$B$9=10,'Daten A6'!$I$60,IF(Options!$B$9=11,'Daten A6'!$I$66,IF(Options!$B$9=12,'Daten A6'!$I$72,IF(Options!$B$9=13,'Daten A6'!$I$78,IF(Options!$B$9=14,'Daten A6'!$I$84,IF(Options!$B$9=15,'Daten A6'!$I$90,IF(Options!$B$9=16,'Daten A6'!$I$96,IF(Options!$B$9=17,'Daten A6'!$I$102,IF(Options!$B$9=18,'Daten A6'!$I$108,IF(Options!$B$9=19,'Daten A6'!X13,IF(Options!$B$9=20,'Daten A6'!X19,IF(Options!$B$9=21,'Daten A6'!X25,IF(Options!$B$9=22,'Daten A6'!X31,IF(Options!$B$9=23,'Daten A6'!X37,IF(Options!$B$9=24,'Daten A6'!X43,))))))))))))))))))))))))","v":"-100%"},{"$f":"IF(Options!$B$9=1,'Daten A6'!$J$6,IF(Options!$B$9=2,'Daten A6'!$J$12,IF(Options!$B$9=3,'Daten A6'!$J$18,IF(Options!$B$9=4,'Daten A6'!$J$24,IF(Options!$B$9=5,'Daten A6'!$J$30,IF(Options!$B$9=6,'Daten A6'!$J$36,IF(Options!$B$9=7,'Daten A6'!$J$42,IF(Options!$B$9=8,'Daten A6'!$J$48,IF(Options!$B$9=9,'Daten A6'!$J$54,IF(Options!$B$9=10,'Daten A6'!$J$60,IF(Options!$B$9=11,'Daten A6'!$J$66,IF(Options!$B$9=12,'Daten A6'!$J$72,IF(Options!$B$9=13,'Daten A6'!$J$78,IF(Options!$B$9=14,'Daten A6'!$J$84,IF(Options!$B$9=15,'Daten A6'!$J$90,IF(Options!$B$9=16,'Daten A6'!$J$96,IF(Options!$B$9=17,'Daten A6'!$J$102,IF(Options!$B$9=18,'Daten A6'!$J$108,IF(Options!$B$9=19,'Daten A6'!Y13,IF(Options!$B$9=20,'Daten A6'!Y19,IF(Options!$B$9=21,'Daten A6'!Y25,IF(Options!$B$9=22,'Daten A6'!Y31,IF(Options!$B$9=23,'Daten A6'!Y37,IF(Options!$B$9=24,'Daten A6'!Y43,))))))))))))))))))))))))","v":"0%"},{"$f":"IF(Options!$B$9=1,'Daten A6'!$K$6,IF(Options!$B$9=2,'Daten A6'!$K$12,IF(Options!$B$9=3,'Daten A6'!$K$18,IF(Options!$B$9=4,'Daten A6'!$K$24,IF(Options!$B$9=5,'Daten A6'!$K$30,IF(Options!$B$9=6,'Daten A6'!$K$36,IF(Options!$B$9=7,'Daten A6'!$K$42,IF(Options!$B$9=8,'Daten A6'!$K$48,IF(Options!$B$9=9,'Daten A6'!$K$54,IF(Options!$B$9=10,'Daten A6'!$K$60,IF(Options!$B$9=11,'Daten A6'!$K$66,IF(Options!$B$9=12,'Daten A6'!$K$72,IF(Options!$B$9=13,'Daten A6'!$K$78,IF(Options!$B$9=14,'Daten A6'!$K$84,IF(Options!$B$9=15,'Daten A6'!$K$90,IF(Options!$B$9=16,'Daten A6'!$K$96,IF(Options!$B$9=17,'Daten A6'!$K$102,IF(Options!$B$9=18,'Daten A6'!$K$108,IF(Options!$B$9=19,'Daten A6'!Z13,IF(Options!$B$9=20,'Daten A6'!Z19,IF(Options!$B$9=21,'Daten A6'!Z25,IF(Options!$B$9=22,'Daten A6'!Z31,IF(Options!$B$9=23,'Daten A6'!Z37,IF(Options!$B$9=24,'Daten A6'!Z43,))))))))))))))))))))))))","v":"0%"},{"$f":"IF(Options!$B$9=1,'Daten A6'!$L$6,IF(Options!$B$9=2,'Daten A6'!$L$12,IF(Options!$B$9=3,'Daten A6'!$L$18,IF(Options!$B$9=4,'Daten A6'!$L$24,IF(Options!$B$9=5,'Daten A6'!$L$30,IF(Options!$B$9=6,'Daten A6'!$L$36,IF(Options!$B$9=7,'Daten A6'!$L$42,IF(Options!$B$9=8,'Daten A6'!$L$48,IF(Options!$B$9=9,'Daten A6'!$L$54,IF(Options!$B$9=10,'Daten A6'!$L$60,IF(Options!$B$9=11,'Daten A6'!$L$66,IF(Options!$B$9=12,'Daten A6'!$L$72,IF(Options!$B$9=13,'Daten A6'!$L$78,IF(Options!$B$9=14,'Daten A6'!$L$84,IF(Options!$B$9=15,'Daten A6'!$L$90,IF(Options!$B$9=16,'Daten A6'!$L$96,IF(Options!$B$9=17,'Daten A6'!$L$102,IF(Options!$B$9=18,'Daten A6'!$L$108,IF(Options!$B$9=19,'Daten A6'!AA13,IF(Options!$B$9=20,'Daten A6'!AA19,IF(Options!$B$9=21,'Daten A6'!AA25,IF(Options!$B$9=22,'Daten A6'!AA31,IF(Options!$B$9=23,'Daten A6'!AA37,IF(Options!$B$9=24,'Daten A6'!AA43,))))))))))))))))))))))))","v":"----"},{"$f":"IF(Options!$B$9=1,'Daten A6'!$M$6,IF(Options!$B$9=2,'Daten A6'!$M$12,IF(Options!$B$9=3,'Daten A6'!$M$18,IF(Options!$B$9=4,'Daten A6'!$M$24,IF(Options!$B$9=5,'Daten A6'!$M$30,IF(Options!$B$9=6,'Daten A6'!$M$36,IF(Options!$B$9=7,'Daten A6'!$M$42,IF(Options!$B$9=8,'Daten A6'!$M$48,IF(Options!$B$9=9,'Daten A6'!$M$54,IF(Options!$B$9=10,'Daten A6'!$M$60,IF(Options!$B$9=11,'Daten A6'!$M$66,IF(Options!$B$9=12,'Daten A6'!$M$72,IF(Options!$B$9=13,'Daten A6'!$M$78,IF(Options!$B$9=14,'Daten A6'!$M$84,IF(Options!$B$9=15,'Daten A6'!$M$90,IF(Options!$B$9=16,'Daten A6'!$M$96,IF(Options!$B$9=17,'Daten A6'!$M$102,IF(Options!$B$9=18,'Daten A6'!$M$108,IF(Options!$B$9=19,'Daten A6'!AB13,IF(Options!$B$9=20,'Daten A6'!AB19,IF(Options!$B$9=21,'Daten A6'!AB25,IF(Options!$B$9=22,'Daten A6'!AB31,IF(Options!$B$9=23,'Daten A6'!AB37,IF(Options!$B$9=24,'Daten A6'!AB43,))))))))))))))))))))))))","v":"67%"},{"$f":"IF(Options!$B$9=1,'Daten A6'!$N$6,IF(Options!$B$9=2,'Daten A6'!$N$12,IF(Options!$B$9=3,'Daten A6'!$N$18,IF(Options!$B$9=4,'Daten A6'!$N$24,IF(Options!$B$9=5,'Daten A6'!$N$30,IF(Options!$B$9=6,'Daten A6'!$N$36,IF(Options!$B$9=7,'Daten A6'!$N$42,IF(Options!$B$9=8,'Daten A6'!$N$48,IF(Options!$B$9=9,'Daten A6'!$N$54,IF(Options!$B$9=10,'Daten A6'!$N$60,IF(Options!$B$9=11,'Daten A6'!$N$66,IF(Options!$B$9=12,'Daten A6'!$N$72,IF(Options!$B$9=13,'Daten A6'!$N$78,IF(Options!$B$9=14,'Daten A6'!$N$84,IF(Options!$B$9=15,'Daten A6'!$N$90,IF(Options!$B$9=16,'Daten A6'!$N$96,IF(Options!$B$9=17,'Daten A6'!$N$102,IF(Options!$B$9=18,'Daten A6'!$N$108,IF(Options!$B$9=19,'Daten A6'!AC13,IF(Options!$B$9=20,'Daten A6'!AC19,IF(Options!$B$9=21,'Daten A6'!AC25,IF(Options!$B$9=22,'Daten A6'!AC31,IF(Options!$B$9=23,'Daten A6'!AC37,IF(Options!$B$9=24,'Daten A6'!AC43,))))))))))))))))))))))))","v":"67%"}]
[null,{"$f":"IF(OR($BP$27=0,$BQ$27=0),\"\",CONCATENATE($BP$34,$BD$26,$BQ$34))","v":""},null,null,{"$f":"IF(OR($BP$28=0,$BQ$28=0),\"\",CONCATENATE($BP$35,$BD$26,$BQ$35))","v":"0% / 0%"},null,null,{"$f":"IF(OR($BP$29=0,$BQ$29=0),\"\",CONCATENATE($BP$36,$BD$26,$BQ$36))","v":"67% / 67%"},null,null,null,null,{"$f":"IF(OR($BN$27=0,$BO$27=0),\"\",CONCATENATE($BN$34,$BD$26,$BO$34))","v":""},null,null,{"$f":"IF(OR($BN$28=0,$BO$28=0),\"\",CONCATENATE($BN$35,$BD$26,$BO$35))","v":""},null,null,{"$f":"IF(OR($BN$29=0,$BO$29=0),\"\",CONCATENATE($BN$36,$BD$26,$BO$36))","v":""},null,null,null,null,{"$f":"IF(OR($BL$27=0,$BM$27=0),\"\",CONCATENATE($BL$34,$BD$26,$BM$34))","v":""},null,null,{"$f":"IF(OR($BL$28=0,$BM$28=0),\"\",CONCATENATE($BL$35,$BD$26,$BM$35))","v":""},null,null,{"$f":"IF(OR($BL$29=0,$BM$29=0),\"\",CONCATENATE($BL$36,$BD$26,$BM$36))","v":"-100% / 0%"},null,null,null,null,null,null,null,null,null,null,null,null,null,null,null,null,null,null,null,null,null,null,null,null,null,"Pos 8",null,{"$f":"IF(Options!$B$9=1,'Daten A6'!$C$7,IF(Options!$B$9=2,'Daten A6'!$C$13,IF(Options!$B$9=3,'Daten A6'!$C$19,IF(Options!$B$9=4,'Daten A6'!$C$25,IF(Options!$B$9=5,'Daten A6'!$C$31,IF(Options!$B$9=6,'Daten A6'!$C$37,IF(Options!$B$9=7,'Daten A6'!$C$43,IF(Options!$B$9=8,'Daten A6'!$C$49,IF(Options!$B$9=9,'Daten A6'!$C$55,IF(Options!$B$9=10,'Daten A6'!$C$61,IF(Options!$B$9=11,'Daten A6'!$C$67,IF(Options!$B$9=12,'Daten A6'!$C$73,IF(Options!$B$9=13,'Daten A6'!$C$79,IF(Options!$B$9=14,'Daten A6'!$C$85,IF(Options!$B$9=15,'Daten A6'!$C$91,IF(Options!$B$9=16,'Daten A6'!$C$97,IF(Options!$B$9=17,'Daten A6'!$C$103,IF(Options!$B$9=18,'Daten A6'!$C$109,IF(Options!$B$9=19,'Daten A6'!R14,IF(Options!$B$9=20,'Daten A6'!R20,IF(Options!$B$9=21,'Daten A6'!R26,IF(Options!$B$9=22,'Daten A6'!R32,IF(Options!$B$9=23,'Daten A6'!R38,IF(Options!$B$9=24,'Daten A6'!R44,))))))))))))))))))))))))","v":"0%"},{"$f":"IF(Options!$B$9=1,'Daten A6'!$D$7,IF(Options!$B$9=2,'Daten A6'!$D$13,IF(Options!$B$9=3,'Daten A6'!$D$19,IF(Options!$B$9=4,'Daten A6'!$D$25,IF(Options!$B$9=5,'Daten A6'!$D$31,IF(Options!$B$9=6,'Daten A6'!$D$37,IF(Options!$B$9=7,'Daten A6'!$D$43,IF(Options!$B$9=8,'Daten A6'!$D$49,IF(Options!$B$9=9,'Daten A6'!$D$55,IF(Options!$B$9=10,'Daten A6'!$D$61,IF(Options!$B$9=11,'Daten A6'!$D$67,IF(Options!$B$9=12,'Daten A6'!$D$73,IF(Options!$B$9=13,'Daten A6'!$D$79,IF(Options!$B$9=14,'Daten A6'!$D$85,IF(Options!$B$9=15,'Daten A6'!$D$91,IF(Options!$B$9=16,'Daten A6'!$D$97,IF(Options!$B$9=17,'Daten A6'!$D$103,IF(Options!$B$9=18,'Daten A6'!$D$109,IF(Options!$B$9=19,'Daten A6'!S14,IF(Options!$B$9=20,'Daten A6'!S20,IF(Options!$B$9=21,'Daten A6'!S26,IF(Options!$B$9=22,'Daten A6'!S32,IF(Options!$B$9=23,'Daten A6'!S38,IF(Options!$B$9=24,'Daten A6'!S44,))))))))))))))))))))))))","v":"----"},{"$f":"IF(Options!$B$9=1,'Daten A6'!$E$7,IF(Options!$B$9=2,'Daten A6'!$E$13,IF(Options!$B$9=3,'Daten A6'!$E$19,IF(Options!$B$9=4,'Daten A6'!$E$25,IF(Options!$B$9=5,'Daten A6'!$E$31,IF(Options!$B$9=6,'Daten A6'!$E$37,IF(Options!$B$9=7,'Daten A6'!$E$43,IF(Options!$B$9=8,'Daten A6'!$E$49,IF(Options!$B$9=9,'Daten A6'!$E$55,IF(Options!$B$9=10,'Daten A6'!$E$61,IF(Options!$B$9=11,'Daten A6'!$E$67,IF(Options!$B$9=12,'Daten A6'!$E$73,IF(Options!$B$9=13,'Daten A6'!$E$79,IF(Options!$B$9=14,'Daten A6'!$E$85,IF(Options!$B$9=15,'Daten A6'!$E$91,IF(Options!$B$9=16,'Daten A6'!$E$97,IF(Options!$B$9=17,'Daten A6'!$E$103,IF(Options!$B$9=18,'Daten A6'!$E$109,IF(Options!$B$9=19,'Daten A6'!T14,IF(Options!$B$9=20,'Daten A6'!T20,IF(Options!$B$9=21,'Daten A6'!T26,IF(Options!$B$9=22,'Daten A6'!T32,IF(Options!$B$9=23,'Daten A6'!T38,IF(Options!$B$9=24,'Daten A6'!T44,))))))))))))))))))))))))","v":"0%"},{"$f":"IF(Options!$B$9=1,'Daten A6'!$F$7,IF(Options!$B$9=2,'Daten A6'!$F$13,IF(Options!$B$9=3,'Daten A6'!$F$19,IF(Options!$B$9=4,'Daten A6'!$F$25,IF(Options!$B$9=5,'Daten A6'!$F$31,IF(Options!$B$9=6,'Daten A6'!$F$37,IF(Options!$B$9=7,'Daten A6'!$F$43,IF(Options!$B$9=8,'Daten A6'!$F$49,IF(Options!$B$9=9,'Daten A6'!$F$55,IF(Options!$B$9=10,'Daten A6'!$F$61,IF(Options!$B$9=11,'Daten A6'!$F$67,IF(Options!$B$9=12,'Daten A6'!$F$73,IF(Options!$B$9=13,'Daten A6'!$F$79,IF(Options!$B$9=14,'Daten A6'!$F$85,IF(Options!$B$9=15,'Daten A6'!$F$91,IF(Options!$B$9=16,'Daten A6'!$F$97,IF(Options!$B$9=17,'Daten A6'!$F$103,IF(Options!$B$9=18,'Daten A6'!$F$109,IF(Options!$B$9=19,'Daten A6'!U14,IF(Options!$B$9=20,'Daten A6'!U20,IF(Options!$B$9=21,'Daten A6'!U26,IF(Options!$B$9=22,'Daten A6'!U32,IF(Options!$B$9=23,'Daten A6'!U38,IF(Options!$B$9=24,'Daten A6'!U44,))))))))))))))))))))))))","v":"----"},{"$f":"IF(Options!$B$9=1,'Daten A6'!$G$7,IF(Options!$B$9=2,'Daten A6'!$G$13,IF(Options!$B$9=3,'Daten A6'!$G$19,IF(Options!$B$9=4,'Daten A6'!$G$25,IF(Options!$B$9=5,'Daten A6'!$G$31,IF(Options!$B$9=6,'Daten A6'!$G$37,IF(Options!$B$9=7,'Daten A6'!$G$43,IF(Options!$B$9=8,'Daten A6'!$G$49,IF(Options!$B$9=9,'Daten A6'!$G$55,IF(Options!$B$9=10,'Daten A6'!$G$61,IF(Options!$B$9=11,'Daten A6'!$G$67,IF(Options!$B$9=12,'Daten A6'!$G$73,IF(Options!$B$9=13,'Daten A6'!$G$79,IF(Options!$B$9=14,'Daten A6'!$G$85,IF(Options!$B$9=15,'Daten A6'!$G$91,IF(Options!$B$9=16,'Daten A6'!$G$97,IF(Options!$B$9=17,'Daten A6'!$G$103,IF(Options!$B$9=18,'Daten A6'!$G$109,IF(Options!$B$9=19,'Daten A6'!V14,IF(Options!$B$9=20,'Daten A6'!V20,IF(Options!$B$9=21,'Daten A6'!V26,IF(Options!$B$9=22,'Daten A6'!V32,IF(Options!$B$9=23,'Daten A6'!V38,IF(Options!$B$9=24,'Daten A6'!V44,))))))))))))))))))))))))","v":"100%"},{"$f":"IF(Options!$B$9=1,'Daten A6'!$H$7,IF(Options!$B$9=2,'Daten A6'!$H$13,IF(Options!$B$9=3,'Daten A6'!$H$19,IF(Options!$B$9=4,'Daten A6'!$H$25,IF(Options!$B$9=5,'Daten A6'!$H$31,IF(Options!$B$9=6,'Daten A6'!$H$37,IF(Options!$B$9=7,'Daten A6'!$H$43,IF(Options!$B$9=8,'Daten A6'!$H$49,IF(Options!$B$9=9,'Daten A6'!$H$55,IF(Options!$B$9=10,'Daten A6'!$H$61,IF(Options!$B$9=11,'Daten A6'!$H$67,IF(Options!$B$9=12,'Daten A6'!$H$73,IF(Options!$B$9=13,'Daten A6'!$H$79,IF(Options!$B$9=14,'Daten A6'!$H$85,IF(Options!$B$9=15,'Daten A6'!$H$91,IF(Options!$B$9=16,'Daten A6'!$H$97,IF(Options!$B$9=17,'Daten A6'!$H$103,IF(Options!$B$9=18,'Daten A6'!$H$109,IF(Options!$B$9=19,'Daten A6'!W14,IF(Options!$B$9=20,'Daten A6'!W20,IF(Options!$B$9=21,'Daten A6'!W26,IF(Options!$B$9=22,'Daten A6'!W32,IF(Options!$B$9=23,'Daten A6'!W38,IF(Options!$B$9=24,'Daten A6'!W44,))))))))))))))))))))))))","v":"100%"},{"$f":"IF(Options!$B$9=1,'Daten A6'!$I$7,IF(Options!$B$9=2,'Daten A6'!$I$13,IF(Options!$B$9=3,'Daten A6'!$I$19,IF(Options!$B$9=4,'Daten A6'!$I$25,IF(Options!$B$9=5,'Daten A6'!$I$31,IF(Options!$B$9=6,'Daten A6'!$I$37,IF(Options!$B$9=7,'Daten A6'!$I$43,IF(Options!$B$9=8,'Daten A6'!$I$49,IF(Options!$B$9=9,'Daten A6'!$I$55,IF(Options!$B$9=10,'Daten A6'!$I$61,IF(Options!$B$9=11,'Daten A6'!$I$67,IF(Options!$B$9=12,'Daten A6'!$I$73,IF(Options!$B$9=13,'Daten A6'!$I$79,IF(Options!$B$9=14,'Daten A6'!$I$85,IF(Options!$B$9=15,'Daten A6'!$I$91,IF(Options!$B$9=16,'Daten A6'!$I$97,IF(Options!$B$9=17,'Daten A6'!$I$103,IF(Options!$B$9=18,'Daten A6'!$I$109,IF(Options!$B$9=19,'Daten A6'!X14,IF(Options!$B$9=20,'Daten A6'!X20,IF(Options!$B$9=21,'Daten A6'!X26,IF(Options!$B$9=22,'Daten A6'!X32,IF(Options!$B$9=23,'Daten A6'!X38,IF(Options!$B$9=24,'Daten A6'!X44,))))))))))))))))))))))))","v":"0%"},{"$f":"IF(Options!$B$9=1,'Daten A6'!$J$7,IF(Options!$B$9=2,'Daten A6'!$J$13,IF(Options!$B$9=3,'Daten A6'!$J$19,IF(Options!$B$9=4,'Daten A6'!$J$25,IF(Options!$B$9=5,'Daten A6'!$J$31,IF(Options!$B$9=6,'Daten A6'!$J$37,IF(Options!$B$9=7,'Daten A6'!$J$43,IF(Options!$B$9=8,'Daten A6'!$J$49,IF(Options!$B$9=9,'Daten A6'!$J$55,IF(Options!$B$9=10,'Daten A6'!$J$61,IF(Options!$B$9=11,'Daten A6'!$J$67,IF(Options!$B$9=12,'Daten A6'!$J$73,IF(Options!$B$9=13,'Daten A6'!$J$79,IF(Options!$B$9=14,'Daten A6'!$J$85,IF(Options!$B$9=15,'Daten A6'!$J$91,IF(Options!$B$9=16,'Daten A6'!$J$97,IF(Options!$B$9=17,'Daten A6'!$J$103,IF(Options!$B$9=18,'Daten A6'!$J$109,IF(Options!$B$9=19,'Daten A6'!Y14,IF(Options!$B$9=20,'Daten A6'!Y20,IF(Options!$B$9=21,'Daten A6'!Y26,IF(Options!$B$9=22,'Daten A6'!Y32,IF(Options!$B$9=23,'Daten A6'!Y38,IF(Options!$B$9=24,'Daten A6'!Y44,))))))))))))))))))))))))","v":"----"},{"$f":"IF(Options!$B$9=1,'Daten A6'!$K$7,IF(Options!$B$9=2,'Daten A6'!$K$13,IF(Options!$B$9=3,'Daten A6'!$K$19,IF(Options!$B$9=4,'Daten A6'!$K$25,IF(Options!$B$9=5,'Daten A6'!$K$31,IF(Options!$B$9=6,'Daten A6'!$K$37,IF(Options!$B$9=7,'Daten A6'!$K$43,IF(Options!$B$9=8,'Daten A6'!$K$49,IF(Options!$B$9=9,'Daten A6'!$K$55,IF(Options!$B$9=10,'Daten A6'!$K$61,IF(Options!$B$9=11,'Daten A6'!$K$67,IF(Options!$B$9=12,'Daten A6'!$K$73,IF(Options!$B$9=13,'Daten A6'!$K$79,IF(Options!$B$9=14,'Daten A6'!$K$85,IF(Options!$B$9=15,'Daten A6'!$K$91,IF(Options!$B$9=16,'Daten A6'!$K$97,IF(Options!$B$9=17,'Daten A6'!$K$103,IF(Options!$B$9=18,'Daten A6'!$K$109,IF(Options!$B$9=19,'Daten A6'!Z14,IF(Options!$B$9=20,'Daten A6'!Z20,IF(Options!$B$9=21,'Daten A6'!Z26,IF(Options!$B$9=22,'Daten A6'!Z32,IF(Options!$B$9=23,'Daten A6'!Z38,IF(Options!$B$9=24,'Daten A6'!Z44,))))))))))))))))))))))))","v":"0%"},{"$f":"IF(Options!$B$9=1,'Daten A6'!$L$7,IF(Options!$B$9=2,'Daten A6'!$L$13,IF(Options!$B$9=3,'Daten A6'!$L$19,IF(Options!$B$9=4,'Daten A6'!$L$25,IF(Options!$B$9=5,'Daten A6'!$L$31,IF(Options!$B$9=6,'Daten A6'!$L$37,IF(Options!$B$9=7,'Daten A6'!$L$43,IF(Options!$B$9=8,'Daten A6'!$L$49,IF(Options!$B$9=9,'Daten A6'!$L$55,IF(Options!$B$9=10,'Daten A6'!$L$61,IF(Options!$B$9=11,'Daten A6'!$L$67,IF(Options!$B$9=12,'Daten A6'!$L$73,IF(Options!$B$9=13,'Daten A6'!$L$79,IF(Options!$B$9=14,'Daten A6'!$L$85,IF(Options!$B$9=15,'Daten A6'!$L$91,IF(Options!$B$9=16,'Daten A6'!$L$97,IF(Options!$B$9=17,'Daten A6'!$L$103,IF(Options!$B$9=18,'Daten A6'!$L$109,IF(Options!$B$9=19,'Daten A6'!AA14,IF(Options!$B$9=20,'Daten A6'!AA20,IF(Options!$B$9=21,'Daten A6'!AA26,IF(Options!$B$9=22,'Daten A6'!AA32,IF(Options!$B$9=23,'Daten A6'!AA38,IF(Options!$B$9=24,'Daten A6'!AA44,))))))))))))))))))))))))","v":"----"},{"$f":"IF(Options!$B$9=1,'Daten A6'!$M$7,IF(Options!$B$9=2,'Daten A6'!$M$13,IF(Options!$B$9=3,'Daten A6'!$M$19,IF(Options!$B$9=4,'Daten A6'!$M$25,IF(Options!$B$9=5,'Daten A6'!$M$31,IF(Options!$B$9=6,'Daten A6'!$M$37,IF(Options!$B$9=7,'Daten A6'!$M$43,IF(Options!$B$9=8,'Daten A6'!$M$49,IF(Options!$B$9=9,'Daten A6'!$M$55,IF(Options!$B$9=10,'Daten A6'!$M$61,IF(Options!$B$9=11,'Daten A6'!$M$67,IF(Options!$B$9=12,'Daten A6'!$M$73,IF(Options!$B$9=13,'Daten A6'!$M$79,IF(Options!$B$9=14,'Daten A6'!$M$85,IF(Options!$B$9=15,'Daten A6'!$M$91,IF(Options!$B$9=16,'Daten A6'!$M$97,IF(Options!$B$9=17,'Daten A6'!$M$103,IF(Options!$B$9=18,'Daten A6'!$M$109,IF(Options!$B$9=19,'Daten A6'!AB14,IF(Options!$B$9=20,'Daten A6'!AB20,IF(Options!$B$9=21,'Daten A6'!AB26,IF(Options!$B$9=22,'Daten A6'!AB32,IF(Options!$B$9=23,'Daten A6'!AB38,IF(Options!$B$9=24,'Daten A6'!AB44,))))))))))))))))))))))))","v":"0%"},{"$f":"IF(Options!$B$9=1,'Daten A6'!$N$7,IF(Options!$B$9=2,'Daten A6'!$N$13,IF(Options!$B$9=3,'Daten A6'!$N$19,IF(Options!$B$9=4,'Daten A6'!$N$25,IF(Options!$B$9=5,'Daten A6'!$N$31,IF(Options!$B$9=6,'Daten A6'!$N$37,IF(Options!$B$9=7,'Daten A6'!$N$43,IF(Options!$B$9=8,'Daten A6'!$N$49,IF(Options!$B$9=9,'Daten A6'!$N$55,IF(Options!$B$9=10,'Daten A6'!$N$61,IF(Options!$B$9=11,'Daten A6'!$N$67,IF(Options!$B$9=12,'Daten A6'!$N$73,IF(Options!$B$9=13,'Daten A6'!$N$79,IF(Options!$B$9=14,'Daten A6'!$N$85,IF(Options!$B$9=15,'Daten A6'!$N$91,IF(Options!$B$9=16,'Daten A6'!$N$97,IF(Options!$B$9=17,'Daten A6'!$N$103,IF(Options!$B$9=18,'Daten A6'!$N$109,IF(Options!$B$9=19,'Daten A6'!AC14,IF(Options!$B$9=20,'Daten A6'!AC20,IF(Options!$B$9=21,'Daten A6'!AC26,IF(Options!$B$9=22,'Daten A6'!AC32,IF(Options!$B$9=23,'Daten A6'!AC38,IF(Options!$B$9=24,'Daten A6'!AC44,))))))))))))))))))))))))","v":"----"}]
[null,null,null,null,null,null,null,null,null,null,null,null,null,null,null,null,null,null,null,null,null,null,null,null,null,null,null,null,null,null,null,null,null,null,null,null,null,null,null,null,null,null,null,null,null,null,null,null,null,null,null,null,null,null,null,"Pos 9",null,{"$f":"IF(Options!$B$9=1,'Daten A6'!$C$8,IF(Options!$B$9=2,'Daten A6'!$C$14,IF(Options!$B$9=3,'Daten A6'!$C$20,IF(Options!$B$9=4,'Daten A6'!$C$26,IF(Options!$B$9=5,'Daten A6'!$C$32,IF(Options!$B$9=6,'Daten A6'!$C$38,IF(Options!$B$9=7,'Daten A6'!$C$44,IF(Options!$B$9=8,'Daten A6'!$C$50,IF(Options!$B$9=9,'Daten A6'!$C$56,IF(Options!$B$9=10,'Daten A6'!$C$62,IF(Options!$B$9=11,'Daten A6'!$C$68,IF(Options!$B$9=12,'Daten A6'!$C$74,IF(Options!$B$9=13,'Daten A6'!$C$80,IF(Options!$B$9=14,'Daten A6'!$C$86,IF(Options!$B$9=15,'Daten A6'!$C$92,IF(Options!$B$9=16,'Daten A6'!$C$98,IF(Options!$B$9=17,'Daten A6'!$C$104,IF(Options!$B$9=18,'Daten A6'!$C$110,IF(Options!$B$9=19,'Daten A6'!R15,IF(Options!$B$9=20,'Daten A6'!R21,IF(Options!$B$9=21,'Daten A6'!R27,IF(Options!$B$9=22,'Daten A6'!R33,IF(Options!$B$9=23,'Daten A6'!R39,IF(Options!$B$9=24,'Daten A6'!R45,))))))))))))))))))))))))","v":"0%"},{"$f":"IF(Options!$B$9=1,'Daten A6'!$D$8,IF(Options!$B$9=2,'Daten A6'!$D$14,IF(Options!$B$9=3,'Daten A6'!$D$20,IF(Options!$B$9=4,'Daten A6'!$D$26,IF(Options!$B$9=5,'Daten A6'!$D$32,IF(Options!$B$9=6,'Daten A6'!$D$38,IF(Options!$B$9=7,'Daten A6'!$D$44,IF(Options!$B$9=8,'Daten A6'!$D$50,IF(Options!$B$9=9,'Daten A6'!$D$56,IF(Options!$B$9=10,'Daten A6'!$D$62,IF(Options!$B$9=11,'Daten A6'!$D$68,IF(Options!$B$9=12,'Daten A6'!$D$74,IF(Options!$B$9=13,'Daten A6'!$D$80,IF(Options!$B$9=14,'Daten A6'!$D$86,IF(Options!$B$9=15,'Daten A6'!$D$92,IF(Options!$B$9=16,'Daten A6'!$D$98,IF(Options!$B$9=17,'Daten A6'!$D$104,IF(Options!$B$9=18,'Daten A6'!$D$110,IF(Options!$B$9=19,'Daten A6'!S15,IF(Options!$B$9=20,'Daten A6'!S21,IF(Options!$B$9=21,'Daten A6'!S27,IF(Options!$B$9=22,'Daten A6'!S33,IF(Options!$B$9=23,'Daten A6'!S39,IF(Options!$B$9=24,'Daten A6'!S45,))))))))))))))))))))))))","v":"----"},{"$f":"IF(Options!$B$9=1,'Daten A6'!$E$8,IF(Options!$B$9=2,'Daten A6'!$E$14,IF(Options!$B$9=3,'Daten A6'!$E$20,IF(Options!$B$9=4,'Daten A6'!$E$26,IF(Options!$B$9=5,'Daten A6'!$E$32,IF(Options!$B$9=6,'Daten A6'!$E$38,IF(Options!$B$9=7,'Daten A6'!$E$44,IF(Options!$B$9=8,'Daten A6'!$E$50,IF(Options!$B$9=9,'Daten A6'!$E$56,IF(Options!$B$9=10,'Daten A6'!$E$62,IF(Options!$B$9=11,'Daten A6'!$E$68,IF(Options!$B$9=12,'Daten A6'!$E$74,IF(Options!$B$9=13,'Daten A6'!$E$80,IF(Options!$B$9=14,'Daten A6'!$E$86,IF(Options!$B$9=15,'Daten A6'!$E$92,IF(Options!$B$9=16,'Daten A6'!$E$98,IF(Options!$B$9=17,'Daten A6'!$E$104,IF(Options!$B$9=18,'Daten A6'!$E$110,IF(Options!$B$9=19,'Daten A6'!T15,IF(Options!$B$9=20,'Daten A6'!T21,IF(Options!$B$9=21,'Daten A6'!T27,IF(Options!$B$9=22,'Daten A6'!T33,IF(Options!$B$9=23,'Daten A6'!T39,IF(Options!$B$9=24,'Daten A6'!T45,))))))))))))))))))))))))","v":"0%"},{"$f":"IF(Options!$B$9=1,'Daten A6'!$F$8,IF(Options!$B$9=2,'Daten A6'!$F$14,IF(Options!$B$9=3,'Daten A6'!$F$20,IF(Options!$B$9=4,'Daten A6'!$F$26,IF(Options!$B$9=5,'Daten A6'!$F$32,IF(Options!$B$9=6,'Daten A6'!$F$38,IF(Options!$B$9=7,'Daten A6'!$F$44,IF(Options!$B$9=8,'Daten A6'!$F$50,IF(Options!$B$9=9,'Daten A6'!$F$56,IF(Options!$B$9=10,'Daten A6'!$F$62,IF(Options!$B$9=11,'Daten A6'!$F$68,IF(Options!$B$9=12,'Daten A6'!$F$74,IF(Options!$B$9=13,'Daten A6'!$F$80,IF(Options!$B$9=14,'Daten A6'!$F$86,IF(Options!$B$9=15,'Daten A6'!$F$92,IF(Options!$B$9=16,'Daten A6'!$F$98,IF(Options!$B$9=17,'Daten A6'!$F$104,IF(Options!$B$9=18,'Daten A6'!$F$110,IF(Options!$B$9=19,'Daten A6'!U15,IF(Options!$B$9=20,'Daten A6'!U21,IF(Options!$B$9=21,'Daten A6'!U27,IF(Options!$B$9=22,'Daten A6'!U33,IF(Options!$B$9=23,'Daten A6'!U39,IF(Options!$B$9=24,'Daten A6'!U45,))))))))))))))))))))))))","v":"----"},{"$f":"IF(Options!$B$9=1,'Daten A6'!$G$8,IF(Options!$B$9=2,'Daten A6'!$G$14,IF(Options!$B$9=3,'Daten A6'!$G$20,IF(Options!$B$9=4,'Daten A6'!$G$26,IF(Options!$B$9=5,'Daten A6'!$G$32,IF(Options!$B$9=6,'Daten A6'!$G$38,IF(Options!$B$9=7,'Daten A6'!$G$44,IF(Options!$B$9=8,'Daten A6'!$G$50,IF(Options!$B$9=9,'Daten A6'!$G$56,IF(Options!$B$9=10,'Daten A6'!$G$62,IF(Options!$B$9=11,'Daten A6'!$G$68,IF(Options!$B$9=12,'Daten A6'!$G$74,IF(Options!$B$9=13,'Daten A6'!$G$80,IF(Options!$B$9=14,'Daten A6'!$G$86,IF(Options!$B$9=15,'Daten A6'!$G$92,IF(Options!$B$9=16,'Daten A6'!$G$98,IF(Options!$B$9=17,'Daten A6'!$G$104,IF(Options!$B$9=18,'Daten A6'!$G$110,IF(Options!$B$9=19,'Daten A6'!V15,IF(Options!$B$9=20,'Daten A6'!V21,IF(Options!$B$9=21,'Daten A6'!V27,IF(Options!$B$9=22,'Daten A6'!V33,IF(Options!$B$9=23,'Daten A6'!V39,IF(Options!$B$9=24,'Daten A6'!V45,))))))))))))))))))))))))","v":"0%"},{"$f":"IF(Options!$B$9=1,'Daten A6'!$H$8,IF(Options!$B$9=2,'Daten A6'!$H$14,IF(Options!$B$9=3,'Daten A6'!$H$20,IF(Options!$B$9=4,'Daten A6'!$H$26,IF(Options!$B$9=5,'Daten A6'!$H$32,IF(Options!$B$9=6,'Daten A6'!$H$38,IF(Options!$B$9=7,'Daten A6'!$H$44,IF(Options!$B$9=8,'Daten A6'!$H$50,IF(Options!$B$9=9,'Daten A6'!$H$56,IF(Options!$B$9=10,'Daten A6'!$H$62,IF(Options!$B$9=11,'Daten A6'!$H$68,IF(Options!$B$9=12,'Daten A6'!$H$74,IF(Options!$B$9=13,'Daten A6'!$H$80,IF(Options!$B$9=14,'Daten A6'!$H$86,IF(Options!$B$9=15,'Daten A6'!$H$92,IF(Options!$B$9=16,'Daten A6'!$H$98,IF(Options!$B$9=17,'Daten A6'!$H$104,IF(Options!$B$9=18,'Daten A6'!$H$110,IF(Options!$B$9=19,'Daten A6'!W15,IF(Options!$B$9=20,'Daten A6'!W21,IF(Options!$B$9=21,'Daten A6'!W27,IF(Options!$B$9=22,'Daten A6'!W33,IF(Options!$B$9=23,'Daten A6'!W39,IF(Options!$B$9=24,'Daten A6'!W45,))))))))))))))))))))))))","v":"----"},{"$f":"IF(Options!$B$9=1,'Daten A6'!$I$8,IF(Options!$B$9=2,'Daten A6'!$I$14,IF(Options!$B$9=3,'Daten A6'!$I$20,IF(Options!$B$9=4,'Daten A6'!$I$26,IF(Options!$B$9=5,'Daten A6'!$I$32,IF(Options!$B$9=6,'Daten A6'!$I$38,IF(Options!$B$9=7,'Daten A6'!$I$44,IF(Options!$B$9=8,'Daten A6'!$I$50,IF(Options!$B$9=9,'Daten A6'!$I$56,IF(Options!$B$9=10,'Daten A6'!$I$62,IF(Options!$B$9=11,'Daten A6'!$I$68,IF(Options!$B$9=12,'Daten A6'!$I$74,IF(Options!$B$9=13,'Daten A6'!$I$80,IF(Options!$B$9=14,'Daten A6'!$I$86,IF(Options!$B$9=15,'Daten A6'!$I$92,IF(Options!$B$9=16,'Daten A6'!$I$98,IF(Options!$B$9=17,'Daten A6'!$I$104,IF(Options!$B$9=18,'Daten A6'!$I$110,IF(Options!$B$9=19,'Daten A6'!X15,IF(Options!$B$9=20,'Daten A6'!X21,IF(Options!$B$9=21,'Daten A6'!X27,IF(Options!$B$9=22,'Daten A6'!X33,IF(Options!$B$9=23,'Daten A6'!X39,IF(Options!$B$9=24,'Daten A6'!X45,))))))))))))))))))))))))","v":"0%"},{"$f":"IF(Options!$B$9=1,'Daten A6'!$J$8,IF(Options!$B$9=2,'Daten A6'!$J$14,IF(Options!$B$9=3,'Daten A6'!$J$20,IF(Options!$B$9=4,'Daten A6'!$J$26,IF(Options!$B$9=5,'Daten A6'!$J$32,IF(Options!$B$9=6,'Daten A6'!$J$38,IF(Options!$B$9=7,'Daten A6'!$J$44,IF(Options!$B$9=8,'Daten A6'!$J$50,IF(Options!$B$9=9,'Daten A6'!$J$56,IF(Options!$B$9=10,'Daten A6'!$J$62,IF(Options!$B$9=11,'Daten A6'!$J$68,IF(Options!$B$9=12,'Daten A6'!$J$74,IF(Options!$B$9=13,'Daten A6'!$J$80,IF(Options!$B$9=14,'Daten A6'!$J$86,IF(Options!$B$9=15,'Daten A6'!$J$92,IF(Options!$B$9=16,'Daten A6'!$J$98,IF(Options!$B$9=17,'Daten A6'!$J$104,IF(Options!$B$9=18,'Daten A6'!$J$110,IF(Options!$B$9=19,'Daten A6'!Y15,IF(Options!$B$9=20,'Daten A6'!Y21,IF(Options!$B$9=21,'Daten A6'!Y27,IF(Options!$B$9=22,'Daten A6'!Y33,IF(Options!$B$9=23,'Daten A6'!Y39,IF(Options!$B$9=24,'Daten A6'!Y45,))))))))))))))))))))))))","v":"----"},{"$f":"IF(Options!$B$9=1,'Daten A6'!$K$8,IF(Options!$B$9=2,'Daten A6'!$K$14,IF(Options!$B$9=3,'Daten A6'!$K$20,IF(Options!$B$9=4,'Daten A6'!$K$26,IF(Options!$B$9=5,'Daten A6'!$K$32,IF(Options!$B$9=6,'Daten A6'!$K$38,IF(Options!$B$9=7,'Daten A6'!$K$44,IF(Options!$B$9=8,'Daten A6'!$K$50,IF(Options!$B$9=9,'Daten A6'!$K$56,IF(Options!$B$9=10,'Daten A6'!$K$62,IF(Options!$B$9=11,'Daten A6'!$K$68,IF(Options!$B$9=12,'Daten A6'!$K$74,IF(Options!$B$9=13,'Daten A6'!$K$80,IF(Options!$B$9=14,'Daten A6'!$K$86,IF(Options!$B$9=15,'Daten A6'!$K$92,IF(Options!$B$9=16,'Daten A6'!$K$98,IF(Options!$B$9=17,'Daten A6'!$K$104,IF(Options!$B$9=18,'Daten A6'!$K$110,IF(Options!$B$9=19,'Daten A6'!Z15,IF(Options!$B$9=20,'Daten A6'!Z21,IF(Options!$B$9=21,'Daten A6'!Z27,IF(Options!$B$9=22,'Daten A6'!Z33,IF(Options!$B$9=23,'Daten A6'!Z39,IF(Options!$B$9=24,'Daten A6'!Z45,))))))))))))))))))))))))","v":"0%"},{"$f":"IF(Options!$B$9=1,'Daten A6'!$L$8,IF(Options!$B$9=2,'Daten A6'!$L$14,IF(Options!$B$9=3,'Daten A6'!$L$20,IF(Options!$B$9=4,'Daten A6'!$L$26,IF(Options!$B$9=5,'Daten A6'!$L$32,IF(Options!$B$9=6,'Daten A6'!$L$38,IF(Options!$B$9=7,'Daten A6'!$L$44,IF(Options!$B$9=8,'Daten A6'!$L$50,IF(Options!$B$9=9,'Daten A6'!$L$56,IF(Options!$B$9=10,'Daten A6'!$L$62,IF(Options!$B$9=11,'Daten A6'!$L$68,IF(Options!$B$9=12,'Daten A6'!$L$74,IF(Options!$B$9=13,'Daten A6'!$L$80,IF(Options!$B$9=14,'Daten A6'!$L$86,IF(Options!$B$9=15,'Daten A6'!$L$92,IF(Options!$B$9=16,'Daten A6'!$L$98,IF(Options!$B$9=17,'Daten A6'!$L$104,IF(Options!$B$9=18,'Daten A6'!$L$110,IF(Options!$B$9=19,'Daten A6'!AA15,IF(Options!$B$9=20,'Daten A6'!AA21,IF(Options!$B$9=21,'Daten A6'!AA27,IF(Options!$B$9=22,'Daten A6'!AA33,IF(Options!$B$9=23,'Daten A6'!AA39,IF(Options!$B$9=24,'Daten A6'!AA45,))))))))))))))))))))))))","v":"----"},{"$f":"IF(Options!$B$9=1,'Daten A6'!$M$8,IF(Options!$B$9=2,'Daten A6'!$M$14,IF(Options!$B$9=3,'Daten A6'!$M$20,IF(Options!$B$9=4,'Daten A6'!$M$26,IF(Options!$B$9=5,'Daten A6'!$M$32,IF(Options!$B$9=6,'Daten A6'!$M$38,IF(Options!$B$9=7,'Daten A6'!$M$44,IF(Options!$B$9=8,'Daten A6'!$M$50,IF(Options!$B$9=9,'Daten A6'!$M$56,IF(Options!$B$9=10,'Daten A6'!$M$62,IF(Options!$B$9=11,'Daten A6'!$M$68,IF(Options!$B$9=12,'Daten A6'!$M$74,IF(Options!$B$9=13,'Daten A6'!$M$80,IF(Options!$B$9=14,'Daten A6'!$M$86,IF(Options!$B$9=15,'Daten A6'!$M$92,IF(Options!$B$9=16,'Daten A6'!$M$98,IF(Options!$B$9=17,'Daten A6'!$M$104,IF(Options!$B$9=18,'Daten A6'!$M$110,IF(Options!$B$9=19,'Daten A6'!AB15,IF(Options!$B$9=20,'Daten A6'!AB21,IF(Options!$B$9=21,'Daten A6'!AB27,IF(Options!$B$9=22,'Daten A6'!AB33,IF(Options!$B$9=23,'Daten A6'!AB39,IF(Options!$B$9=24,'Daten A6'!AB45,))))))))))))))))))))))))","v":"0%"},{"$f":"IF(Options!$B$9=1,'Daten A6'!$N$8,IF(Options!$B$9=2,'Daten A6'!$N$14,IF(Options!$B$9=3,'Daten A6'!$N$20,IF(Options!$B$9=4,'Daten A6'!$N$26,IF(Options!$B$9=5,'Daten A6'!$N$32,IF(Options!$B$9=6,'Daten A6'!$N$38,IF(Options!$B$9=7,'Daten A6'!$N$44,IF(Options!$B$9=8,'Daten A6'!$N$50,IF(Options!$B$9=9,'Daten A6'!$N$56,IF(Options!$B$9=10,'Daten A6'!$N$62,IF(Options!$B$9=11,'Daten A6'!$N$68,IF(Options!$B$9=12,'Daten A6'!$N$74,IF(Options!$B$9=13,'Daten A6'!$N$80,IF(Options!$B$9=14,'Daten A6'!$N$86,IF(Options!$B$9=15,'Daten A6'!$N$92,IF(Options!$B$9=16,'Daten A6'!$N$98,IF(Options!$B$9=17,'Daten A6'!$N$104,IF(Options!$B$9=18,'Daten A6'!$N$110,IF(Options!$B$9=19,'Daten A6'!AC15,IF(Options!$B$9=20,'Daten A6'!AC21,IF(Options!$B$9=21,'Daten A6'!AC27,IF(Options!$B$9=22,'Daten A6'!AC33,IF(Options!$B$9=23,'Daten A6'!AC39,IF(Options!$B$9=24,'Daten A6'!AC45,))))))))))))))))))))))))","v":"----"}]
[null,{"$f":"IF($AW$35=\"x\",BA33,\"\")","v":""},null,null,{"$f":"IF($AW$35=\"x\",AX33,\"\")","v":""},null,null,null,null,null,null,null,{"$f":"IF($AW$35=\"x\",BA32,\"\")","v":""},null,null,{"$f":"IF($AW$35=\"x\",AX32,\"\")","v":""},null,null,null,null,null,null,null,{"$f":"IF($AW$35=\"x\",BA31,\"\")","v":""},null,null,{"$f":"IF($AW$35=\"x\",AX31,\"\")","v":""}]
[null,null,{"$f":"IF($AW$35=\"x\",AY33,\"\")","v":""},null,null,{"$f":"IF($AW$35=\"x\",AZ33,\"\")","v":""},null,null,null,null,null,null,null,{"$f":"IF($AW$35=\"x\",AY32,\"\")","v":""},null,null,{"$f":"IF($AW$35=\"x\",AZ32,\"\")","v":""},null,null,null,null,null,null,null,{"$f":"IF($AW$35=\"x\",AY31,\"\")","v":""},null,null,{"$f":"IF($AW$35=\"x\",AZ31,\"\")","v":""}]
[]
[]
[]
[]
[null,"S2",null,null,null,null,null,null,null,null,null,null,"S3",null,null,null,null,null,null,null,null,null,null,"S4"]

{"sheet":"Matchplan (empty)","index":4,"n_rows":45,"n_cols":58,"rows_kept":45,"cut":false,"hidden":false,"merged":[[1,1,1,6],[1,8,1,38],[1,51,1,56],[2,2,2,5],[2,8,2,16],[2,19,2,27],[2,30,2,38],[2,51,2,56],[3,2,3,5],[3,8,3,16],[3,19,3,27],[3,30,3,38],[3,51,3,56],[4,2,4,5],[5,2,5,5],[6,2,6,5],[7,2,7,5],[8,2,8,5],[8,8,8,10],[8,11,8,13],[8,19,8,21],[8,22,8,24],[8,30,8,32],[8,33,8,35],[9,11,9,13],[9,19,9,21],[9,22,9,24],[14,32,14,33],[9,30,9,32],[9,33,9,35],[10,2,10,5],[11,2,11,5],[12,2,12,5],[9,2,9,5],[9,8,9,10],[13,2,13,5],[13,8,13,9],[13,10,13,11],[13,12,13,13],[13,15,13,16],[13,19,13,20],[13,21,13,22],[13,23,13,24],[13,26,13,27],[13,30,13,31],[13,32,13,33],[13,34,13,35],[18,2,18,5],[13,37,13,38],[14,2,14,5],[14,8,14,9],[14,10,14,11],[14,12,14,13],[14,15,14,16],[14,19,14,20],[14,21,14,22],[14,23,14,24],[14,34,14,35],[14,37,14,38],[15,2,15,5],[16,2,16,5],[16,8,16,9],[16,11,16,12],[16,19,16,20],[16,22,16,23],[14,26,14,27],[14,30,14,31],[16,30,16,31],[16,33,16,34],[17,2,17,5],[17,9,17,10],[17,12,17,13],[17,20,17,21],[17,23,17,24],[17,31,17,32],[17,34,17,35],[30,22,30,24],[30,30,30,32],[30,33,30,35],[19,2,19,5],[20,2,20,5],[21,2,21,5],[22,8,22,16],[22,19,22,27],[22,30,22,38],[26,2,27,2],[26,3,27,3],[26,4,27,4],[27,5,27,6],[24,2,25,4],[24,5,25,6],[24,8,24,16],[24,19,24,27],[24,30,24,38],[25,8,25,16],[25,19,25,27],[25,30,25,38],[30,2,31,2],[30,3,31,3],[30,4,31,4],[30,8,30,10],[30,11,30,13],[30,19,30,21],[31,8,31,10],[31,11,31,13],[31,19,31,21],[36,8,36,9],[36,10,36,11],[36,12,36,13],[36,15,36,16],[36,19,36,20],[36,21,36,22],[28,3,29,3],[28,5,28,6],[29,5,29,6],[31,22,31,24],[31,30,31,32],[31,33,31,35],[38,33,38,34],[36,23,36,24],[36,26,36,27],[36,30,36,31],[36,32,36,33],[36,34,36,35],[35,21,35,22],[35,32,35,33],[35,34,35,35],[38,8,38,9],[38,11,38,12],[38,19,38,20],[38,22,38,23],[38,30,38,31],[35,23,35,24],[35,26,35,27],[35,30,35,31],[44,8,44,16],[44,19,44,27],[44,30,44,38],[39,9,39,10],[39,12,39,13],[39,20,39,21],[39,23,39,24],[39,31,39,32],[39,34,39,35],[35,37,35,38],[35,8,35,9],[35,10,35,11],[35,12,35,13],[35,15,35,16],[35,19,35,20],[36,37,36,38]]}
[]
[null,"Roster",null,null,null,null,null,null,{"$f":"Options!B1&\"     \"&AZ3&\" - \"&TEXT(AZ4,\"tt.MM.jjjj\")","v":"KOREA      - "},null,null,null,null,null,null,null,null,null,null,null,null,null,null,null,null,null,null,null,null,null,null,null,null,null,null,null,null,null,null,null,null,null,null,null,null,null,null,null,null,null,null,{"$f":"Options!B1","v":"KOREA"}]
[null,{"$f":"Berechnung!I27","v":"1"},{"$f":"Berechnung!J27","v":"SONG"},null,null,null,{"$f":"Berechnung!L27","v":"Out"},null,null,null,null,null,null,null,null,null,null,null,null,null,null,null,null,null,null,null,null,null,null,null,null,null,null,null,null,null,null,null,null,null,null,null,null,null,null,null,null,null,null,null,null,{"$f":"IF(Options!D3=\"\",\"\",Options!D3)","v":""}]
[null,{"$f":"Berechnung!I28","v":"4"},{"$f":"Berechnung!J28","v":"SHIN"},null,null,null,{"$f":"Berechnung!L28","v":"MB"},null,null,null,null,null,null,null,null,null,null,null,null,null,null,null,null,null,null,null,null,null,null,null,null,null,null,null,null,null,null,null,null,null,null,null,null,null,null,null,null,null,null,null,null,{"$f":"IF(Options!D2=\"\",\"\",Options!D2)","v":""}]
[null,{"$f":"Berechnung!I29","v":"6"},{"$f":"Berechnung!J29","v":"LEE"},null,null,null,{"$f":"Berechnung!L29","v":"Set"}]
[null,{"$f":"Berechnung!I30","v":"8"},{"$f":"Berechnung!J30","v":"PARK"},null,null,null,{"$f":"Berechnung!L30","v":"MB"},null,null,null,null,null,null,null,null,null,null,null,null,null,null,null,null,null,null,null,null,null,null,null,null,null,null,null,null,null,null,null,null,null,null,null,null,null,null,null,null,null,null,null,null,"LineUp:"]
[null,{"$f":"Berechnung!I31","v":"9"},{"$f":"Berechnung!J31","v":"KWAK"},null,null,null,{"$f":"Berechnung!L31","v":"Out"},null,null,null,null,null,null,null,null,null,null,null,null,null,null,null,null,null,null,null,null,null,null,null,null,null,null,null,null,null,null,null,null,null,null,null,null,null,null,null,null,null,null,null,null,"Pos 1","Pos 2","Pos 3","Pos 4","Pos 5","Pos 6","L"]
[null,{"$f":"Berechnung!I32","v":"11"},{"$f":"Berechnung!J32","v":"CHOI"},null,null,null,{"$f":"Berechnung!L32","v":"MB"},null,null,null,null,null,null,null,null,null,null,null,null,null,null,null,null,null,null,null,null,null,null,null,null,null,null,null,null,null,null,null,null,null,null,null,null,null,null,null,null,null,null,null,"1.",{"$f":"IF(Options!B9=\"\",\"\",TEXT(Options!B9,\"##\"))","v":"6"},{"$f":"IF(Options!C9=\"\",\"\",TEXT(Options!C9,\"##\"))","v":"1"},{"$f":"IF(Options!D9=\"\",\"\",TEXT(Options!D9,\"##\"))","v":"11"},{"$f":"IF(Options!E9=\"\",\"\",TEXT(Options!E9,\"##\"))","v":"17"},{"$f":"IF(Options!F9=\"\",\"\",TEXT(Options!F9,\"##\"))","v":"9"},{"$f":"IF(Options!G9=\"\",\"\",TEXT(Options!G9,\"##\"))","v":"4"},{"$f":"IF(Options!H9=\"\",\"\",TEXT(Options!H9,\"##\"))","v":"19"}]
[null,{"$f":"Berechnung!I33","v":"12"},{"$f":"Berechnung!J33","v":"JEON"},null,null,null,{"$f":"Berechnung!L33","v":"Out"},null,null,null,null,null,null,null,null,null,null,null,null,null,null,null,null,null,null,null,null,null,null,null,null,null,null,null,null,null,null,null,null,null,null,null,null,null,null,null,null,null,null,null,"2.",{"$f":"IF(Options!B10=\"\",\"\",TEXT(Options!B10,\"##\"))","v":"22"},{"$f":"IF(Options!C10=\"\",\"\",TEXT(Options!C10,\"##\"))","v":""},{"$f":"IF(Options!D10=\"\",\"\",TEXT(Options!D10,\"##\"))","v":"8"},{"$f":"IF(Options!E10=\"\",\"\",TEXT(Options!E10,\"##\"))","v":""},{"$f":"IF(Options!F10=\"\",\"\",TEXT(Options!F10,\"##\"))","v":"14"},{"$f":"IF(Options!G10=\"\",\"\",TEXT(Options!G10,\"##\"))","v":""},{"$f":"IF(Options!H10=\"\",\"\",TEXT(Options!H10,\"##\"))","v":"25"}]
[null,{"$f":"Berechnung!I34","v":"14"},{"$f":"Berechnung!J34","v":"SONG"},null,null,null,{"$f":"Berechnung!L34","v":"Out"},null,null,null,null,null,null,null,null,null,null,null,null,null,null,null,null,null,null,null,null,null,null,null,null,null,null,null,null,null,null,null,null,null,null,null,null,null,null,null,null,null,null,null,"∑",{"$f":"IF(Options!B11=\"\",\"\",Options!B11)","v":"6/22"},{"$f":"IF(Options!C11=\"\",\"\",Options!C11)","v":1},{"$f":"IF(Options!D11=\"\",\"\",Options!D11)","v":"11/8"},{"$f":"IF(Options!E11=\"\",\"\",Options!E11)","v":17},{"$f":"IF(Options!F11=\"\",\"\",Options!F11)","v":"9/14"},{"$f":"IF(Options!G11=\"\",\"\",Options!G11)","v":4},{"$f":"IF(Options!H11=\"\",\"\",Options!H11)","v":"19/25"}]
[null,{"$f":"Berechnung!I35","v":"16"},{"$f":"Berechnung!J35","v":"CHOI"},null,null,null,{"$f":"Berechnung!L35","v":"Opp"}]
[null,{"$f":"Berechnung!I36","v":"17"},{"$f":"Berechnung!J36","v":"SEO"},null,null,null,{"$f":"Berechnung!L36","v":"Opp"}]
[null,{"$f":"Berechnung!I37","v":"19"},{"$f":"Berechnung!J37","v":"JEONG"},null,null,null,{"$f":"Berechnung!L37","v":"Lib"}]
[null,{"$f":"Berechnung!I38","v":"20"},{"$f":"Berechnung!J38","v":"JI"},null,null,null,{"$f":"Berechnung!L38","v":"MB"}]
[null,{"$f":"Berechnung!I39","v":"22"},{"$f":"Berechnung!J39","v":"YOU"},null,null,null,{"$f":"Berechnung!L39","v":"Set"}]
[null,{"$f":"Berechnung!I40","v":"25"},{"$f":"Berechnung!J40","v":"OH"},null,null,null,{"$f":"Berechnung!L40","v":"Lib"}]
[null,{"$f":"Berechnung!I41","v":""},{"$f":"Berechnung!J41","v":""},null,null,null,{"$f":"Berechnung!L41","v":""}]
[null,{"$f":"Berechnung!I42","v":""},{"$f":"Berechnung!J42","v":""},null,null,null,{"$f":"Berechnung!L42","v":""}]
[null,{"$f":"Berechnung!I43","v":""},{"$f":"Berechnung!J43","v":""},null,null,null,{"$f":"Berechnung!L43","v":""}]
[null,{"$f":"Berechnung!I44","v":""},{"$f":"Berechnung!J44","v":""},null,null,null,{"$f":"Berechnung!L44","v":""}]
[null,{"$f":"Berechnung!I45","v":""},{"$f":"Berechnung!J45","v":""},null,null,null,{"$f":"Berechnung!L45","v":""}]
[null,{"$f":"Berechnung!I46","v":""},{"$f":"Berechnung!J46","v":""},null,null,null,{"$f":"Berechnung!L46","v":""}]
[null,null,null,null,null,null,null,null,"S1",null,null,null,null,null,null,null,null,null,null,"S6",null,null,null,null,null,null,null,null,null,null,"S5"]
[]
[null,null,"Starting Lineup:"]
[]
[]
[]
[]
[]
[]
[]
[]
[]
[]
[]
[]
[]
[]
[]
[]
[]
[]
[]
[null,null,null,null,null,null,null,null,"S2",null,null,null,null,null,null,null,null,null,null,"S3",null,null,null,null,null,null,null,null,null,null,"S4"]

{"sheet":"AttackDir","index":5,"n_rows":31,"n_cols":63,"rows_kept":31,"cut":false,"hidden":false,"merged":[[19,42,19,48],[20,7,20,8],[20,17,20,18],[20,27,20,28],[20,37,20,38],[20,47,20,48],[19,2,19,8],[19,12,19,18],[19,22,19,28],[19,32,19,38],[15,22,15,28],[0,2,0,48],[3,2,3,8],[3,12,3,18],[3,22,3,28],[3,32,3,38],[3,42,3,48],[4,7,4,8],[4,17,4,18],[4,27,4,28],[4,37,4,38],[4,47,4,48]]}
[null,null,{"$f":"AZ5&\" - Analysis of the attack directions\"","v":"KOREA - Analysis of the attack directions"}]
[]
[]
[null,null,{"$f":"AZ8","v":"6 LEE"},null,null,null,null,null,null,null,null,null,{"$f":"AZ17","v":"20 JI"},null,null,null,null,null,null,null,null,null,{"$f":"AZ18","v":"22 YOU"},null,null,null,null,null,null,null,null,null,{"$f":"AZ7","v":"4 SHIN"},null,null,null,null,null,null,null,null,null,{"$f":"AZ15","v":"17 SEO"},null,null,null,null,null,null,null,null,null,"sum","perc","eff","#","#%"]
[null,null,null,"MB",null,null,null,null,null,null,null,null,null,null,null,null,null,null,null,null,null,null,null,null,null,null,null,null,null,null,null,null,null,null,null,null,null,null,null,null,null,null,null,null,null,null,null,null,null,null,null,{"$f":"Berechnung!BT26","v":"KOREA"},{"$f":"Berechnung!BU26","v":101},null,{"$f":"Berechnung!CA26","v":"27%"},{"$f":"Berechnung!BY26","v":53},{"$f":"Berechnung!BZ26","v":0.52475247524752477}]
[null,null,null,null,null,null,null,null,null,null,null,null,null,null,null,null,null,null,null,null,null,null,null,null,null,null,null,null,null,null,null,null,null,null,null,null,null,null,null,null,null,null,null,null,null,null,null,null,null,null,null,{"$f":"TRIM(BI6&\" \"&BJ6)","v":"1 SONG"},{"$f":"Berechnung!BU27","v":30},{"$f":"Berechnung!BV27","v":"30%"},{"$f":"Berechnung!CA27","v":"17%"},{"$f":"Berechnung!BY27","v":15},{"$f":"Berechnung!BZ27","v":"50%"},null,null,null,{"$f":"Berechnung!BS27","v":"1"},{"$f":"Berechnung!BT27","v":"SONG"},{"$f":"Berechnung!L27","v":"Out"}]
[null,null,null,null,null,null,null,null,null,null,null,null,null,null,null,null,null,null,null,null,null,null,null,null,null,null,null,null,null,null,null,null,null,null,null,null,null,null,null,null,null,null,null,null,null,null,null,null,null,null,null,"4 SHIN",{"$f":"Berechnung!BU28","v":11},{"$f":"Berechnung!BV28","v":"11%"},{"$f":"Berechnung!CA28","v":"73%"},{"$f":"Berechnung!BY28","v":8},{"$f":"Berechnung!BZ28","v":"73%"},null,null,null,{"$f":"Berechnung!BS28","v":"4"},{"$f":"Berechnung!BT28","v":"SHIN"},{"$f":"Berechnung!L28","v":"MB"}]
[null,null,null,null,null,null,null,null,null,null,null,null,null,null,null,null,null,null,null,null,null,null,null,null,null,null,null,null,null,null,null,null,null,null,null,null,null,null,null,null,null,null,null,null,null,null,null,null,null,null,null,"6 LEE",{"$f":"Berechnung!BU29","v":0},{"$f":"Berechnung!BV29","v":"0%"},{"$f":"Berechnung!CA29","v":"0%"},{"$f":"Berechnung!BY29","v":0},{"$f":"Berechnung!BZ29","v":"0%"},null,null,null,{"$f":"Berechnung!BS29","v":"6"},{"$f":"Berechnung!BT29","v":"LEE"},{"$f":"Berechnung!L29","v":"Set"}]
[null,null,null,null,null,null,null,null,null,null,null,null,null,null,null,null,null,null,null,null,null,null,null,null,null,null,null,null,null,null,null,null,null,null,null,null,null,null,null,null,null,null,null,null,null,null,null,null,null,null,null,"8 PARK",{"$f":"Berechnung!BU30","v":5},{"$f":"Berechnung!BV30","v":"5%"},{"$f":"Berechnung!CA30","v":"-40%"},{"$f":"Berechnung!BY30","v":1},{"$f":"Berechnung!BZ30","v":"20%"},null,null,null,{"$f":"Berechnung!BS30","v":"8"},{"$f":"Berechnung!BT30","v":"PARK"},{"$f":"Berechnung!L30","v":"MB"}]
[null,null,null,null,null,null,null,null,null,null,null,null,null,null,null,null,null,null,null,null,null,null,null,null,null,null,null,null,null,null,null,null,null,null,null,null,null,null,null,null,null,null,null,null,null,null,null,null,null,null,null,"9 KWAK",{"$f":"Berechnung!BU31","v":7},{"$f":"Berechnung!BV31","v":"7%"},{"$f":"Berechnung!CA31","v":"29%"},{"$f":"Berechnung!BY31","v":4},{"$f":"Berechnung!BZ31","v":"57%"},null,null,null,{"$f":"Berechnung!BS31","v":"9"},{"$f":"Berechnung!BT31","v":"KWAK"},{"$f":"Berechnung!L31","v":"Out"}]
[null,null,null,null,null,null,null,null,null,null,null,null,null,null,null,null,null,null,null,null,null,null,null,null,null,null,null,null,null,null,null,null,null,null,null,null,null,null,null,null,null,null,null,null,null,null,null,null,null,null,null,"11 CHOI",{"$f":"Berechnung!BU32","v":8},{"$f":"Berechnung!BV32","v":"8%"},{"$f":"Berechnung!CA32","v":"50%"},{"$f":"Berechnung!BY32","v":4},{"$f":"Berechnung!BZ32","v":"50%"},null,null,null,{"$f":"Berechnung!BS32","v":"11"},{"$f":"Berechnung!BT32","v":"CHOI"},{"$f":"Berechnung!L32","v":"MB"}]
[null,null,null,null,null,null,null,null,null,null,null,null,null,null,null,null,null,null,null,null,null,null,null,null,null,null,null,null,null,null,null,null,null,null,null,null,null,null,null,null,null,null,null,null,null,null,null,null,null,null,null,"12 JEON",{"$f":"Berechnung!BU33","v":0},{"$f":"Berechnung!BV33","v":"0%"},{"$f":"Berechnung!CA33","v":"0%"},{"$f":"Berechnung!BY33","v":0},{"$f":"Berechnung!BZ33","v":"0%"},null,null,null,{"$f":"Berechnung!BS33","v":"12"},{"$f":"Berechnung!BT33","v":"JEON"},{"$f":"Berechnung!L33","v":"Out"}]
[null,null,null,null,null,null,null,null,null,null,null,null,null,null,null,null,null,null,null,null,null,null,null,null,null,null,null,null,null,null,null,null,null,null,null,null,null,null,null,null,null,null,null,null,null,null,null,null,null,null,null,"14 SONG",{"$f":"Berechnung!BU34","v":5},{"$f":"Berechnung!BV34","v":"5%"},{"$f":"Berechnung!CA34","v":"0%"},{"$f":"Berechnung!BY34","v":1},{"$f":"Berechnung!BZ34","v":"20%"},null,null,null,{"$f":"Berechnung!BS34","v":"14"},{"$f":"Berechnung!BT34","v":"SONG"},{"$f":"Berechnung!L34","v":"Out"}]
[null,null,null,null,null,null,null,null,null,null,null,null,null,null,null,null,null,null,null,null,null,null,null,null,null,null,null,null,null,null,null,null,null,null,null,null,null,null,null,null,null,null,null,null,null,null,null,null,null,null,null,"16 CHOI",{"$f":"Berechnung!BU35","v":15},{"$f":"Berechnung!BV35","v":"15%"},{"$f":"Berechnung!CA35","v":"40%"},{"$f":"Berechnung!BY35","v":9},{"$f":"Berechnung!BZ35","v":"60%"},null,null,null,{"$f":"Berechnung!BS35","v":"16"},{"$f":"Berechnung!BT35","v":"CHOI"},{"$f":"Berechnung!L35","v":"Opp"}]
[null,null,null,null,null,null,null,null,null,null,null,null,null,null,null,null,null,null,null,null,null,null,null,null,null,null,null,null,null,null,null,null,null,null,null,null,null,null,null,null,null,null,null,null,null,null,null,null,null,null,null,"17 SEO",{"$f":"Berechnung!BU36","v":20},{"$f":"Berechnung!BV36","v":"20%"},{"$f":"Berechnung!CA36","v":"20%"},{"$f":"Berechnung!BY36","v":11},{"$f":"Berechnung!BZ36","v":"55%"},null,null,null,{"$f":"Berechnung!BS36","v":"17"},{"$f":"Berechnung!BT36","v":"SEO"},{"$f":"Berechnung!L36","v":"Opp"}]
[null,null,null,null,null,null,null,null,null,null,null,null,null,null,null,null,null,null,null,null,null,null,null,null,null,null,null,null,null,null,null,null,null,null,null,null,null,null,null,null,null,null,null,null,null,null,null,null,null,null,null,"19 JEONG",{"$f":"Berechnung!BU37","v":0},{"$f":"Berechnung!BV37","v":"0%"},{"$f":"Berechnung!CA37","v":"0%"},{"$f":"Berechnung!BY37","v":0},{"$f":"Berechnung!BZ37","v":"0%"},null,null,null,{"$f":"Berechnung!BS37","v":"19"},{"$f":"Berechnung!BT37","v":"JEONG"},{"$f":"Berechnung!L37","v":"Lib"}]
[null,null,null,null,null,null,null,null,null,null,null,null,null,null,null,null,null,null,null,null,null,null,null,null,null,null,null,null,null,null,null,null,null,null,null,null,null,null,null,null,null,null,null,null,null,null,null,null,null,null,null,"20 JI",{"$f":"Berechnung!BU38","v":0},{"$f":"Berechnung!BV38","v":"0%"},{"$f":"Berechnung!CA38","v":"0%"},{"$f":"Berechnung!BY38","v":0},{"$f":"Berechnung!BZ38","v":"0%"},null,null,null,{"$f":"Berechnung!BS38","v":"20"},{"$f":"Berechnung!BT38","v":"JI"},{"$f":"Berechnung!L38","v":"MB"}]
[null,null,null,null,null,null,null,null,null,null,null,null,null,null,null,null,null,null,null,null,null,null,null,null,null,null,null,null,null,null,null,null,null,null,null,null,null,null,null,null,null,null,null,null,null,null,null,null,null,null,null,"22 YOU",{"$f":"Berechnung!BU39","v":0},{"$f":"Berechnung!BV39","v":"0%"},{"$f":"Berechnung!CA39","v":"0%"},{"$f":"Berechnung!BY39","v":0},{"$f":"Berechnung!BZ39","v":"0%"},null,null,null,{"$f":"Berechnung!BS39","v":"22"},{"$f":"Berechnung!BT39","v":"YOU"},{"$f":"Berechnung!L39","v":"Set"}]
[null,null,null,null,null,null,null,null,null,null,null,null,null,null,null,null,null,null,null,null,null,null,null,null,null,null,null,null,null,null,null,null,null,null,null,null,null,null,null,null,null,null,null,null,null,null,null,null,null,null,null,"25 OH",{"$f":"Berechnung!BU40","v":0},{"$f":"Berechnung!BV40","v":"0%"},{"$f":"Berechnung!CA40","v":"0%"},{"$f":"Berechnung!BY40","v":0},{"$f":"Berechnung!BZ40","v":"0%"},null,null,null,{"$f":"Berechnung!BS40","v":"25"},{"$f":"Berechnung!BT40","v":"OH"},{"$f":"Berechnung!L40","v":"Lib"}]
[null,null,{"$f":"AZ6","v":"1 SONG"},null,null,null,null,null,null,null,null,null,{"$f":"AZ11","v":"11 CHOI"},null,null,null,null,null,null,null,null,null,{"$f":"AZ12","v":"12 JEON"},null,null,null,null,null,null,null,null,null,{"$f":"AZ13","v":"14 SONG"},null,null,null,null,null,null,null,null,null,{"$f":"AZ16","v":"19 JEONG"},null,null,null,null,null,null,null,null,"",{"$f":"Berechnung!BU41","v":""},{"$f":"Berechnung!BV41","v":""},{"$f":"Berechnung!CA41","v":""},{"$f":"Berechnung!BY41","v":""},{"$f":"Berechnung!BZ41","v":""},null,null,null,{"$f":"Berechnung!BS41","v":""},{"$f":"Berechnung!BT41","v":""},{"$f":"Berechnung!L41","v":""}]
[null,null,null,null,null,null,null,null,null,null,null,null,null,null,null,null,null,null,null,null,null,null,null,null,null,null,null,null,null,null,null,null,null,null,null,null,null,null,null,null,null,null,null,null,null,null,null,null,null,null,null,"",{"$f":"Berechnung!BU42","v":""},{"$f":"Berechnung!BV42","v":""},{"$f":"Berechnung!CA42","v":""},{"$f":"Berechnung!BY42","v":""},{"$f":"Berechnung!BZ42","v":""},null,null,null,{"$f":"Berechnung!BS42","v":""},{"$f":"Berechnung!BT42","v":""},{"$f":"Berechnung!L42","v":""}]
[null,null,null,null,null,null,null,null,null,null,null,null,null,null,null,null,null,null,null,null,null,null,null,null,null,null,null,null,null,null,null,null,null,null,null,null,null,null,null,null,null,null,null,null,null,null,null,null,null,null,null,"",{"$f":"Berechnung!BU43","v":""},{"$f":"Berechnung!BV43","v":""},{"$f":"Berechnung!CA43","v":""},{"$f":"Berechnung!BY43","v":""},{"$f":"Berechnung!BZ43","v":""},null,null,null,{"$f":"Berechnung!BS43","v":""},{"$f":"Berechnung!BT43","v":""},{"$f":"Berechnung!L43","v":""}]
[null,null,null,null,null,null,null,null,null,null,null,null,null,null,null,null,null,null,null,null,null,null,null,null,null,null,null,null,null,null,null,null,null,null,null,null,null,null,null,null,null,null,null,null,null,null,null,null,null,null,null,"",{"$f":"Berechnung!BU44","v":""},{"$f":"Berechnung!BV44","v":""},{"$f":"Berechnung!CA44","v":""},{"$f":"Berechnung!BY44","v":""},{"$f":"Berechnung!BZ44","v":""},null,null,null,{"$f":"Berechnung!BS44","v":""},{"$f":"Berechnung!BT44","v":""},{"$f":"Berechnung!L44","v":""}]
[null,null,null,null,null,null,null,null,null,null,null,null,null,null,null,null,null,null,null,null,null,null,null,null,null,null,null,null,null,null,null,null,null,null,null,null,null,null,null,null,null,null,null,null,null,null,null,null,null,null,null,"",{"$f":"Berechnung!BU45","v":""},{"$f":"Berechnung!BV45","v":""},{"$f":"Berechnung!CA45","v":""},{"$f":"Berechnung!BY45","v":""},{"$f":"Berechnung!BZ45","v":""},null,null,null,{"$f":"Berechnung!BS45","v":""},{"$f":"Berechnung!BT45","v":""},{"$f":"Berechnung!L45","v":""}]
[null,null,null,null,null,null,null,null,null,null,null,null,null,null,null,null,null,null,null,null,null,null,null,null,null,null,null,null,null,null,null,null,null,null,null,null,null,null,null,null,null,null,null,null,null,null,null,null,null,null,null,"",{"$f":"Berechnung!BU46","v":""},{"$f":"Berechnung!BV46","v":""},{"$f":"Berechnung!CA46","v":""},{"$f":"Berechnung!BY46","v":""},{"$f":"Berechnung!BZ46","v":""},null,null,null,{"$f":"Berechnung!BS46","v":""},{"$f":"Berechnung!BT46","v":""},{"$f":"Berechnung!L46","v":""}]
[]
[null,null,null,null,null,null,null,null,null,null,null,null,null,null,null,null,null,null,null,null,null,null,null,null,null,null,null,null,null,null,null,null,null,null,null,null,null,null,null,null,null,null,null,null,null,null,null,null,null,null,null,"sum:","sum of all attacks of player"]
[null,null,null,null,null,null,null,null,null,null,null,null,null,null,null,null,null,null,null,null,null,null,null,null,null,null,null,null,null,null,null,null,null,null,null,null,null,null,null,null,null,null,null,null,null,null,null,null,null,null,null,"perc:","value in percent of team"]
[null,null,null,null,null,null,null,null,null,null,null,null,null,null,null,null,null,null,null,null,null,null,null,null,null,null,null,null,null,null,null,null,null,null,null,null,null,null,null,null,null,null,null,null,null,null,null,null,null,null,null,"eff:","effiziency"]
[null,null,null,null,null,null,null,null,null,null,null,null,null,null,null,null,null,null,null,null,null,null,null,null,null,null,null,null,null,null,null,null,null,null,null,null,null,null,null,null,null,null,null,null,null,null,null,null,null,null,null,"#:","kills"]
[null,null,null,null,null,null,null,null,null,null,null,null,null,null,null,null,null,null,null,null,null,null,null,null,null,null,null,null,null,null,null,null,null,null,null,null,null,null,null,null,null,null,null,null,null,null,null,null,null,null,null,"#%:","kills in percent"]

{"sheet":"Stats allg","index":6,"n_rows":72,"n_cols":39,"rows_kept":72,"cut":false,"hidden":false,"merged":[[3,29,3,38],[1,1,1,38],[27,5,27,10],[27,11,27,16],[27,17,27,21],[27,22,27,24],[3,10,3,17],[3,5,3,9],[3,18,3,28],[3,4,4,4]]}
[]
[null,{"$f":"Options!B1&\" - all Statistics\"","v":"KOREA - all Statistics"}]
[]
[null,null,null,null,"pld Set",{"$f":"Berechnung!O2","v":"Points"},null,null,null,null,{"$f":"Berechnung!T2","v":"Serve"},null,null,null,null,null,null,null,{"$f":"Berechnung!AB2","v":"Reception"},null,null,null,null,null,null,null,null,null,null,{"$f":"Berechnung!AM2","v":"Attack"}]
[null,null,null,null,null,{"$f":"Berechnung!O3","v":"pts"},{"$f":"Berechnung!P3","v":"P/s"},{"$f":"Berechnung!Q3","v":"easy="},{"$f":"Berechnung!R3","v":"all="},{"$f":"Berechnung!S3","v":"W-L"},"∑",{"$f":"Berechnung!U3","v":"="},{"$f":"Berechnung!V3","v":"-"},{"$f":"Berechnung!W3","v":"+"},{"$f":"Berechnung!X3","v":"#"},{"$f":"Berechnung!Y3","v":"=%"},{"$f":"Berechnung!Z3","v":"#%"},{"$f":"Berechnung!AA3","v":"eff%"},"∑","in %",{"$f":"Berechnung!AD3","v":"="},{"$f":"Berechnung!AE3","v":"/"},{"$f":"Berechnung!AF3","v":"-"},{"$f":"Berechnung!AG3","v":"+"},{"$f":"Berechnung!AH3","v":"#"},{"$f":"Berechnung!AI3","v":"=/%"},{"$f":"Berechnung!AJ3","v":"+#%"},{"$f":"Berechnung!AK3","v":"#%"},{"$f":"Berechnung!AL3","v":"eff%"},"∑","in %",{"$f":"Berechnung!AO3","v":"="},{"$f":"Berechnung!AP3","v":"/"},{"$f":"Berechnung!AQ3","v":"!"},{"$f":"Berechnung!AR3","v":"+"},{"$f":"Berechnung!AS3","v":"#"},{"$f":"Berechnung!AT3","v":"=/%"},{"$f":"Berechnung!AU3","v":"#%"},{"$f":"Berechnung!AV3","v":"eff%"}]
[null,null,{"$f":"Berechnung!J26","v":"KOREA"},null,{"$f":"Berechnung!N26","v":5},{"$f":"Berechnung!O26","v":66},{"$f":"Berechnung!P26","v":13.2},{"$f":"IF($F6=0,\"\",Berechnung!Q26)","v":26},{"$f":"IF($F6=0,\"\",Berechnung!R26)","v":78},{"$f":"Berechnung!S26","v":-12},{"$f":"Berechnung!T26","v":101},{"$f":"Berechnung!U26","v":11},{"$f":"Berechnung!V26","v":56},{"$f":"Berechnung!W26","v":32},{"$f":"Berechnung!X26","v":2},{"$f":"Berechnung!Y26","v":0.10891089108910891},{"$f":"Berechnung!Z26","v":1.9801980198019802E-2},{"$f":"Berechnung!AA26","v":"23%"},{"$f":"Berechnung!AB26","v":82},null,{"$f":"Berechnung!AD26","v":1},{"$f":"Berechnung!AE26","v":1},{"$f":"Berechnung!AF26","v":29},{"$f":"Berechnung!AG26","v":29},{"$f":"Berechnung!AH26","v":22},{"$f":"Berechnung!AI26","v":2.4390243902439025E-2},{"$f":"Berechnung!AJ26","v":"62%"},{"$f":"Berechnung!AK26","v":"27%"},{"$f":"Berechnung!AL26","v":"60%"},{"$f":"Berechnung!AM26","v":104},null,{"$f":"Berechnung!AO26","v":12},{"$f":"Berechnung!AP26","v":15},{"$f":"Berechnung!AQ26","v":3},{"$f":"Berechnung!AR26","v":9},{"$f":"Berechnung!AS26","v":54},{"$f":"Berechnung!AT26","v":0.25961538461538464},{"$f":"Berechnung!AU26","v":"52%"},{"$f":"Berechnung!AV26","v":"26%"}]
[null,{"$f":"Berechnung!I27","v":"1"},{"$f":"Berechnung!J27","v":"SONG"},null,{"$f":"Berechnung!N27","v":5},{"$f":"Berechnung!O27","v":18},{"$f":"IF($F7=0,\"\",Berechnung!P27)","v":3.6},{"$f":"IF(Berechnung!Q27=0,\"\",Berechnung!Q27)","v":11},{"$f":"IF(Berechnung!R27=0,\"\",Berechnung!R27)","v":19},{"$f":"Berechnung!S27","v":-1},{"$f":"Berechnung!T27","v":16},{"$f":"IF($K7=0,\"\",Berechnung!U27)","v":4},{"$f":"IF($K7=0,\"\",Berechnung!V27)","v":7},{"$f":"IF($K7=0,\"\",Berechnung!W27)","v":4},{"$f":"IF($K7=0,\"\",Berechnung!X27)","v":1},{"$f":"IF($K7=0,\"\",Berechnung!Y27)","v":0.25},{"$f":"IF($K7=0,\"\",Berechnung!Z27)","v":6.25E-2},{"$f":"IF($K7=0,\"\",Berechnung!AA27)","v":"6%"},{"$f":"Berechnung!AB27","v":7},{"$f":"IF($S7=0,\"\",Berechnung!AC27)","v":8.5365853658536592E-2},{"$f":"IF($S7=0,\"\",Berechnung!AD27)","v":1},{"$f":"IF($S7=0,\"\",Berechnung!AE27)","v":0},{"$f":"IF($S7=0,\"\",Berechnung!AF27)","v":1},{"$f":"IF($S7=0,\"\",Berechnung!AG27)","v":4},{"$f":"IF($S7=0,\"\",Berechnung!AH27)","v":1},{"$f":"IF($S7=0,\"\",Berechnung!AI27)","v":0.14285714285714285},{"$f":"IF($S7=0,\"\",Berechnung!AJ27)","v":"71%"},{"$f":"IF($S7=0,\"\",Berechnung!AK27)","v":"14%"},{"$f":"IF($S7=0,\"\",Berechnung!AL27)","v":"57%"},{"$f":"Berechnung!AM27","v":30},{"$f":"IF($AD7=0,\"\",Berechnung!AN27)","v":0.28846153846153844},{"$f":"IF($AD7=0,\"\",Berechnung!AO27)","v":6},{"$f":"IF($AD7=0,\"\",Berechnung!AP27)","v":4},{"$f":"IF($AD7=0,\"\",Berechnung!AQ27)","v":0},{"$f":"IF($AD7=0,\"\",Berechnung!AR27)","v":4},{"$f":"IF($AD7=0,\"\",Berechnung!AS27)","v":15},{"$f":"IF($AD7=0,\"\",Berechnung!AT27)","v":0.33333333333333331},{"$f":"IF($AD7=0,\"\",Berechnung!AU27)","v":"50%"},{"$f":"IF($AD7=0,\"\",Berechnung!AV27)","v":"17%"}]
[null,{"$f":"Berechnung!I28","v":"4"},{"$f":"Berechnung!J28","v":"SHIN"},null,{"$f":"Berechnung!N28","v":5},{"$f":"Berechnung!O28","v":11},{"$f":"IF($F8=0,\"\",Berechnung!P28)","v":2.2000000000000002},{"$f":"IF(Berechnung!Q28=0,\"\",Berechnung!Q28)","v":2},{"$f":"IF(Berechnung!R28=0,\"\",Berechnung!R28)","v":6},{"$f":"Berechnung!S28","v":5},{"$f":"Berechnung!T28","v":14},{"$f":"IF($K8=0,\"\",Berechnung!U28)","v":1},{"$f":"IF($K8=0,\"\",Berechnung!V28)","v":10},{"$f":"IF($K8=0,\"\",Berechnung!W28)","v":3},{"$f":"IF($K8=0,\"\",Berechnung!X28)","v":0},{"$f":"IF($K8=0,\"\",Berechnung!Y28)","v":7.1428571428571425E-2},{"$f":"IF($K8=0,\"\",Berechnung!Z28)","v":0},{"$f":"IF($K8=0,\"\",Berechnung!AA28)","v":"14%"},{"$f":"Berechnung!AB28","v":0},{"$f":"IF($S8=0,\"\",Berechnung!AC28)","v":""},{"$f":"IF($S8=0,\"\",Berechnung!AD28)","v":""},{"$f":"IF($S8=0,\"\",Berechnung!AE28)","v":""},{"$f":"IF($S8=0,\"\",Berechnung!AF28)","v":""},{"$f":"IF($S8=0,\"\",Berechnung!AG28)","v":""},{"$f":"IF($S8=0,\"\",Berechnung!AH28)","v":""},{"$f":"IF($S8=0,\"\",Berechnung!AI28)","v":""},{"$f":"IF($S8=0,\"\",Berechnung!AJ28)","v":""},{"$f":"IF($S8=0,\"\",Berechnung!AK28)","v":""},{"$f":"IF($S8=0,\"\",Berechnung!AL28)","v":""},{"$f":"Berechnung!AM28","v":11},{"$f":"IF($AD8=0,\"\",Berechnung!AN28)","v":0.10576923076923077},{"$f":"IF($AD8=0,\"\",Berechnung!AO28)","v":0},{"$f":"IF($AD8=0,\"\",Berechnung!AP28)","v":0},{"$f":"IF($AD8=0,\"\",Berechnung!AQ28)","v":0},{"$f":"IF($AD8=0,\"\",Berechnung!AR28)","v":1},{"$f":"IF($AD8=0,\"\",Berechnung!AS28)","v":8},{"$f":"IF($AD8=0,\"\",Berechnung!AT28)","v":0},{"$f":"IF($AD8=0,\"\",Berechnung!AU28)","v":"73%"},{"$f":"IF($AD8=0,\"\",Berechnung!AV28)","v":"73%"}]
[null,{"$f":"Berechnung!I29","v":"6"},{"$f":"Berechnung!J29","v":"LEE"},null,{"$f":"Berechnung!N29","v":5},{"$f":"Berechnung!O29","v":2},{"$f":"IF($F9=0,\"\",Berechnung!P29)","v":0.4},{"$f":"IF(Berechnung!Q29=0,\"\",Berechnung!Q29)","v":1},{"$f":"IF(Berechnung!R29=0,\"\",Berechnung!R29)","v":6},{"$f":"Berechnung!S29","v":-4},{"$f":"Berechnung!T29","v":6},{"$f":"IF($K9=0,\"\",Berechnung!U29)","v":0},{"$f":"IF($K9=0,\"\",Berechnung!V29)","v":4},{"$f":"IF($K9=0,\"\",Berechnung!W29)","v":2},{"$f":"IF($K9=0,\"\",Berechnung!X29)","v":0},{"$f":"IF($K9=0,\"\",Berechnung!Y29)","v":0},{"$f":"IF($K9=0,\"\",Berechnung!Z29)","v":0},{"$f":"IF($K9=0,\"\",Berechnung!AA29)","v":"33%"},{"$f":"Berechnung!AB29","v":0},{"$f":"IF($S9=0,\"\",Berechnung!AC29)","v":""},{"$f":"IF($S9=0,\"\",Berechnung!AD29)","v":""},{"$f":"IF($S9=0,\"\",Berechnung!AE29)","v":""},{"$f":"IF($S9=0,\"\",Berechnung!AF29)","v":""},{"$f":"IF($S9=0,\"\",Berechnung!AG29)","v":""},{"$f":"IF($S9=0,\"\",Berechnung!AH29)","v":""},{"$f":"IF($S9=0,\"\",Berechnung!AI29)","v":""},{"$f":"IF($S9=0,\"\",Berechnung!AJ29)","v":""},{"$f":"IF($S9=0,\"\",Berechnung!AK29)","v":""},{"$f":"IF($S9=0,\"\",Berechnung!AL29)","v":""},{"$f":"Berechnung!AM29","v":2},{"$f":"IF($AD9=0,\"\",Berechnung!AN29)","v":1.9230769230769232E-2},{"$f":"IF($AD9=0,\"\",Berechnung!AO29)","v":1},{"$f":"IF($AD9=0,\"\",Berechnung!AP29)","v":0},{"$f":"IF($AD9=0,\"\",Berechnung!AQ29)","v":0},{"$f":"IF($AD9=0,\"\",Berechnung!AR29)","v":0},{"$f":"IF($AD9=0,\"\",Berechnung!AS29)","v":1},{"$f":"IF($AD9=0,\"\",Berechnung!AT29)","v":0.5},{"$f":"IF($AD9=0,\"\",Berechnung!AU29)","v":"50%"},{"$f":"IF($AD9=0,\"\",Berechnung!AV29)","v":"0%"}]
[null,{"$f":"Berechnung!I30","v":"8"},{"$f":"Berechnung!J30","v":"PARK"},null,{"$f":"Berechnung!N30","v":3},{"$f":"Berechnung!O30","v":1},{"$f":"IF($F10=0,\"\",Berechnung!P30)","v":0.33333333333333331},{"$f":"IF(Berechnung!Q30=0,\"\",Berechnung!Q30)","v":1},{"$f":"IF(Berechnung!R30=0,\"\",Berechnung!R30)","v":6},{"$f":"Berechnung!S30","v":-5},{"$f":"Berechnung!T30","v":2},{"$f":"IF($K10=0,\"\",Berechnung!U30)","v":0},{"$f":"IF($K10=0,\"\",Berechnung!V30)","v":2},{"$f":"IF($K10=0,\"\",Berechnung!W30)","v":0},{"$f":"IF($K10=0,\"\",Berechnung!X30)","v":0},{"$f":"IF($K10=0,\"\",Berechnung!Y30)","v":0},{"$f":"IF($K10=0,\"\",Berechnung!Z30)","v":0},{"$f":"IF($K10=0,\"\",Berechnung!AA30)","v":"0%"},{"$f":"Berechnung!AB30","v":0},{"$f":"IF($S10=0,\"\",Berechnung!AC30)","v":""},{"$f":"IF($S10=0,\"\",Berechnung!AD30)","v":""},{"$f":"IF($S10=0,\"\",Berechnung!AE30)","v":""},{"$f":"IF($S10=0,\"\",Berechnung!AF30)","v":""},{"$f":"IF($S10=0,\"\",Berechnung!AG30)","v":""},{"$f":"IF($S10=0,\"\",Berechnung!AH30)","v":""},{"$f":"IF($S10=0,\"\",Berechnung!AI30)","v":""},{"$f":"IF($S10=0,\"\",Berechnung!AJ30)","v":""},{"$f":"IF($S10=0,\"\",Berechnung!AK30)","v":""},{"$f":"IF($S10=0,\"\",Berechnung!AL30)","v":""},{"$f":"Berechnung!AM30","v":5},{"$f":"IF($AD10=0,\"\",Berechnung!AN30)","v":4.807692307692308E-2},{"$f":"IF($AD10=0,\"\",Berechnung!AO30)","v":1},{"$f":"IF($AD10=0,\"\",Berechnung!AP30)","v":2},{"$f":"IF($AD10=0,\"\",Berechnung!AQ30)","v":0},{"$f":"IF($AD10=0,\"\",Berechnung!AR30)","v":0},{"$f":"IF($AD10=0,\"\",Berechnung!AS30)","v":1},{"$f":"IF($AD10=0,\"\",Berechnung!AT30)","v":0.6},{"$f":"IF($AD10=0,\"\",Berechnung!AU30)","v":"20%"},{"$f":"IF($AD10=0,\"\",Berechnung!AV30)","v":"-40%"}]
[null,{"$f":"Berechnung!I31","v":"9"},{"$f":"Berechnung!J31","v":"KWAK"},null,{"$f":"Berechnung!N31","v":5},{"$f":"Berechnung!O31","v":4},{"$f":"IF($F11=0,\"\",Berechnung!P31)","v":0.8},{"$f":"IF(Berechnung!Q31=0,\"\",Berechnung!Q31)","v":2},{"$f":"IF(Berechnung!R31=0,\"\",Berechnung!R31)","v":8},{"$f":"Berechnung!S31","v":-4},{"$f":"Berechnung!T31","v":15},{"$f":"IF($K11=0,\"\",Berechnung!U31)","v":1},{"$f":"IF($K11=0,\"\",Berechnung!V31)","v":12},{"$f":"IF($K11=0,\"\",Berechnung!W31)","v":2},{"$f":"IF($K11=0,\"\",Berechnung!X31)","v":0},{"$f":"IF($K11=0,\"\",Berechnung!Y31)","v":6.6666666666666666E-2},{"$f":"IF($K11=0,\"\",Berechnung!Z31)","v":0},{"$f":"IF($K11=0,\"\",Berechnung!AA31)","v":"7%"},{"$f":"Berechnung!AB31","v":29},{"$f":"IF($S11=0,\"\",Berechnung!AC31)","v":0.35365853658536583},{"$f":"IF($S11=0,\"\",Berechnung!AD31)","v":0},{"$f":"IF($S11=0,\"\",Berechnung!AE31)","v":0},{"$f":"IF($S11=0,\"\",Berechnung!AF31)","v":13},{"$f":"IF($S11=0,\"\",Berechnung!AG31)","v":11},{"$f":"IF($S11=0,\"\",Berechnung!AH31)","v":5},{"$f":"IF($S11=0,\"\",Berechnung!AI31)","v":0},{"$f":"IF($S11=0,\"\",Berechnung!AJ31)","v":"55%"},{"$f":"IF($S11=0,\"\",Berechnung!AK31)","v":"17%"},{"$f":"IF($S11=0,\"\",Berechnung!AL31)","v":"55%"},{"$f":"Berechnung!AM31","v":7},{"$f":"IF($AD11=0,\"\",Berechnung!AN31)","v":6.7307692307692304E-2},{"$f":"IF($AD11=0,\"\",Berechnung!AO31)","v":1},{"$f":"IF($AD11=0,\"\",Berechnung!AP31)","v":1},{"$f":"IF($AD11=0,\"\",Berechnung!AQ31)","v":0},{"$f":"IF($AD11=0,\"\",Berechnung!AR31)","v":0},{"$f":"IF($AD11=0,\"\",Berechnung!AS31)","v":4},{"$f":"IF($AD11=0,\"\",Berechnung!AT31)","v":0.2857142857142857},{"$f":"IF($AD11=0,\"\",Berechnung!AU31)","v":"57%"},{"$f":"IF($AD11=0,\"\",Berechnung!AV31)","v":"29%"}]
[null,{"$f":"Berechnung!I32","v":"11"},{"$f":"Berechnung!J32","v":"CHOI"},null,{"$f":"Berechnung!N32","v":4},{"$f":"Berechnung!O32","v":7},{"$f":"IF($F12=0,\"\",Berechnung!P32)","v":1.75},{"$f":"IF(Berechnung!Q32=0,\"\",Berechnung!Q32)","v":1},{"$f":"IF(Berechnung!R32=0,\"\",Berechnung!R32)","v":5},{"$f":"Berechnung!S32","v":2},{"$f":"Berechnung!T32","v":18},{"$f":"IF($K12=0,\"\",Berechnung!U32)","v":1},{"$f":"IF($K12=0,\"\",Berechnung!V32)","v":7},{"$f":"IF($K12=0,\"\",Berechnung!W32)","v":9},{"$f":"IF($K12=0,\"\",Berechnung!X32)","v":1},{"$f":"IF($K12=0,\"\",Berechnung!Y32)","v":5.5555555555555552E-2},{"$f":"IF($K12=0,\"\",Berechnung!Z32)","v":5.5555555555555552E-2},{"$f":"IF($K12=0,\"\",Berechnung!AA32)","v":"50%"},{"$f":"Berechnung!AB32","v":0},{"$f":"IF($S12=0,\"\",Berechnung!AC32)","v":""},{"$f":"IF($S12=0,\"\",Berechnung!AD32)","v":""},{"$f":"IF($S12=0,\"\",Berechnung!AE32)","v":""},{"$f":"IF($S12=0,\"\",Berechnung!AF32)","v":""},{"$f":"IF($S12=0,\"\",Berechnung!AG32)","v":""},{"$f":"IF($S12=0,\"\",Berechnung!AH32)","v":""},{"$f":"IF($S12=0,\"\",Berechnung!AI32)","v":""},{"$f":"IF($S12=0,\"\",Berechnung!AJ32)","v":""},{"$f":"IF($S12=0,\"\",Berechnung!AK32)","v":""},{"$f":"IF($S12=0,\"\",Berechnung!AL32)","v":""},{"$f":"Berechnung!AM32","v":8},{"$f":"IF($AD12=0,\"\",Berechnung!AN32)","v":7.6923076923076927E-2},{"$f":"IF($AD12=0,\"\",Berechnung!AO32)","v":0},{"$f":"IF($AD12=0,\"\",Berechnung!AP32)","v":0},{"$f":"IF($AD12=0,\"\",Berechnung!AQ32)","v":0},{"$f":"IF($AD12=0,\"\",Berechnung!AR32)","v":2},{"$f":"IF($AD12=0,\"\",Berechnung!AS32)","v":4},{"$f":"IF($AD12=0,\"\",Berechnung!AT32)","v":0},{"$f":"IF($AD12=0,\"\",Berechnung!AU32)","v":"50%"},{"$f":"IF($AD12=0,\"\",Berechnung!AV32)","v":"50%"}]
[null,{"$f":"Berechnung!I33","v":"12"},{"$f":"Berechnung!J33","v":"JEON"},null,{"$f":"Berechnung!N33","v":0},{"$f":"Berechnung!O33","v":0},{"$f":"IF($F13=0,\"\",Berechnung!P33)","v":""},{"$f":"IF(Berechnung!Q33=0,\"\",Berechnung!Q33)","v":""},{"$f":"IF(Berechnung!R33=0,\"\",Berechnung!R33)","v":""},{"$f":"Berechnung!S33","v":0},{"$f":"Berechnung!T33","v":0},{"$f":"IF($K13=0,\"\",Berechnung!U33)","v":""},{"$f":"IF($K13=0,\"\",Berechnung!V33)","v":""},{"$f":"IF($K13=0,\"\",Berechnung!W33)","v":""},{"$f":"IF($K13=0,\"\",Berechnung!X33)","v":""},{"$f":"IF($K13=0,\"\",Berechnung!Y33)","v":""},{"$f":"IF($K13=0,\"\",Berechnung!Z33)","v":""},{"$f":"IF($K13=0,\"\",Berechnung!AA33)","v":""},{"$f":"Berechnung!AB33","v":0},{"$f":"IF($S13=0,\"\",Berechnung!AC33)","v":""},{"$f":"IF($S13=0,\"\",Berechnung!AD33)","v":""},{"$f":"IF($S13=0,\"\",Berechnung!AE33)","v":""},{"$f":"IF($S13=0,\"\",Berechnung!AF33)","v":""},{"$f":"IF($S13=0,\"\",Berechnung!AG33)","v":""},{"$f":"IF($S13=0,\"\",Berechnung!AH33)","v":""},{"$f":"IF($S13=0,\"\",Berechnung!AI33)","v":""},{"$f":"IF($S13=0,\"\",Berechnung!AJ33)","v":""},{"$f":"IF($S13=0,\"\",Berechnung!AK33)","v":""},{"$f":"IF($S13=0,\"\",Berechnung!AL33)","v":""},{"$f":"Berechnung!AM33","v":0},{"$f":"IF($AD13=0,\"\",Berechnung!AN33)","v":""},{"$f":"IF($AD13=0,\"\",Berechnung!AO33)","v":""},{"$f":"IF($AD13=0,\"\",Berechnung!AP33)","v":""},{"$f":"IF($AD13=0,\"\",Berechnung!AQ33)","v":""},{"$f":"IF($AD13=0,\"\",Berechnung!AR33)","v":""},{"$f":"IF($AD13=0,\"\",Berechnung!AS33)","v":""},{"$f":"IF($AD13=0,\"\",Berechnung!AT33)","v":""},{"$f":"IF($AD13=0,\"\",Berechnung!AU33)","v":""},{"$f":"IF($AD13=0,\"\",Berechnung!AV33)","v":""}]
[null,{"$f":"Berechnung!I34","v":"14"},{"$f":"Berechnung!J34","v":"SONG"},null,{"$f":"Berechnung!N34","v":2},{"$f":"Berechnung!O34","v":1},{"$f":"IF($F14=0,\"\",Berechnung!P34)","v":0.5},{"$f":"IF(Berechnung!Q34=0,\"\",Berechnung!Q34)","v":2},{"$f":"IF(Berechnung!R34=0,\"\",Berechnung!R34)","v":4},{"$f":"Berechnung!S34","v":-3},{"$f":"Berechnung!T34","v":5},{"$f":"IF($K14=0,\"\",Berechnung!U34)","v":2},{"$f":"IF($K14=0,\"\",Berechnung!V34)","v":1},{"$f":"IF($K14=0,\"\",Berechnung!W34)","v":2},{"$f":"IF($K14=0,\"\",Berechnung!X34)","v":0},{"$f":"IF($K14=0,\"\",Berechnung!Y34)","v":0.4},{"$f":"IF($K14=0,\"\",Berechnung!Z34)","v":0},{"$f":"IF($K14=0,\"\",Berechnung!AA34)","v":"0%"},{"$f":"Berechnung!AB34","v":11},{"$f":"IF($S14=0,\"\",Berechnung!AC34)","v":0.13414634146341464},{"$f":"IF($S14=0,\"\",Berechnung!AD34)","v":0},{"$f":"IF($S14=0,\"\",Berechnung!AE34)","v":0},{"$f":"IF($S14=0,\"\",Berechnung!AF34)","v":4},{"$f":"IF($S14=0,\"\",Berechnung!AG34)","v":2},{"$f":"IF($S14=0,\"\",Berechnung!AH34)","v":5},{"$f":"IF($S14=0,\"\",Berechnung!AI34)","v":0},{"$f":"IF($S14=0,\"\",Berechnung!AJ34)","v":"63%"},{"$f":"IF($S14=0,\"\",Berechnung!AK34)","v":"45%"},{"$f":"IF($S14=0,\"\",Berechnung!AL34)","v":"64%"},{"$f":"Berechnung!AM34","v":5},{"$f":"IF($AD14=0,\"\",Berechnung!AN34)","v":4.807692307692308E-2},{"$f":"IF($AD14=0,\"\",Berechnung!AO34)","v":0},{"$f":"IF($AD14=0,\"\",Berechnung!AP34)","v":1},{"$f":"IF($AD14=0,\"\",Berechnung!AQ34)","v":1},{"$f":"IF($AD14=0,\"\",Berechnung!AR34)","v":0},{"$f":"IF($AD14=0,\"\",Berechnung!AS34)","v":1},{"$f":"IF($AD14=0,\"\",Berechnung!AT34)","v":0.2},{"$f":"IF($AD14=0,\"\",Berechnung!AU34)","v":"20%"},{"$f":"IF($AD14=0,\"\",Berechnung!AV34)","v":"0%"}]
[null,{"$f":"Berechnung!I35","v":"16"},{"$f":"Berechnung!J35","v":"CHOI"},null,{"$f":"Berechnung!N35","v":5},{"$f":"Berechnung!O35","v":10},{"$f":"IF($F15=0,\"\",Berechnung!P35)","v":2},{"$f":"IF(Berechnung!Q35=0,\"\",Berechnung!Q35)","v":2},{"$f":"IF(Berechnung!R35=0,\"\",Berechnung!R35)","v":5},{"$f":"Berechnung!S35","v":5},{"$f":"Berechnung!T35","v":3},{"$f":"IF($K15=0,\"\",Berechnung!U35)","v":1},{"$f":"IF($K15=0,\"\",Berechnung!V35)","v":2},{"$f":"IF($K15=0,\"\",Berechnung!W35)","v":0},{"$f":"IF($K15=0,\"\",Berechnung!X35)","v":0},{"$f":"IF($K15=0,\"\",Berechnung!Y35)","v":0.33333333333333331},{"$f":"IF($K15=0,\"\",Berechnung!Z35)","v":0},{"$f":"IF($K15=0,\"\",Berechnung!AA35)","v":"-33%"},{"$f":"Berechnung!AB35","v":0},{"$f":"IF($S15=0,\"\",Berechnung!AC35)","v":""},{"$f":"IF($S15=0,\"\",Berechnung!AD35)","v":""},{"$f":"IF($S15=0,\"\",Berechnung!AE35)","v":""},{"$f":"IF($S15=0,\"\",Berechnung!AF35)","v":""},{"$f":"IF($S15=0,\"\",Berechnung!AG35)","v":""},{"$f":"IF($S15=0,\"\",Berechnung!AH35)","v":""},{"$f":"IF($S15=0,\"\",Berechnung!AI35)","v":""},{"$f":"IF($S15=0,\"\",Berechnung!AJ35)","v":""},{"$f":"IF($S15=0,\"\",Berechnung!AK35)","v":""},{"$f":"IF($S15=0,\"\",Berechnung!AL35)","v":""},{"$f":"Berechnung!AM35","v":15},{"$f":"IF($AD15=0,\"\",Berechnung!AN35)","v":0.14423076923076922},{"$f":"IF($AD15=0,\"\",Berechnung!AO35)","v":1},{"$f":"IF($AD15=0,\"\",Berechnung!AP35)","v":2},{"$f":"IF($AD15=0,\"\",Berechnung!AQ35)","v":0},{"$f":"IF($AD15=0,\"\",Berechnung!AR35)","v":1},{"$f":"IF($AD15=0,\"\",Berechnung!AS35)","v":9},{"$f":"IF($AD15=0,\"\",Berechnung!AT35)","v":0.2},{"$f":"IF($AD15=0,\"\",Berechnung!AU35)","v":"60%"},{"$f":"IF($AD15=0,\"\",Berechnung!AV35)","v":"40%"}]
[null,{"$f":"Berechnung!I36","v":"17"},{"$f":"Berechnung!J36","v":"SEO"},null,{"$f":"Berechnung!N36","v":4},{"$f":"Berechnung!O36","v":11},{"$f":"IF($F16=0,\"\",Berechnung!P36)","v":2.75},{"$f":"IF(Berechnung!Q36=0,\"\",Berechnung!Q36)","v":3},{"$f":"IF(Berechnung!R36=0,\"\",Berechnung!R36)","v":12},{"$f":"Berechnung!S36","v":-1},{"$f":"Berechnung!T36","v":10},{"$f":"IF($K16=0,\"\",Berechnung!U36)","v":1},{"$f":"IF($K16=0,\"\",Berechnung!V36)","v":3},{"$f":"IF($K16=0,\"\",Berechnung!W36)","v":6},{"$f":"IF($K16=0,\"\",Berechnung!X36)","v":0},{"$f":"IF($K16=0,\"\",Berechnung!Y36)","v":0.1},{"$f":"IF($K16=0,\"\",Berechnung!Z36)","v":0},{"$f":"IF($K16=0,\"\",Berechnung!AA36)","v":"50%"},{"$f":"Berechnung!AB36","v":2},{"$f":"IF($S16=0,\"\",Berechnung!AC36)","v":2.4390243902439025E-2},{"$f":"IF($S16=0,\"\",Berechnung!AD36)","v":0},{"$f":"IF($S16=0,\"\",Berechnung!AE36)","v":0},{"$f":"IF($S16=0,\"\",Berechnung!AF36)","v":1},{"$f":"IF($S16=0,\"\",Berechnung!AG36)","v":0},{"$f":"IF($S16=0,\"\",Berechnung!AH36)","v":1},{"$f":"IF($S16=0,\"\",Berechnung!AI36)","v":0},{"$f":"IF($S16=0,\"\",Berechnung!AJ36)","v":"50%"},{"$f":"IF($S16=0,\"\",Berechnung!AK36)","v":"50%"},{"$f":"IF($S16=0,\"\",Berechnung!AL36)","v":"50%"},{"$f":"Berechnung!AM36","v":20},{"$f":"IF($AD16=0,\"\",Berechnung!AN36)","v":0.19230769230769232},{"$f":"IF($AD16=0,\"\",Berechnung!AO36)","v":2},{"$f":"IF($AD16=0,\"\",Berechnung!AP36)","v":5},{"$f":"IF($AD16=0,\"\",Berechnung!AQ36)","v":1},{"$f":"IF($AD16=0,\"\",Berechnung!AR36)","v":1},{"$f":"IF($AD16=0,\"\",Berechnung!AS36)","v":11},{"$f":"IF($AD16=0,\"\",Berechnung!AT36)","v":0.35},{"$f":"IF($AD16=0,\"\",Berechnung!AU36)","v":"55%"},{"$f":"IF($AD16=0,\"\",Berechnung!AV36)","v":"20%"}]
[null,{"$f":"Berechnung!I37","v":"19"},{"$f":"Berechnung!J37","v":"JEONG"},null,{"$f":"Berechnung!N37","v":5},{"$f":"Berechnung!O37","v":0},{"$f":"IF($F17=0,\"\",Berechnung!P37)","v":""},{"$f":"IF(Berechnung!Q37=0,\"\",Berechnung!Q37)","v":""},{"$f":"IF(Berechnung!R37=0,\"\",Berechnung!R37)","v":4},{"$f":"Berechnung!S37","v":-4},{"$f":"Berechnung!T37","v":0},{"$f":"IF($K17=0,\"\",Berechnung!U37)","v":""},{"$f":"IF($K17=0,\"\",Berechnung!V37)","v":""},{"$f":"IF($K17=0,\"\",Berechnung!W37)","v":""},{"$f":"IF($K17=0,\"\",Berechnung!X37)","v":""},{"$f":"IF($K17=0,\"\",Berechnung!Y37)","v":""},{"$f":"IF($K17=0,\"\",Berechnung!Z37)","v":""},{"$f":"IF($K17=0,\"\",Berechnung!AA37)","v":""},{"$f":"Berechnung!AB37","v":33},{"$f":"IF($S17=0,\"\",Berechnung!AC37)","v":0.40243902439024393},{"$f":"IF($S17=0,\"\",Berechnung!AD37)","v":0},{"$f":"IF($S17=0,\"\",Berechnung!AE37)","v":1},{"$f":"IF($S17=0,\"\",Berechnung!AF37)","v":10},{"$f":"IF($S17=0,\"\",Berechnung!AG37)","v":12},{"$f":"IF($S17=0,\"\",Berechnung!AH37)","v":10},{"$f":"IF($S17=0,\"\",Berechnung!AI37)","v":3.0303030303030304E-2},{"$f":"IF($S17=0,\"\",Berechnung!AJ37)","v":"66%"},{"$f":"IF($S17=0,\"\",Berechnung!AK37)","v":"30%"},{"$f":"IF($S17=0,\"\",Berechnung!AL37)","v":"64%"},{"$f":"Berechnung!AM37","v":0},{"$f":"IF($AD17=0,\"\",Berechnung!AN37)","v":""},{"$f":"IF($AD17=0,\"\",Berechnung!AO37)","v":""},{"$f":"IF($AD17=0,\"\",Berechnung!AP37)","v":""},{"$f":"IF($AD17=0,\"\",Berechnung!AQ37)","v":""},{"$f":"IF($AD17=0,\"\",Berechnung!AR37)","v":""},{"$f":"IF($AD17=0,\"\",Berechnung!AS37)","v":""},{"$f":"IF($AD17=0,\"\",Berechnung!AT37)","v":""},{"$f":"IF($AD17=0,\"\",Berechnung!AU37)","v":""},{"$f":"IF($AD17=0,\"\",Berechnung!AV37)","v":""}]
[null,{"$f":"Berechnung!I38","v":"20"},{"$f":"Berechnung!J38","v":"JI"},null,{"$f":"Berechnung!N38","v":0},{"$f":"Berechnung!O38","v":0},{"$f":"IF($F18=0,\"\",Berechnung!P38)","v":""},{"$f":"IF(Berechnung!Q38=0,\"\",Berechnung!Q38)","v":""},{"$f":"IF(Berechnung!R38=0,\"\",Berechnung!R38)","v":""},{"$f":"Berechnung!S38","v":0},{"$f":"Berechnung!T38","v":0},{"$f":"IF($K18=0,\"\",Berechnung!U38)","v":""},{"$f":"IF($K18=0,\"\",Berechnung!V38)","v":""},{"$f":"IF($K18=0,\"\",Berechnung!W38)","v":""},{"$f":"IF($K18=0,\"\",Berechnung!X38)","v":""},{"$f":"IF($K18=0,\"\",Berechnung!Y38)","v":""},{"$f":"IF($K18=0,\"\",Berechnung!Z38)","v":""},{"$f":"IF($K18=0,\"\",Berechnung!AA38)","v":""},{"$f":"Berechnung!AB38","v":0},{"$f":"IF($S18=0,\"\",Berechnung!AC38)","v":""},{"$f":"IF($S18=0,\"\",Berechnung!AD38)","v":""},{"$f":"IF($S18=0,\"\",Berechnung!AE38)","v":""},{"$f":"IF($S18=0,\"\",Berechnung!AF38)","v":""},{"$f":"IF($S18=0,\"\",Berechnung!AG38)","v":""},{"$f":"IF($S18=0,\"\",Berechnung!AH38)","v":""},{"$f":"IF($S18=0,\"\",Berechnung!AI38)","v":""},{"$f":"IF($S18=0,\"\",Berechnung!AJ38)","v":""},{"$f":"IF($S18=0,\"\",Berechnung!AK38)","v":""},{"$f":"IF($S18=0,\"\",Berechnung!AL38)","v":""},{"$f":"Berechnung!AM38","v":0},{"$f":"IF($AD18=0,\"\",Berechnung!AN38)","v":""},{"$f":"IF($AD18=0,\"\",Berechnung!AO38)","v":""},{"$f":"IF($AD18=0,\"\",Berechnung!AP38)","v":""},{"$f":"IF($AD18=0,\"\",Berechnung!AQ38)","v":""},{"$f":"IF($AD18=0,\"\",Berechnung!AR38)","v":""},{"$f":"IF($AD18=0,\"\",Berechnung!AS38)","v":""},{"$f":"IF($AD18=0,\"\",Berechnung!AT38)","v":""},{"$f":"IF($AD18=0,\"\",Berechnung!AU38)","v":""},{"$f":"IF($AD18=0,\"\",Berechnung!AV38)","v":""}]
[null,{"$f":"Berechnung!I39","v":"22"},{"$f":"Berechnung!J39","v":"YOU"},null,{"$f":"Berechnung!N39","v":5},{"$f":"Berechnung!O39","v":1},{"$f":"IF($F19=0,\"\",Berechnung!P39)","v":0.2},{"$f":"IF(Berechnung!Q39=0,\"\",Berechnung!Q39)","v":1},{"$f":"IF(Berechnung!R39=0,\"\",Berechnung!R39)","v":3},{"$f":"Berechnung!S39","v":-2},{"$f":"Berechnung!T39","v":12},{"$f":"IF($K19=0,\"\",Berechnung!U39)","v":0},{"$f":"IF($K19=0,\"\",Berechnung!V39)","v":8},{"$f":"IF($K19=0,\"\",Berechnung!W39)","v":4},{"$f":"IF($K19=0,\"\",Berechnung!X39)","v":0},{"$f":"IF($K19=0,\"\",Berechnung!Y39)","v":0},{"$f":"IF($K19=0,\"\",Berechnung!Z39)","v":0},{"$f":"IF($K19=0,\"\",Berechnung!AA39)","v":"33%"},{"$f":"Berechnung!AB39","v":0},{"$f":"IF($S19=0,\"\",Berechnung!AC39)","v":""},{"$f":"IF($S19=0,\"\",Berechnung!AD39)","v":""},{"$f":"IF($S19=0,\"\",Berechnung!AE39)","v":""},{"$f":"IF($S19=0,\"\",Berechnung!AF39)","v":""},{"$f":"IF($S19=0,\"\",Berechnung!AG39)","v":""},{"$f":"IF($S19=0,\"\",Berechnung!AH39)","v":""},{"$f":"IF($S19=0,\"\",Berechnung!AI39)","v":""},{"$f":"IF($S19=0,\"\",Berechnung!AJ39)","v":""},{"$f":"IF($S19=0,\"\",Berechnung!AK39)","v":""},{"$f":"IF($S19=0,\"\",Berechnung!AL39)","v":""},{"$f":"Berechnung!AM39","v":1},{"$f":"IF($AD19=0,\"\",Berechnung!AN39)","v":9.6153846153846159E-3},{"$f":"IF($AD19=0,\"\",Berechnung!AO39)","v":0},{"$f":"IF($AD19=0,\"\",Berechnung!AP39)","v":0},{"$f":"IF($AD19=0,\"\",Berechnung!AQ39)","v":1},{"$f":"IF($AD19=0,\"\",Berechnung!AR39)","v":0},{"$f":"IF($AD19=0,\"\",Berechnung!AS39)","v":0},{"$f":"IF($AD19=0,\"\",Berechnung!AT39)","v":0},{"$f":"IF($AD19=0,\"\",Berechnung!AU39)","v":"0%"},{"$f":"IF($AD19=0,\"\",Berechnung!AV39)","v":"0%"}]
[null,{"$f":"Berechnung!I40","v":"25"},{"$f":"Berechnung!J40","v":"OH"},null,{"$f":"Berechnung!N40","v":1},{"$f":"Berechnung!O40","v":0},{"$f":"IF($F20=0,\"\",Berechnung!P40)","v":""},{"$f":"IF(Berechnung!Q40=0,\"\",Berechnung!Q40)","v":""},{"$f":"IF(Berechnung!R40=0,\"\",Berechnung!R40)","v":""},{"$f":"Berechnung!S40","v":0},{"$f":"Berechnung!T40","v":0},{"$f":"IF($K20=0,\"\",Berechnung!U40)","v":""},{"$f":"IF($K20=0,\"\",Berechnung!V40)","v":""},{"$f":"IF($K20=0,\"\",Berechnung!W40)","v":""},{"$f":"IF($K20=0,\"\",Berechnung!X40)","v":""},{"$f":"IF($K20=0,\"\",Berechnung!Y40)","v":""},{"$f":"IF($K20=0,\"\",Berechnung!Z40)","v":""},{"$f":"IF($K20=0,\"\",Berechnung!AA40)","v":""},{"$f":"Berechnung!AB40","v":0},{"$f":"IF($S20=0,\"\",Berechnung!AC40)","v":""},{"$f":"IF($S20=0,\"\",Berechnung!AD40)","v":""},{"$f":"IF($S20=0,\"\",Berechnung!AE40)","v":""},{"$f":"IF($S20=0,\"\",Berechnung!AF40)","v":""},{"$f":"IF($S20=0,\"\",Berechnung!AG40)","v":""},{"$f":"IF($S20=0,\"\",Berechnung!AH40)","v":""},{"$f":"IF($S20=0,\"\",Berechnung!AI40)","v":""},{"$f":"IF($S20=0,\"\",Berechnung!AJ40)","v":""},{"$f":"IF($S20=0,\"\",Berechnung!AK40)","v":""},{"$f":"IF($S20=0,\"\",Berechnung!AL40)","v":""},{"$f":"Berechnung!AM40","v":0},{"$f":"IF($AD20=0,\"\",Berechnung!AN40)","v":""},{"$f":"IF($AD20=0,\"\",Berechnung!AO40)","v":""},{"$f":"IF($AD20=0,\"\",Berechnung!AP40)","v":""},{"$f":"IF($AD20=0,\"\",Berechnung!AQ40)","v":""},{"$f":"IF($AD20=0,\"\",Berechnung!AR40)","v":""},{"$f":"IF($AD20=0,\"\",Berechnung!AS40)","v":""},{"$f":"IF($AD20=0,\"\",Berechnung!AT40)","v":""},{"$f":"IF($AD20=0,\"\",Berechnung!AU40)","v":""},{"$f":"IF($AD20=0,\"\",Berechnung!AV40)","v":""}]
[null,{"$f":"Berechnung!I41","v":""},{"$f":"Berechnung!J41","v":""},null,{"$f":"Berechnung!N41","v":""},{"$f":"Berechnung!O41","v":""},{"$f":"IF($F21=0,\"\",Berechnung!P41)","v":""},{"$f":"IF(Berechnung!Q41=0,\"\",Berechnung!Q41)","v":""},{"$f":"IF(Berechnung!R41=0,\"\",Berechnung!R41)","v":""},{"$f":"Berechnung!S41","v":""},{"$f":"Berechnung!T41","v":""},{"$f":"IF($K21=0,\"\",Berechnung!U41)","v":""},{"$f":"IF($K21=0,\"\",Berechnung!V41)","v":""},{"$f":"IF($K21=0,\"\",Berechnung!W41)","v":""},{"$f":"IF($K21=0,\"\",Berechnung!X41)","v":""},{"$f":"IF($K21=0,\"\",Berechnung!Y41)","v":""},{"$f":"IF($K21=0,\"\",Berechnung!Z41)","v":""},{"$f":"IF($K21=0,\"\",Berechnung!AA41)","v":""},{"$f":"Berechnung!AB41","v":""},{"$f":"IF($S21=0,\"\",Berechnung!AC41)","v":""},{"$f":"IF($S21=0,\"\",Berechnung!AD41)","v":""},{"$f":"IF($S21=0,\"\",Berechnung!AE41)","v":""},{"$f":"IF($S21=0,\"\",Berechnung!AF41)","v":""},{"$f":"IF($S21=0,\"\",Berechnung!AG41)","v":""},{"$f":"IF($S21=0,\"\",Berechnung!AH41)","v":""},{"$f":"IF($S21=0,\"\",Berechnung!AI41)","v":""},{"$f":"IF($S21=0,\"\",Berechnung!AJ41)","v":""},{"$f":"IF($S21=0,\"\",Berechnung!AK41)","v":""},{"$f":"IF($S21=0,\"\",Berechnung!AL41)","v":""},{"$f":"Berechnung!AM41","v":""},{"$f":"IF($AD21=0,\"\",Berechnung!AN41)","v":""},{"$f":"IF($AD21=0,\"\",Berechnung!AO41)","v":""},{"$f":"IF($AD21=0,\"\",Berechnung!AP41)","v":""},{"$f":"IF($AD21=0,\"\",Berechnung!AQ41)","v":""},{"$f":"IF($AD21=0,\"\",Berechnung!AR41)","v":""},{"$f":"IF($AD21=0,\"\",Berechnung!AS41)","v":""},{"$f":"IF($AD21=0,\"\",Berechnung!AT41)","v":""},{"$f":"IF($AD21=0,\"\",Berechnung!AU41)","v":""},{"$f":"IF($AD21=0,\"\",Berechnung!AV41)","v":""}]
[null,{"$f":"Berechnung!I42","v":""},{"$f":"Berechnung!J42","v":""},null,{"$f":"Berechnung!N42","v":""},{"$f":"Berechnung!O42","v":""},{"$f":"IF($F22=0,\"\",Berechnung!P42)","v":""},{"$f":"IF(Berechnung!Q42=0,\"\",Berechnung!Q42)","v":""},{"$f":"IF(Berechnung!R42=0,\"\",Berechnung!R42)","v":""},{"$f":"Berechnung!S42","v":""},{"$f":"Berechnung!T42","v":""},{"$f":"IF($K22=0,\"\",Berechnung!U42)","v":""},{"$f":"IF($K22=0,\"\",Berechnung!V42)","v":""},{"$f":"IF($K22=0,\"\",Berechnung!W42)","v":""},{"$f":"IF($K22=0,\"\",Berechnung!X42)","v":""},{"$f":"IF($K22=0,\"\",Berechnung!Y42)","v":""},{"$f":"IF($K22=0,\"\",Berechnung!Z42)","v":""},{"$f":"IF($K22=0,\"\",Berechnung!AA42)","v":""},{"$f":"Berechnung!AB42","v":""},{"$f":"IF($S22=0,\"\",Berechnung!AC42)","v":""},{"$f":"IF($S22=0,\"\",Berechnung!AD42)","v":""},{"$f":"IF($S22=0,\"\",Berechnung!AE42)","v":""},{"$f":"IF($S22=0,\"\",Berechnung!AF42)","v":""},{"$f":"IF($S22=0,\"\",Berechnung!AG42)","v":""},{"$f":"IF($S22=0,\"\",Berechnung!AH42)","v":""},{"$f":"IF($S22=0,\"\",Berechnung!AI42)","v":""},{"$f":"IF($S22=0,\"\",Berechnung!AJ42)","v":""},{"$f":"IF($S22=0,\"\",Berechnung!AK42)","v":""},{"$f":"IF($S22=0,\"\",Berechnung!AL42)","v":""},{"$f":"Berechnung!AM42","v":""},{"$f":"IF($AD22=0,\"\",Berechnung!AN42)","v":""},{"$f":"IF($AD22=0,\"\",Berechnung!AO42)","v":""},{"$f":"IF($AD22=0,\"\",Berechnung!AP42)","v":""},{"$f":"IF($AD22=0,\"\",Berechnung!AQ42)","v":""},{"$f":"IF($AD22=0,\"\",Berechnung!AR42)","v":""},{"$f":"IF($AD22=0,\"\",Berechnung!AS42)","v":""},{"$f":"IF($AD22=0,\"\",Berechnung!AT42)","v":""},{"$f":"IF($AD22=0,\"\",Berechnung!AU42)","v":""},{"$f":"IF($AD22=0,\"\",Berechnung!AV42)","v":""}]
[null,{"$f":"Berechnung!I43","v":""},{"$f":"Berechnung!J43","v":""},null,{"$f":"Berechnung!N43","v":""},{"$f":"Berechnung!O43","v":""},{"$f":"IF($F23=0,\"\",Berechnung!P43)","v":""},{"$f":"IF(Berechnung!Q43=0,\"\",Berechnung!Q43)","v":""},{"$f":"IF(Berechnung!R43=0,\"\",Berechnung!R43)","v":""},{"$f":"Berechnung!S43","v":""},{"$f":"Berechnung!T43","v":""},{"$f":"IF($K23=0,\"\",Berechnung!U43)","v":""},{"$f":"IF($K23=0,\"\",Berechnung!V43)","v":""},{"$f":"IF($K23=0,\"\",Berechnung!W43)","v":""},{"$f":"IF($K23=0,\"\",Berechnung!X43)","v":""},{"$f":"IF($K23=0,\"\",Berechnung!Y43)","v":""},{"$f":"IF($K23=0,\"\",Berechnung!Z43)","v":""},{"$f":"IF($K23=0,\"\",Berechnung!AA43)","v":""},{"$f":"Berechnung!AB43","v":""},{"$f":"IF($S23=0,\"\",Berechnung!AC43)","v":""},{"$f":"IF($S23=0,\"\",Berechnung!AD43)","v":""},{"$f":"IF($S23=0,\"\",Berechnung!AE43)","v":""},{"$f":"IF($S23=0,\"\",Berechnung!AF43)","v":""},{"$f":"IF($S23=0,\"\",Berechnung!AG43)","v":""},{"$f":"IF($S23=0,\"\",Berechnung!AH43)","v":""},{"$f":"IF($S23=0,\"\",Berechnung!AI43)","v":""},{"$f":"IF($S23=0,\"\",Berechnung!AJ43)","v":""},{"$f":"IF($S23=0,\"\",Berechnung!AK43)","v":""},{"$f":"IF($S23=0,\"\",Berechnung!AL43)","v":""},{"$f":"Berechnung!AM43","v":""},{"$f":"IF($AD23=0,\"\",Berechnung!AN43)","v":""},{"$f":"IF($AD23=0,\"\",Berechnung!AO43)","v":""},{"$f":"IF($AD23=0,\"\",Berechnung!AP43)","v":""},{"$f":"IF($AD23=0,\"\",Berechnung!AQ43)","v":""},{"$f":"IF($AD23=0,\"\",Berechnung!AR43)","v":""},{"$f":"IF($AD23=0,\"\",Berechnung!AS43)","v":""},{"$f":"IF($AD23=0,\"\",Berechnung!AT43)","v":""},{"$f":"IF($AD23=0,\"\",Berechnung!AU43)","v":""},{"$f":"IF($AD23=0,\"\",Berechnung!AV43)","v":""}]
[null,{"$f":"Berechnung!I44","v":""},{"$f":"Berechnung!J44","v":""},null,{"$f":"Berechnung!N44","v":""},{"$f":"Berechnung!O44","v":""},{"$f":"IF($F24=0,\"\",Berechnung!P44)","v":""},{"$f":"IF(Berechnung!Q44=0,\"\",Berechnung!Q44)","v":""},{"$f":"IF(Berechnung!R44=0,\"\",Berechnung!R44)","v":""},{"$f":"Berechnung!S44","v":""},{"$f":"Berechnung!T44","v":""},{"$f":"IF($K24=0,\"\",Berechnung!U44)","v":""},{"$f":"IF($K24=0,\"\",Berechnung!V44)","v":""},{"$f":"IF($K24=0,\"\",Berechnung!W44)","v":""},{"$f":"IF($K24=0,\"\",Berechnung!X44)","v":""},{"$f":"IF($K24=0,\"\",Berechnung!Y44)","v":""},{"$f":"IF($K24=0,\"\",Berechnung!Z44)","v":""},{"$f":"IF($K24=0,\"\",Berechnung!AA44)","v":""},{"$f":"Berechnung!AB44","v":""},{"$f":"IF($S24=0,\"\",Berechnung!AC44)","v":""},{"$f":"IF($S24=0,\"\",Berechnung!AD44)","v":""},{"$f":"IF($S24=0,\"\",Berechnung!AE44)","v":""},{"$f":"IF($S24=0,\"\",Berechnung!AF44)","v":""},{"$f":"IF($S24=0,\"\",Berechnung!AG44)","v":""},{"$f":"IF($S24=0,\"\",Berechnung!AH44)","v":""},{"$f":"IF($S24=0,\"\",Berechnung!AI44)","v":""},{"$f":"IF($S24=0,\"\",Berechnung!AJ44)","v":""},{"$f":"IF($S24=0,\"\",Berechnung!AK44)","v":""},{"$f":"IF($S24=0,\"\",Berechnung!AL44)","v":""},{"$f":"Berechnung!AM44","v":""},{"$f":"IF($AD24=0,\"\",Berechnung!AN44)","v":""},{"$f":"IF($AD24=0,\"\",Berechnung!AO44)","v":""},{"$f":"IF($AD24=0,\"\",Berechnung!AP44)","v":""},{"$f":"IF($AD24=0,\"\",Berechnung!AQ44)","v":""},{"$f":"IF($AD24=0,\"\",Berechnung!AR44)","v":""},{"$f":"IF($AD24=0,\"\",Berechnung!AS44)","v":""},{"$f":"IF($AD24=0,\"\",Berechnung!AT44)","v":""},{"$f":"IF($AD24=0,\"\",Berechnung!AU44)","v":""},{"$f":"IF($AD24=0,\"\",Berechnung!AV44)","v":""}]
[null,{"$f":"Berechnung!I45","v":""},{"$f":"Berechnung!J45","v":""},null,{"$f":"Berechnung!N45","v":""},{"$f":"Berechnung!O45","v":""},{"$f":"IF($F25=0,\"\",Berechnung!P45)","v":""},{"$f":"IF(Berechnung!Q45=0,\"\",Berechnung!Q45)","v":""},{"$f":"IF(Berechnung!R45=0,\"\",Berechnung!R45)","v":""},{"$f":"Berechnung!S45","v":""},{"$f":"Berechnung!T45","v":""},{"$f":"IF($K25=0,\"\",Berechnung!U45)","v":""},{"$f":"IF($K25=0,\"\",Berechnung!V45)","v":""},{"$f":"IF($K25=0,\"\",Berechnung!W45)","v":""},{"$f":"IF($K25=0,\"\",Berechnung!X45)","v":""},{"$f":"IF($K25=0,\"\",Berechnung!Y45)","v":""},{"$f":"IF($K25=0,\"\",Berechnung!Z45)","v":""},{"$f":"IF($K25=0,\"\",Berechnung!AA45)","v":""},{"$f":"Berechnung!AB45","v":""},{"$f":"IF($S25=0,\"\",Berechnung!AC45)","v":""},{"$f":"IF($S25=0,\"\",Berechnung!AD45)","v":""},{"$f":"IF($S25=0,\"\",Berechnung!AE45)","v":""},{"$f":"IF($S25=0,\"\",Berechnung!AF45)","v":""},{"$f":"IF($S25=0,\"\",Berechnung!AG45)","v":""},{"$f":"IF($S25=0,\"\",Berechnung!AH45)","v":""},{"$f":"IF($S25=0,\"\",Berechnung!AI45)","v":""},{"$f":"IF($S25=0,\"\",Berechnung!AJ45)","v":""},{"$f":"IF($S25=0,\"\",Berechnung!AK45)","v":""},{"$f":"IF($S25=0,\"\",Berechnung!AL45)","v":""},{"$f":"Berechnung!AM45","v":""},{"$f":"IF($AD25=0,\"\",Berechnung!AN45)","v":""},{"$f":"IF($AD25=0,\"\",Berechnung!AO45)","v":""},{"$f":"IF($AD25=0,\"\",Berechnung!AP45)","v":""},{"$f":"IF($AD25=0,\"\",Berechnung!AQ45)","v":""},{"$f":"IF($AD25=0,\"\",Berechnung!AR45)","v":""},{"$f":"IF($AD25=0,\"\",Berechnung!AS45)","v":""},{"$f":"IF($AD25=0,\"\",Berechnung!AT45)","v":""},{"$f":"IF($AD25=0,\"\",Berechnung!AU45)","v":""},{"$f":"IF($AD25=0,\"\",Berechnung!AV45)","v":""}]
[null,{"$f":"Berechnung!I46","v":""},{"$f":"Berechnung!J46","v":""},null,{"$f":"Berechnung!N46","v":""},{"$f":"Berechnung!O46","v":""},{"$f":"IF($F26=0,\"\",Berechnung!P46)","v":""},{"$f":"IF(Berechnung!Q46=0,\"\",Berechnung!Q46)","v":""},{"$f":"IF(Berechnung!R46=0,\"\",Berechnung!R46)","v":""},{"$f":"Berechnung!S46","v":""},{"$f":"Berechnung!T46","v":""},{"$f":"IF($K26=0,\"\",Berechnung!U46)","v":""},{"$f":"IF($K26=0,\"\",Berechnung!V46)","v":""},{"$f":"IF($K26=0,\"\",Berechnung!W46)","v":""},{"$f":"IF($K26=0,\"\",Berechnung!X46)","v":""},{"$f":"IF($K26=0,\"\",Berechnung!Y46)","v":""},{"$f":"IF($K26=0,\"\",Berechnung!Z46)","v":""},{"$f":"IF($K26=0,\"\",Berechnung!AA46)","v":""},{"$f":"Berechnung!AB46","v":""},{"$f":"IF($S26=0,\"\",Berechnung!AC46)","v":""},{"$f":"IF($S26=0,\"\",Berechnung!AD46)","v":""},{"$f":"IF($S26=0,\"\",Berechnung!AE46)","v":""},{"$f":"IF($S26=0,\"\",Berechnung!AF46)","v":""},{"$f":"IF($S26=0,\"\",Berechnung!AG46)","v":""},{"$f":"IF($S26=0,\"\",Berechnung!AH46)","v":""},{"$f":"IF($S26=0,\"\",Berechnung!AI46)","v":""},{"$f":"IF($S26=0,\"\",Berechnung!AJ46)","v":""},{"$f":"IF($S26=0,\"\",Berechnung!AK46)","v":""},{"$f":"IF($S26=0,\"\",Berechnung!AL46)","v":""},{"$f":"Berechnung!AM46","v":""},{"$f":"IF($AD26=0,\"\",Berechnung!AN46)","v":""},{"$f":"IF($AD26=0,\"\",Berechnung!AO46)","v":""},{"$f":"IF($AD26=0,\"\",Berechnung!AP46)","v":""},{"$f":"IF($AD26=0,\"\",Berechnung!AQ46)","v":""},{"$f":"IF($AD26=0,\"\",Berechnung!AR46)","v":""},{"$f":"IF($AD26=0,\"\",Berechnung!AS46)","v":""},{"$f":"IF($AD26=0,\"\",Berechnung!AT46)","v":""},{"$f":"IF($AD26=0,\"\",Berechnung!AU46)","v":""},{"$f":"IF($AD26=0,\"\",Berechnung!AV46)","v":""}]
[]
[null,null,null,null,null,{"$f":"Berechnung!AW2","v":"Block"},null,null,null,null,null,{"$f":"Berechnung!BC2","v":"Defense"},null,null,null,null,null,{"$f":"Berechnung!BI2","v":"Freeball"},null,null,null,null,{"$f":"Berechnung!BN2","v":"Set"}]
[null,null,null,null,null,"∑",{"$f":"Berechnung!AX3","v":"="},{"$f":"Berechnung!AY3","v":"+"},{"$f":"Berechnung!AZ3","v":"#"},{"$f":"Berechnung!BA3","v":"#%"},{"$f":"Berechnung!BB3","v":"eff%"},"∑",{"$f":"Berechnung!BD3","v":"="},{"$f":"Berechnung!BE3","v":"/-!"},{"$f":"Berechnung!BF3","v":"+#"},{"$f":"Berechnung!BG3","v":"+#%"},{"$f":"Berechnung!BH3","v":"eff%"},"∑",{"$f":"Berechnung!BJ3","v":"err"},{"$f":"Berechnung!BK3","v":"bad"},{"$f":"Berechnung!BL3","v":"god"},{"$f":"Berechnung!BM3","v":"eff%"},"∑",{"$f":"Berechnung!BO3","v":"="},{"$f":"Berechnung!BP3","v":"eff%"}]
[null,null,{"$f":"Berechnung!J26","v":"KOREA"},null,null,{"$f":"Berechnung!AW26","v":51},{"$f":"Berechnung!AX26","v":22},{"$f":"Berechnung!AY26","v":4},{"$f":"Berechnung!AZ26","v":10},{"$f":"Berechnung!BA26","v":0.19607843137254902},{"$f":"Berechnung!BB26","v":"-16%"},{"$f":"Berechnung!BC26","v":60},{"$f":"Berechnung!BD26","v":15},{"$f":"Berechnung!BE26","v":28},{"$f":"Berechnung!BF26","v":17},{"$f":"Berechnung!BG26","v":0.28333333333333333},{"$f":"Berechnung!BH26","v":"3%"},{"$f":"Berechnung!BI26","v":1},{"$f":"Berechnung!BJ26","v":0},{"$f":"Berechnung!BK26","v":1},{"$f":"Berechnung!BL26","v":0},{"$f":"Berechnung!BM26","v":"0%"},{"$f":"Berechnung!BN26","v":98},{"$f":"Berechnung!BO26","v":2},{"$f":"Berechnung!BP26","v":"59%"},null,"pld Set",null,"played Sets"]
[null,{"$f":"Berechnung!I27","v":"1"},{"$f":"Berechnung!J27","v":"SONG"},null,null,{"$f":"Berechnung!AW27","v":3},{"$f":"IF($F31=0,\"\",Berechnung!AX27)","v":1},{"$f":"IF($F31=0,\"\",Berechnung!AY27)","v":0},{"$f":"IF($F31=0,\"\",Berechnung!AZ27)","v":2},{"$f":"IF($F31=0,\"\",Berechnung!BA27)","v":0.66666666666666663},{"$f":"IF($F31=0,\"\",Berechnung!BB27)","v":"33%"},{"$f":"Berechnung!BC27","v":15},{"$f":"IF($L31=0,\"\",Berechnung!BD27)","v":3},{"$f":"IF($L31=0,\"\",Berechnung!BE27)","v":6},{"$f":"IF($L31=0,\"\",Berechnung!BF27)","v":6},{"$f":"IF($L31=0,\"\",Berechnung!BG27)","v":0.4},{"$f":"IF($L31=0,\"\",Berechnung!BH27)","v":"20%"},{"$f":"Berechnung!BI27","v":1},{"$f":"IF($R31=0,\"\",Berechnung!BJ27)","v":0},{"$f":"IF($R31=0,\"\",Berechnung!BK27)","v":1},{"$f":"IF($R31=0,\"\",Berechnung!BL27)","v":0},{"$f":"IF($R31=0,\"\",Berechnung!BM27)","v":"0%"},{"$f":"Berechnung!BN27","v":3},{"$f":"IF($W31=0,\"\",Berechnung!BO27)","v":0},{"$f":"IF($W31=0,\"\",Berechnung!BP27)","v":"0%"},null,"P/s",null,"Points per Set"]
[null,{"$f":"Berechnung!I28","v":"4"},{"$f":"Berechnung!J28","v":"SHIN"},null,null,{"$f":"Berechnung!AW28","v":12},{"$f":"IF($F32=0,\"\",Berechnung!AX28)","v":4},{"$f":"IF($F32=0,\"\",Berechnung!AY28)","v":0},{"$f":"IF($F32=0,\"\",Berechnung!AZ28)","v":3},{"$f":"IF($F32=0,\"\",Berechnung!BA28)","v":0.25},{"$f":"IF($F32=0,\"\",Berechnung!BB28)","v":"-8%"},{"$f":"Berechnung!BC28","v":5},{"$f":"IF($L32=0,\"\",Berechnung!BD28)","v":0},{"$f":"IF($L32=0,\"\",Berechnung!BE28)","v":2},{"$f":"IF($L32=0,\"\",Berechnung!BF28)","v":3},{"$f":"IF($L32=0,\"\",Berechnung!BG28)","v":0.6},{"$f":"IF($L32=0,\"\",Berechnung!BH28)","v":"60%"},{"$f":"Berechnung!BI28","v":0},{"$f":"IF($R32=0,\"\",Berechnung!BJ28)","v":""},{"$f":"IF($R32=0,\"\",Berechnung!BK28)","v":""},{"$f":"IF($R32=0,\"\",Berechnung!BL28)","v":""},{"$f":"IF($R32=0,\"\",Berechnung!BM28)","v":""},{"$f":"Berechnung!BN28","v":2},{"$f":"IF($W32=0,\"\",Berechnung!BO28)","v":1},{"$f":"IF($W32=0,\"\",Berechnung!BP28)","v":"-50%"},null,"pts",null,"Points"]
[null,{"$f":"Berechnung!I29","v":"6"},{"$f":"Berechnung!J29","v":"LEE"},null,null,{"$f":"Berechnung!AW29","v":6},{"$f":"IF($F33=0,\"\",Berechnung!AX29)","v":3},{"$f":"IF($F33=0,\"\",Berechnung!AY29)","v":0},{"$f":"IF($F33=0,\"\",Berechnung!AZ29)","v":1},{"$f":"IF($F33=0,\"\",Berechnung!BA29)","v":0.16666666666666666},{"$f":"IF($F33=0,\"\",Berechnung!BB29)","v":"-33%"},{"$f":"Berechnung!BC29","v":4},{"$f":"IF($L33=0,\"\",Berechnung!BD29)","v":2},{"$f":"IF($L33=0,\"\",Berechnung!BE29)","v":1},{"$f":"IF($L33=0,\"\",Berechnung!BF29)","v":1},{"$f":"IF($L33=0,\"\",Berechnung!BG29)","v":0.25},{"$f":"IF($L33=0,\"\",Berechnung!BH29)","v":"-25%"},{"$f":"Berechnung!BI29","v":0},{"$f":"IF($R33=0,\"\",Berechnung!BJ29)","v":""},{"$f":"IF($R33=0,\"\",Berechnung!BK29)","v":""},{"$f":"IF($R33=0,\"\",Berechnung!BL29)","v":""},{"$f":"IF($R33=0,\"\",Berechnung!BM29)","v":""},{"$f":"Berechnung!BN29","v":59},{"$f":"IF($W33=0,\"\",Berechnung!BO29)","v":0},{"$f":"IF($W33=0,\"\",Berechnung!BP29)","v":"73%"},null,"easy=",null,"easy errors (serve, net contact, ...)"]
[null,{"$f":"Berechnung!I30","v":"8"},{"$f":"Berechnung!J30","v":"PARK"},null,null,{"$f":"Berechnung!AW30","v":5},{"$f":"IF($F34=0,\"\",Berechnung!AX30)","v":3},{"$f":"IF($F34=0,\"\",Berechnung!AY30)","v":0},{"$f":"IF($F34=0,\"\",Berechnung!AZ30)","v":0},{"$f":"IF($F34=0,\"\",Berechnung!BA30)","v":0},{"$f":"IF($F34=0,\"\",Berechnung!BB30)","v":"-60%"},{"$f":"Berechnung!BC30","v":0},{"$f":"IF($L34=0,\"\",Berechnung!BD30)","v":""},{"$f":"IF($L34=0,\"\",Berechnung!BE30)","v":""},{"$f":"IF($L34=0,\"\",Berechnung!BF30)","v":""},{"$f":"IF($L34=0,\"\",Berechnung!BG30)","v":""},{"$f":"IF($L34=0,\"\",Berechnung!BH30)","v":""},{"$f":"Berechnung!BI30","v":0},{"$f":"IF($R34=0,\"\",Berechnung!BJ30)","v":""},{"$f":"IF($R34=0,\"\",Berechnung!BK30)","v":""},{"$f":"IF($R34=0,\"\",Berechnung!BL30)","v":""},{"$f":"IF($R34=0,\"\",Berechnung!BM30)","v":""},{"$f":"Berechnung!BN30","v":0},{"$f":"IF($W34=0,\"\",Berechnung!BO30)","v":""},{"$f":"IF($W34=0,\"\",Berechnung!BP30)","v":""},null,"all=",null,"all errors"]
[null,{"$f":"Berechnung!I31","v":"9"},{"$f":"Berechnung!J31","v":"KWAK"},null,null,{"$f":"Berechnung!AW31","v":4},{"$f":"IF($F35=0,\"\",Berechnung!AX31)","v":3},{"$f":"IF($F35=0,\"\",Berechnung!AY31)","v":0},{"$f":"IF($F35=0,\"\",Berechnung!AZ31)","v":0},{"$f":"IF($F35=0,\"\",Berechnung!BA31)","v":0},{"$f":"IF($F35=0,\"\",Berechnung!BB31)","v":"-75%"},{"$f":"Berechnung!BC31","v":6},{"$f":"IF($L35=0,\"\",Berechnung!BD31)","v":2},{"$f":"IF($L35=0,\"\",Berechnung!BE31)","v":2},{"$f":"IF($L35=0,\"\",Berechnung!BF31)","v":2},{"$f":"IF($L35=0,\"\",Berechnung!BG31)","v":0.33333333333333331},{"$f":"IF($L35=0,\"\",Berechnung!BH31)","v":"0%"},{"$f":"Berechnung!BI31","v":0},{"$f":"IF($R35=0,\"\",Berechnung!BJ31)","v":""},{"$f":"IF($R35=0,\"\",Berechnung!BK31)","v":""},{"$f":"IF($R35=0,\"\",Berechnung!BL31)","v":""},{"$f":"IF($R35=0,\"\",Berechnung!BM31)","v":""},{"$f":"Berechnung!BN31","v":0},{"$f":"IF($W35=0,\"\",Berechnung!BO31)","v":""},{"$f":"IF($W35=0,\"\",Berechnung!BP31)","v":""},null,"W-L",null,"points - errors"]
[null,{"$f":"Berechnung!I32","v":"11"},{"$f":"Berechnung!J32","v":"CHOI"},null,null,{"$f":"Berechnung!AW32","v":12},{"$f":"IF($F36=0,\"\",Berechnung!AX32)","v":4},{"$f":"IF($F36=0,\"\",Berechnung!AY32)","v":3},{"$f":"IF($F36=0,\"\",Berechnung!AZ32)","v":2},{"$f":"IF($F36=0,\"\",Berechnung!BA32)","v":0.16666666666666666},{"$f":"IF($F36=0,\"\",Berechnung!BB32)","v":"8%"},{"$f":"Berechnung!BC32","v":0},{"$f":"IF($L36=0,\"\",Berechnung!BD32)","v":""},{"$f":"IF($L36=0,\"\",Berechnung!BE32)","v":""},{"$f":"IF($L36=0,\"\",Berechnung!BF32)","v":""},{"$f":"IF($L36=0,\"\",Berechnung!BG32)","v":""},{"$f":"IF($L36=0,\"\",Berechnung!BH32)","v":""},{"$f":"Berechnung!BI32","v":0},{"$f":"IF($R36=0,\"\",Berechnung!BJ32)","v":""},{"$f":"IF($R36=0,\"\",Berechnung!BK32)","v":""},{"$f":"IF($R36=0,\"\",Berechnung!BL32)","v":""},{"$f":"IF($R36=0,\"\",Berechnung!BM32)","v":""},{"$f":"Berechnung!BN32","v":0},{"$f":"IF($W36=0,\"\",Berechnung!BO32)","v":""},{"$f":"IF($W36=0,\"\",Berechnung!BP32)","v":""},null,"∑",null,"sum of all events"]
[null,{"$f":"Berechnung!I33","v":"12"},{"$f":"Berechnung!J33","v":"JEON"},null,null,{"$f":"Berechnung!AW33","v":0},{"$f":"IF($F37=0,\"\",Berechnung!AX33)","v":""},{"$f":"IF($F37=0,\"\",Berechnung!AY33)","v":""},{"$f":"IF($F37=0,\"\",Berechnung!AZ33)","v":""},{"$f":"IF($F37=0,\"\",Berechnung!BA33)","v":""},{"$f":"IF($F37=0,\"\",Berechnung!BB33)","v":""},{"$f":"Berechnung!BC33","v":0},{"$f":"IF($L37=0,\"\",Berechnung!BD33)","v":""},{"$f":"IF($L37=0,\"\",Berechnung!BE33)","v":""},{"$f":"IF($L37=0,\"\",Berechnung!BF33)","v":""},{"$f":"IF($L37=0,\"\",Berechnung!BG33)","v":""},{"$f":"IF($L37=0,\"\",Berechnung!BH33)","v":""},{"$f":"Berechnung!BI33","v":0},{"$f":"IF($R37=0,\"\",Berechnung!BJ33)","v":""},{"$f":"IF($R37=0,\"\",Berechnung!BK33)","v":""},{"$f":"IF($R37=0,\"\",Berechnung!BL33)","v":""},{"$f":"IF($R37=0,\"\",Berechnung!BM33)","v":""},{"$f":"Berechnung!BN33","v":0},{"$f":"IF($W37=0,\"\",Berechnung!BO33)","v":""},{"$f":"IF($W37=0,\"\",Berechnung!BP33)","v":""},null,"in %",null,"in percent of all team events"]
[null,{"$f":"Berechnung!I34","v":"14"},{"$f":"Berechnung!J34","v":"SONG"},null,null,{"$f":"Berechnung!AW34","v":2},{"$f":"IF($F38=0,\"\",Berechnung!AX34)","v":1},{"$f":"IF($F38=0,\"\",Berechnung!AY34)","v":0},{"$f":"IF($F38=0,\"\",Berechnung!AZ34)","v":0},{"$f":"IF($F38=0,\"\",Berechnung!BA34)","v":0},{"$f":"IF($F38=0,\"\",Berechnung!BB34)","v":"-50%"},{"$f":"Berechnung!BC34","v":2},{"$f":"IF($L38=0,\"\",Berechnung!BD34)","v":0},{"$f":"IF($L38=0,\"\",Berechnung!BE34)","v":2},{"$f":"IF($L38=0,\"\",Berechnung!BF34)","v":0},{"$f":"IF($L38=0,\"\",Berechnung!BG34)","v":0},{"$f":"IF($L38=0,\"\",Berechnung!BH34)","v":"0%"},{"$f":"Berechnung!BI34","v":0},{"$f":"IF($R38=0,\"\",Berechnung!BJ34)","v":""},{"$f":"IF($R38=0,\"\",Berechnung!BK34)","v":""},{"$f":"IF($R38=0,\"\",Berechnung!BL34)","v":""},{"$f":"IF($R38=0,\"\",Berechnung!BM34)","v":""},{"$f":"Berechnung!BN34","v":0},{"$f":"IF($W38=0,\"\",Berechnung!BO34)","v":""},{"$f":"IF($W38=0,\"\",Berechnung!BP34)","v":""}]
[null,{"$f":"Berechnung!I35","v":"16"},{"$f":"Berechnung!J35","v":"CHOI"},null,null,{"$f":"Berechnung!AW35","v":3},{"$f":"IF($F39=0,\"\",Berechnung!AX35)","v":1},{"$f":"IF($F39=0,\"\",Berechnung!AY35)","v":0},{"$f":"IF($F39=0,\"\",Berechnung!AZ35)","v":1},{"$f":"IF($F39=0,\"\",Berechnung!BA35)","v":0.33333333333333331},{"$f":"IF($F39=0,\"\",Berechnung!BB35)","v":"0%"},{"$f":"Berechnung!BC35","v":3},{"$f":"IF($L39=0,\"\",Berechnung!BD35)","v":0},{"$f":"IF($L39=0,\"\",Berechnung!BE35)","v":3},{"$f":"IF($L39=0,\"\",Berechnung!BF35)","v":0},{"$f":"IF($L39=0,\"\",Berechnung!BG35)","v":0},{"$f":"IF($L39=0,\"\",Berechnung!BH35)","v":"0%"},{"$f":"Berechnung!BI35","v":0},{"$f":"IF($R39=0,\"\",Berechnung!BJ35)","v":""},{"$f":"IF($R39=0,\"\",Berechnung!BK35)","v":""},{"$f":"IF($R39=0,\"\",Berechnung!BL35)","v":""},{"$f":"IF($R39=0,\"\",Berechnung!BM35)","v":""},{"$f":"Berechnung!BN35","v":0},{"$f":"IF($W39=0,\"\",Berechnung!BO35)","v":""},{"$f":"IF($W39=0,\"\",Berechnung!BP35)","v":""}]
[null,{"$f":"Berechnung!I36","v":"17"},{"$f":"Berechnung!J36","v":"SEO"},null,null,{"$f":"Berechnung!AW36","v":2},{"$f":"IF($F40=0,\"\",Berechnung!AX36)","v":1},{"$f":"IF($F40=0,\"\",Berechnung!AY36)","v":1},{"$f":"IF($F40=0,\"\",Berechnung!AZ36)","v":0},{"$f":"IF($F40=0,\"\",Berechnung!BA36)","v":0},{"$f":"IF($F40=0,\"\",Berechnung!BB36)","v":"0%"},{"$f":"Berechnung!BC36","v":8},{"$f":"IF($L40=0,\"\",Berechnung!BD36)","v":3},{"$f":"IF($L40=0,\"\",Berechnung!BE36)","v":3},{"$f":"IF($L40=0,\"\",Berechnung!BF36)","v":2},{"$f":"IF($L40=0,\"\",Berechnung!BG36)","v":0.25},{"$f":"IF($L40=0,\"\",Berechnung!BH36)","v":"-12%"},{"$f":"Berechnung!BI36","v":0},{"$f":"IF($R40=0,\"\",Berechnung!BJ36)","v":""},{"$f":"IF($R40=0,\"\",Berechnung!BK36)","v":""},{"$f":"IF($R40=0,\"\",Berechnung!BL36)","v":""},{"$f":"IF($R40=0,\"\",Berechnung!BM36)","v":""},{"$f":"Berechnung!BN36","v":3},{"$f":"IF($W40=0,\"\",Berechnung!BO36)","v":0},{"$f":"IF($W40=0,\"\",Berechnung!BP36)","v":"0%"}]
[null,{"$f":"Berechnung!I37","v":"19"},{"$f":"Berechnung!J37","v":"JEONG"},null,null,{"$f":"Berechnung!AW37","v":0},{"$f":"IF($F41=0,\"\",Berechnung!AX37)","v":""},{"$f":"IF($F41=0,\"\",Berechnung!AY37)","v":""},{"$f":"IF($F41=0,\"\",Berechnung!AZ37)","v":""},{"$f":"IF($F41=0,\"\",Berechnung!BA37)","v":""},{"$f":"IF($F41=0,\"\",Berechnung!BB37)","v":""},{"$f":"Berechnung!BC37","v":12},{"$f":"IF($L41=0,\"\",Berechnung!BD37)","v":4},{"$f":"IF($L41=0,\"\",Berechnung!BE37)","v":5},{"$f":"IF($L41=0,\"\",Berechnung!BF37)","v":3},{"$f":"IF($L41=0,\"\",Berechnung!BG37)","v":0.25},{"$f":"IF($L41=0,\"\",Berechnung!BH37)","v":"-8%"},{"$f":"Berechnung!BI37","v":0},{"$f":"IF($R41=0,\"\",Berechnung!BJ37)","v":""},{"$f":"IF($R41=0,\"\",Berechnung!BK37)","v":""},{"$f":"IF($R41=0,\"\",Berechnung!BL37)","v":""},{"$f":"IF($R41=0,\"\",Berechnung!BM37)","v":""},{"$f":"Berechnung!BN37","v":2},{"$f":"IF($W41=0,\"\",Berechnung!BO37)","v":0},{"$f":"IF($W41=0,\"\",Berechnung!BP37)","v":"0%"}]
[null,{"$f":"Berechnung!I38","v":"20"},{"$f":"Berechnung!J38","v":"JI"},null,null,{"$f":"Berechnung!AW38","v":0},{"$f":"IF($F42=0,\"\",Berechnung!AX38)","v":""},{"$f":"IF($F42=0,\"\",Berechnung!AY38)","v":""},{"$f":"IF($F42=0,\"\",Berechnung!AZ38)","v":""},{"$f":"IF($F42=0,\"\",Berechnung!BA38)","v":""},{"$f":"IF($F42=0,\"\",Berechnung!BB38)","v":""},{"$f":"Berechnung!BC38","v":0},{"$f":"IF($L42=0,\"\",Berechnung!BD38)","v":""},{"$f":"IF($L42=0,\"\",Berechnung!BE38)","v":""},{"$f":"IF($L42=0,\"\",Berechnung!BF38)","v":""},{"$f":"IF($L42=0,\"\",Berechnung!BG38)","v":""},{"$f":"IF($L42=0,\"\",Berechnung!BH38)","v":""},{"$f":"Berechnung!BI38","v":0},{"$f":"IF($R42=0,\"\",Berechnung!BJ38)","v":""},{"$f":"IF($R42=0,\"\",Berechnung!BK38)","v":""},{"$f":"IF($R42=0,\"\",Berechnung!BL38)","v":""},{"$f":"IF($R42=0,\"\",Berechnung!BM38)","v":""},{"$f":"Berechnung!BN38","v":0},{"$f":"IF($W42=0,\"\",Berechnung!BO38)","v":""},{"$f":"IF($W42=0,\"\",Berechnung!BP38)","v":""}]
[null,{"$f":"Berechnung!I39","v":"22"},{"$f":"Berechnung!J39","v":"YOU"},null,null,{"$f":"Berechnung!AW39","v":2},{"$f":"IF($F43=0,\"\",Berechnung!AX39)","v":1},{"$f":"IF($F43=0,\"\",Berechnung!AY39)","v":0},{"$f":"IF($F43=0,\"\",Berechnung!AZ39)","v":1},{"$f":"IF($F43=0,\"\",Berechnung!BA39)","v":0.5},{"$f":"IF($F43=0,\"\",Berechnung!BB39)","v":"0%"},{"$f":"Berechnung!BC39","v":4},{"$f":"IF($L43=0,\"\",Berechnung!BD39)","v":1},{"$f":"IF($L43=0,\"\",Berechnung!BE39)","v":3},{"$f":"IF($L43=0,\"\",Berechnung!BF39)","v":0},{"$f":"IF($L43=0,\"\",Berechnung!BG39)","v":0},{"$f":"IF($L43=0,\"\",Berechnung!BH39)","v":"-25%"},{"$f":"Berechnung!BI39","v":0},{"$f":"IF($R43=0,\"\",Berechnung!BJ39)","v":""},{"$f":"IF($R43=0,\"\",Berechnung!BK39)","v":""},{"$f":"IF($R43=0,\"\",Berechnung!BL39)","v":""},{"$f":"IF($R43=0,\"\",Berechnung!BM39)","v":""},{"$f":"Berechnung!BN39","v":28},{"$f":"IF($W43=0,\"\",Berechnung!BO39)","v":1},{"$f":"IF($W43=0,\"\",Berechnung!BP39)","v":"57%"}]
[null,{"$f":"Berechnung!I40","v":"25"},{"$f":"Berechnung!J40","v":"OH"},null,null,{"$f":"Berechnung!AW40","v":0},{"$f":"IF($F44=0,\"\",Berechnung!AX40)","v":""},{"$f":"IF($F44=0,\"\",Berechnung!AY40)","v":""},{"$f":"IF($F44=0,\"\",Berechnung!AZ40)","v":""},{"$f":"IF($F44=0,\"\",Berechnung!BA40)","v":""},{"$f":"IF($F44=0,\"\",Berechnung!BB40)","v":""},{"$f":"Berechnung!BC40","v":1},{"$f":"IF($L44=0,\"\",Berechnung!BD40)","v":0},{"$f":"IF($L44=0,\"\",Berechnung!BE40)","v":1},{"$f":"IF($L44=0,\"\",Berechnung!BF40)","v":0},{"$f":"IF($L44=0,\"\",Berechnung!BG40)","v":0},{"$f":"IF($L44=0,\"\",Berechnung!BH40)","v":"0%"},{"$f":"Berechnung!BI40","v":0},{"$f":"IF($R44=0,\"\",Berechnung!BJ40)","v":""},{"$f":"IF($R44=0,\"\",Berechnung!BK40)","v":""},{"$f":"IF($R44=0,\"\",Berechnung!BL40)","v":""},{"$f":"IF($R44=0,\"\",Berechnung!BM40)","v":""},{"$f":"Berechnung!BN40","v":1},{"$f":"IF($W44=0,\"\",Berechnung!BO40)","v":0},{"$f":"IF($W44=0,\"\",Berechnung!BP40)","v":"0%"}]
[null,{"$f":"Berechnung!I41","v":""},{"$f":"Berechnung!J41","v":""},null,null,{"$f":"Berechnung!AW41","v":""},{"$f":"IF($F45=0,\"\",Berechnung!AX41)","v":""},{"$f":"IF($F45=0,\"\",Berechnung!AY41)","v":""},{"$f":"IF($F45=0,\"\",Berechnung!AZ41)","v":""},{"$f":"IF($F45=0,\"\",Berechnung!BA41)","v":""},{"$f":"IF($F45=0,\"\",Berechnung!BB41)","v":""},{"$f":"Berechnung!BC41","v":""},{"$f":"IF($L45=0,\"\",Berechnung!BD41)","v":""},{"$f":"IF($L45=0,\"\",Berechnung!BE41)","v":""},{"$f":"IF($L45=0,\"\",Berechnung!BF41)","v":""},{"$f":"IF($L45=0,\"\",Berechnung!BG41)","v":""},{"$f":"IF($L45=0,\"\",Berechnung!BH41)","v":""},{"$f":"Berechnung!BI41","v":""},{"$f":"IF($R45=0,\"\",Berechnung!BJ41)","v":""},{"$f":"IF($R45=0,\"\",Berechnung!BK41)","v":""},{"$f":"IF($R45=0,\"\",Berechnung!BL41)","v":""},{"$f":"IF($R45=0,\"\",Berechnung!BM41)","v":""},{"$f":"Berechnung!BN41","v":""},{"$f":"IF($W45=0,\"\",Berechnung!BO41)","v":""},{"$f":"IF($W45=0,\"\",Berechnung!BP41)","v":""}]
[null,{"$f":"Berechnung!I42","v":""},{"$f":"Berechnung!J42","v":""},null,null,{"$f":"Berechnung!AW42","v":""},{"$f":"IF($F46=0,\"\",Berechnung!AX42)","v":""},{"$f":"IF($F46=0,\"\",Berechnung!AY42)","v":""},{"$f":"IF($F46=0,\"\",Berechnung!AZ42)","v":""},{"$f":"IF($F46=0,\"\",Berechnung!BA42)","v":""},{"$f":"IF($F46=0,\"\",Berechnung!BB42)","v":""},{"$f":"Berechnung!BC42","v":""},{"$f":"IF($L46=0,\"\",Berechnung!BD42)","v":""},{"$f":"IF($L46=0,\"\",Berechnung!BE42)","v":""},{"$f":"IF($L46=0,\"\",Berechnung!BF42)","v":""},{"$f":"IF($L46=0,\"\",Berechnung!BG42)","v":""},{"$f":"IF($L46=0,\"\",Berechnung!BH42)","v":""},{"$f":"Berechnung!BI42","v":""},{"$f":"IF($R46=0,\"\",Berechnung!BJ42)","v":""},{"$f":"IF($R46=0,\"\",Berechnung!BK42)","v":""},{"$f":"IF($R46=0,\"\",Berechnung!BL42)","v":""},{"$f":"IF($R46=0,\"\",Berechnung!BM42)","v":""},{"$f":"Berechnung!BN42","v":""},{"$f":"IF($W46=0,\"\",Berechnung!BO42)","v":""},{"$f":"IF($W46=0,\"\",Berechnung!BP42)","v":""}]
[" <                                       ",{"$f":"Berechnung!I43","v":""},{"$f":"Berechnung!J43","v":""},null,null,{"$f":"Berechnung!AW43","v":""},{"$f":"IF($F47=0,\"\",Berechnung!AX43)","v":""},{"$f":"IF($F47=0,\"\",Berechnung!AY43)","v":""},{"$f":"IF($F47=0,\"\",Berechnung!AZ43)","v":""},{"$f":"IF($F47=0,\"\",Berechnung!BA43)","v":""},{"$f":"IF($F47=0,\"\",Berechnung!BB43)","v":""},{"$f":"Berechnung!BC43","v":""},{"$f":"IF($L47=0,\"\",Berechnung!BD43)","v":""},{"$f":"IF($L47=0,\"\",Berechnung!BE43)","v":""},{"$f":"IF($L47=0,\"\",Berechnung!BF43)","v":""},{"$f":"IF($L47=0,\"\",Berechnung!BG43)","v":""},{"$f":"IF($L47=0,\"\",Berechnung!BH43)","v":""},{"$f":"Berechnung!BI43","v":""},{"$f":"IF($R47=0,\"\",Berechnung!BJ43)","v":""},{"$f":"IF($R47=0,\"\",Berechnung!BK43)","v":""},{"$f":"IF($R47=0,\"\",Berechnung!BL43)","v":""},{"$f":"IF($R47=0,\"\",Berechnung!BM43)","v":""},{"$f":"Berechnung!BN43","v":""},{"$f":"IF($W47=0,\"\",Berechnung!BO43)","v":""},{"$f":"IF($W47=0,\"\",Berechnung!BP43)","v":""}]
["                                ",{"$f":"Berechnung!I44","v":""},{"$f":"Berechnung!J44","v":""},null,null,{"$f":"Berechnung!AW44","v":""},{"$f":"IF($F48=0,\"\",Berechnung!AX44)","v":""},{"$f":"IF($F48=0,\"\",Berechnung!AY44)","v":""},{"$f":"IF($F48=0,\"\",Berechnung!AZ44)","v":""},{"$f":"IF($F48=0,\"\",Berechnung!BA44)","v":""},{"$f":"IF($F48=0,\"\",Berechnung!BB44)","v":""},{"$f":"Berechnung!BC44","v":""},{"$f":"IF($L48=0,\"\",Berechnung!BD44)","v":""},{"$f":"IF($L48=0,\"\",Berechnung!BE44)","v":""},{"$f":"IF($L48=0,\"\",Berechnung!BF44)","v":""},{"$f":"IF($L48=0,\"\",Berechnung!BG44)","v":""},{"$f":"IF($L48=0,\"\",Berechnung!BH44)","v":""},{"$f":"Berechnung!BI44","v":""},{"$f":"IF($R48=0,\"\",Berechnung!BJ44)","v":""},{"$f":"IF($R48=0,\"\",Berechnung!BK44)","v":""},{"$f":"IF($R48=0,\"\",Berechnung!BL44)","v":""},{"$f":"IF($R48=0,\"\",Berechnung!BM44)","v":""},{"$f":"Berechnung!BN44","v":""},{"$f":"IF($W48=0,\"\",Berechnung!BO44)","v":""},{"$f":"IF($W48=0,\"\",Berechnung!BP44)","v":""}]
["                    ",{"$f":"Berechnung!I45","v":""},{"$f":"Berechnung!J45","v":""},null,null,{"$f":"Berechnung!AW45","v":""},{"$f":"IF($F49=0,\"\",Berechnung!AX45)","v":""},{"$f":"IF($F49=0,\"\",Berechnung!AY45)","v":""},{"$f":"IF($F49=0,\"\",Berechnung!AZ45)","v":""},{"$f":"IF($F49=0,\"\",Berechnung!BA45)","v":""},{"$f":"IF($F49=0,\"\",Berechnung!BB45)","v":""},{"$f":"Berechnung!BC45","v":""},{"$f":"IF($L49=0,\"\",Berechnung!BD45)","v":""},{"$f":"IF($L49=0,\"\",Berechnung!BE45)","v":""},{"$f":"IF($L49=0,\"\",Berechnung!BF45)","v":""},{"$f":"IF($L49=0,\"\",Berechnung!BG45)","v":""},{"$f":"IF($L49=0,\"\",Berechnung!BH45)","v":""},{"$f":"Berechnung!BI45","v":""},{"$f":"IF($R49=0,\"\",Berechnung!BJ45)","v":""},{"$f":"IF($R49=0,\"\",Berechnung!BK45)","v":""},{"$f":"IF($R49=0,\"\",Berechnung!BL45)","v":""},{"$f":"IF($R49=0,\"\",Berechnung!BM45)","v":""},{"$f":"Berechnung!BN45","v":""},{"$f":"IF($W49=0,\"\",Berechnung!BO45)","v":""},{"$f":"IF($W49=0,\"\",Berechnung!BP45)","v":""}]
[null,{"$f":"Berechnung!I46","v":""},{"$f":"Berechnung!J46","v":""},null,null,{"$f":"Berechnung!AW46","v":""},{"$f":"IF($F50=0,\"\",Berechnung!AX46)","v":""},{"$f":"IF($F50=0,\"\",Berechnung!AY46)","v":""},{"$f":"IF($F50=0,\"\",Berechnung!AZ46)","v":""},{"$f":"IF($F50=0,\"\",Berechnung!BA46)","v":""},{"$f":"IF($F50=0,\"\",Berechnung!BB46)","v":""},{"$f":"Berechnung!BC46","v":""},{"$f":"IF($L50=0,\"\",Berechnung!BD46)","v":""},{"$f":"IF($L50=0,\"\",Berechnung!BE46)","v":""},{"$f":"IF($L50=0,\"\",Berechnung!BF46)","v":""},{"$f":"IF($L50=0,\"\",Berechnung!BG46)","v":""},{"$f":"IF($L50=0,\"\",Berechnung!BH46)","v":""},{"$f":"Berechnung!BI46","v":""},{"$f":"IF($R50=0,\"\",Berechnung!BJ46)","v":""},{"$f":"IF($R50=0,\"\",Berechnung!BK46)","v":""},{"$f":"IF($R50=0,\"\",Berechnung!BL46)","v":""},{"$f":"IF($R50=0,\"\",Berechnung!BM46)","v":""},{"$f":"Berechnung!BN46","v":""},{"$f":"IF($W50=0,\"\",Berechnung!BO46)","v":""},{"$f":"IF($W50=0,\"\",Berechnung!BP46)","v":""}]
[]
[]
[]
[]
[]
[]
[]
[]
[]
[]
[]
[]
[]
[]
[]
[]
[]
[]
[]
[]
[]
[null,null,null,null,null,null,null,null,null,null,null,null,null,null,null,null,null,null,null,null,null,null,null,null,null,null,null," "]

{"sheet":"Stats Attack","index":7,"n_rows":50,"n_cols":36,"rows_kept":50,"cut":false,"hidden":false,"merged":[[3,32,3,35],[3,28,3,31],[1,1,1,27],[27,20,27,27],[3,4,3,11],[3,12,3,19],[27,4,27,11],[27,12,27,19],[3,20,3,27]]}
[]
[null,{"$f":"Options!B1&\" - Attack-Statistic\"","v":"KOREA - Attack-Statistic"}]
[]
[null,null,null,null,{"$f":"Berechnung!BU2","v":"K1 & K2 Attacks"},null,null,null,null,null,null,null,{"$f":"Berechnung!CB2","v":"K1 All Attacks"},null,null,null,null,null,null,null,{"$f":"Berechnung!CW2","v":"K2 Attacks"},null,null,null,null,null,null,null,"K1 aft R other Ply",null,null,null,"K1 after own Rec"]
[null,null,null,null,"∑","in %",{"$f":"Berechnung!BW3","v":"="},{"$f":"Berechnung!BX3","v":"/"},{"$f":"Berechnung!BY3","v":"#"},"=/%",{"$f":"Berechnung!BZ3","v":"#%"},{"$f":"Berechnung!CA3","v":"eff"},"∑","in %",{"$f":"Berechnung!CD3","v":"="},{"$f":"Berechnung!CE3","v":"/"},{"$f":"Berechnung!CF3","v":"#"},"=/%",{"$f":"Berechnung!CG3","v":"#%"},{"$f":"Berechnung!CH3","v":"eff"},"∑","in %",{"$f":"Berechnung!CY3","v":"="},{"$f":"Berechnung!CZ3","v":"/"},{"$f":"Berechnung!DA3","v":"#"},"=/%",{"$f":"Berechnung!DB3","v":"#%"},{"$f":"Berechnung!DC3","v":"eff"},{"$f":"Berechnung!DK3","v":"sum"},{"$f":"Berechnung!DL3","v":"#"},{"$f":"Berechnung!DM3","v":"#%"},{"$f":"Berechnung!DN3","v":"eff"},{"$f":"Berechnung!DO3","v":"sum"},{"$f":"Berechnung!DP3","v":"#"},{"$f":"Berechnung!DQ3","v":"#%"},{"$f":"Berechnung!DR3","v":"eff"}]
[null,null,{"$f":"Berechnung!BT49","v":"KOREA"},null,{"$f":"Berechnung!BU49","v":101},null,{"$f":"Berechnung!BW49","v":11},{"$f":"Berechnung!BX49","v":15},{"$f":"Berechnung!BY49","v":53},{"$f":"IF(E6=0,\"\",SUM(G6:H6)/E6)","v":0.25742574257425743},{"$f":"Berechnung!BZ49","v":0.52475247524752477},{"$f":"Berechnung!CA49","v":"27%"},{"$f":"Berechnung!CB49","v":74},null,{"$f":"Berechnung!CD49","v":8},{"$f":"Berechnung!CE49","v":9},{"$f":"Berechnung!CF49","v":39},{"$f":"IF(M6=0,\"\",SUM(O6:P6)/M6)","v":0.22972972972972974},{"$f":"Berechnung!CG49","v":0.52702702702702697},{"$f":"Berechnung!CH49","v":"30%"},{"$f":"Berechnung!CW49","v":27},null,{"$f":"Berechnung!CY49","v":3},{"$f":"Berechnung!CZ49","v":6},{"$f":"Berechnung!DA49","v":14},{"$f":"IF(U6=0,\"\",SUM(W6:X6)/U6)","v":0.33333333333333331},{"$f":"Berechnung!DB49","v":0.51851851851851849},{"$f":"Berechnung!DC49","v":"19%"},{"$f":"Berechnung!DK49","v":72},{"$f":"Berechnung!DL49","v":39},{"$f":"Berechnung!DM49","v":0.54166666666666663},null,{"$f":"Berechnung!DO49","v":2},{"$f":"Berechnung!DP49","v":0},{"$f":"Berechnung!DQ49","v":0}]
[null,{"$f":"Berechnung!BS50","v":"1"},{"$f":"Berechnung!BT50","v":"SONG"},null,{"$f":"Berechnung!BU50","v":30},{"$f":"IF($B7=\"\",\"\",IF(E7=0,\"\",Berechnung!BV50))","v":"30%"},{"$f":"IF($B7=\"\",\"\",IF(E7=0,\"\",Berechnung!BW50))","v":6},{"$f":"IF($B7=\"\",\"\",IF(E7=0,\"\",Berechnung!BX50))","v":4},{"$f":"IF($B7=\"\",\"\",IF(E7=0,\"\",Berechnung!BY50))","v":15},{"$f":"IF($B7=\"\",\"\",IF(E7=0,\"\",SUM(G7:H7)/E7))","v":0.33333333333333331},{"$f":"IF($B7=\"\",\"\",IF(E7=0,\"\",Berechnung!BZ50))","v":"50%"},{"$f":"IF($B7=\"\",\"\",IF(E7=0,\"\",Berechnung!CA50))","v":"17%"},{"$f":"Berechnung!CB50","v":23},{"$f":"IF($B7=\"\",\"\",IF(M7=0,\"\",Berechnung!CC50))","v":"31%"},{"$f":"IF($B7=\"\",\"\",IF(M7=0,\"\",Berechnung!CD50))","v":6},{"$f":"IF($B7=\"\",\"\",IF(M7=0,\"\",Berechnung!CE50))","v":3},{"$f":"IF($B7=\"\",\"\",IF(M7=0,\"\",Berechnung!CF50))","v":11},{"$f":"IF($B7=\"\",\"\",IF(M7=0,\"\",SUM(O7:P7)/M7))","v":0.39130434782608697},{"$f":"IF($B7=\"\",\"\",IF(M7=0,\"\",Berechnung!CG50))","v":"48%"},{"$f":"IF($B7=\"\",\"\",IF(M7=0,\"\",Berechnung!CH50))","v":"9%"},{"$f":"Berechnung!CW50","v":7},{"$f":"IF($B7=\"\",\"\",IF(U7=0,\"\",Berechnung!CX50))","v":"26%"},{"$f":"IF($B7=\"\",\"\",IF(U7=0,\"\",Berechnung!CY50))","v":0},{"$f":"IF($B7=\"\",\"\",IF(U7=0,\"\",Berechnung!CZ50))","v":1},{"$f":"IF($B7=\"\",\"\",IF(U7=0,\"\",Berechnung!DA50))","v":4},{"$f":"IF($B7=\"\",\"\",IF(U7=0,\"\",SUM(W7:X7)/U7))","v":0.14285714285714285},{"$f":"IF($B7=\"\",\"\",IF(U7=0,\"\",Berechnung!DB50))","v":"57%"},{"$f":"IF($B7=\"\",\"\",IF(U7=0,\"\",Berechnung!DC50))","v":"43%"},{"$f":"Berechnung!DK50","v":23},{"$f":"IF(AC7=0,\"\",Berechnung!DL50)","v":11},{"$f":"IF(AC7=0,\"\",Berechnung!DM50)","v":0.47826086956521741},{"$f":"IF(AC7=0,\"\",Berechnung!DN50)","v":"9%"},{"$f":"Berechnung!DO50","v":0},{"$f":"IF(AG7=0,\"\",Berechnung!DP50)","v":""},{"$f":"IF(AG7=0,\"\",Berechnung!DQ50)","v":""},{"$f":"IF(AG7=0,\"\",Berechnung!DR50)","v":""}]
[null,{"$f":"Berechnung!BS51","v":"17"},{"$f":"Berechnung!BT51","v":"SEO"},null,{"$f":"Berechnung!BU51","v":20},{"$f":"IF($B8=\"\",\"\",IF(E8=0,\"\",Berechnung!BV51))","v":"20%"},{"$f":"IF($B8=\"\",\"\",IF(E8=0,\"\",Berechnung!BW51))","v":2},{"$f":"IF($B8=\"\",\"\",IF(E8=0,\"\",Berechnung!BX51))","v":5},{"$f":"IF($B8=\"\",\"\",IF(E8=0,\"\",Berechnung!BY51))","v":11},0.35,{"$f":"IF($B8=\"\",\"\",IF(E8=0,\"\",Berechnung!BZ51))","v":"55%"},{"$f":"IF($B8=\"\",\"\",IF(E8=0,\"\",Berechnung!CA51))","v":"20%"},{"$f":"Berechnung!CB51","v":16},{"$f":"IF($B8=\"\",\"\",IF(M8=0,\"\",Berechnung!CC51))","v":"22%"},{"$f":"IF($B8=\"\",\"\",IF(M8=0,\"\",Berechnung!CD51))","v":2},{"$f":"IF($B8=\"\",\"\",IF(M8=0,\"\",Berechnung!CE51))","v":3},{"$f":"IF($B8=\"\",\"\",IF(M8=0,\"\",Berechnung!CF51))","v":9},0.3125,{"$f":"IF($B8=\"\",\"\",IF(M8=0,\"\",Berechnung!CG51))","v":"56%"},{"$f":"IF($B8=\"\",\"\",IF(M8=0,\"\",Berechnung!CH51))","v":"25%"},{"$f":"Berechnung!CW51","v":4},{"$f":"IF($B8=\"\",\"\",IF(U8=0,\"\",Berechnung!CX51))","v":"15%"},{"$f":"IF($B8=\"\",\"\",IF(U8=0,\"\",Berechnung!CY51))","v":0},{"$f":"IF($B8=\"\",\"\",IF(U8=0,\"\",Berechnung!CZ51))","v":2},{"$f":"IF($B8=\"\",\"\",IF(U8=0,\"\",Berechnung!DA51))","v":2},0.5,{"$f":"IF($B8=\"\",\"\",IF(U8=0,\"\",Berechnung!DB51))","v":"50%"},{"$f":"IF($B8=\"\",\"\",IF(U8=0,\"\",Berechnung!DC51))","v":"0%"},{"$f":"Berechnung!DK51","v":16},{"$f":"IF(AC8=0,\"\",Berechnung!DL51)","v":9},{"$f":"IF(AC8=0,\"\",Berechnung!DM51)","v":0.5625},{"$f":"IF(AC8=0,\"\",Berechnung!DN51)","v":"25%"},{"$f":"Berechnung!DO51","v":0},{"$f":"IF(AG8=0,\"\",Berechnung!DP51)","v":""},{"$f":"IF(AG8=0,\"\",Berechnung!DQ51)","v":""},{"$f":"IF(AG8=0,\"\",Berechnung!DR51)","v":""}]
[null,{"$f":"Berechnung!BS52","v":"16"},{"$f":"Berechnung!BT52","v":"CHOI"},null,{"$f":"Berechnung!BU52","v":15},{"$f":"IF($B9=\"\",\"\",IF(E9=0,\"\",Berechnung!BV52))","v":"15%"},{"$f":"IF($B9=\"\",\"\",IF(E9=0,\"\",Berechnung!BW52))","v":1},{"$f":"IF($B9=\"\",\"\",IF(E9=0,\"\",Berechnung!BX52))","v":2},{"$f":"IF($B9=\"\",\"\",IF(E9=0,\"\",Berechnung!BY52))","v":9},0.2,{"$f":"IF($B9=\"\",\"\",IF(E9=0,\"\",Berechnung!BZ52))","v":"60%"},{"$f":"IF($B9=\"\",\"\",IF(E9=0,\"\",Berechnung!CA52))","v":"40%"},{"$f":"Berechnung!CB52","v":10},{"$f":"IF($B9=\"\",\"\",IF(M9=0,\"\",Berechnung!CC52))","v":"14%"},{"$f":"IF($B9=\"\",\"\",IF(M9=0,\"\",Berechnung!CD52))","v":0},{"$f":"IF($B9=\"\",\"\",IF(M9=0,\"\",Berechnung!CE52))","v":1},{"$f":"IF($B9=\"\",\"\",IF(M9=0,\"\",Berechnung!CF52))","v":6},0.1,{"$f":"IF($B9=\"\",\"\",IF(M9=0,\"\",Berechnung!CG52))","v":"60%"},{"$f":"IF($B9=\"\",\"\",IF(M9=0,\"\",Berechnung!CH52))","v":"50%"},{"$f":"Berechnung!CW52","v":5},{"$f":"IF($B9=\"\",\"\",IF(U9=0,\"\",Berechnung!CX52))","v":"19%"},{"$f":"IF($B9=\"\",\"\",IF(U9=0,\"\",Berechnung!CY52))","v":1},{"$f":"IF($B9=\"\",\"\",IF(U9=0,\"\",Berechnung!CZ52))","v":1},{"$f":"IF($B9=\"\",\"\",IF(U9=0,\"\",Berechnung!DA52))","v":3},0.4,{"$f":"IF($B9=\"\",\"\",IF(U9=0,\"\",Berechnung!DB52))","v":"60%"},{"$f":"IF($B9=\"\",\"\",IF(U9=0,\"\",Berechnung!DC52))","v":"20%"},{"$f":"Berechnung!DK52","v":10},{"$f":"IF(AC9=0,\"\",Berechnung!DL52)","v":6},{"$f":"IF(AC9=0,\"\",Berechnung!DM52)","v":0.6},{"$f":"IF(AC9=0,\"\",Berechnung!DN52)","v":"50%"},{"$f":"Berechnung!DO52","v":0},{"$f":"IF(AG9=0,\"\",Berechnung!DP52)","v":""},{"$f":"IF(AG9=0,\"\",Berechnung!DQ52)","v":""},{"$f":"IF(AG9=0,\"\",Berechnung!DR52)","v":""}]
[null,{"$f":"Berechnung!BS53","v":"4"},{"$f":"Berechnung!BT53","v":"SHIN"},null,{"$f":"Berechnung!BU53","v":11},{"$f":"IF($B10=\"\",\"\",IF(E10=0,\"\",Berechnung!BV53))","v":"11%"},{"$f":"IF($B10=\"\",\"\",IF(E10=0,\"\",Berechnung!BW53))","v":0},{"$f":"IF($B10=\"\",\"\",IF(E10=0,\"\",Berechnung!BX53))","v":0},{"$f":"IF($B10=\"\",\"\",IF(E10=0,\"\",Berechnung!BY53))","v":8},0,{"$f":"IF($B10=\"\",\"\",IF(E10=0,\"\",Berechnung!BZ53))","v":"73%"},{"$f":"IF($B10=\"\",\"\",IF(E10=0,\"\",Berechnung!CA53))","v":"73%"},{"$f":"Berechnung!CB53","v":10},{"$f":"IF($B10=\"\",\"\",IF(M10=0,\"\",Berechnung!CC53))","v":"14%"},{"$f":"IF($B10=\"\",\"\",IF(M10=0,\"\",Berechnung!CD53))","v":0},{"$f":"IF($B10=\"\",\"\",IF(M10=0,\"\",Berechnung!CE53))","v":0},{"$f":"IF($B10=\"\",\"\",IF(M10=0,\"\",Berechnung!CF53))","v":7},0,{"$f":"IF($B10=\"\",\"\",IF(M10=0,\"\",Berechnung!CG53))","v":"70%"},{"$f":"IF($B10=\"\",\"\",IF(M10=0,\"\",Berechnung!CH53))","v":"70%"},{"$f":"Berechnung!CW53","v":1},{"$f":"IF($B10=\"\",\"\",IF(U10=0,\"\",Berechnung!CX53))","v":"4%"},{"$f":"IF($B10=\"\",\"\",IF(U10=0,\"\",Berechnung!CY53))","v":0},{"$f":"IF($B10=\"\",\"\",IF(U10=0,\"\",Berechnung!CZ53))","v":0},{"$f":"IF($B10=\"\",\"\",IF(U10=0,\"\",Berechnung!DA53))","v":1},0,{"$f":"IF($B10=\"\",\"\",IF(U10=0,\"\",Berechnung!DB53))","v":"100%"},{"$f":"IF($B10=\"\",\"\",IF(U10=0,\"\",Berechnung!DC53))","v":"100%"},{"$f":"Berechnung!DK53","v":10},{"$f":"IF(AC10=0,\"\",Berechnung!DL53)","v":7},{"$f":"IF(AC10=0,\"\",Berechnung!DM53)","v":0.7},{"$f":"IF(AC10=0,\"\",Berechnung!DN53)","v":"70%"},{"$f":"Berechnung!DO53","v":0},{"$f":"IF(AG10=0,\"\",Berechnung!DP53)","v":""},{"$f":"IF(AG10=0,\"\",Berechnung!DQ53)","v":""},{"$f":"IF(AG10=0,\"\",Berechnung!DR53)","v":""}]
[null,{"$f":"Berechnung!BS54","v":"11"},{"$f":"Berechnung!BT54","v":"CHOI"},null,{"$f":"Berechnung!BU54","v":8},{"$f":"IF($B11=\"\",\"\",IF(E11=0,\"\",Berechnung!BV54))","v":"8%"},{"$f":"IF($B11=\"\",\"\",IF(E11=0,\"\",Berechnung!BW54))","v":0},{"$f":"IF($B11=\"\",\"\",IF(E11=0,\"\",Berechnung!BX54))","v":0},{"$f":"IF($B11=\"\",\"\",IF(E11=0,\"\",Berechnung!BY54))","v":4},0,{"$f":"IF($B11=\"\",\"\",IF(E11=0,\"\",Berechnung!BZ54))","v":"50%"},{"$f":"IF($B11=\"\",\"\",IF(E11=0,\"\",Berechnung!CA54))","v":"50%"},{"$f":"Berechnung!CB54","v":6},{"$f":"IF($B11=\"\",\"\",IF(M11=0,\"\",Berechnung!CC54))","v":"8%"},{"$f":"IF($B11=\"\",\"\",IF(M11=0,\"\",Berechnung!CD54))","v":0},{"$f":"IF($B11=\"\",\"\",IF(M11=0,\"\",Berechnung!CE54))","v":0},{"$f":"IF($B11=\"\",\"\",IF(M11=0,\"\",Berechnung!CF54))","v":3},0,{"$f":"IF($B11=\"\",\"\",IF(M11=0,\"\",Berechnung!CG54))","v":"50%"},{"$f":"IF($B11=\"\",\"\",IF(M11=0,\"\",Berechnung!CH54))","v":"50%"},{"$f":"Berechnung!CW54","v":2},{"$f":"IF($B11=\"\",\"\",IF(U11=0,\"\",Berechnung!CX54))","v":"7%"},{"$f":"IF($B11=\"\",\"\",IF(U11=0,\"\",Berechnung!CY54))","v":0},{"$f":"IF($B11=\"\",\"\",IF(U11=0,\"\",Berechnung!CZ54))","v":0},{"$f":"IF($B11=\"\",\"\",IF(U11=0,\"\",Berechnung!DA54))","v":1},0,{"$f":"IF($B11=\"\",\"\",IF(U11=0,\"\",Berechnung!DB54))","v":"50%"},{"$f":"IF($B11=\"\",\"\",IF(U11=0,\"\",Berechnung!DC54))","v":"50%"},{"$f":"Berechnung!DK54","v":6},{"$f":"IF(AC11=0,\"\",Berechnung!DL54)","v":3},{"$f":"IF(AC11=0,\"\",Berechnung!DM54)","v":0.5},{"$f":"IF(AC11=0,\"\",Berechnung!DN54)","v":"50%"},{"$f":"Berechnung!DO54","v":0},{"$f":"IF(AG11=0,\"\",Berechnung!DP54)","v":""},{"$f":"IF(AG11=0,\"\",Berechnung!DQ54)","v":""},{"$f":"IF(AG11=0,\"\",Berechnung!DR54)","v":""}]
[null,{"$f":"Berechnung!BS55","v":"9"},{"$f":"Berechnung!BT55","v":"KWAK"},null,{"$f":"Berechnung!BU55","v":7},{"$f":"IF($B12=\"\",\"\",IF(E12=0,\"\",Berechnung!BV55))","v":"7%"},{"$f":"IF($B12=\"\",\"\",IF(E12=0,\"\",Berechnung!BW55))","v":1},{"$f":"IF($B12=\"\",\"\",IF(E12=0,\"\",Berechnung!BX55))","v":1},{"$f":"IF($B12=\"\",\"\",IF(E12=0,\"\",Berechnung!BY55))","v":4},0.2857142857142857,{"$f":"IF($B12=\"\",\"\",IF(E12=0,\"\",Berechnung!BZ55))","v":"57%"},{"$f":"IF($B12=\"\",\"\",IF(E12=0,\"\",Berechnung!CA55))","v":"29%"},{"$f":"Berechnung!CB55","v":2},{"$f":"IF($B12=\"\",\"\",IF(M12=0,\"\",Berechnung!CC55))","v":"3%"},{"$f":"IF($B12=\"\",\"\",IF(M12=0,\"\",Berechnung!CD55))","v":0},{"$f":"IF($B12=\"\",\"\",IF(M12=0,\"\",Berechnung!CE55))","v":0},{"$f":"IF($B12=\"\",\"\",IF(M12=0,\"\",Berechnung!CF55))","v":1},0,{"$f":"IF($B12=\"\",\"\",IF(M12=0,\"\",Berechnung!CG55))","v":"50%"},{"$f":"IF($B12=\"\",\"\",IF(M12=0,\"\",Berechnung!CH55))","v":"50%"},{"$f":"Berechnung!CW55","v":5},{"$f":"IF($B12=\"\",\"\",IF(U12=0,\"\",Berechnung!CX55))","v":"19%"},{"$f":"IF($B12=\"\",\"\",IF(U12=0,\"\",Berechnung!CY55))","v":1},{"$f":"IF($B12=\"\",\"\",IF(U12=0,\"\",Berechnung!CZ55))","v":1},{"$f":"IF($B12=\"\",\"\",IF(U12=0,\"\",Berechnung!DA55))","v":3},0.4,{"$f":"IF($B12=\"\",\"\",IF(U12=0,\"\",Berechnung!DB55))","v":"60%"},{"$f":"IF($B12=\"\",\"\",IF(U12=0,\"\",Berechnung!DC55))","v":"20%"},{"$f":"Berechnung!DK55","v":1},{"$f":"IF(AC12=0,\"\",Berechnung!DL55)","v":1},{"$f":"IF(AC12=0,\"\",Berechnung!DM55)","v":1},{"$f":"IF(AC12=0,\"\",Berechnung!DN55)","v":"100%"},{"$f":"Berechnung!DO55","v":1},{"$f":"IF(AG12=0,\"\",Berechnung!DP55)","v":0},{"$f":"IF(AG12=0,\"\",Berechnung!DQ55)","v":0},{"$f":"IF(AG12=0,\"\",Berechnung!DR55)","v":"0%"}]
[null,{"$f":"Berechnung!BS56","v":"8"},{"$f":"Berechnung!BT56","v":"PARK"},null,{"$f":"Berechnung!BU56","v":5},{"$f":"IF($B13=\"\",\"\",IF(E13=0,\"\",Berechnung!BV56))","v":"5%"},{"$f":"IF($B13=\"\",\"\",IF(E13=0,\"\",Berechnung!BW56))","v":1},{"$f":"IF($B13=\"\",\"\",IF(E13=0,\"\",Berechnung!BX56))","v":2},{"$f":"IF($B13=\"\",\"\",IF(E13=0,\"\",Berechnung!BY56))","v":1},0.6,{"$f":"IF($B13=\"\",\"\",IF(E13=0,\"\",Berechnung!BZ56))","v":"20%"},{"$f":"IF($B13=\"\",\"\",IF(E13=0,\"\",Berechnung!CA56))","v":"-40%"},{"$f":"Berechnung!CB56","v":4},{"$f":"IF($B13=\"\",\"\",IF(M13=0,\"\",Berechnung!CC56))","v":"5%"},{"$f":"IF($B13=\"\",\"\",IF(M13=0,\"\",Berechnung!CD56))","v":0},{"$f":"IF($B13=\"\",\"\",IF(M13=0,\"\",Berechnung!CE56))","v":2},{"$f":"IF($B13=\"\",\"\",IF(M13=0,\"\",Berechnung!CF56))","v":1},0.5,{"$f":"IF($B13=\"\",\"\",IF(M13=0,\"\",Berechnung!CG56))","v":"25%"},{"$f":"IF($B13=\"\",\"\",IF(M13=0,\"\",Berechnung!CH56))","v":"-25%"},{"$f":"Berechnung!CW56","v":1},{"$f":"IF($B13=\"\",\"\",IF(U13=0,\"\",Berechnung!CX56))","v":"4%"},{"$f":"IF($B13=\"\",\"\",IF(U13=0,\"\",Berechnung!CY56))","v":1},{"$f":"IF($B13=\"\",\"\",IF(U13=0,\"\",Berechnung!CZ56))","v":0},{"$f":"IF($B13=\"\",\"\",IF(U13=0,\"\",Berechnung!DA56))","v":0},1,{"$f":"IF($B13=\"\",\"\",IF(U13=0,\"\",Berechnung!DB56))","v":"0%"},{"$f":"IF($B13=\"\",\"\",IF(U13=0,\"\",Berechnung!DC56))","v":"-100%"},{"$f":"Berechnung!DK56","v":4},{"$f":"IF(AC13=0,\"\",Berechnung!DL56)","v":1},{"$f":"IF(AC13=0,\"\",Berechnung!DM56)","v":0.25},{"$f":"IF(AC13=0,\"\",Berechnung!DN56)","v":"-25%"},{"$f":"Berechnung!DO56","v":0},{"$f":"IF(AG13=0,\"\",Berechnung!DP56)","v":""},{"$f":"IF(AG13=0,\"\",Berechnung!DQ56)","v":""},{"$f":"IF(AG13=0,\"\",Berechnung!DR56)","v":""}]
[null,{"$f":"Berechnung!BS57","v":"14"},{"$f":"Berechnung!BT57","v":"SONG"},null,{"$f":"Berechnung!BU57","v":5},{"$f":"IF($B14=\"\",\"\",IF(E14=0,\"\",Berechnung!BV57))","v":"5%"},{"$f":"IF($B14=\"\",\"\",IF(E14=0,\"\",Berechnung!BW57))","v":0},{"$f":"IF($B14=\"\",\"\",IF(E14=0,\"\",Berechnung!BX57))","v":1},{"$f":"IF($B14=\"\",\"\",IF(E14=0,\"\",Berechnung!BY57))","v":1},0.2,{"$f":"IF($B14=\"\",\"\",IF(E14=0,\"\",Berechnung!BZ57))","v":"20%"},{"$f":"IF($B14=\"\",\"\",IF(E14=0,\"\",Berechnung!CA57))","v":"0%"},{"$f":"Berechnung!CB57","v":3},{"$f":"IF($B14=\"\",\"\",IF(M14=0,\"\",Berechnung!CC57))","v":"4%"},{"$f":"IF($B14=\"\",\"\",IF(M14=0,\"\",Berechnung!CD57))","v":0},{"$f":"IF($B14=\"\",\"\",IF(M14=0,\"\",Berechnung!CE57))","v":0},{"$f":"IF($B14=\"\",\"\",IF(M14=0,\"\",Berechnung!CF57))","v":1},0,{"$f":"IF($B14=\"\",\"\",IF(M14=0,\"\",Berechnung!CG57))","v":"33%"},{"$f":"IF($B14=\"\",\"\",IF(M14=0,\"\",Berechnung!CH57))","v":"33%"},{"$f":"Berechnung!CW57","v":2},{"$f":"IF($B14=\"\",\"\",IF(U14=0,\"\",Berechnung!CX57))","v":"7%"},{"$f":"IF($B14=\"\",\"\",IF(U14=0,\"\",Berechnung!CY57))","v":0},{"$f":"IF($B14=\"\",\"\",IF(U14=0,\"\",Berechnung!CZ57))","v":1},{"$f":"IF($B14=\"\",\"\",IF(U14=0,\"\",Berechnung!DA57))","v":0},0.5,{"$f":"IF($B14=\"\",\"\",IF(U14=0,\"\",Berechnung!DB57))","v":"0%"},{"$f":"IF($B14=\"\",\"\",IF(U14=0,\"\",Berechnung!DC57))","v":"-50%"},{"$f":"Berechnung!DK57","v":2},{"$f":"IF(AC14=0,\"\",Berechnung!DL57)","v":1},{"$f":"IF(AC14=0,\"\",Berechnung!DM57)","v":0.5},{"$f":"IF(AC14=0,\"\",Berechnung!DN57)","v":"50%"},{"$f":"Berechnung!DO57","v":1},{"$f":"IF(AG14=0,\"\",Berechnung!DP57)","v":0},{"$f":"IF(AG14=0,\"\",Berechnung!DQ57)","v":0},{"$f":"IF(AG14=0,\"\",Berechnung!DR57)","v":"0%"}]
[null,{"$f":"Berechnung!BS58","v":"6"},{"$f":"Berechnung!BT58","v":"LEE"},null,{"$f":"Berechnung!BU58","v":0},{"$f":"IF($B15=\"\",\"\",IF(E15=0,\"\",Berechnung!BV58))","v":""},{"$f":"IF($B15=\"\",\"\",IF(E15=0,\"\",Berechnung!BW58))","v":""},{"$f":"IF($B15=\"\",\"\",IF(E15=0,\"\",Berechnung!BX58))","v":""},{"$f":"IF($B15=\"\",\"\",IF(E15=0,\"\",Berechnung!BY58))","v":""},"",{"$f":"IF($B15=\"\",\"\",IF(E15=0,\"\",Berechnung!BZ58))","v":""},{"$f":"IF($B15=\"\",\"\",IF(E15=0,\"\",Berechnung!CA58))","v":""},{"$f":"Berechnung!CB58","v":0},{"$f":"IF($B15=\"\",\"\",IF(M15=0,\"\",Berechnung!CC58))","v":""},{"$f":"IF($B15=\"\",\"\",IF(M15=0,\"\",Berechnung!CD58))","v":""},{"$f":"IF($B15=\"\",\"\",IF(M15=0,\"\",Berechnung!CE58))","v":""},{"$f":"IF($B15=\"\",\"\",IF(M15=0,\"\",Berechnung!CF58))","v":""},"",{"$f":"IF($B15=\"\",\"\",IF(M15=0,\"\",Berechnung!CG58))","v":""},{"$f":"IF($B15=\"\",\"\",IF(M15=0,\"\",Berechnung!CH58))","v":""},{"$f":"Berechnung!CW58","v":0},{"$f":"IF($B15=\"\",\"\",IF(U15=0,\"\",Berechnung!CX58))","v":""},{"$f":"IF($B15=\"\",\"\",IF(U15=0,\"\",Berechnung!CY58))","v":""},{"$f":"IF($B15=\"\",\"\",IF(U15=0,\"\",Berechnung!CZ58))","v":""},{"$f":"IF($B15=\"\",\"\",IF(U15=0,\"\",Berechnung!DA58))","v":""},"",{"$f":"IF($B15=\"\",\"\",IF(U15=0,\"\",Berechnung!DB58))","v":""},{"$f":"IF($B15=\"\",\"\",IF(U15=0,\"\",Berechnung!DC58))","v":""},{"$f":"Berechnung!DK58","v":0},{"$f":"IF(AC15=0,\"\",Berechnung!DL58)","v":""},{"$f":"IF(AC15=0,\"\",Berechnung!DM58)","v":""},{"$f":"IF(AC15=0,\"\",Berechnung!DN58)","v":""},{"$f":"Berechnung!DO58","v":0},{"$f":"IF(AG15=0,\"\",Berechnung!DP58)","v":""},{"$f":"IF(AG15=0,\"\",Berechnung!DQ58)","v":""},{"$f":"IF(AG15=0,\"\",Berechnung!DR58)","v":""}]
[null,{"$f":"Berechnung!BS59","v":"12"},{"$f":"Berechnung!BT59","v":"JEON"},null,{"$f":"Berechnung!BU59","v":0},{"$f":"IF($B16=\"\",\"\",IF(E16=0,\"\",Berechnung!BV59))","v":""},{"$f":"IF($B16=\"\",\"\",IF(E16=0,\"\",Berechnung!BW59))","v":""},{"$f":"IF($B16=\"\",\"\",IF(E16=0,\"\",Berechnung!BX59))","v":""},{"$f":"IF($B16=\"\",\"\",IF(E16=0,\"\",Berechnung!BY59))","v":""},"",{"$f":"IF($B16=\"\",\"\",IF(E16=0,\"\",Berechnung!BZ59))","v":""},{"$f":"IF($B16=\"\",\"\",IF(E16=0,\"\",Berechnung!CA59))","v":""},{"$f":"Berechnung!CB59","v":0},{"$f":"IF($B16=\"\",\"\",IF(M16=0,\"\",Berechnung!CC59))","v":""},{"$f":"IF($B16=\"\",\"\",IF(M16=0,\"\",Berechnung!CD59))","v":""},{"$f":"IF($B16=\"\",\"\",IF(M16=0,\"\",Berechnung!CE59))","v":""},{"$f":"IF($B16=\"\",\"\",IF(M16=0,\"\",Berechnung!CF59))","v":""},"",{"$f":"IF($B16=\"\",\"\",IF(M16=0,\"\",Berechnung!CG59))","v":""},{"$f":"IF($B16=\"\",\"\",IF(M16=0,\"\",Berechnung!CH59))","v":""},{"$f":"Berechnung!CW59","v":0},{"$f":"IF($B16=\"\",\"\",IF(U16=0,\"\",Berechnung!CX59))","v":""},{"$f":"IF($B16=\"\",\"\",IF(U16=0,\"\",Berechnung!CY59))","v":""},{"$f":"IF($B16=\"\",\"\",IF(U16=0,\"\",Berechnung!CZ59))","v":""},{"$f":"IF($B16=\"\",\"\",IF(U16=0,\"\",Berechnung!DA59))","v":""},"",{"$f":"IF($B16=\"\",\"\",IF(U16=0,\"\",Berechnung!DB59))","v":""},{"$f":"IF($B16=\"\",\"\",IF(U16=0,\"\",Berechnung!DC59))","v":""},{"$f":"Berechnung!DK59","v":0},{"$f":"IF(AC16=0,\"\",Berechnung!DL59)","v":""},{"$f":"IF(AC16=0,\"\",Berechnung!DM59)","v":""},{"$f":"IF(AC16=0,\"\",Berechnung!DN59)","v":""},{"$f":"Berechnung!DO59","v":0},{"$f":"IF(AG16=0,\"\",Berechnung!DP59)","v":""},{"$f":"IF(AG16=0,\"\",Berechnung!DQ59)","v":""},{"$f":"IF(AG16=0,\"\",Berechnung!DR59)","v":""}]
[null,{"$f":"Berechnung!BS60","v":"19"},{"$f":"Berechnung!BT60","v":"JEONG"},null,{"$f":"Berechnung!BU60","v":0},{"$f":"IF($B17=\"\",\"\",IF(E17=0,\"\",Berechnung!BV60))","v":""},{"$f":"IF($B17=\"\",\"\",IF(E17=0,\"\",Berechnung!BW60))","v":""},{"$f":"IF($B17=\"\",\"\",IF(E17=0,\"\",Berechnung!BX60))","v":""},{"$f":"IF($B17=\"\",\"\",IF(E17=0,\"\",Berechnung!BY60))","v":""},"",{"$f":"IF($B17=\"\",\"\",IF(E17=0,\"\",Berechnung!BZ60))","v":""},{"$f":"IF($B17=\"\",\"\",IF(E17=0,\"\",Berechnung!CA60))","v":""},{"$f":"Berechnung!CB60","v":0},{"$f":"IF($B17=\"\",\"\",IF(M17=0,\"\",Berechnung!CC60))","v":""},{"$f":"IF($B17=\"\",\"\",IF(M17=0,\"\",Berechnung!CD60))","v":""},{"$f":"IF($B17=\"\",\"\",IF(M17=0,\"\",Berechnung!CE60))","v":""},{"$f":"IF($B17=\"\",\"\",IF(M17=0,\"\",Berechnung!CF60))","v":""},"",{"$f":"IF($B17=\"\",\"\",IF(M17=0,\"\",Berechnung!CG60))","v":""},{"$f":"IF($B17=\"\",\"\",IF(M17=0,\"\",Berechnung!CH60))","v":""},{"$f":"Berechnung!CW60","v":0},{"$f":"IF($B17=\"\",\"\",IF(U17=0,\"\",Berechnung!CX60))","v":""},{"$f":"IF($B17=\"\",\"\",IF(U17=0,\"\",Berechnung!CY60))","v":""},{"$f":"IF($B17=\"\",\"\",IF(U17=0,\"\",Berechnung!CZ60))","v":""},{"$f":"IF($B17=\"\",\"\",IF(U17=0,\"\",Berechnung!DA60))","v":""},"",{"$f":"IF($B17=\"\",\"\",IF(U17=0,\"\",Berechnung!DB60))","v":""},{"$f":"IF($B17=\"\",\"\",IF(U17=0,\"\",Berechnung!DC60))","v":""},{"$f":"Berechnung!DK60","v":0},{"$f":"IF(AC17=0,\"\",Berechnung!DL60)","v":""},{"$f":"IF(AC17=0,\"\",Berechnung!DM60)","v":""},{"$f":"IF(AC17=0,\"\",Berechnung!DN60)","v":""},{"$f":"Berechnung!DO60","v":0},{"$f":"IF(AG17=0,\"\",Berechnung!DP60)","v":""},{"$f":"IF(AG17=0,\"\",Berechnung!DQ60)","v":""},{"$f":"IF(AG17=0,\"\",Berechnung!DR60)","v":""}]
[null,{"$f":"Berechnung!BS61","v":"20"},{"$f":"Berechnung!BT61","v":"JI"},null,{"$f":"Berechnung!BU61","v":0},{"$f":"IF($B18=\"\",\"\",IF(E18=0,\"\",Berechnung!BV61))","v":""},{"$f":"IF($B18=\"\",\"\",IF(E18=0,\"\",Berechnung!BW61))","v":""},{"$f":"IF($B18=\"\",\"\",IF(E18=0,\"\",Berechnung!BX61))","v":""},{"$f":"IF($B18=\"\",\"\",IF(E18=0,\"\",Berechnung!BY61))","v":""},"",{"$f":"IF($B18=\"\",\"\",IF(E18=0,\"\",Berechnung!BZ61))","v":""},{"$f":"IF($B18=\"\",\"\",IF(E18=0,\"\",Berechnung!CA61))","v":""},{"$f":"Berechnung!CB61","v":0},{"$f":"IF($B18=\"\",\"\",IF(M18=0,\"\",Berechnung!CC61))","v":""},{"$f":"IF($B18=\"\",\"\",IF(M18=0,\"\",Berechnung!CD61))","v":""},{"$f":"IF($B18=\"\",\"\",IF(M18=0,\"\",Berechnung!CE61))","v":""},{"$f":"IF($B18=\"\",\"\",IF(M18=0,\"\",Berechnung!CF61))","v":""},"",{"$f":"IF($B18=\"\",\"\",IF(M18=0,\"\",Berechnung!CG61))","v":""},{"$f":"IF($B18=\"\",\"\",IF(M18=0,\"\",Berechnung!CH61))","v":""},{"$f":"Berechnung!CW61","v":0},{"$f":"IF($B18=\"\",\"\",IF(U18=0,\"\",Berechnung!CX61))","v":""},{"$f":"IF($B18=\"\",\"\",IF(U18=0,\"\",Berechnung!CY61))","v":""},{"$f":"IF($B18=\"\",\"\",IF(U18=0,\"\",Berechnung!CZ61))","v":""},{"$f":"IF($B18=\"\",\"\",IF(U18=0,\"\",Berechnung!DA61))","v":""},"",{"$f":"IF($B18=\"\",\"\",IF(U18=0,\"\",Berechnung!DB61))","v":""},{"$f":"IF($B18=\"\",\"\",IF(U18=0,\"\",Berechnung!DC61))","v":""},{"$f":"Berechnung!DK61","v":0},{"$f":"IF(AC18=0,\"\",Berechnung!DL61)","v":""},{"$f":"IF(AC18=0,\"\",Berechnung!DM61)","v":""},{"$f":"IF(AC18=0,\"\",Berechnung!DN61)","v":""},{"$f":"Berechnung!DO61","v":0},{"$f":"IF(AG18=0,\"\",Berechnung!DP61)","v":""},{"$f":"IF(AG18=0,\"\",Berechnung!DQ61)","v":""},{"$f":"IF(AG18=0,\"\",Berechnung!DR61)","v":""}]
[null,{"$f":"Berechnung!BS62","v":"22"},{"$f":"Berechnung!BT62","v":"YOU"},null,{"$f":"Berechnung!BU62","v":0},{"$f":"IF($B19=\"\",\"\",IF(E19=0,\"\",Berechnung!BV62))","v":""},{"$f":"IF($B19=\"\",\"\",IF(E19=0,\"\",Berechnung!BW62))","v":""},{"$f":"IF($B19=\"\",\"\",IF(E19=0,\"\",Berechnung!BX62))","v":""},{"$f":"IF($B19=\"\",\"\",IF(E19=0,\"\",Berechnung!BY62))","v":""},"",{"$f":"IF($B19=\"\",\"\",IF(E19=0,\"\",Berechnung!BZ62))","v":""},{"$f":"IF($B19=\"\",\"\",IF(E19=0,\"\",Berechnung!CA62))","v":""},{"$f":"Berechnung!CB62","v":0},{"$f":"IF($B19=\"\",\"\",IF(M19=0,\"\",Berechnung!CC62))","v":""},{"$f":"IF($B19=\"\",\"\",IF(M19=0,\"\",Berechnung!CD62))","v":""},{"$f":"IF($B19=\"\",\"\",IF(M19=0,\"\",Berechnung!CE62))","v":""},{"$f":"IF($B19=\"\",\"\",IF(M19=0,\"\",Berechnung!CF62))","v":""},"",{"$f":"IF($B19=\"\",\"\",IF(M19=0,\"\",Berechnung!CG62))","v":""},{"$f":"IF($B19=\"\",\"\",IF(M19=0,\"\",Berechnung!CH62))","v":""},{"$f":"Berechnung!CW62","v":0},{"$f":"IF($B19=\"\",\"\",IF(U19=0,\"\",Berechnung!CX62))","v":""},{"$f":"IF($B19=\"\",\"\",IF(U19=0,\"\",Berechnung!CY62))","v":""},{"$f":"IF($B19=\"\",\"\",IF(U19=0,\"\",Berechnung!CZ62))","v":""},{"$f":"IF($B19=\"\",\"\",IF(U19=0,\"\",Berechnung!DA62))","v":""},"",{"$f":"IF($B19=\"\",\"\",IF(U19=0,\"\",Berechnung!DB62))","v":""},{"$f":"IF($B19=\"\",\"\",IF(U19=0,\"\",Berechnung!DC62))","v":""},{"$f":"Berechnung!DK62","v":0},{"$f":"IF(AC19=0,\"\",Berechnung!DL62)","v":""},{"$f":"IF(AC19=0,\"\",Berechnung!DM62)","v":""},{"$f":"IF(AC19=0,\"\",Berechnung!DN62)","v":""},{"$f":"Berechnung!DO62","v":0},{"$f":"IF(AG19=0,\"\",Berechnung!DP62)","v":""},{"$f":"IF(AG19=0,\"\",Berechnung!DQ62)","v":""},{"$f":"IF(AG19=0,\"\",Berechnung!DR62)","v":""}]
[null,{"$f":"Berechnung!BS63","v":"25"},{"$f":"Berechnung!BT63","v":"OH"},null,{"$f":"Berechnung!BU63","v":0},{"$f":"IF($B20=\"\",\"\",IF(E20=0,\"\",Berechnung!BV63))","v":""},{"$f":"IF($B20=\"\",\"\",IF(E20=0,\"\",Berechnung!BW63))","v":""},{"$f":"IF($B20=\"\",\"\",IF(E20=0,\"\",Berechnung!BX63))","v":""},{"$f":"IF($B20=\"\",\"\",IF(E20=0,\"\",Berechnung!BY63))","v":""},"",{"$f":"IF($B20=\"\",\"\",IF(E20=0,\"\",Berechnung!BZ63))","v":""},{"$f":"IF($B20=\"\",\"\",IF(E20=0,\"\",Berechnung!CA63))","v":""},{"$f":"Berechnung!CB63","v":0},{"$f":"IF($B20=\"\",\"\",IF(M20=0,\"\",Berechnung!CC63))","v":""},{"$f":"IF($B20=\"\",\"\",IF(M20=0,\"\",Berechnung!CD63))","v":""},{"$f":"IF($B20=\"\",\"\",IF(M20=0,\"\",Berechnung!CE63))","v":""},{"$f":"IF($B20=\"\",\"\",IF(M20=0,\"\",Berechnung!CF63))","v":""},"",{"$f":"IF($B20=\"\",\"\",IF(M20=0,\"\",Berechnung!CG63))","v":""},{"$f":"IF($B20=\"\",\"\",IF(M20=0,\"\",Berechnung!CH63))","v":""},{"$f":"Berechnung!CW63","v":0},{"$f":"IF($B20=\"\",\"\",IF(U20=0,\"\",Berechnung!CX63))","v":""},{"$f":"IF($B20=\"\",\"\",IF(U20=0,\"\",Berechnung!CY63))","v":""},{"$f":"IF($B20=\"\",\"\",IF(U20=0,\"\",Berechnung!CZ63))","v":""},{"$f":"IF($B20=\"\",\"\",IF(U20=0,\"\",Berechnung!DA63))","v":""},"",{"$f":"IF($B20=\"\",\"\",IF(U20=0,\"\",Berechnung!DB63))","v":""},{"$f":"IF($B20=\"\",\"\",IF(U20=0,\"\",Berechnung!DC63))","v":""},{"$f":"Berechnung!DK63","v":0},{"$f":"IF(AC20=0,\"\",Berechnung!DL63)","v":""},{"$f":"IF(AC20=0,\"\",Berechnung!DM63)","v":""},{"$f":"IF(AC20=0,\"\",Berechnung!DN63)","v":""},{"$f":"Berechnung!DO63","v":0},{"$f":"IF(AG20=0,\"\",Berechnung!DP63)","v":""},{"$f":"IF(AG20=0,\"\",Berechnung!DQ63)","v":""},{"$f":"IF(AG20=0,\"\",Berechnung!DR63)","v":""}]
[null,{"$f":"Berechnung!BS64","v":""},{"$f":"Berechnung!BT64","v":""},null,{"$f":"Berechnung!BU64","v":""},{"$f":"IF($B21=\"\",\"\",IF(E21=0,\"\",Berechnung!BV64))","v":""},{"$f":"IF($B21=\"\",\"\",IF(E21=0,\"\",Berechnung!BW64))","v":""},{"$f":"IF($B21=\"\",\"\",IF(E21=0,\"\",Berechnung!BX64))","v":""},{"$f":"IF($B21=\"\",\"\",IF(E21=0,\"\",Berechnung!BY64))","v":""},"",{"$f":"IF($B21=\"\",\"\",IF(E21=0,\"\",Berechnung!BZ64))","v":""},{"$f":"IF($B21=\"\",\"\",IF(E21=0,\"\",Berechnung!CA64))","v":""},{"$f":"Berechnung!CB64","v":""},{"$f":"IF($B21=\"\",\"\",IF(M21=0,\"\",Berechnung!CC64))","v":""},{"$f":"IF($B21=\"\",\"\",IF(M21=0,\"\",Berechnung!CD64))","v":""},{"$f":"IF($B21=\"\",\"\",IF(M21=0,\"\",Berechnung!CE64))","v":""},{"$f":"IF($B21=\"\",\"\",IF(M21=0,\"\",Berechnung!CF64))","v":""},"",{"$f":"IF($B21=\"\",\"\",IF(M21=0,\"\",Berechnung!CG64))","v":""},{"$f":"IF($B21=\"\",\"\",IF(M21=0,\"\",Berechnung!CH64))","v":""},{"$f":"Berechnung!CW64","v":""},{"$f":"IF($B21=\"\",\"\",IF(U21=0,\"\",Berechnung!CX64))","v":""},{"$f":"IF($B21=\"\",\"\",IF(U21=0,\"\",Berechnung!CY64))","v":""},{"$f":"IF($B21=\"\",\"\",IF(U21=0,\"\",Berechnung!CZ64))","v":""},{"$f":"IF($B21=\"\",\"\",IF(U21=0,\"\",Berechnung!DA64))","v":""},"",{"$f":"IF($B21=\"\",\"\",IF(U21=0,\"\",Berechnung!DB64))","v":""},{"$f":"IF($B21=\"\",\"\",IF(U21=0,\"\",Berechnung!DC64))","v":""},{"$f":"Berechnung!DK64","v":""},{"$f":"IF(AC21=0,\"\",Berechnung!DL64)","v":""},{"$f":"IF(AC21=0,\"\",Berechnung!DM64)","v":""},{"$f":"IF(AC21=0,\"\",Berechnung!DN64)","v":""},{"$f":"Berechnung!DO64","v":""},{"$f":"IF(AG21=0,\"\",Berechnung!DP64)","v":""},{"$f":"IF(AG21=0,\"\",Berechnung!DQ64)","v":""},{"$f":"IF(AG21=0,\"\",Berechnung!DR64)","v":""}]
[null,{"$f":"Berechnung!BS65","v":""},{"$f":"Berechnung!BT65","v":""},null,{"$f":"Berechnung!BU65","v":""},{"$f":"IF($B22=\"\",\"\",IF(E22=0,\"\",Berechnung!BV65))","v":""},{"$f":"IF($B22=\"\",\"\",IF(E22=0,\"\",Berechnung!BW65))","v":""},{"$f":"IF($B22=\"\",\"\",IF(E22=0,\"\",Berechnung!BX65))","v":""},{"$f":"IF($B22=\"\",\"\",IF(E22=0,\"\",Berechnung!BY65))","v":""},"",{"$f":"IF($B22=\"\",\"\",IF(E22=0,\"\",Berechnung!BZ65))","v":""},{"$f":"IF($B22=\"\",\"\",IF(E22=0,\"\",Berechnung!CA65))","v":""},{"$f":"Berechnung!CB65","v":""},{"$f":"IF($B22=\"\",\"\",IF(M22=0,\"\",Berechnung!CC65))","v":""},{"$f":"IF($B22=\"\",\"\",IF(M22=0,\"\",Berechnung!CD65))","v":""},{"$f":"IF($B22=\"\",\"\",IF(M22=0,\"\",Berechnung!CE65))","v":""},{"$f":"IF($B22=\"\",\"\",IF(M22=0,\"\",Berechnung!CF65))","v":""},"",{"$f":"IF($B22=\"\",\"\",IF(M22=0,\"\",Berechnung!CG65))","v":""},{"$f":"IF($B22=\"\",\"\",IF(M22=0,\"\",Berechnung!CH65))","v":""},{"$f":"Berechnung!CW65","v":""},{"$f":"IF($B22=\"\",\"\",IF(U22=0,\"\",Berechnung!CX65))","v":""},{"$f":"IF($B22=\"\",\"\",IF(U22=0,\"\",Berechnung!CY65))","v":""},{"$f":"IF($B22=\"\",\"\",IF(U22=0,\"\",Berechnung!CZ65))","v":""},{"$f":"IF($B22=\"\",\"\",IF(U22=0,\"\",Berechnung!DA65))","v":""},"",{"$f":"IF($B22=\"\",\"\",IF(U22=0,\"\",Berechnung!DB65))","v":""},{"$f":"IF($B22=\"\",\"\",IF(U22=0,\"\",Berechnung!DC65))","v":""},{"$f":"Berechnung!DK65","v":""},{"$f":"IF(AC22=0,\"\",Berechnung!DL65)","v":""},{"$f":"IF(AC22=0,\"\",Berechnung!DM65)","v":""},{"$f":"IF(AC22=0,\"\",Berechnung!DN65)","v":""},{"$f":"Berechnung!DO65","v":""},{"$f":"IF(AG22=0,\"\",Berechnung!DP65)","v":""},{"$f":"IF(AG22=0,\"\",Berechnung!DQ65)","v":""},{"$f":"IF(AG22=0,\"\",Berechnung!DR65)","v":""}]
[null,{"$f":"Berechnung!BS66","v":""},{"$f":"Berechnung!BT66","v":""},null,{"$f":"Berechnung!BU66","v":""},{"$f":"IF($B23=\"\",\"\",IF(E23=0,\"\",Berechnung!BV66))","v":""},{"$f":"IF($B23=\"\",\"\",IF(E23=0,\"\",Berechnung!BW66))","v":""},{"$f":"IF($B23=\"\",\"\",IF(E23=0,\"\",Berechnung!BX66))","v":""},{"$f":"IF($B23=\"\",\"\",IF(E23=0,\"\",Berechnung!BY66))","v":""},"",{"$f":"IF($B23=\"\",\"\",IF(E23=0,\"\",Berechnung!BZ66))","v":""},{"$f":"IF($B23=\"\",\"\",IF(E23=0,\"\",Berechnung!CA66))","v":""},{"$f":"Berechnung!CB66","v":""},{"$f":"IF($B23=\"\",\"\",IF(M23=0,\"\",Berechnung!CC66))","v":""},{"$f":"IF($B23=\"\",\"\",IF(M23=0,\"\",Berechnung!CD66))","v":""},{"$f":"IF($B23=\"\",\"\",IF(M23=0,\"\",Berechnung!CE66))","v":""},{"$f":"IF($B23=\"\",\"\",IF(M23=0,\"\",Berechnung!CF66))","v":""},"",{"$f":"IF($B23=\"\",\"\",IF(M23=0,\"\",Berechnung!CG66))","v":""},{"$f":"IF($B23=\"\",\"\",IF(M23=0,\"\",Berechnung!CH66))","v":""},{"$f":"Berechnung!CW66","v":""},{"$f":"IF($B23=\"\",\"\",IF(U23=0,\"\",Berechnung!CX66))","v":""},{"$f":"IF($B23=\"\",\"\",IF(U23=0,\"\",Berechnung!CY66))","v":""},{"$f":"IF($B23=\"\",\"\",IF(U23=0,\"\",Berechnung!CZ66))","v":""},{"$f":"IF($B23=\"\",\"\",IF(U23=0,\"\",Berechnung!DA66))","v":""},"",{"$f":"IF($B23=\"\",\"\",IF(U23=0,\"\",Berechnung!DB66))","v":""},{"$f":"IF($B23=\"\",\"\",IF(U23=0,\"\",Berechnung!DC66))","v":""},{"$f":"Berechnung!DK66","v":""},{"$f":"IF(AC23=0,\"\",Berechnung!DL66)","v":""},{"$f":"IF(AC23=0,\"\",Berechnung!DM66)","v":""},{"$f":"IF(AC23=0,\"\",Berechnung!DN66)","v":""},{"$f":"Berechnung!DO66","v":""},{"$f":"IF(AG23=0,\"\",Berechnung!DP66)","v":""},{"$f":"IF(AG23=0,\"\",Berechnung!DQ66)","v":""},{"$f":"IF(AG23=0,\"\",Berechnung!DR66)","v":""}]
[null,{"$f":"Berechnung!BS67","v":""},{"$f":"Berechnung!BT67","v":""},null,{"$f":"Berechnung!BU67","v":""},{"$f":"IF($B24=\"\",\"\",IF(E24=0,\"\",Berechnung!BV67))","v":""},{"$f":"IF($B24=\"\",\"\",IF(E24=0,\"\",Berechnung!BW67))","v":""},{"$f":"IF($B24=\"\",\"\",IF(E24=0,\"\",Berechnung!BX67))","v":""},{"$f":"IF($B24=\"\",\"\",IF(E24=0,\"\",Berechnung!BY67))","v":""},"",{"$f":"IF($B24=\"\",\"\",IF(E24=0,\"\",Berechnung!BZ67))","v":""},{"$f":"IF($B24=\"\",\"\",IF(E24=0,\"\",Berechnung!CA67))","v":""},{"$f":"Berechnung!CB67","v":""},{"$f":"IF($B24=\"\",\"\",IF(M24=0,\"\",Berechnung!CC67))","v":""},{"$f":"IF($B24=\"\",\"\",IF(M24=0,\"\",Berechnung!CD67))","v":""},{"$f":"IF($B24=\"\",\"\",IF(M24=0,\"\",Berechnung!CE67))","v":""},{"$f":"IF($B24=\"\",\"\",IF(M24=0,\"\",Berechnung!CF67))","v":""},"",{"$f":"IF($B24=\"\",\"\",IF(M24=0,\"\",Berechnung!CG67))","v":""},{"$f":"IF($B24=\"\",\"\",IF(M24=0,\"\",Berechnung!CH67))","v":""},{"$f":"Berechnung!CW67","v":""},{"$f":"IF($B24=\"\",\"\",IF(U24=0,\"\",Berechnung!CX67))","v":""},{"$f":"IF($B24=\"\",\"\",IF(U24=0,\"\",Berechnung!CY67))","v":""},{"$f":"IF($B24=\"\",\"\",IF(U24=0,\"\",Berechnung!CZ67))","v":""},{"$f":"IF($B24=\"\",\"\",IF(U24=0,\"\",Berechnung!DA67))","v":""},"",{"$f":"IF($B24=\"\",\"\",IF(U24=0,\"\",Berechnung!DB67))","v":""},{"$f":"IF($B24=\"\",\"\",IF(U24=0,\"\",Berechnung!DC67))","v":""},{"$f":"Berechnung!DK67","v":""},{"$f":"IF(AC24=0,\"\",Berechnung!DL67)","v":""},{"$f":"IF(AC24=0,\"\",Berechnung!DM67)","v":""},{"$f":"IF(AC24=0,\"\",Berechnung!DN67)","v":""},{"$f":"Berechnung!DO67","v":""},{"$f":"IF(AG24=0,\"\",Berechnung!DP67)","v":""},{"$f":"IF(AG24=0,\"\",Berechnung!DQ67)","v":""},{"$f":"IF(AG24=0,\"\",Berechnung!DR67)","v":""}]
[null,{"$f":"Berechnung!BS68","v":""},{"$f":"Berechnung!BT68","v":""},null,{"$f":"Berechnung!BU68","v":""},{"$f":"IF($B25=\"\",\"\",IF(E25=0,\"\",Berechnung!BV68))","v":""},{"$f":"IF($B25=\"\",\"\",IF(E25=0,\"\",Berechnung!BW68))","v":""},{"$f":"IF($B25=\"\",\"\",IF(E25=0,\"\",Berechnung!BX68))","v":""},{"$f":"IF($B25=\"\",\"\",IF(E25=0,\"\",Berechnung!BY68))","v":""},"",{"$f":"IF($B25=\"\",\"\",IF(E25=0,\"\",Berechnung!BZ68))","v":""},{"$f":"IF($B25=\"\",\"\",IF(E25=0,\"\",Berechnung!CA68))","v":""},{"$f":"Berechnung!CB68","v":""},{"$f":"IF($B25=\"\",\"\",IF(M25=0,\"\",Berechnung!CC68))","v":""},{"$f":"IF($B25=\"\",\"\",IF(M25=0,\"\",Berechnung!CD68))","v":""},{"$f":"IF($B25=\"\",\"\",IF(M25=0,\"\",Berechnung!CE68))","v":""},{"$f":"IF($B25=\"\",\"\",IF(M25=0,\"\",Berechnung!CF68))","v":""},"",{"$f":"IF($B25=\"\",\"\",IF(M25=0,\"\",Berechnung!CG68))","v":""},{"$f":"IF($B25=\"\",\"\",IF(M25=0,\"\",Berechnung!CH68))","v":""},{"$f":"Berechnung!CW68","v":""},{"$f":"IF($B25=\"\",\"\",IF(U25=0,\"\",Berechnung!CX68))","v":""},{"$f":"IF($B25=\"\",\"\",IF(U25=0,\"\",Berechnung!CY68))","v":""},{"$f":"IF($B25=\"\",\"\",IF(U25=0,\"\",Berechnung!CZ68))","v":""},{"$f":"IF($B25=\"\",\"\",IF(U25=0,\"\",Berechnung!DA68))","v":""},"",{"$f":"IF($B25=\"\",\"\",IF(U25=0,\"\",Berechnung!DB68))","v":""},{"$f":"IF($B25=\"\",\"\",IF(U25=0,\"\",Berechnung!DC68))","v":""},{"$f":"Berechnung!DK68","v":""},{"$f":"IF(AC25=0,\"\",Berechnung!DL68)","v":""},{"$f":"IF(AC25=0,\"\",Berechnung!DM68)","v":""},{"$f":"IF(AC25=0,\"\",Berechnung!DN68)","v":""},{"$f":"Berechnung!DO68","v":""},{"$f":"IF(AG25=0,\"\",Berechnung!DP68)","v":""},{"$f":"IF(AG25=0,\"\",Berechnung!DQ68)","v":""},{"$f":"IF(AG25=0,\"\",Berechnung!DR68)","v":""}]
[null,{"$f":"Berechnung!BS69","v":""},{"$f":"Berechnung!BT69","v":""},null,{"$f":"Berechnung!BU69","v":""},{"$f":"IF($B26=\"\",\"\",IF(E26=0,\"\",Berechnung!BV69))","v":""},{"$f":"IF($B26=\"\",\"\",IF(E26=0,\"\",Berechnung!BW69))","v":""},{"$f":"IF($B26=\"\",\"\",IF(E26=0,\"\",Berechnung!BX69))","v":""},{"$f":"IF($B26=\"\",\"\",IF(E26=0,\"\",Berechnung!BY69))","v":""},"",{"$f":"IF($B26=\"\",\"\",IF(E26=0,\"\",Berechnung!BZ69))","v":""},{"$f":"IF($B26=\"\",\"\",IF(E26=0,\"\",Berechnung!CA69))","v":""},{"$f":"Berechnung!CB69","v":""},{"$f":"IF($B26=\"\",\"\",IF(M26=0,\"\",Berechnung!CC69))","v":""},{"$f":"IF($B26=\"\",\"\",IF(M26=0,\"\",Berechnung!CD69))","v":""},{"$f":"IF($B26=\"\",\"\",IF(M26=0,\"\",Berechnung!CE69))","v":""},{"$f":"IF($B26=\"\",\"\",IF(M26=0,\"\",Berechnung!CF69))","v":""},"",{"$f":"IF($B26=\"\",\"\",IF(M26=0,\"\",Berechnung!CG69))","v":""},{"$f":"IF($B26=\"\",\"\",IF(M26=0,\"\",Berechnung!CH69))","v":""},{"$f":"Berechnung!CW69","v":""},{"$f":"IF($B26=\"\",\"\",IF(U26=0,\"\",Berechnung!CX69))","v":""},{"$f":"IF($B26=\"\",\"\",IF(U26=0,\"\",Berechnung!CY69))","v":""},{"$f":"IF($B26=\"\",\"\",IF(U26=0,\"\",Berechnung!CZ69))","v":""},{"$f":"IF($B26=\"\",\"\",IF(U26=0,\"\",Berechnung!DA69))","v":""},"",{"$f":"IF($B26=\"\",\"\",IF(U26=0,\"\",Berechnung!DB69))","v":""},{"$f":"IF($B26=\"\",\"\",IF(U26=0,\"\",Berechnung!DC69))","v":""},{"$f":"Berechnung!DK69","v":""},{"$f":"IF(AC26=0,\"\",Berechnung!DL69)","v":""},{"$f":"IF(AC26=0,\"\",Berechnung!DM69)","v":""},{"$f":"IF(AC26=0,\"\",Berechnung!DN69)","v":""},{"$f":"Berechnung!DO69","v":""},{"$f":"IF(AG26=0,\"\",Berechnung!DP69)","v":""},{"$f":"IF(AG26=0,\"\",Berechnung!DQ69)","v":""},{"$f":"IF(AG26=0,\"\",Berechnung!DR69)","v":""}]
[]
[null,null,null,null,{"$f":"Berechnung!CI2","v":"K1 after R#+"},null,null,null,null,null,null,null,{"$f":"Berechnung!CP2","v":"K1 after R-!"},null,null,null,null,null,null,null,"Freeball-Attacks"]
[null,null,null,null,"∑","in %",{"$f":"Berechnung!CK3","v":"="},{"$f":"Berechnung!CL3","v":"/"},{"$f":"Berechnung!CM3","v":"#"},"=/%",{"$f":"Berechnung!CN3","v":"#%"},{"$f":"Berechnung!CO3","v":"eff"},"∑","in %",{"$f":"Berechnung!CR3","v":"="},{"$f":"Berechnung!CS3","v":"/"},{"$f":"Berechnung!CT3","v":"#"},"=/%",{"$f":"Berechnung!CU3","v":"#%"},{"$f":"Berechnung!CV3","v":"eff"},"∑","in %",{"$f":"Berechnung!DF3","v":"="},{"$f":"Berechnung!DG3","v":"/"},{"$f":"Berechnung!DH3","v":"#"},"=/%",{"$f":"Berechnung!DI3","v":"#%"},{"$f":"Berechnung!DJ3","v":"eff"}]
[null,null,{"$f":"Berechnung!BT49","v":"KOREA"},null,{"$f":"Berechnung!CI49","v":50},null,{"$f":"Berechnung!CK49","v":5},{"$f":"Berechnung!CL49","v":5},{"$f":"Berechnung!CM49","v":29},{"$f":"IF(E30=0,\"\",SUM(G30:H30)/E30)","v":0.2},{"$f":"Berechnung!CN49","v":0.57999999999999996},{"$f":"Berechnung!CO49","v":"38%"},{"$f":"Berechnung!CP49","v":24},null,{"$f":"Berechnung!CR49","v":3},{"$f":"Berechnung!CS49","v":4},{"$f":"Berechnung!CT49","v":10},{"$f":"IF(M30=0,\"\",SUM(O30:P30)/M30)","v":0.29166666666666669},{"$f":"Berechnung!CU49","v":0.41666666666666669},{"$f":"Berechnung!CV49","v":"12%"},{"$f":"Berechnung!DD49","v":12},null,{"$f":"Berechnung!DF49","v":1},{"$f":"Berechnung!DG49","v":2},{"$f":"Berechnung!DH49","v":8},{"$f":"IF(U30=0,\"\",SUM(W30:X30)/U30)","v":0.25},{"$f":"Berechnung!DI49","v":0.66666666666666663},{"$f":"Berechnung!DJ49","v":"42%"}]
[null,{"$f":"Berechnung!BS50","v":"1"},{"$f":"Berechnung!BT50","v":"SONG"},null,{"$f":"Berechnung!CI50","v":17},{"$f":"IF($B31=\"\",\"\",IF($E31=0,\"\",Berechnung!CJ50))","v":"34%"},{"$f":"IF($B31=\"\",\"\",IF($E31=0,\"\",Berechnung!CK50))","v":4},{"$f":"IF($B31=\"\",\"\",IF($E31=0,\"\",Berechnung!CL50))","v":2},{"$f":"IF($B31=\"\",\"\",IF($E31=0,\"\",Berechnung!CM50))","v":9},{"$f":"IF($B31=\"\",\"\",IF($E31=0,\"\",SUM(G31:H31)/E31))","v":0.35294117647058826},{"$f":"IF($B31=\"\",\"\",IF($E31=0,\"\",Berechnung!CN50))","v":"53%"},{"$f":"IF($B31=\"\",\"\",IF($E31=0,\"\",Berechnung!CO50))","v":"18%"},{"$f":"Berechnung!CP50","v":6},{"$f":"IF($B31=\"\",\"\",IF($M31=0,\"\",Berechnung!CQ50))","v":"25%"},{"$f":"IF($B31=\"\",\"\",IF($M31=0,\"\",Berechnung!CR50))","v":2},{"$f":"IF($B31=\"\",\"\",IF($M31=0,\"\",Berechnung!CS50))","v":1},{"$f":"IF($B31=\"\",\"\",IF($M31=0,\"\",Berechnung!CT50))","v":2},{"$f":"IF($B31=\"\",\"\",IF($M31=0,\"\",SUM(O31:P31)/M31))","v":0.5},{"$f":"IF($B31=\"\",\"\",IF($M31=0,\"\",Berechnung!CU50))","v":"33%"},{"$f":"IF($B31=\"\",\"\",IF($M31=0,\"\",Berechnung!CV50))","v":"-17%"},{"$f":"Berechnung!DD50","v":3},{"$f":"IF($B31=\"\",\"\",IF($U31=0,\"\",Berechnung!DE50))","v":"100%"},{"$f":"IF($B31=\"\",\"\",IF($U31=0,\"\",Berechnung!DF50))","v":0},{"$f":"IF($B31=\"\",\"\",IF($U31=0,\"\",Berechnung!DG50))","v":0},{"$f":"IF($B31=\"\",\"\",IF($U31=0,\"\",Berechnung!DH50))","v":3},{"$f":"IF($B31=\"\",\"\",IF($U31=0,\"\",SUM(W31:X31)/U31))","v":0},{"$f":"IF($B31=\"\",\"\",IF($U31=0,\"\",Berechnung!DI50))","v":"100%"},{"$f":"IF($B31=\"\",\"\",IF($U31=0,\"\",Berechnung!DJ50))","v":"100%"}]
[null,{"$f":"Berechnung!BS51","v":"17"},{"$f":"Berechnung!BT51","v":"SEO"},null,{"$f":"Berechnung!CI51","v":8},{"$f":"IF($B32=\"\",\"\",IF($E32=0,\"\",Berechnung!CJ51))","v":"16%"},{"$f":"IF($B32=\"\",\"\",IF($E32=0,\"\",Berechnung!CK51))","v":1},{"$f":"IF($B32=\"\",\"\",IF($E32=0,\"\",Berechnung!CL51))","v":2},{"$f":"IF($B32=\"\",\"\",IF($E32=0,\"\",Berechnung!CM51))","v":5},{"$f":"IF($B32=\"\",\"\",IF($E32=0,\"\",SUM(G32:H32)/E32))","v":0.375},{"$f":"IF($B32=\"\",\"\",IF($E32=0,\"\",Berechnung!CN51))","v":"62%"},{"$f":"IF($B32=\"\",\"\",IF($E32=0,\"\",Berechnung!CO51))","v":"25%"},{"$f":"Berechnung!CP51","v":8},{"$f":"IF($B32=\"\",\"\",IF($M32=0,\"\",Berechnung!CQ51))","v":"33%"},{"$f":"IF($B32=\"\",\"\",IF($M32=0,\"\",Berechnung!CR51))","v":1},{"$f":"IF($B32=\"\",\"\",IF($M32=0,\"\",Berechnung!CS51))","v":1},{"$f":"IF($B32=\"\",\"\",IF($M32=0,\"\",Berechnung!CT51))","v":4},{"$f":"IF($B32=\"\",\"\",IF($M32=0,\"\",SUM(O32:P32)/M32))","v":0.25},{"$f":"IF($B32=\"\",\"\",IF($M32=0,\"\",Berechnung!CU51))","v":"50%"},{"$f":"IF($B32=\"\",\"\",IF($M32=0,\"\",Berechnung!CV51))","v":"25%"},{"$f":"Berechnung!DD51","v":2},{"$f":"IF($B32=\"\",\"\",IF($U32=0,\"\",Berechnung!DE51))","v":"200%"},{"$f":"IF($B32=\"\",\"\",IF($U32=0,\"\",Berechnung!DF51))","v":0},{"$f":"IF($B32=\"\",\"\",IF($U32=0,\"\",Berechnung!DG51))","v":1},{"$f":"IF($B32=\"\",\"\",IF($U32=0,\"\",Berechnung!DH51))","v":1},{"$f":"IF($B32=\"\",\"\",IF($U32=0,\"\",SUM(W32:X32)/U32))","v":0.5},{"$f":"IF($B32=\"\",\"\",IF($U32=0,\"\",Berechnung!DI51))","v":"50%"},{"$f":"IF($B32=\"\",\"\",IF($U32=0,\"\",Berechnung!DJ51))","v":"0%"}]
[null,{"$f":"Berechnung!BS52","v":"16"},{"$f":"Berechnung!BT52","v":"CHOI"},null,{"$f":"Berechnung!CI52","v":6},{"$f":"IF($B33=\"\",\"\",IF($E33=0,\"\",Berechnung!CJ52))","v":"12%"},{"$f":"IF($B33=\"\",\"\",IF($E33=0,\"\",Berechnung!CK52))","v":0},{"$f":"IF($B33=\"\",\"\",IF($E33=0,\"\",Berechnung!CL52))","v":0},{"$f":"IF($B33=\"\",\"\",IF($E33=0,\"\",Berechnung!CM52))","v":4},0,{"$f":"IF($B33=\"\",\"\",IF($E33=0,\"\",Berechnung!CN52))","v":"67%"},{"$f":"IF($B33=\"\",\"\",IF($E33=0,\"\",Berechnung!CO52))","v":"67%"},{"$f":"Berechnung!CP52","v":4},{"$f":"IF($B33=\"\",\"\",IF($M33=0,\"\",Berechnung!CQ52))","v":"17%"},{"$f":"IF($B33=\"\",\"\",IF($M33=0,\"\",Berechnung!CR52))","v":0},{"$f":"IF($B33=\"\",\"\",IF($M33=0,\"\",Berechnung!CS52))","v":1},{"$f":"IF($B33=\"\",\"\",IF($M33=0,\"\",Berechnung!CT52))","v":2},0.25,{"$f":"IF($B33=\"\",\"\",IF($M33=0,\"\",Berechnung!CU52))","v":"50%"},{"$f":"IF($B33=\"\",\"\",IF($M33=0,\"\",Berechnung!CV52))","v":"25%"},{"$f":"Berechnung!DD52","v":2},{"$f":"IF($B33=\"\",\"\",IF($U33=0,\"\",Berechnung!DE52))","v":"200%"},{"$f":"IF($B33=\"\",\"\",IF($U33=0,\"\",Berechnung!DF52))","v":0},{"$f":"IF($B33=\"\",\"\",IF($U33=0,\"\",Berechnung!DG52))","v":1},{"$f":"IF($B33=\"\",\"\",IF($U33=0,\"\",Berechnung!DH52))","v":1},0.5,{"$f":"IF($B33=\"\",\"\",IF($U33=0,\"\",Berechnung!DI52))","v":"50%"},{"$f":"IF($B33=\"\",\"\",IF($U33=0,\"\",Berechnung!DJ52))","v":"0%"}]
[null,{"$f":"Berechnung!BS53","v":"4"},{"$f":"Berechnung!BT53","v":"SHIN"},null,{"$f":"Berechnung!CI53","v":9},{"$f":"IF($B34=\"\",\"\",IF($E34=0,\"\",Berechnung!CJ53))","v":"18%"},{"$f":"IF($B34=\"\",\"\",IF($E34=0,\"\",Berechnung!CK53))","v":0},{"$f":"IF($B34=\"\",\"\",IF($E34=0,\"\",Berechnung!CL53))","v":0},{"$f":"IF($B34=\"\",\"\",IF($E34=0,\"\",Berechnung!CM53))","v":6},0,{"$f":"IF($B34=\"\",\"\",IF($E34=0,\"\",Berechnung!CN53))","v":"67%"},{"$f":"IF($B34=\"\",\"\",IF($E34=0,\"\",Berechnung!CO53))","v":"67%"},{"$f":"Berechnung!CP53","v":1},{"$f":"IF($B34=\"\",\"\",IF($M34=0,\"\",Berechnung!CQ53))","v":"4%"},{"$f":"IF($B34=\"\",\"\",IF($M34=0,\"\",Berechnung!CR53))","v":0},{"$f":"IF($B34=\"\",\"\",IF($M34=0,\"\",Berechnung!CS53))","v":0},{"$f":"IF($B34=\"\",\"\",IF($M34=0,\"\",Berechnung!CT53))","v":1},0,{"$f":"IF($B34=\"\",\"\",IF($M34=0,\"\",Berechnung!CU53))","v":"100%"},{"$f":"IF($B34=\"\",\"\",IF($M34=0,\"\",Berechnung!CV53))","v":"100%"},{"$f":"Berechnung!DD53","v":1},{"$f":"IF($B34=\"\",\"\",IF($U34=0,\"\",Berechnung!DE53))","v":"100%"},{"$f":"IF($B34=\"\",\"\",IF($U34=0,\"\",Berechnung!DF53))","v":0},{"$f":"IF($B34=\"\",\"\",IF($U34=0,\"\",Berechnung!DG53))","v":0},{"$f":"IF($B34=\"\",\"\",IF($U34=0,\"\",Berechnung!DH53))","v":1},0,{"$f":"IF($B34=\"\",\"\",IF($U34=0,\"\",Berechnung!DI53))","v":"100%"},{"$f":"IF($B34=\"\",\"\",IF($U34=0,\"\",Berechnung!DJ53))","v":"100%"}]
[null,{"$f":"Berechnung!BS54","v":"11"},{"$f":"Berechnung!BT54","v":"CHOI"},null,{"$f":"Berechnung!CI54","v":5},{"$f":"IF($B35=\"\",\"\",IF($E35=0,\"\",Berechnung!CJ54))","v":"10%"},{"$f":"IF($B35=\"\",\"\",IF($E35=0,\"\",Berechnung!CK54))","v":0},{"$f":"IF($B35=\"\",\"\",IF($E35=0,\"\",Berechnung!CL54))","v":0},{"$f":"IF($B35=\"\",\"\",IF($E35=0,\"\",Berechnung!CM54))","v":3},0,{"$f":"IF($B35=\"\",\"\",IF($E35=0,\"\",Berechnung!CN54))","v":"60%"},{"$f":"IF($B35=\"\",\"\",IF($E35=0,\"\",Berechnung!CO54))","v":"60%"},{"$f":"Berechnung!CP54","v":1},{"$f":"IF($B35=\"\",\"\",IF($M35=0,\"\",Berechnung!CQ54))","v":"4%"},{"$f":"IF($B35=\"\",\"\",IF($M35=0,\"\",Berechnung!CR54))","v":0},{"$f":"IF($B35=\"\",\"\",IF($M35=0,\"\",Berechnung!CS54))","v":0},{"$f":"IF($B35=\"\",\"\",IF($M35=0,\"\",Berechnung!CT54))","v":0},0,{"$f":"IF($B35=\"\",\"\",IF($M35=0,\"\",Berechnung!CU54))","v":"0%"},{"$f":"IF($B35=\"\",\"\",IF($M35=0,\"\",Berechnung!CV54))","v":"0%"},{"$f":"Berechnung!DD54","v":2},{"$f":"IF($B35=\"\",\"\",IF($U35=0,\"\",Berechnung!DE54))","v":"200%"},{"$f":"IF($B35=\"\",\"\",IF($U35=0,\"\",Berechnung!DF54))","v":0},{"$f":"IF($B35=\"\",\"\",IF($U35=0,\"\",Berechnung!DG54))","v":0},{"$f":"IF($B35=\"\",\"\",IF($U35=0,\"\",Berechnung!DH54))","v":1},0,{"$f":"IF($B35=\"\",\"\",IF($U35=0,\"\",Berechnung!DI54))","v":"50%"},{"$f":"IF($B35=\"\",\"\",IF($U35=0,\"\",Berechnung!DJ54))","v":"50%"}]
[null,{"$f":"Berechnung!BS55","v":"9"},{"$f":"Berechnung!BT55","v":"KWAK"},null,{"$f":"Berechnung!CI55","v":2},{"$f":"IF($B36=\"\",\"\",IF($E36=0,\"\",Berechnung!CJ55))","v":"4%"},{"$f":"IF($B36=\"\",\"\",IF($E36=0,\"\",Berechnung!CK55))","v":0},{"$f":"IF($B36=\"\",\"\",IF($E36=0,\"\",Berechnung!CL55))","v":0},{"$f":"IF($B36=\"\",\"\",IF($E36=0,\"\",Berechnung!CM55))","v":1},0,{"$f":"IF($B36=\"\",\"\",IF($E36=0,\"\",Berechnung!CN55))","v":"50%"},{"$f":"IF($B36=\"\",\"\",IF($E36=0,\"\",Berechnung!CO55))","v":"50%"},{"$f":"Berechnung!CP55","v":0},{"$f":"IF($B36=\"\",\"\",IF($M36=0,\"\",Berechnung!CQ55))","v":""},{"$f":"IF($B36=\"\",\"\",IF($M36=0,\"\",Berechnung!CR55))","v":""},{"$f":"IF($B36=\"\",\"\",IF($M36=0,\"\",Berechnung!CS55))","v":""},{"$f":"IF($B36=\"\",\"\",IF($M36=0,\"\",Berechnung!CT55))","v":""},"",{"$f":"IF($B36=\"\",\"\",IF($M36=0,\"\",Berechnung!CU55))","v":""},{"$f":"IF($B36=\"\",\"\",IF($M36=0,\"\",Berechnung!CV55))","v":""},{"$f":"Berechnung!DD55","v":2},{"$f":"IF($B36=\"\",\"\",IF($U36=0,\"\",Berechnung!DE55))","v":"200%"},{"$f":"IF($B36=\"\",\"\",IF($U36=0,\"\",Berechnung!DF55))","v":1},{"$f":"IF($B36=\"\",\"\",IF($U36=0,\"\",Berechnung!DG55))","v":0},{"$f":"IF($B36=\"\",\"\",IF($U36=0,\"\",Berechnung!DH55))","v":1},0.5,{"$f":"IF($B36=\"\",\"\",IF($U36=0,\"\",Berechnung!DI55))","v":"50%"},{"$f":"IF($B36=\"\",\"\",IF($U36=0,\"\",Berechnung!DJ55))","v":"0%"}]
[null,{"$f":"Berechnung!BS56","v":"8"},{"$f":"Berechnung!BT56","v":"PARK"},null,{"$f":"Berechnung!CI56","v":3},{"$f":"IF($B37=\"\",\"\",IF($E37=0,\"\",Berechnung!CJ56))","v":"6%"},{"$f":"IF($B37=\"\",\"\",IF($E37=0,\"\",Berechnung!CK56))","v":0},{"$f":"IF($B37=\"\",\"\",IF($E37=0,\"\",Berechnung!CL56))","v":1},{"$f":"IF($B37=\"\",\"\",IF($E37=0,\"\",Berechnung!CM56))","v":1},0.33333333333333331,{"$f":"IF($B37=\"\",\"\",IF($E37=0,\"\",Berechnung!CN56))","v":"33%"},{"$f":"IF($B37=\"\",\"\",IF($E37=0,\"\",Berechnung!CO56))","v":"0%"},{"$f":"Berechnung!CP56","v":1},{"$f":"IF($B37=\"\",\"\",IF($M37=0,\"\",Berechnung!CQ56))","v":"4%"},{"$f":"IF($B37=\"\",\"\",IF($M37=0,\"\",Berechnung!CR56))","v":0},{"$f":"IF($B37=\"\",\"\",IF($M37=0,\"\",Berechnung!CS56))","v":1},{"$f":"IF($B37=\"\",\"\",IF($M37=0,\"\",Berechnung!CT56))","v":0},1,{"$f":"IF($B37=\"\",\"\",IF($M37=0,\"\",Berechnung!CU56))","v":"0%"},{"$f":"IF($B37=\"\",\"\",IF($M37=0,\"\",Berechnung!CV56))","v":"-100%"},{"$f":"Berechnung!DD56","v":0},{"$f":"IF($B37=\"\",\"\",IF($U37=0,\"\",Berechnung!DE56))","v":""},{"$f":"IF($B37=\"\",\"\",IF($U37=0,\"\",Berechnung!DF56))","v":""},{"$f":"IF($B37=\"\",\"\",IF($U37=0,\"\",Berechnung!DG56))","v":""},{"$f":"IF($B37=\"\",\"\",IF($U37=0,\"\",Berechnung!DH56))","v":""},"",{"$f":"IF($B37=\"\",\"\",IF($U37=0,\"\",Berechnung!DI56))","v":""},{"$f":"IF($B37=\"\",\"\",IF($U37=0,\"\",Berechnung!DJ56))","v":""}]
[null,{"$f":"Berechnung!BS57","v":"14"},{"$f":"Berechnung!BT57","v":"SONG"},null,{"$f":"Berechnung!CI57","v":0},{"$f":"IF($B38=\"\",\"\",IF($E38=0,\"\",Berechnung!CJ57))","v":""},{"$f":"IF($B38=\"\",\"\",IF($E38=0,\"\",Berechnung!CK57))","v":""},{"$f":"IF($B38=\"\",\"\",IF($E38=0,\"\",Berechnung!CL57))","v":""},{"$f":"IF($B38=\"\",\"\",IF($E38=0,\"\",Berechnung!CM57))","v":""},"",{"$f":"IF($B38=\"\",\"\",IF($E38=0,\"\",Berechnung!CN57))","v":""},{"$f":"IF($B38=\"\",\"\",IF($E38=0,\"\",Berechnung!CO57))","v":""},{"$f":"Berechnung!CP57","v":3},{"$f":"IF($B38=\"\",\"\",IF($M38=0,\"\",Berechnung!CQ57))","v":"12%"},{"$f":"IF($B38=\"\",\"\",IF($M38=0,\"\",Berechnung!CR57))","v":0},{"$f":"IF($B38=\"\",\"\",IF($M38=0,\"\",Berechnung!CS57))","v":0},{"$f":"IF($B38=\"\",\"\",IF($M38=0,\"\",Berechnung!CT57))","v":1},0,{"$f":"IF($B38=\"\",\"\",IF($M38=0,\"\",Berechnung!CU57))","v":"33%"},{"$f":"IF($B38=\"\",\"\",IF($M38=0,\"\",Berechnung!CV57))","v":"33%"},{"$f":"Berechnung!DD57","v":0},{"$f":"IF($B38=\"\",\"\",IF($U38=0,\"\",Berechnung!DE57))","v":""},{"$f":"IF($B38=\"\",\"\",IF($U38=0,\"\",Berechnung!DF57))","v":""},{"$f":"IF($B38=\"\",\"\",IF($U38=0,\"\",Berechnung!DG57))","v":""},{"$f":"IF($B38=\"\",\"\",IF($U38=0,\"\",Berechnung!DH57))","v":""},"",{"$f":"IF($B38=\"\",\"\",IF($U38=0,\"\",Berechnung!DI57))","v":""},{"$f":"IF($B38=\"\",\"\",IF($U38=0,\"\",Berechnung!DJ57))","v":""}]
[null,{"$f":"Berechnung!BS58","v":"6"},{"$f":"Berechnung!BT58","v":"LEE"},null,{"$f":"Berechnung!CI58","v":0},{"$f":"IF($B39=\"\",\"\",IF($E39=0,\"\",Berechnung!CJ58))","v":""},{"$f":"IF($B39=\"\",\"\",IF($E39=0,\"\",Berechnung!CK58))","v":""},{"$f":"IF($B39=\"\",\"\",IF($E39=0,\"\",Berechnung!CL58))","v":""},{"$f":"IF($B39=\"\",\"\",IF($E39=0,\"\",Berechnung!CM58))","v":""},"",{"$f":"IF($B39=\"\",\"\",IF($E39=0,\"\",Berechnung!CN58))","v":""},{"$f":"IF($B39=\"\",\"\",IF($E39=0,\"\",Berechnung!CO58))","v":""},{"$f":"Berechnung!CP58","v":0},{"$f":"IF($B39=\"\",\"\",IF($M39=0,\"\",Berechnung!CQ58))","v":""},{"$f":"IF($B39=\"\",\"\",IF($M39=0,\"\",Berechnung!CR58))","v":""},{"$f":"IF($B39=\"\",\"\",IF($M39=0,\"\",Berechnung!CS58))","v":""},{"$f":"IF($B39=\"\",\"\",IF($M39=0,\"\",Berechnung!CT58))","v":""},"",{"$f":"IF($B39=\"\",\"\",IF($M39=0,\"\",Berechnung!CU58))","v":""},{"$f":"IF($B39=\"\",\"\",IF($M39=0,\"\",Berechnung!CV58))","v":""},{"$f":"Berechnung!DD58","v":0},{"$f":"IF($B39=\"\",\"\",IF($U39=0,\"\",Berechnung!DE58))","v":""},{"$f":"IF($B39=\"\",\"\",IF($U39=0,\"\",Berechnung!DF58))","v":""},{"$f":"IF($B39=\"\",\"\",IF($U39=0,\"\",Berechnung!DG58))","v":""},{"$f":"IF($B39=\"\",\"\",IF($U39=0,\"\",Berechnung!DH58))","v":""},"",{"$f":"IF($B39=\"\",\"\",IF($U39=0,\"\",Berechnung!DI58))","v":""},{"$f":"IF($B39=\"\",\"\",IF($U39=0,\"\",Berechnung!DJ58))","v":""}]
[null,{"$f":"Berechnung!BS59","v":"12"},{"$f":"Berechnung!BT59","v":"JEON"},null,{"$f":"Berechnung!CI59","v":0},{"$f":"IF($B40=\"\",\"\",IF($E40=0,\"\",Berechnung!CJ59))","v":""},{"$f":"IF($B40=\"\",\"\",IF($E40=0,\"\",Berechnung!CK59))","v":""},{"$f":"IF($B40=\"\",\"\",IF($E40=0,\"\",Berechnung!CL59))","v":""},{"$f":"IF($B40=\"\",\"\",IF($E40=0,\"\",Berechnung!CM59))","v":""},"",{"$f":"IF($B40=\"\",\"\",IF($E40=0,\"\",Berechnung!CN59))","v":""},{"$f":"IF($B40=\"\",\"\",IF($E40=0,\"\",Berechnung!CO59))","v":""},{"$f":"Berechnung!CP59","v":0},{"$f":"IF($B40=\"\",\"\",IF($M40=0,\"\",Berechnung!CQ59))","v":""},{"$f":"IF($B40=\"\",\"\",IF($M40=0,\"\",Berechnung!CR59))","v":""},{"$f":"IF($B40=\"\",\"\",IF($M40=0,\"\",Berechnung!CS59))","v":""},{"$f":"IF($B40=\"\",\"\",IF($M40=0,\"\",Berechnung!CT59))","v":""},"",{"$f":"IF($B40=\"\",\"\",IF($M40=0,\"\",Berechnung!CU59))","v":""},{"$f":"IF($B40=\"\",\"\",IF($M40=0,\"\",Berechnung!CV59))","v":""},{"$f":"Berechnung!DD59","v":0},{"$f":"IF($B40=\"\",\"\",IF($U40=0,\"\",Berechnung!DE59))","v":""},{"$f":"IF($B40=\"\",\"\",IF($U40=0,\"\",Berechnung!DF59))","v":""},{"$f":"IF($B40=\"\",\"\",IF($U40=0,\"\",Berechnung!DG59))","v":""},{"$f":"IF($B40=\"\",\"\",IF($U40=0,\"\",Berechnung!DH59))","v":""},"",{"$f":"IF($B40=\"\",\"\",IF($U40=0,\"\",Berechnung!DI59))","v":""},{"$f":"IF($B40=\"\",\"\",IF($U40=0,\"\",Berechnung!DJ59))","v":""}]
[null,{"$f":"Berechnung!BS60","v":"19"},{"$f":"Berechnung!BT60","v":"JEONG"},null,{"$f":"Berechnung!CI60","v":0},{"$f":"IF($B41=\"\",\"\",IF($E41=0,\"\",Berechnung!CJ60))","v":""},{"$f":"IF($B41=\"\",\"\",IF($E41=0,\"\",Berechnung!CK60))","v":""},{"$f":"IF($B41=\"\",\"\",IF($E41=0,\"\",Berechnung!CL60))","v":""},{"$f":"IF($B41=\"\",\"\",IF($E41=0,\"\",Berechnung!CM60))","v":""},"",{"$f":"IF($B41=\"\",\"\",IF($E41=0,\"\",Berechnung!CN60))","v":""},{"$f":"IF($B41=\"\",\"\",IF($E41=0,\"\",Berechnung!CO60))","v":""},{"$f":"Berechnung!CP60","v":0},{"$f":"IF($B41=\"\",\"\",IF($M41=0,\"\",Berechnung!CQ60))","v":""},{"$f":"IF($B41=\"\",\"\",IF($M41=0,\"\",Berechnung!CR60))","v":""},{"$f":"IF($B41=\"\",\"\",IF($M41=0,\"\",Berechnung!CS60))","v":""},{"$f":"IF($B41=\"\",\"\",IF($M41=0,\"\",Berechnung!CT60))","v":""},"",{"$f":"IF($B41=\"\",\"\",IF($M41=0,\"\",Berechnung!CU60))","v":""},{"$f":"IF($B41=\"\",\"\",IF($M41=0,\"\",Berechnung!CV60))","v":""},{"$f":"Berechnung!DD60","v":0},{"$f":"IF($B41=\"\",\"\",IF($U41=0,\"\",Berechnung!DE60))","v":""},{"$f":"IF($B41=\"\",\"\",IF($U41=0,\"\",Berechnung!DF60))","v":""},{"$f":"IF($B41=\"\",\"\",IF($U41=0,\"\",Berechnung!DG60))","v":""},{"$f":"IF($B41=\"\",\"\",IF($U41=0,\"\",Berechnung!DH60))","v":""},"",{"$f":"IF($B41=\"\",\"\",IF($U41=0,\"\",Berechnung!DI60))","v":""},{"$f":"IF($B41=\"\",\"\",IF($U41=0,\"\",Berechnung!DJ60))","v":""}]
[null,{"$f":"Berechnung!BS61","v":"20"},{"$f":"Berechnung!BT61","v":"JI"},null,{"$f":"Berechnung!CI61","v":0},{"$f":"IF($B42=\"\",\"\",IF($E42=0,\"\",Berechnung!CJ61))","v":""},{"$f":"IF($B42=\"\",\"\",IF($E42=0,\"\",Berechnung!CK61))","v":""},{"$f":"IF($B42=\"\",\"\",IF($E42=0,\"\",Berechnung!CL61))","v":""},{"$f":"IF($B42=\"\",\"\",IF($E42=0,\"\",Berechnung!CM61))","v":""},"",{"$f":"IF($B42=\"\",\"\",IF($E42=0,\"\",Berechnung!CN61))","v":""},{"$f":"IF($B42=\"\",\"\",IF($E42=0,\"\",Berechnung!CO61))","v":""},{"$f":"Berechnung!CP61","v":0},{"$f":"IF($B42=\"\",\"\",IF($M42=0,\"\",Berechnung!CQ61))","v":""},{"$f":"IF($B42=\"\",\"\",IF($M42=0,\"\",Berechnung!CR61))","v":""},{"$f":"IF($B42=\"\",\"\",IF($M42=0,\"\",Berechnung!CS61))","v":""},{"$f":"IF($B42=\"\",\"\",IF($M42=0,\"\",Berechnung!CT61))","v":""},"",{"$f":"IF($B42=\"\",\"\",IF($M42=0,\"\",Berechnung!CU61))","v":""},{"$f":"IF($B42=\"\",\"\",IF($M42=0,\"\",Berechnung!CV61))","v":""},{"$f":"Berechnung!DD61","v":0},{"$f":"IF($B42=\"\",\"\",IF($U42=0,\"\",Berechnung!DE61))","v":""},{"$f":"IF($B42=\"\",\"\",IF($U42=0,\"\",Berechnung!DF61))","v":""},{"$f":"IF($B42=\"\",\"\",IF($U42=0,\"\",Berechnung!DG61))","v":""},{"$f":"IF($B42=\"\",\"\",IF($U42=0,\"\",Berechnung!DH61))","v":""},"",{"$f":"IF($B42=\"\",\"\",IF($U42=0,\"\",Berechnung!DI61))","v":""},{"$f":"IF($B42=\"\",\"\",IF($U42=0,\"\",Berechnung!DJ61))","v":""}]
[null,{"$f":"Berechnung!BS62","v":"22"},{"$f":"Berechnung!BT62","v":"YOU"},null,{"$f":"Berechnung!CI62","v":0},{"$f":"IF($B43=\"\",\"\",IF($E43=0,\"\",Berechnung!CJ62))","v":""},{"$f":"IF($B43=\"\",\"\",IF($E43=0,\"\",Berechnung!CK62))","v":""},{"$f":"IF($B43=\"\",\"\",IF($E43=0,\"\",Berechnung!CL62))","v":""},{"$f":"IF($B43=\"\",\"\",IF($E43=0,\"\",Berechnung!CM62))","v":""},"",{"$f":"IF($B43=\"\",\"\",IF($E43=0,\"\",Berechnung!CN62))","v":""},{"$f":"IF($B43=\"\",\"\",IF($E43=0,\"\",Berechnung!CO62))","v":""},{"$f":"Berechnung!CP62","v":0},{"$f":"IF($B43=\"\",\"\",IF($M43=0,\"\",Berechnung!CQ62))","v":""},{"$f":"IF($B43=\"\",\"\",IF($M43=0,\"\",Berechnung!CR62))","v":""},{"$f":"IF($B43=\"\",\"\",IF($M43=0,\"\",Berechnung!CS62))","v":""},{"$f":"IF($B43=\"\",\"\",IF($M43=0,\"\",Berechnung!CT62))","v":""},"",{"$f":"IF($B43=\"\",\"\",IF($M43=0,\"\",Berechnung!CU62))","v":""},{"$f":"IF($B43=\"\",\"\",IF($M43=0,\"\",Berechnung!CV62))","v":""},{"$f":"Berechnung!DD62","v":0},{"$f":"IF($B43=\"\",\"\",IF($U43=0,\"\",Berechnung!DE62))","v":""},{"$f":"IF($B43=\"\",\"\",IF($U43=0,\"\",Berechnung!DF62))","v":""},{"$f":"IF($B43=\"\",\"\",IF($U43=0,\"\",Berechnung!DG62))","v":""},{"$f":"IF($B43=\"\",\"\",IF($U43=0,\"\",Berechnung!DH62))","v":""},"",{"$f":"IF($B43=\"\",\"\",IF($U43=0,\"\",Berechnung!DI62))","v":""},{"$f":"IF($B43=\"\",\"\",IF($U43=0,\"\",Berechnung!DJ62))","v":""}]
[null,{"$f":"Berechnung!BS63","v":"25"},{"$f":"Berechnung!BT63","v":"OH"},null,{"$f":"Berechnung!CI63","v":0},{"$f":"IF($B44=\"\",\"\",IF($E44=0,\"\",Berechnung!CJ63))","v":""},{"$f":"IF($B44=\"\",\"\",IF($E44=0,\"\",Berechnung!CK63))","v":""},{"$f":"IF($B44=\"\",\"\",IF($E44=0,\"\",Berechnung!CL63))","v":""},{"$f":"IF($B44=\"\",\"\",IF($E44=0,\"\",Berechnung!CM63))","v":""},"",{"$f":"IF($B44=\"\",\"\",IF($E44=0,\"\",Berechnung!CN63))","v":""},{"$f":"IF($B44=\"\",\"\",IF($E44=0,\"\",Berechnung!CO63))","v":""},{"$f":"Berechnung!CP63","v":0},{"$f":"IF($B44=\"\",\"\",IF($M44=0,\"\",Berechnung!CQ63))","v":""},{"$f":"IF($B44=\"\",\"\",IF($M44=0,\"\",Berechnung!CR63))","v":""},{"$f":"IF($B44=\"\",\"\",IF($M44=0,\"\",Berechnung!CS63))","v":""},{"$f":"IF($B44=\"\",\"\",IF($M44=0,\"\",Berechnung!CT63))","v":""},"",{"$f":"IF($B44=\"\",\"\",IF($M44=0,\"\",Berechnung!CU63))","v":""},{"$f":"IF($B44=\"\",\"\",IF($M44=0,\"\",Berechnung!CV63))","v":""},{"$f":"Berechnung!DD63","v":0},{"$f":"IF($B44=\"\",\"\",IF($U44=0,\"\",Berechnung!DE63))","v":""},{"$f":"IF($B44=\"\",\"\",IF($U44=0,\"\",Berechnung!DF63))","v":""},{"$f":"IF($B44=\"\",\"\",IF($U44=0,\"\",Berechnung!DG63))","v":""},{"$f":"IF($B44=\"\",\"\",IF($U44=0,\"\",Berechnung!DH63))","v":""},"",{"$f":"IF($B44=\"\",\"\",IF($U44=0,\"\",Berechnung!DI63))","v":""},{"$f":"IF($B44=\"\",\"\",IF($U44=0,\"\",Berechnung!DJ63))","v":""}]
[null,{"$f":"Berechnung!BS64","v":""},{"$f":"Berechnung!BT64","v":""},null,{"$f":"Berechnung!CI64","v":""},{"$f":"IF($B45=\"\",\"\",IF($E45=0,\"\",Berechnung!CJ64))","v":""},{"$f":"IF($B45=\"\",\"\",IF($E45=0,\"\",Berechnung!CK64))","v":""},{"$f":"IF($B45=\"\",\"\",IF($E45=0,\"\",Berechnung!CL64))","v":""},{"$f":"IF($B45=\"\",\"\",IF($E45=0,\"\",Berechnung!CM64))","v":""},"",{"$f":"IF($B45=\"\",\"\",IF($E45=0,\"\",Berechnung!CN64))","v":""},{"$f":"IF($B45=\"\",\"\",IF($E45=0,\"\",Berechnung!CO64))","v":""},{"$f":"Berechnung!CP64","v":""},{"$f":"IF($B45=\"\",\"\",IF($M45=0,\"\",Berechnung!CQ64))","v":""},{"$f":"IF($B45=\"\",\"\",IF($M45=0,\"\",Berechnung!CR64))","v":""},{"$f":"IF($B45=\"\",\"\",IF($M45=0,\"\",Berechnung!CS64))","v":""},{"$f":"IF($B45=\"\",\"\",IF($M45=0,\"\",Berechnung!CT64))","v":""},"",{"$f":"IF($B45=\"\",\"\",IF($M45=0,\"\",Berechnung!CU64))","v":""},{"$f":"IF($B45=\"\",\"\",IF($M45=0,\"\",Berechnung!CV64))","v":""},{"$f":"Berechnung!DD64","v":""},{"$f":"IF($B45=\"\",\"\",IF($U45=0,\"\",Berechnung!DE64))","v":""},{"$f":"IF($B45=\"\",\"\",IF($U45=0,\"\",Berechnung!DF64))","v":""},{"$f":"IF($B45=\"\",\"\",IF($U45=0,\"\",Berechnung!DG64))","v":""},{"$f":"IF($B45=\"\",\"\",IF($U45=0,\"\",Berechnung!DH64))","v":""},"",{"$f":"IF($B45=\"\",\"\",IF($U45=0,\"\",Berechnung!DI64))","v":""},{"$f":"IF($B45=\"\",\"\",IF($U45=0,\"\",Berechnung!DJ64))","v":""}]
[null,{"$f":"Berechnung!BS65","v":""},{"$f":"Berechnung!BT65","v":""},null,{"$f":"Berechnung!CI65","v":""},{"$f":"IF($B46=\"\",\"\",IF($E46=0,\"\",Berechnung!CJ65))","v":""},{"$f":"IF($B46=\"\",\"\",IF($E46=0,\"\",Berechnung!CK65))","v":""},{"$f":"IF($B46=\"\",\"\",IF($E46=0,\"\",Berechnung!CL65))","v":""},{"$f":"IF($B46=\"\",\"\",IF($E46=0,\"\",Berechnung!CM65))","v":""},"",{"$f":"IF($B46=\"\",\"\",IF($E46=0,\"\",Berechnung!CN65))","v":""},{"$f":"IF($B46=\"\",\"\",IF($E46=0,\"\",Berechnung!CO65))","v":""},{"$f":"Berechnung!CP65","v":""},{"$f":"IF($B46=\"\",\"\",IF($M46=0,\"\",Berechnung!CQ65))","v":""},{"$f":"IF($B46=\"\",\"\",IF($M46=0,\"\",Berechnung!CR65))","v":""},{"$f":"IF($B46=\"\",\"\",IF($M46=0,\"\",Berechnung!CS65))","v":""},{"$f":"IF($B46=\"\",\"\",IF($M46=0,\"\",Berechnung!CT65))","v":""},"",{"$f":"IF($B46=\"\",\"\",IF($M46=0,\"\",Berechnung!CU65))","v":""},{"$f":"IF($B46=\"\",\"\",IF($M46=0,\"\",Berechnung!CV65))","v":""},{"$f":"Berechnung!DD65","v":""},{"$f":"IF($B46=\"\",\"\",IF($U46=0,\"\",Berechnung!DE65))","v":""},{"$f":"IF($B46=\"\",\"\",IF($U46=0,\"\",Berechnung!DF65))","v":""},{"$f":"IF($B46=\"\",\"\",IF($U46=0,\"\",Berechnung!DG65))","v":""},{"$f":"IF($B46=\"\",\"\",IF($U46=0,\"\",Berechnung!DH65))","v":""},"",{"$f":"IF($B46=\"\",\"\",IF($U46=0,\"\",Berechnung!DI65))","v":""},{"$f":"IF($B46=\"\",\"\",IF($U46=0,\"\",Berechnung!DJ65))","v":""}]
[null,{"$f":"Berechnung!BS66","v":""},{"$f":"Berechnung!BT66","v":""},null,{"$f":"Berechnung!CI66","v":""},{"$f":"IF($B47=\"\",\"\",IF($E47=0,\"\",Berechnung!CJ66))","v":""},{"$f":"IF($B47=\"\",\"\",IF($E47=0,\"\",Berechnung!CK66))","v":""},{"$f":"IF($B47=\"\",\"\",IF($E47=0,\"\",Berechnung!CL66))","v":""},{"$f":"IF($B47=\"\",\"\",IF($E47=0,\"\",Berechnung!CM66))","v":""},"",{"$f":"IF($B47=\"\",\"\",IF($E47=0,\"\",Berechnung!CN66))","v":""},{"$f":"IF($B47=\"\",\"\",IF($E47=0,\"\",Berechnung!CO66))","v":""},{"$f":"Berechnung!CP66","v":""},{"$f":"IF($B47=\"\",\"\",IF($M47=0,\"\",Berechnung!CQ66))","v":""},{"$f":"IF($B47=\"\",\"\",IF($M47=0,\"\",Berechnung!CR66))","v":""},{"$f":"IF($B47=\"\",\"\",IF($M47=0,\"\",Berechnung!CS66))","v":""},{"$f":"IF($B47=\"\",\"\",IF($M47=0,\"\",Berechnung!CT66))","v":""},"",{"$f":"IF($B47=\"\",\"\",IF($M47=0,\"\",Berechnung!CU66))","v":""},{"$f":"IF($B47=\"\",\"\",IF($M47=0,\"\",Berechnung!CV66))","v":""},{"$f":"Berechnung!DD66","v":""},{"$f":"IF($B47=\"\",\"\",IF($U47=0,\"\",Berechnung!DE66))","v":""},{"$f":"IF($B47=\"\",\"\",IF($U47=0,\"\",Berechnung!DF66))","v":""},{"$f":"IF($B47=\"\",\"\",IF($U47=0,\"\",Berechnung!DG66))","v":""},{"$f":"IF($B47=\"\",\"\",IF($U47=0,\"\",Berechnung!DH66))","v":""},"",{"$f":"IF($B47=\"\",\"\",IF($U47=0,\"\",Berechnung!DI66))","v":""},{"$f":"IF($B47=\"\",\"\",IF($U47=0,\"\",Berechnung!DJ66))","v":""}]
[null,{"$f":"Berechnung!BS67","v":""},{"$f":"Berechnung!BT67","v":""},null,{"$f":"Berechnung!CI67","v":""},{"$f":"IF($B48=\"\",\"\",IF($E48=0,\"\",Berechnung!CJ67))","v":""},{"$f":"IF($B48=\"\",\"\",IF($E48=0,\"\",Berechnung!CK67))","v":""},{"$f":"IF($B48=\"\",\"\",IF($E48=0,\"\",Berechnung!CL67))","v":""},{"$f":"IF($B48=\"\",\"\",IF($E48=0,\"\",Berechnung!CM67))","v":""},"",{"$f":"IF($B48=\"\",\"\",IF($E48=0,\"\",Berechnung!CN67))","v":""},{"$f":"IF($B48=\"\",\"\",IF($E48=0,\"\",Berechnung!CO67))","v":""},{"$f":"Berechnung!CP67","v":""},{"$f":"IF($B48=\"\",\"\",IF($M48=0,\"\",Berechnung!CQ67))","v":""},{"$f":"IF($B48=\"\",\"\",IF($M48=0,\"\",Berechnung!CR67))","v":""},{"$f":"IF($B48=\"\",\"\",IF($M48=0,\"\",Berechnung!CS67))","v":""},{"$f":"IF($B48=\"\",\"\",IF($M48=0,\"\",Berechnung!CT67))","v":""},"",{"$f":"IF($B48=\"\",\"\",IF($M48=0,\"\",Berechnung!CU67))","v":""},{"$f":"IF($B48=\"\",\"\",IF($M48=0,\"\",Berechnung!CV67))","v":""},{"$f":"Berechnung!DD67","v":""},{"$f":"IF($B48=\"\",\"\",IF($U48=0,\"\",Berechnung!DE67))","v":""},{"$f":"IF($B48=\"\",\"\",IF($U48=0,\"\",Berechnung!DF67))","v":""},{"$f":"IF($B48=\"\",\"\",IF($U48=0,\"\",Berechnung!DG67))","v":""},{"$f":"IF($B48=\"\",\"\",IF($U48=0,\"\",Berechnung!DH67))","v":""},"",{"$f":"IF($B48=\"\",\"\",IF($U48=0,\"\",Berechnung!DI67))","v":""},{"$f":"IF($B48=\"\",\"\",IF($U48=0,\"\",Berechnung!DJ67))","v":""}]
[null,{"$f":"Berechnung!BS68","v":""},{"$f":"Berechnung!BT68","v":""},null,{"$f":"Berechnung!CI68","v":""},{"$f":"IF($B49=\"\",\"\",IF($E49=0,\"\",Berechnung!CJ68))","v":""},{"$f":"IF($B49=\"\",\"\",IF($E49=0,\"\",Berechnung!CK68))","v":""},{"$f":"IF($B49=\"\",\"\",IF($E49=0,\"\",Berechnung!CL68))","v":""},{"$f":"IF($B49=\"\",\"\",IF($E49=0,\"\",Berechnung!CM68))","v":""},"",{"$f":"IF($B49=\"\",\"\",IF($E49=0,\"\",Berechnung!CN68))","v":""},{"$f":"IF($B49=\"\",\"\",IF($E49=0,\"\",Berechnung!CO68))","v":""},{"$f":"Berechnung!CP68","v":""},{"$f":"IF($B49=\"\",\"\",IF($M49=0,\"\",Berechnung!CQ68))","v":""},{"$f":"IF($B49=\"\",\"\",IF($M49=0,\"\",Berechnung!CR68))","v":""},{"$f":"IF($B49=\"\",\"\",IF($M49=0,\"\",Berechnung!CS68))","v":""},{"$f":"IF($B49=\"\",\"\",IF($M49=0,\"\",Berechnung!CT68))","v":""},"",{"$f":"IF($B49=\"\",\"\",IF($M49=0,\"\",Berechnung!CU68))","v":""},{"$f":"IF($B49=\"\",\"\",IF($M49=0,\"\",Berechnung!CV68))","v":""},{"$f":"Berechnung!DD68","v":""},{"$f":"IF($B49=\"\",\"\",IF($U49=0,\"\",Berechnung!DE68))","v":""},{"$f":"IF($B49=\"\",\"\",IF($U49=0,\"\",Berechnung!DF68))","v":""},{"$f":"IF($B49=\"\",\"\",IF($U49=0,\"\",Berechnung!DG68))","v":""},{"$f":"IF($B49=\"\",\"\",IF($U49=0,\"\",Berechnung!DH68))","v":""},"",{"$f":"IF($B49=\"\",\"\",IF($U49=0,\"\",Berechnung!DI68))","v":""},{"$f":"IF($B49=\"\",\"\",IF($U49=0,\"\",Berechnung!DJ68))","v":""}]
[null,{"$f":"Berechnung!BS69","v":""},{"$f":"Berechnung!BT69","v":""},null,{"$f":"Berechnung!CI69","v":""},{"$f":"IF($B50=\"\",\"\",IF($E50=0,\"\",Berechnung!CJ69))","v":""},{"$f":"IF($B50=\"\",\"\",IF($E50=0,\"\",Berechnung!CK69))","v":""},{"$f":"IF($B50=\"\",\"\",IF($E50=0,\"\",Berechnung!CL69))","v":""},{"$f":"IF($B50=\"\",\"\",IF($E50=0,\"\",Berechnung!CM69))","v":""},"",{"$f":"IF($B50=\"\",\"\",IF($E50=0,\"\",Berechnung!CN69))","v":""},{"$f":"IF($B50=\"\",\"\",IF($E50=0,\"\",Berechnung!CO69))","v":""},{"$f":"Berechnung!CP69","v":""},{"$f":"IF($B50=\"\",\"\",IF($M50=0,\"\",Berechnung!CQ69))","v":""},{"$f":"IF($B50=\"\",\"\",IF($M50=0,\"\",Berechnung!CR69))","v":""},{"$f":"IF($B50=\"\",\"\",IF($M50=0,\"\",Berechnung!CS69))","v":""},{"$f":"IF($B50=\"\",\"\",IF($M50=0,\"\",Berechnung!CT69))","v":""},"",{"$f":"IF($B50=\"\",\"\",IF($M50=0,\"\",Berechnung!CU69))","v":""},{"$f":"IF($B50=\"\",\"\",IF($M50=0,\"\",Berechnung!CV69))","v":""},{"$f":"Berechnung!DD69","v":""},{"$f":"IF($B50=\"\",\"\",IF($U50=0,\"\",Berechnung!DE69))","v":""},{"$f":"IF($B50=\"\",\"\",IF($U50=0,\"\",Berechnung!DF69))","v":""},{"$f":"IF($B50=\"\",\"\",IF($U50=0,\"\",Berechnung!DG69))","v":""},{"$f":"IF($B50=\"\",\"\",IF($U50=0,\"\",Berechnung!DH69))","v":""},"",{"$f":"IF($B50=\"\",\"\",IF($U50=0,\"\",Berechnung!DI69))","v":""},{"$f":"IF($B50=\"\",\"\",IF($U50=0,\"\",Berechnung!DJ69))","v":""}]

{"sheet":"Stats Reception","index":8,"n_rows":52,"n_cols":51,"rows_kept":52,"cut":false,"hidden":false,"merged":[[29,18,29,26],[29,30,29,38],[29,42,29,50],[1,1,1,50],[3,18,3,26],[3,30,3,38],[3,42,3,50],[3,4,3,14]]}
[]
[null,{"$f":"Options!B1&\" - Reception-Statistic\"","v":"KOREA - Reception-Statistic"}]
[]
[null,null,null,null,{"$f":"Berechnung!DX2","v":"Reception all Positions"},null,null,null,null,null,null,null,null,null,null,null,null,null,{"$f":"Berechnung!EM2&\"        \"&S6&\"  ( \"&ROUND((S6/E6)*100,0)&\" % )\"","v":"Reception S1        10  ( 12 % )"},null,null,null,null,null,null,null,null,null,null,null,{"$f":"Berechnung!EZ2&\"        \"&AE6&\"  ( \"&ROUND((AE6/E6)*100,0)&\" % )\"","v":"Reception S6        22  ( 27 % )"},null,null,null,null,null,null,null,null,null,null,null,{"$f":"Berechnung!FM2&\"        \"&AQ6&\"  ( \"&ROUND((AQ6/E6)*100,0)&\" % )\"","v":"Reception S5        15  ( 18 % )"}]
[null,null,null,null,"∑","in %",{"$f":"Berechnung!DZ3","v":"="},{"$f":"Berechnung!EA3","v":"/"},{"$f":"Berechnung!EB3","v":"-"},{"$f":"Berechnung!EC3","v":"+"},{"$f":"Berechnung!ED3","v":"#"},{"$f":"Berechnung!EE3","v":"=/%"},{"$f":"Berechnung!EF3","v":"+#%"},{"$f":"Berechnung!EG3","v":"#%"},{"$f":"Berechnung!EH3","v":"eff"},null,null,null,"∑","in %",{"$f":"Berechnung!EO3","v":"=/"},{"$f":"Berechnung!EP3","v":"+"},{"$f":"Berechnung!EQ3","v":"#"},{"$f":"Berechnung!ER3","v":"=/%"},{"$f":"Berechnung!ES3","v":"+#%"},{"$f":"Berechnung!ET3","v":"#%"},{"$f":"Berechnung!EU3","v":"eff"},null,null,null,"∑","in %",{"$f":"Berechnung!FB3","v":"=/"},{"$f":"Berechnung!FC3","v":"+"},{"$f":"Berechnung!FD3","v":"#"},{"$f":"Berechnung!FE3","v":"=/%"},{"$f":"Berechnung!FF3","v":"+#%"},{"$f":"Berechnung!FG3","v":"#%"},{"$f":"Berechnung!FH3","v":"eff"},null,null,null,"∑","in %",{"$f":"Berechnung!FO3","v":"=/"},{"$f":"Berechnung!FP3","v":"+"},{"$f":"Berechnung!FQ3","v":"#"},{"$f":"Berechnung!FR3","v":"=/%"},{"$f":"Berechnung!FS3","v":"+#%"},{"$f":"Berechnung!FT3","v":"#%"},{"$f":"Berechnung!FU3","v":"eff"}]
[null,null,{"$f":"Berechnung!BT49","v":"KOREA"},null,{"$f":"Berechnung!DX49","v":82},null,{"$f":"Berechnung!DZ26","v":1},{"$f":"Berechnung!EA26","v":1},{"$f":"Berechnung!EB26","v":29},{"$f":"Berechnung!EC26","v":29},{"$f":"Berechnung!ED26","v":22},{"$f":"Berechnung!EE26","v":2.4390243902439025E-2},{"$f":"Berechnung!EF26","v":0.62195121951219512},{"$f":"Berechnung!EG26","v":0.26829268292682928},{"$f":"Berechnung!EH26","v":"60%"},null,null,{"$f":"Berechnung!EL49","v":"KOREA"},{"$f":"Berechnung!EM49","v":10},null,{"$f":"Berechnung!EO49","v":0},{"$f":"Berechnung!EP49","v":5},{"$f":"Berechnung!EQ49","v":4},{"$f":"Berechnung!ER49","v":0.4},{"$f":"Berechnung!ES49","v":0.9},{"$f":"Berechnung!ET49","v":0.4},{"$f":"Berechnung!EU49","v":0.9},null,null,{"$f":"Berechnung!EY49","v":"KOREA"},{"$f":"Berechnung!EZ49","v":22},null,{"$f":"Berechnung!FB26","v":2},{"$f":"Berechnung!FC26","v":4},{"$f":"Berechnung!FD26","v":4},{"$f":"Berechnung!FE26","v":0.18181818181818182},{"$f":"Berechnung!FF26","v":0.36363636363636365},{"$f":"Berechnung!FG26","v":0.18181818181818182},{"$f":"Berechnung!FH26","v":0.27272727272727271},null,null,{"$f":"Berechnung!FL49","v":"KOREA"},{"$f":"Berechnung!FM49","v":15},null,{"$f":"Berechnung!FO26","v":0},{"$f":"Berechnung!FP26","v":5},{"$f":"Berechnung!FQ26","v":5},{"$f":"Berechnung!FR26","v":0.33333333333333331},{"$f":"Berechnung!FS26","v":0.66666666666666663},{"$f":"Berechnung!FT26","v":0.33333333333333331},{"$f":"Berechnung!FU26","v":0.66666666666666663}]
[null,{"$f":"Berechnung!DV50","v":"19"},{"$f":"Berechnung!DW50","v":"JEONG"},null,{"$f":"Berechnung!DX50","v":33},{"$f":"IF($B7=\"\",\"\",IF($E7=0,\"\",Berechnung!DY50))","v":0.40243902439024393},{"$f":"IF($B7=\"\",\"\",IF($E7=0,\"\",Berechnung!DZ50))","v":0},{"$f":"IF($B7=\"\",\"\",IF($E7=0,\"\",Berechnung!EA50))","v":1},{"$f":"IF($B7=\"\",\"\",IF($E7=0,\"\",Berechnung!EB50))","v":10},{"$f":"IF($B7=\"\",\"\",IF($E7=0,\"\",Berechnung!EC50))","v":12},{"$f":"IF($B7=\"\",\"\",IF($E7=0,\"\",Berechnung!ED50))","v":10},{"$f":"IF($B7=\"\",\"\",IF($E7=0,\"\",Berechnung!EE50))","v":3.0303030303030304E-2},{"$f":"IF($B7=\"\",\"\",IF($E7=0,\"\",Berechnung!EF50))","v":0.66666666666666663},{"$f":"IF($B7=\"\",\"\",IF($E7=0,\"\",Berechnung!EG50))","v":0.30303030303030304},{"$f":"IF($B7=\"\",\"\",IF($E7=0,\"\",Berechnung!EH50))","v":"64%"},null,{"$f":"Berechnung!EK50","v":"9"},{"$f":"Berechnung!EL50","v":"KWAK"},{"$f":"Berechnung!EM50","v":4},{"$f":"IF($Q7=\"\",\"\",IF($S7=0,\"\",Berechnung!EN50))","v":0.4},{"$f":"IF($Q7=\"\",\"\",IF($S7=0,\"\",Berechnung!EO50))","v":0},{"$f":"IF($Q7=\"\",\"\",IF($S7=0,\"\",Berechnung!EP50))","v":2},{"$f":"IF($Q7=\"\",\"\",IF($S7=0,\"\",Berechnung!EQ50))","v":1},{"$f":"IF($Q7=\"\",\"\",IF($S7=0,\"\",Berechnung!ER50))","v":0},{"$f":"IF($Q7=\"\",\"\",IF($S7=0,\"\",Berechnung!ES50))","v":0.75},{"$f":"IF($Q7=\"\",\"\",IF($S7=0,\"\",Berechnung!ET50))","v":0.25},{"$f":"IF($Q7=\"\",\"\",IF($S7=0,\"\",Berechnung!EU50))","v":0.75},null,{"$f":"Berechnung!EX50","v":"19"},{"$f":"Berechnung!EY50","v":"JEONG"},{"$f":"Berechnung!EZ50","v":10},{"$f":"IF($AC7=\"\",\"\",IF($AE7=0,\"\",Berechnung!FA50))","v":0.45454545454545453},{"$f":"IF($AC7=\"\",\"\",IF($AE7=0,\"\",Berechnung!FB50))","v":1},{"$f":"IF($AC7=\"\",\"\",IF($AE7=0,\"\",Berechnung!FC50))","v":2},{"$f":"IF($AC7=\"\",\"\",IF($AE7=0,\"\",Berechnung!FD50))","v":3},{"$f":"IF($AC7=\"\",\"\",IF($AE7=0,\"\",Berechnung!FE50))","v":0.1},{"$f":"IF($AC7=\"\",\"\",IF($AE7=0,\"\",Berechnung!FF50))","v":0.5},{"$f":"IF($AC7=\"\",\"\",IF($AE7=0,\"\",Berechnung!FG50))","v":0.3},{"$f":"IF($AC7=\"\",\"\",IF($AE7=0,\"\",Berechnung!FH50))","v":0.4},null,{"$f":"Berechnung!FK50","v":"19"},{"$f":"Berechnung!FL50","v":"JEONG"},{"$f":"Berechnung!FM50","v":8},{"$f":"IF($AO7=\"\",\"\",IF($AQ7=0,\"\",Berechnung!FN50))","v":0.53333333333333333},{"$f":"IF($AO7=\"\",\"\",IF($AQ7=0,\"\",Berechnung!FO50))","v":0},{"$f":"IF($AO7=\"\",\"\",IF($AQ7=0,\"\",Berechnung!FP50))","v":2},{"$f":"IF($AO7=\"\",\"\",IF($AQ7=0,\"\",Berechnung!FQ50))","v":3},{"$f":"IF($AO7=\"\",\"\",IF($AQ7=0,\"\",Berechnung!FR50))","v":0},{"$f":"IF($AO7=\"\",\"\",IF($AQ7=0,\"\",Berechnung!FS50))","v":0.625},{"$f":"IF($AO7=\"\",\"\",IF($AQ7=0,\"\",Berechnung!FT50))","v":0.375},{"$f":"IF($AO7=\"\",\"\",IF($AQ7=0,\"\",Berechnung!FU50))","v":0.625}]
[null,{"$f":"Berechnung!DV51","v":"9"},{"$f":"Berechnung!DW51","v":"KWAK"},null,{"$f":"Berechnung!DX51","v":29},{"$f":"IF($B8=\"\",\"\",IF($E8=0,\"\",Berechnung!DY51))","v":0.35365853658536583},{"$f":"IF($B8=\"\",\"\",IF($E8=0,\"\",Berechnung!DZ51))","v":0},{"$f":"IF($B8=\"\",\"\",IF($E8=0,\"\",Berechnung!EA51))","v":0},{"$f":"IF($B8=\"\",\"\",IF($E8=0,\"\",Berechnung!EB51))","v":13},{"$f":"IF($B8=\"\",\"\",IF($E8=0,\"\",Berechnung!EC51))","v":11},{"$f":"IF($B8=\"\",\"\",IF($E8=0,\"\",Berechnung!ED51))","v":5},{"$f":"IF($B8=\"\",\"\",IF($E8=0,\"\",Berechnung!EE51))","v":0},{"$f":"IF($B8=\"\",\"\",IF($E8=0,\"\",Berechnung!EF51))","v":0.55172413793103448},{"$f":"IF($B8=\"\",\"\",IF($E8=0,\"\",Berechnung!EG51))","v":0.17241379310344829},{"$f":"IF($B8=\"\",\"\",IF($E8=0,\"\",Berechnung!EH51))","v":"55%"},null,{"$f":"Berechnung!EK51","v":"1"},{"$f":"Berechnung!EL51","v":"SONG"},{"$f":"Berechnung!EM51","v":3},{"$f":"IF($Q8=\"\",\"\",IF($S8=0,\"\",Berechnung!EN51))","v":0.3},{"$f":"IF($Q8=\"\",\"\",IF($S8=0,\"\",Berechnung!EO51))","v":0},{"$f":"IF($Q8=\"\",\"\",IF($S8=0,\"\",Berechnung!EP51))","v":2},{"$f":"IF($Q8=\"\",\"\",IF($S8=0,\"\",Berechnung!EQ51))","v":1},{"$f":"IF($Q8=\"\",\"\",IF($S8=0,\"\",Berechnung!ER51))","v":0},{"$f":"IF($Q8=\"\",\"\",IF($S8=0,\"\",Berechnung!ES51))","v":1},{"$f":"IF($Q8=\"\",\"\",IF($S8=0,\"\",Berechnung!ET51))","v":0.33333333333333331},{"$f":"IF($Q8=\"\",\"\",IF($S8=0,\"\",Berechnung!EU51))","v":1},null,{"$f":"Berechnung!EX51","v":"9"},{"$f":"Berechnung!EY51","v":"KWAK"},{"$f":"Berechnung!EZ51","v":4},{"$f":"IF($AC8=\"\",\"\",IF($AE8=0,\"\",Berechnung!FA51))","v":0.18181818181818182},{"$f":"IF($AC8=\"\",\"\",IF($AE8=0,\"\",Berechnung!FB51))","v":0},{"$f":"IF($AC8=\"\",\"\",IF($AE8=0,\"\",Berechnung!FC51))","v":0},{"$f":"IF($AC8=\"\",\"\",IF($AE8=0,\"\",Berechnung!FD51))","v":0},{"$f":"IF($AC8=\"\",\"\",IF($AE8=0,\"\",Berechnung!FE51))","v":0},{"$f":"IF($AC8=\"\",\"\",IF($AE8=0,\"\",Berechnung!FF51))","v":0},{"$f":"IF($AC8=\"\",\"\",IF($AE8=0,\"\",Berechnung!FG51))","v":0},{"$f":"IF($AC8=\"\",\"\",IF($AE8=0,\"\",Berechnung!FH51))","v":0},null,{"$f":"Berechnung!FK51","v":"9"},{"$f":"Berechnung!FL51","v":"KWAK"},{"$f":"Berechnung!FM51","v":5},{"$f":"IF($AO8=\"\",\"\",IF($AQ8=0,\"\",Berechnung!FN51))","v":0.33333333333333331},{"$f":"IF($AO8=\"\",\"\",IF($AQ8=0,\"\",Berechnung!FO51))","v":0},{"$f":"IF($AO8=\"\",\"\",IF($AQ8=0,\"\",Berechnung!FP51))","v":2},{"$f":"IF($AO8=\"\",\"\",IF($AQ8=0,\"\",Berechnung!FQ51))","v":1},{"$f":"IF($AO8=\"\",\"\",IF($AQ8=0,\"\",Berechnung!FR51))","v":0},{"$f":"IF($AO8=\"\",\"\",IF($AQ8=0,\"\",Berechnung!FS51))","v":0.6},{"$f":"IF($AO8=\"\",\"\",IF($AQ8=0,\"\",Berechnung!FT51))","v":0.2},{"$f":"IF($AO8=\"\",\"\",IF($AQ8=0,\"\",Berechnung!FU51))","v":0.6}]
[null,{"$f":"Berechnung!DV52","v":"14"},{"$f":"Berechnung!DW52","v":"SONG"},null,{"$f":"Berechnung!DX52","v":11},{"$f":"IF($B9=\"\",\"\",IF($E9=0,\"\",Berechnung!DY52))","v":0.13414634146341464},{"$f":"IF($B9=\"\",\"\",IF($E9=0,\"\",Berechnung!DZ52))","v":0},{"$f":"IF($B9=\"\",\"\",IF($E9=0,\"\",Berechnung!EA52))","v":0},{"$f":"IF($B9=\"\",\"\",IF($E9=0,\"\",Berechnung!EB52))","v":4},{"$f":"IF($B9=\"\",\"\",IF($E9=0,\"\",Berechnung!EC52))","v":2},{"$f":"IF($B9=\"\",\"\",IF($E9=0,\"\",Berechnung!ED52))","v":5},{"$f":"IF($B9=\"\",\"\",IF($E9=0,\"\",Berechnung!EE52))","v":0},{"$f":"IF($B9=\"\",\"\",IF($E9=0,\"\",Berechnung!EF52))","v":0.63636363636363635},{"$f":"IF($B9=\"\",\"\",IF($E9=0,\"\",Berechnung!EG52))","v":0.45454545454545453},{"$f":"IF($B9=\"\",\"\",IF($E9=0,\"\",Berechnung!EH52))","v":"64%"},null,{"$f":"Berechnung!EK52","v":"19"},{"$f":"Berechnung!EL52","v":"JEONG"},{"$f":"Berechnung!EM52","v":3},{"$f":"IF($Q9=\"\",\"\",IF($S9=0,\"\",Berechnung!EN52))","v":0.3},{"$f":"IF($Q9=\"\",\"\",IF($S9=0,\"\",Berechnung!EO52))","v":0},{"$f":"IF($Q9=\"\",\"\",IF($S9=0,\"\",Berechnung!EP52))","v":1},{"$f":"IF($Q9=\"\",\"\",IF($S9=0,\"\",Berechnung!EQ52))","v":2},{"$f":"IF($Q9=\"\",\"\",IF($S9=0,\"\",Berechnung!ER52))","v":0},{"$f":"IF($Q9=\"\",\"\",IF($S9=0,\"\",Berechnung!ES52))","v":1},{"$f":"IF($Q9=\"\",\"\",IF($S9=0,\"\",Berechnung!ET52))","v":0.66666666666666663},{"$f":"IF($Q9=\"\",\"\",IF($S9=0,\"\",Berechnung!EU52))","v":1},null,{"$f":"Berechnung!EX52","v":"14"},{"$f":"Berechnung!EY52","v":"SONG"},{"$f":"Berechnung!EZ52","v":4},{"$f":"IF($AC9=\"\",\"\",IF($AE9=0,\"\",Berechnung!FA52))","v":0.18181818181818182},{"$f":"IF($AC9=\"\",\"\",IF($AE9=0,\"\",Berechnung!FB52))","v":0},{"$f":"IF($AC9=\"\",\"\",IF($AE9=0,\"\",Berechnung!FC52))","v":1},{"$f":"IF($AC9=\"\",\"\",IF($AE9=0,\"\",Berechnung!FD52))","v":1},{"$f":"IF($AC9=\"\",\"\",IF($AE9=0,\"\",Berechnung!FE52))","v":0},{"$f":"IF($AC9=\"\",\"\",IF($AE9=0,\"\",Berechnung!FF52))","v":0.5},{"$f":"IF($AC9=\"\",\"\",IF($AE9=0,\"\",Berechnung!FG52))","v":0.25},{"$f":"IF($AC9=\"\",\"\",IF($AE9=0,\"\",Berechnung!FH52))","v":0.5},null,{"$f":"Berechnung!FK52","v":"14"},{"$f":"Berechnung!FL52","v":"SONG"},{"$f":"Berechnung!FM52","v":1},{"$f":"IF($AO9=\"\",\"\",IF($AQ9=0,\"\",Berechnung!FN52))","v":6.6666666666666666E-2},{"$f":"IF($AO9=\"\",\"\",IF($AQ9=0,\"\",Berechnung!FO52))","v":0},{"$f":"IF($AO9=\"\",\"\",IF($AQ9=0,\"\",Berechnung!FP52))","v":1},{"$f":"IF($AO9=\"\",\"\",IF($AQ9=0,\"\",Berechnung!FQ52))","v":0},{"$f":"IF($AO9=\"\",\"\",IF($AQ9=0,\"\",Berechnung!FR52))","v":0},{"$f":"IF($AO9=\"\",\"\",IF($AQ9=0,\"\",Berechnung!FS52))","v":1},{"$f":"IF($AO9=\"\",\"\",IF($AQ9=0,\"\",Berechnung!FT52))","v":0},{"$f":"IF($AO9=\"\",\"\",IF($AQ9=0,\"\",Berechnung!FU52))","v":1}]
[null,{"$f":"Berechnung!DV53","v":"1"},{"$f":"Berechnung!DW53","v":"SONG"},null,{"$f":"Berechnung!DX53","v":7},{"$f":"IF($B10=\"\",\"\",IF($E10=0,\"\",Berechnung!DY53))","v":8.5365853658536592E-2},{"$f":"IF($B10=\"\",\"\",IF($E10=0,\"\",Berechnung!DZ53))","v":1},{"$f":"IF($B10=\"\",\"\",IF($E10=0,\"\",Berechnung!EA53))","v":0},{"$f":"IF($B10=\"\",\"\",IF($E10=0,\"\",Berechnung!EB53))","v":1},{"$f":"IF($B10=\"\",\"\",IF($E10=0,\"\",Berechnung!EC53))","v":4},{"$f":"IF($B10=\"\",\"\",IF($E10=0,\"\",Berechnung!ED53))","v":1},{"$f":"IF($B10=\"\",\"\",IF($E10=0,\"\",Berechnung!EE53))","v":0.14285714285714285},{"$f":"IF($B10=\"\",\"\",IF($E10=0,\"\",Berechnung!EF53))","v":0.7142857142857143},{"$f":"IF($B10=\"\",\"\",IF($E10=0,\"\",Berechnung!EG53))","v":0.14285714285714285},{"$f":"IF($B10=\"\",\"\",IF($E10=0,\"\",Berechnung!EH53))","v":"57%"},null,{"$f":"Berechnung!EK53","v":"4"},{"$f":"Berechnung!EL53","v":"SHIN"},{"$f":"Berechnung!EM53","v":0},{"$f":"IF($Q10=\"\",\"\",IF($S10=0,\"\",Berechnung!EN53))","v":""},{"$f":"IF($Q10=\"\",\"\",IF($S10=0,\"\",Berechnung!EO53))","v":""},{"$f":"IF($Q10=\"\",\"\",IF($S10=0,\"\",Berechnung!EP53))","v":""},{"$f":"IF($Q10=\"\",\"\",IF($S10=0,\"\",Berechnung!EQ53))","v":""},{"$f":"IF($Q10=\"\",\"\",IF($S10=0,\"\",Berechnung!ER53))","v":""},{"$f":"IF($Q10=\"\",\"\",IF($S10=0,\"\",Berechnung!ES53))","v":""},{"$f":"IF($Q10=\"\",\"\",IF($S10=0,\"\",Berechnung!ET53))","v":""},{"$f":"IF($Q10=\"\",\"\",IF($S10=0,\"\",Berechnung!EU53))","v":""},null,{"$f":"Berechnung!EX53","v":"1"},{"$f":"Berechnung!EY53","v":"SONG"},{"$f":"Berechnung!EZ53","v":3},{"$f":"IF($AC10=\"\",\"\",IF($AE10=0,\"\",Berechnung!FA53))","v":0.13636363636363635},{"$f":"IF($AC10=\"\",\"\",IF($AE10=0,\"\",Berechnung!FB53))","v":1},{"$f":"IF($AC10=\"\",\"\",IF($AE10=0,\"\",Berechnung!FC53))","v":1},{"$f":"IF($AC10=\"\",\"\",IF($AE10=0,\"\",Berechnung!FD53))","v":0},{"$f":"IF($AC10=\"\",\"\",IF($AE10=0,\"\",Berechnung!FE53))","v":0.33333333333333331},{"$f":"IF($AC10=\"\",\"\",IF($AE10=0,\"\",Berechnung!FF53))","v":0.33333333333333331},{"$f":"IF($AC10=\"\",\"\",IF($AE10=0,\"\",Berechnung!FG53))","v":0},{"$f":"IF($AC10=\"\",\"\",IF($AE10=0,\"\",Berechnung!FH53))","v":0},null,{"$f":"Berechnung!FK53","v":"17"},{"$f":"Berechnung!FL53","v":"SEO"},{"$f":"Berechnung!FM53","v":1},{"$f":"IF($AO10=\"\",\"\",IF($AQ10=0,\"\",Berechnung!FN53))","v":6.6666666666666666E-2},{"$f":"IF($AO10=\"\",\"\",IF($AQ10=0,\"\",Berechnung!FO53))","v":0},{"$f":"IF($AO10=\"\",\"\",IF($AQ10=0,\"\",Berechnung!FP53))","v":0},{"$f":"IF($AO10=\"\",\"\",IF($AQ10=0,\"\",Berechnung!FQ53))","v":1},{"$f":"IF($AO10=\"\",\"\",IF($AQ10=0,\"\",Berechnung!FR53))","v":0},{"$f":"IF($AO10=\"\",\"\",IF($AQ10=0,\"\",Berechnung!FS53))","v":1},{"$f":"IF($AO10=\"\",\"\",IF($AQ10=0,\"\",Berechnung!FT53))","v":1},{"$f":"IF($AO10=\"\",\"\",IF($AQ10=0,\"\",Berechnung!FU53))","v":1}]
[null,{"$f":"Berechnung!DV54","v":"17"},{"$f":"Berechnung!DW54","v":"SEO"},null,{"$f":"Berechnung!DX54","v":2},{"$f":"IF($B11=\"\",\"\",IF($E11=0,\"\",Berechnung!DY54))","v":2.4390243902439025E-2},{"$f":"IF($B11=\"\",\"\",IF($E11=0,\"\",Berechnung!DZ54))","v":0},{"$f":"IF($B11=\"\",\"\",IF($E11=0,\"\",Berechnung!EA54))","v":0},{"$f":"IF($B11=\"\",\"\",IF($E11=0,\"\",Berechnung!EB54))","v":1},{"$f":"IF($B11=\"\",\"\",IF($E11=0,\"\",Berechnung!EC54))","v":0},{"$f":"IF($B11=\"\",\"\",IF($E11=0,\"\",Berechnung!ED54))","v":1},{"$f":"IF($B11=\"\",\"\",IF($E11=0,\"\",Berechnung!EE54))","v":0},{"$f":"IF($B11=\"\",\"\",IF($E11=0,\"\",Berechnung!EF54))","v":0.5},{"$f":"IF($B11=\"\",\"\",IF($E11=0,\"\",Berechnung!EG54))","v":0.5},{"$f":"IF($B11=\"\",\"\",IF($E11=0,\"\",Berechnung!EH54))","v":"50%"},null,{"$f":"Berechnung!EK54","v":"6"},{"$f":"Berechnung!EL54","v":"LEE"},{"$f":"Berechnung!EM54","v":0},{"$f":"IF($Q11=\"\",\"\",IF($S11=0,\"\",Berechnung!EN54))","v":""},{"$f":"IF($Q11=\"\",\"\",IF($S11=0,\"\",Berechnung!EO54))","v":""},{"$f":"IF($Q11=\"\",\"\",IF($S11=0,\"\",Berechnung!EP54))","v":""},{"$f":"IF($Q11=\"\",\"\",IF($S11=0,\"\",Berechnung!EQ54))","v":""},{"$f":"IF($Q11=\"\",\"\",IF($S11=0,\"\",Berechnung!ER54))","v":""},{"$f":"IF($Q11=\"\",\"\",IF($S11=0,\"\",Berechnung!ES54))","v":""},{"$f":"IF($Q11=\"\",\"\",IF($S11=0,\"\",Berechnung!ET54))","v":""},{"$f":"IF($Q11=\"\",\"\",IF($S11=0,\"\",Berechnung!EU54))","v":""},null,{"$f":"Berechnung!EX54","v":"17"},{"$f":"Berechnung!EY54","v":"SEO"},{"$f":"Berechnung!EZ54","v":1},{"$f":"IF($AC11=\"\",\"\",IF($AE11=0,\"\",Berechnung!FA54))","v":4.5454545454545456E-2},{"$f":"IF($AC11=\"\",\"\",IF($AE11=0,\"\",Berechnung!FB54))","v":0},{"$f":"IF($AC11=\"\",\"\",IF($AE11=0,\"\",Berechnung!FC54))","v":0},{"$f":"IF($AC11=\"\",\"\",IF($AE11=0,\"\",Berechnung!FD54))","v":0},{"$f":"IF($AC11=\"\",\"\",IF($AE11=0,\"\",Berechnung!FE54))","v":0},{"$f":"IF($AC11=\"\",\"\",IF($AE11=0,\"\",Berechnung!FF54))","v":0},{"$f":"IF($AC11=\"\",\"\",IF($AE11=0,\"\",Berechnung!FG54))","v":0},{"$f":"IF($AC11=\"\",\"\",IF($AE11=0,\"\",Berechnung!FH54))","v":0},null,{"$f":"Berechnung!FK54","v":"1"},{"$f":"Berechnung!FL54","v":"SONG"},{"$f":"Berechnung!FM54","v":0},{"$f":"IF($AO11=\"\",\"\",IF($AQ11=0,\"\",Berechnung!FN54))","v":""},{"$f":"IF($AO11=\"\",\"\",IF($AQ11=0,\"\",Berechnung!FO54))","v":""},{"$f":"IF($AO11=\"\",\"\",IF($AQ11=0,\"\",Berechnung!FP54))","v":""},{"$f":"IF($AO11=\"\",\"\",IF($AQ11=0,\"\",Berechnung!FQ54))","v":""},{"$f":"IF($AO11=\"\",\"\",IF($AQ11=0,\"\",Berechnung!FR54))","v":""},{"$f":"IF($AO11=\"\",\"\",IF($AQ11=0,\"\",Berechnung!FS54))","v":""},{"$f":"IF($AO11=\"\",\"\",IF($AQ11=0,\"\",Berechnung!FT54))","v":""},{"$f":"IF($AO11=\"\",\"\",IF($AQ11=0,\"\",Berechnung!FU54))","v":""}]
[null,{"$f":"Berechnung!DV55","v":"4"},{"$f":"Berechnung!DW55","v":"SHIN"},null,{"$f":"Berechnung!DX55","v":0},{"$f":"IF($B12=\"\",\"\",IF($E12=0,\"\",Berechnung!DY55))","v":""},{"$f":"IF($B12=\"\",\"\",IF($E12=0,\"\",Berechnung!DZ55))","v":""},{"$f":"IF($B12=\"\",\"\",IF($E12=0,\"\",Berechnung!EA55))","v":""},{"$f":"IF($B12=\"\",\"\",IF($E12=0,\"\",Berechnung!EB55))","v":""},{"$f":"IF($B12=\"\",\"\",IF($E12=0,\"\",Berechnung!EC55))","v":""},{"$f":"IF($B12=\"\",\"\",IF($E12=0,\"\",Berechnung!ED55))","v":""},{"$f":"IF($B12=\"\",\"\",IF($E12=0,\"\",Berechnung!EE55))","v":""},{"$f":"IF($B12=\"\",\"\",IF($E12=0,\"\",Berechnung!EF55))","v":""},{"$f":"IF($B12=\"\",\"\",IF($E12=0,\"\",Berechnung!EG55))","v":""},{"$f":"IF($B12=\"\",\"\",IF($E12=0,\"\",Berechnung!EH55))","v":""},null,{"$f":"Berechnung!EK55","v":"8"},{"$f":"Berechnung!EL55","v":"PARK"},{"$f":"Berechnung!EM55","v":0},{"$f":"IF($Q12=\"\",\"\",IF($S12=0,\"\",Berechnung!EN55))","v":""},{"$f":"IF($Q12=\"\",\"\",IF($S12=0,\"\",Berechnung!EO55))","v":""},{"$f":"IF($Q12=\"\",\"\",IF($S12=0,\"\",Berechnung!EP55))","v":""},{"$f":"IF($Q12=\"\",\"\",IF($S12=0,\"\",Berechnung!EQ55))","v":""},{"$f":"IF($Q12=\"\",\"\",IF($S12=0,\"\",Berechnung!ER55))","v":""},{"$f":"IF($Q12=\"\",\"\",IF($S12=0,\"\",Berechnung!ES55))","v":""},{"$f":"IF($Q12=\"\",\"\",IF($S12=0,\"\",Berechnung!ET55))","v":""},{"$f":"IF($Q12=\"\",\"\",IF($S12=0,\"\",Berechnung!EU55))","v":""},null,{"$f":"Berechnung!EX55","v":"4"},{"$f":"Berechnung!EY55","v":"SHIN"},{"$f":"Berechnung!EZ55","v":0},{"$f":"IF($AC12=\"\",\"\",IF($AE12=0,\"\",Berechnung!FA55))","v":""},{"$f":"IF($AC12=\"\",\"\",IF($AE12=0,\"\",Berechnung!FB55))","v":""},{"$f":"IF($AC12=\"\",\"\",IF($AE12=0,\"\",Berechnung!FC55))","v":""},{"$f":"IF($AC12=\"\",\"\",IF($AE12=0,\"\",Berechnung!FD55))","v":""},{"$f":"IF($AC12=\"\",\"\",IF($AE12=0,\"\",Berechnung!FE55))","v":""},{"$f":"IF($AC12=\"\",\"\",IF($AE12=0,\"\",Berechnung!FF55))","v":""},{"$f":"IF($AC12=\"\",\"\",IF($AE12=0,\"\",Berechnung!FG55))","v":""},{"$f":"IF($AC12=\"\",\"\",IF($AE12=0,\"\",Berechnung!FH55))","v":""},null,{"$f":"Berechnung!FK55","v":"4"},{"$f":"Berechnung!FL55","v":"SHIN"},{"$f":"Berechnung!FM55","v":0},{"$f":"IF($AO12=\"\",\"\",IF($AQ12=0,\"\",Berechnung!FN55))","v":""},{"$f":"IF($AO12=\"\",\"\",IF($AQ12=0,\"\",Berechnung!FO55))","v":""},{"$f":"IF($AO12=\"\",\"\",IF($AQ12=0,\"\",Berechnung!FP55))","v":""},{"$f":"IF($AO12=\"\",\"\",IF($AQ12=0,\"\",Berechnung!FQ55))","v":""},{"$f":"IF($AO12=\"\",\"\",IF($AQ12=0,\"\",Berechnung!FR55))","v":""},{"$f":"IF($AO12=\"\",\"\",IF($AQ12=0,\"\",Berechnung!FS55))","v":""},{"$f":"IF($AO12=\"\",\"\",IF($AQ12=0,\"\",Berechnung!FT55))","v":""},{"$f":"IF($AO12=\"\",\"\",IF($AQ12=0,\"\",Berechnung!FU55))","v":""}]
[null,{"$f":"Berechnung!DV56","v":"6"},{"$f":"Berechnung!DW56","v":"LEE"},null,{"$f":"Berechnung!DX56","v":0},{"$f":"IF($B13=\"\",\"\",IF($E13=0,\"\",Berechnung!DY56))","v":""},{"$f":"IF($B13=\"\",\"\",IF($E13=0,\"\",Berechnung!DZ56))","v":""},{"$f":"IF($B13=\"\",\"\",IF($E13=0,\"\",Berechnung!EA56))","v":""},{"$f":"IF($B13=\"\",\"\",IF($E13=0,\"\",Berechnung!EB56))","v":""},{"$f":"IF($B13=\"\",\"\",IF($E13=0,\"\",Berechnung!EC56))","v":""},{"$f":"IF($B13=\"\",\"\",IF($E13=0,\"\",Berechnung!ED56))","v":""},{"$f":"IF($B13=\"\",\"\",IF($E13=0,\"\",Berechnung!EE56))","v":""},{"$f":"IF($B13=\"\",\"\",IF($E13=0,\"\",Berechnung!EF56))","v":""},{"$f":"IF($B13=\"\",\"\",IF($E13=0,\"\",Berechnung!EG56))","v":""},{"$f":"IF($B13=\"\",\"\",IF($E13=0,\"\",Berechnung!EH56))","v":""},null,{"$f":"Berechnung!EK56","v":"11"},{"$f":"Berechnung!EL56","v":"CHOI"},{"$f":"Berechnung!EM56","v":0},{"$f":"IF($Q13=\"\",\"\",IF($S13=0,\"\",Berechnung!EN56))","v":""},{"$f":"IF($Q13=\"\",\"\",IF($S13=0,\"\",Berechnung!EO56))","v":""},{"$f":"IF($Q13=\"\",\"\",IF($S13=0,\"\",Berechnung!EP56))","v":""},{"$f":"IF($Q13=\"\",\"\",IF($S13=0,\"\",Berechnung!EQ56))","v":""},{"$f":"IF($Q13=\"\",\"\",IF($S13=0,\"\",Berechnung!ER56))","v":""},{"$f":"IF($Q13=\"\",\"\",IF($S13=0,\"\",Berechnung!ES56))","v":""},{"$f":"IF($Q13=\"\",\"\",IF($S13=0,\"\",Berechnung!ET56))","v":""},{"$f":"IF($Q13=\"\",\"\",IF($S13=0,\"\",Berechnung!EU56))","v":""},null,{"$f":"Berechnung!EX56","v":"6"},{"$f":"Berechnung!EY56","v":"LEE"},{"$f":"Berechnung!EZ56","v":0},{"$f":"IF($AC13=\"\",\"\",IF($AE13=0,\"\",Berechnung!FA56))","v":""},{"$f":"IF($AC13=\"\",\"\",IF($AE13=0,\"\",Berechnung!FB56))","v":""},{"$f":"IF($AC13=\"\",\"\",IF($AE13=0,\"\",Berechnung!FC56))","v":""},{"$f":"IF($AC13=\"\",\"\",IF($AE13=0,\"\",Berechnung!FD56))","v":""},{"$f":"IF($AC13=\"\",\"\",IF($AE13=0,\"\",Berechnung!FE56))","v":""},{"$f":"IF($AC13=\"\",\"\",IF($AE13=0,\"\",Berechnung!FF56))","v":""},{"$f":"IF($AC13=\"\",\"\",IF($AE13=0,\"\",Berechnung!FG56))","v":""},{"$f":"IF($AC13=\"\",\"\",IF($AE13=0,\"\",Berechnung!FH56))","v":""},null,{"$f":"Berechnung!FK56","v":"6"},{"$f":"Berechnung!FL56","v":"LEE"},{"$f":"Berechnung!FM56","v":0},{"$f":"IF($AO13=\"\",\"\",IF($AQ13=0,\"\",Berechnung!FN56))","v":""},{"$f":"IF($AO13=\"\",\"\",IF($AQ13=0,\"\",Berechnung!FO56))","v":""},{"$f":"IF($AO13=\"\",\"\",IF($AQ13=0,\"\",Berechnung!FP56))","v":""},{"$f":"IF($AO13=\"\",\"\",IF($AQ13=0,\"\",Berechnung!FQ56))","v":""},{"$f":"IF($AO13=\"\",\"\",IF($AQ13=0,\"\",Berechnung!FR56))","v":""},{"$f":"IF($AO13=\"\",\"\",IF($AQ13=0,\"\",Berechnung!FS56))","v":""},{"$f":"IF($AO13=\"\",\"\",IF($AQ13=0,\"\",Berechnung!FT56))","v":""},{"$f":"IF($AO13=\"\",\"\",IF($AQ13=0,\"\",Berechnung!FU56))","v":""}]
[null,{"$f":"Berechnung!DV57","v":"8"},{"$f":"Berechnung!DW57","v":"PARK"},null,{"$f":"Berechnung!DX57","v":0},{"$f":"IF($B14=\"\",\"\",IF($E14=0,\"\",Berechnung!DY57))","v":""},{"$f":"IF($B14=\"\",\"\",IF($E14=0,\"\",Berechnung!DZ57))","v":""},{"$f":"IF($B14=\"\",\"\",IF($E14=0,\"\",Berechnung!EA57))","v":""},{"$f":"IF($B14=\"\",\"\",IF($E14=0,\"\",Berechnung!EB57))","v":""},{"$f":"IF($B14=\"\",\"\",IF($E14=0,\"\",Berechnung!EC57))","v":""},{"$f":"IF($B14=\"\",\"\",IF($E14=0,\"\",Berechnung!ED57))","v":""},{"$f":"IF($B14=\"\",\"\",IF($E14=0,\"\",Berechnung!EE57))","v":""},{"$f":"IF($B14=\"\",\"\",IF($E14=0,\"\",Berechnung!EF57))","v":""},{"$f":"IF($B14=\"\",\"\",IF($E14=0,\"\",Berechnung!EG57))","v":""},{"$f":"IF($B14=\"\",\"\",IF($E14=0,\"\",Berechnung!EH57))","v":""},null,{"$f":"Berechnung!EK57","v":"12"},{"$f":"Berechnung!EL57","v":"JEON"},{"$f":"Berechnung!EM57","v":0},{"$f":"IF($Q14=\"\",\"\",IF($S14=0,\"\",Berechnung!EN57))","v":""},{"$f":"IF($Q14=\"\",\"\",IF($S14=0,\"\",Berechnung!EO57))","v":""},{"$f":"IF($Q14=\"\",\"\",IF($S14=0,\"\",Berechnung!EP57))","v":""},{"$f":"IF($Q14=\"\",\"\",IF($S14=0,\"\",Berechnung!EQ57))","v":""},{"$f":"IF($Q14=\"\",\"\",IF($S14=0,\"\",Berechnung!ER57))","v":""},{"$f":"IF($Q14=\"\",\"\",IF($S14=0,\"\",Berechnung!ES57))","v":""},{"$f":"IF($Q14=\"\",\"\",IF($S14=0,\"\",Berechnung!ET57))","v":""},{"$f":"IF($Q14=\"\",\"\",IF($S14=0,\"\",Berechnung!EU57))","v":""},null,{"$f":"Berechnung!EX57","v":"8"},{"$f":"Berechnung!EY57","v":"PARK"},{"$f":"Berechnung!EZ57","v":0},{"$f":"IF($AC14=\"\",\"\",IF($AE14=0,\"\",Berechnung!FA57))","v":""},{"$f":"IF($AC14=\"\",\"\",IF($AE14=0,\"\",Berechnung!FB57))","v":""},{"$f":"IF($AC14=\"\",\"\",IF($AE14=0,\"\",Berechnung!FC57))","v":""},{"$f":"IF($AC14=\"\",\"\",IF($AE14=0,\"\",Berechnung!FD57))","v":""},{"$f":"IF($AC14=\"\",\"\",IF($AE14=0,\"\",Berechnung!FE57))","v":""},{"$f":"IF($AC14=\"\",\"\",IF($AE14=0,\"\",Berechnung!FF57))","v":""},{"$f":"IF($AC14=\"\",\"\",IF($AE14=0,\"\",Berechnung!FG57))","v":""},{"$f":"IF($AC14=\"\",\"\",IF($AE14=0,\"\",Berechnung!FH57))","v":""},null,{"$f":"Berechnung!FK57","v":"8"},{"$f":"Berechnung!FL57","v":"PARK"},{"$f":"Berechnung!FM57","v":0},{"$f":"IF($AO14=\"\",\"\",IF($AQ14=0,\"\",Berechnung!FN57))","v":""},{"$f":"IF($AO14=\"\",\"\",IF($AQ14=0,\"\",Berechnung!FO57))","v":""},{"$f":"IF($AO14=\"\",\"\",IF($AQ14=0,\"\",Berechnung!FP57))","v":""},{"$f":"IF($AO14=\"\",\"\",IF($AQ14=0,\"\",Berechnung!FQ57))","v":""},{"$f":"IF($AO14=\"\",\"\",IF($AQ14=0,\"\",Berechnung!FR57))","v":""},{"$f":"IF($AO14=\"\",\"\",IF($AQ14=0,\"\",Berechnung!FS57))","v":""},{"$f":"IF($AO14=\"\",\"\",IF($AQ14=0,\"\",Berechnung!FT57))","v":""},{"$f":"IF($AO14=\"\",\"\",IF($AQ14=0,\"\",Berechnung!FU57))","v":""}]
[null,{"$f":"Berechnung!DV58","v":"11"},{"$f":"Berechnung!DW58","v":"CHOI"},null,{"$f":"Berechnung!DX58","v":0},{"$f":"IF($B15=\"\",\"\",IF($E15=0,\"\",Berechnung!DY58))","v":""},{"$f":"IF($B15=\"\",\"\",IF($E15=0,\"\",Berechnung!DZ58))","v":""},{"$f":"IF($B15=\"\",\"\",IF($E15=0,\"\",Berechnung!EA58))","v":""},{"$f":"IF($B15=\"\",\"\",IF($E15=0,\"\",Berechnung!EB58))","v":""},{"$f":"IF($B15=\"\",\"\",IF($E15=0,\"\",Berechnung!EC58))","v":""},{"$f":"IF($B15=\"\",\"\",IF($E15=0,\"\",Berechnung!ED58))","v":""},{"$f":"IF($B15=\"\",\"\",IF($E15=0,\"\",Berechnung!EE58))","v":""},{"$f":"IF($B15=\"\",\"\",IF($E15=0,\"\",Berechnung!EF58))","v":""},{"$f":"IF($B15=\"\",\"\",IF($E15=0,\"\",Berechnung!EG58))","v":""},{"$f":"IF($B15=\"\",\"\",IF($E15=0,\"\",Berechnung!EH58))","v":""},null,{"$f":"Berechnung!EK58","v":"14"},{"$f":"Berechnung!EL58","v":"SONG"},{"$f":"Berechnung!EM58","v":0},{"$f":"IF($Q15=\"\",\"\",IF($S15=0,\"\",Berechnung!EN58))","v":""},{"$f":"IF($Q15=\"\",\"\",IF($S15=0,\"\",Berechnung!EO58))","v":""},{"$f":"IF($Q15=\"\",\"\",IF($S15=0,\"\",Berechnung!EP58))","v":""},{"$f":"IF($Q15=\"\",\"\",IF($S15=0,\"\",Berechnung!EQ58))","v":""},{"$f":"IF($Q15=\"\",\"\",IF($S15=0,\"\",Berechnung!ER58))","v":""},{"$f":"IF($Q15=\"\",\"\",IF($S15=0,\"\",Berechnung!ES58))","v":""},{"$f":"IF($Q15=\"\",\"\",IF($S15=0,\"\",Berechnung!ET58))","v":""},{"$f":"IF($Q15=\"\",\"\",IF($S15=0,\"\",Berechnung!EU58))","v":""},null,{"$f":"Berechnung!EX58","v":"11"},{"$f":"Berechnung!EY58","v":"CHOI"},{"$f":"Berechnung!EZ58","v":0},{"$f":"IF($AC15=\"\",\"\",IF($AE15=0,\"\",Berechnung!FA58))","v":""},{"$f":"IF($AC15=\"\",\"\",IF($AE15=0,\"\",Berechnung!FB58))","v":""},{"$f":"IF($AC15=\"\",\"\",IF($AE15=0,\"\",Berechnung!FC58))","v":""},{"$f":"IF($AC15=\"\",\"\",IF($AE15=0,\"\",Berechnung!FD58))","v":""},{"$f":"IF($AC15=\"\",\"\",IF($AE15=0,\"\",Berechnung!FE58))","v":""},{"$f":"IF($AC15=\"\",\"\",IF($AE15=0,\"\",Berechnung!FF58))","v":""},{"$f":"IF($AC15=\"\",\"\",IF($AE15=0,\"\",Berechnung!FG58))","v":""},{"$f":"IF($AC15=\"\",\"\",IF($AE15=0,\"\",Berechnung!FH58))","v":""},null,{"$f":"Berechnung!FK58","v":"11"},{"$f":"Berechnung!FL58","v":"CHOI"},{"$f":"Berechnung!FM58","v":0},{"$f":"IF($AO15=\"\",\"\",IF($AQ15=0,\"\",Berechnung!FN58))","v":""},{"$f":"IF($AO15=\"\",\"\",IF($AQ15=0,\"\",Berechnung!FO58))","v":""},{"$f":"IF($AO15=\"\",\"\",IF($AQ15=0,\"\",Berechnung!FP58))","v":""},{"$f":"IF($AO15=\"\",\"\",IF($AQ15=0,\"\",Berechnung!FQ58))","v":""},{"$f":"IF($AO15=\"\",\"\",IF($AQ15=0,\"\",Berechnung!FR58))","v":""},{"$f":"IF($AO15=\"\",\"\",IF($AQ15=0,\"\",Berechnung!FS58))","v":""},{"$f":"IF($AO15=\"\",\"\",IF($AQ15=0,\"\",Berechnung!FT58))","v":""},{"$f":"IF($AO15=\"\",\"\",IF($AQ15=0,\"\",Berechnung!FU58))","v":""}]
[null,{"$f":"Berechnung!DV59","v":"12"},{"$f":"Berechnung!DW59","v":"JEON"},null,{"$f":"Berechnung!DX59","v":0},{"$f":"IF($B16=\"\",\"\",IF($E16=0,\"\",Berechnung!DY59))","v":""},{"$f":"IF($B16=\"\",\"\",IF($E16=0,\"\",Berechnung!DZ59))","v":""},{"$f":"IF($B16=\"\",\"\",IF($E16=0,\"\",Berechnung!EA59))","v":""},{"$f":"IF($B16=\"\",\"\",IF($E16=0,\"\",Berechnung!EB59))","v":""},{"$f":"IF($B16=\"\",\"\",IF($E16=0,\"\",Berechnung!EC59))","v":""},{"$f":"IF($B16=\"\",\"\",IF($E16=0,\"\",Berechnung!ED59))","v":""},{"$f":"IF($B16=\"\",\"\",IF($E16=0,\"\",Berechnung!EE59))","v":""},{"$f":"IF($B16=\"\",\"\",IF($E16=0,\"\",Berechnung!EF59))","v":""},{"$f":"IF($B16=\"\",\"\",IF($E16=0,\"\",Berechnung!EG59))","v":""},{"$f":"IF($B16=\"\",\"\",IF($E16=0,\"\",Berechnung!EH59))","v":""},null,{"$f":"Berechnung!EK59","v":"16"},{"$f":"Berechnung!EL59","v":"CHOI"},{"$f":"Berechnung!EM59","v":0},{"$f":"IF($Q16=\"\",\"\",IF($S16=0,\"\",Berechnung!EN59))","v":""},{"$f":"IF($Q16=\"\",\"\",IF($S16=0,\"\",Berechnung!EO59))","v":""},{"$f":"IF($Q16=\"\",\"\",IF($S16=0,\"\",Berechnung!EP59))","v":""},{"$f":"IF($Q16=\"\",\"\",IF($S16=0,\"\",Berechnung!EQ59))","v":""},{"$f":"IF($Q16=\"\",\"\",IF($S16=0,\"\",Berechnung!ER59))","v":""},{"$f":"IF($Q16=\"\",\"\",IF($S16=0,\"\",Berechnung!ES59))","v":""},{"$f":"IF($Q16=\"\",\"\",IF($S16=0,\"\",Berechnung!ET59))","v":""},{"$f":"IF($Q16=\"\",\"\",IF($S16=0,\"\",Berechnung!EU59))","v":""},null,{"$f":"Berechnung!EX59","v":"12"},{"$f":"Berechnung!EY59","v":"JEON"},{"$f":"Berechnung!EZ59","v":0},{"$f":"IF($AC16=\"\",\"\",IF($AE16=0,\"\",Berechnung!FA59))","v":""},{"$f":"IF($AC16=\"\",\"\",IF($AE16=0,\"\",Berechnung!FB59))","v":""},{"$f":"IF($AC16=\"\",\"\",IF($AE16=0,\"\",Berechnung!FC59))","v":""},{"$f":"IF($AC16=\"\",\"\",IF($AE16=0,\"\",Berechnung!FD59))","v":""},{"$f":"IF($AC16=\"\",\"\",IF($AE16=0,\"\",Berechnung!FE59))","v":""},{"$f":"IF($AC16=\"\",\"\",IF($AE16=0,\"\",Berechnung!FF59))","v":""},{"$f":"IF($AC16=\"\",\"\",IF($AE16=0,\"\",Berechnung!FG59))","v":""},{"$f":"IF($AC16=\"\",\"\",IF($AE16=0,\"\",Berechnung!FH59))","v":""},null,{"$f":"Berechnung!FK59","v":"12"},{"$f":"Berechnung!FL59","v":"JEON"},{"$f":"Berechnung!FM59","v":0},{"$f":"IF($AO16=\"\",\"\",IF($AQ16=0,\"\",Berechnung!FN59))","v":""},{"$f":"IF($AO16=\"\",\"\",IF($AQ16=0,\"\",Berechnung!FO59))","v":""},{"$f":"IF($AO16=\"\",\"\",IF($AQ16=0,\"\",Berechnung!FP59))","v":""},{"$f":"IF($AO16=\"\",\"\",IF($AQ16=0,\"\",Berechnung!FQ59))","v":""},{"$f":"IF($AO16=\"\",\"\",IF($AQ16=0,\"\",Berechnung!FR59))","v":""},{"$f":"IF($AO16=\"\",\"\",IF($AQ16=0,\"\",Berechnung!FS59))","v":""},{"$f":"IF($AO16=\"\",\"\",IF($AQ16=0,\"\",Berechnung!FT59))","v":""},{"$f":"IF($AO16=\"\",\"\",IF($AQ16=0,\"\",Berechnung!FU59))","v":""}]
[null,{"$f":"Berechnung!DV60","v":"16"},{"$f":"Berechnung!DW60","v":"CHOI"},null,{"$f":"Berechnung!DX60","v":0},{"$f":"IF($B17=\"\",\"\",IF($E17=0,\"\",Berechnung!DY60))","v":""},{"$f":"IF($B17=\"\",\"\",IF($E17=0,\"\",Berechnung!DZ60))","v":""},{"$f":"IF($B17=\"\",\"\",IF($E17=0,\"\",Berechnung!EA60))","v":""},{"$f":"IF($B17=\"\",\"\",IF($E17=0,\"\",Berechnung!EB60))","v":""},{"$f":"IF($B17=\"\",\"\",IF($E17=0,\"\",Berechnung!EC60))","v":""},{"$f":"IF($B17=\"\",\"\",IF($E17=0,\"\",Berechnung!ED60))","v":""},{"$f":"IF($B17=\"\",\"\",IF($E17=0,\"\",Berechnung!EE60))","v":""},{"$f":"IF($B17=\"\",\"\",IF($E17=0,\"\",Berechnung!EF60))","v":""},{"$f":"IF($B17=\"\",\"\",IF($E17=0,\"\",Berechnung!EG60))","v":""},{"$f":"IF($B17=\"\",\"\",IF($E17=0,\"\",Berechnung!EH60))","v":""},null,{"$f":"Berechnung!EK60","v":"17"},{"$f":"Berechnung!EL60","v":"SEO"},{"$f":"Berechnung!EM60","v":0},{"$f":"IF($Q17=\"\",\"\",IF($S17=0,\"\",Berechnung!EN60))","v":""},{"$f":"IF($Q17=\"\",\"\",IF($S17=0,\"\",Berechnung!EO60))","v":""},{"$f":"IF($Q17=\"\",\"\",IF($S17=0,\"\",Berechnung!EP60))","v":""},{"$f":"IF($Q17=\"\",\"\",IF($S17=0,\"\",Berechnung!EQ60))","v":""},{"$f":"IF($Q17=\"\",\"\",IF($S17=0,\"\",Berechnung!ER60))","v":""},{"$f":"IF($Q17=\"\",\"\",IF($S17=0,\"\",Berechnung!ES60))","v":""},{"$f":"IF($Q17=\"\",\"\",IF($S17=0,\"\",Berechnung!ET60))","v":""},{"$f":"IF($Q17=\"\",\"\",IF($S17=0,\"\",Berechnung!EU60))","v":""},null,{"$f":"Berechnung!EX60","v":"16"},{"$f":"Berechnung!EY60","v":"CHOI"},{"$f":"Berechnung!EZ60","v":0},{"$f":"IF($AC17=\"\",\"\",IF($AE17=0,\"\",Berechnung!FA60))","v":""},{"$f":"IF($AC17=\"\",\"\",IF($AE17=0,\"\",Berechnung!FB60))","v":""},{"$f":"IF($AC17=\"\",\"\",IF($AE17=0,\"\",Berechnung!FC60))","v":""},{"$f":"IF($AC17=\"\",\"\",IF($AE17=0,\"\",Berechnung!FD60))","v":""},{"$f":"IF($AC17=\"\",\"\",IF($AE17=0,\"\",Berechnung!FE60))","v":""},{"$f":"IF($AC17=\"\",\"\",IF($AE17=0,\"\",Berechnung!FF60))","v":""},{"$f":"IF($AC17=\"\",\"\",IF($AE17=0,\"\",Berechnung!FG60))","v":""},{"$f":"IF($AC17=\"\",\"\",IF($AE17=0,\"\",Berechnung!FH60))","v":""},null,{"$f":"Berechnung!FK60","v":"16"},{"$f":"Berechnung!FL60","v":"CHOI"},{"$f":"Berechnung!FM60","v":0},{"$f":"IF($AO17=\"\",\"\",IF($AQ17=0,\"\",Berechnung!FN60))","v":""},{"$f":"IF($AO17=\"\",\"\",IF($AQ17=0,\"\",Berechnung!FO60))","v":""},{"$f":"IF($AO17=\"\",\"\",IF($AQ17=0,\"\",Berechnung!FP60))","v":""},{"$f":"IF($AO17=\"\",\"\",IF($AQ17=0,\"\",Berechnung!FQ60))","v":""},{"$f":"IF($AO17=\"\",\"\",IF($AQ17=0,\"\",Berechnung!FR60))","v":""},{"$f":"IF($AO17=\"\",\"\",IF($AQ17=0,\"\",Berechnung!FS60))","v":""},{"$f":"IF($AO17=\"\",\"\",IF($AQ17=0,\"\",Berechnung!FT60))","v":""},{"$f":"IF($AO17=\"\",\"\",IF($AQ17=0,\"\",Berechnung!FU60))","v":""}]
[null,{"$f":"Berechnung!DV61","v":"20"},{"$f":"Berechnung!DW61","v":"JI"},null,{"$f":"Berechnung!DX61","v":0},{"$f":"IF($B18=\"\",\"\",IF($E18=0,\"\",Berechnung!DY61))","v":""},{"$f":"IF($B18=\"\",\"\",IF($E18=0,\"\",Berechnung!DZ61))","v":""},{"$f":"IF($B18=\"\",\"\",IF($E18=0,\"\",Berechnung!EA61))","v":""},{"$f":"IF($B18=\"\",\"\",IF($E18=0,\"\",Berechnung!EB61))","v":""},{"$f":"IF($B18=\"\",\"\",IF($E18=0,\"\",Berechnung!EC61))","v":""},{"$f":"IF($B18=\"\",\"\",IF($E18=0,\"\",Berechnung!ED61))","v":""},{"$f":"IF($B18=\"\",\"\",IF($E18=0,\"\",Berechnung!EE61))","v":""},{"$f":"IF($B18=\"\",\"\",IF($E18=0,\"\",Berechnung!EF61))","v":""},{"$f":"IF($B18=\"\",\"\",IF($E18=0,\"\",Berechnung!EG61))","v":""},{"$f":"IF($B18=\"\",\"\",IF($E18=0,\"\",Berechnung!EH61))","v":""},null,{"$f":"Berechnung!EK61","v":"20"},{"$f":"Berechnung!EL61","v":"JI"},{"$f":"Berechnung!EM61","v":0},{"$f":"IF($Q18=\"\",\"\",IF($S18=0,\"\",Berechnung!EN61))","v":""},{"$f":"IF($Q18=\"\",\"\",IF($S18=0,\"\",Berechnung!EO61))","v":""},{"$f":"IF($Q18=\"\",\"\",IF($S18=0,\"\",Berechnung!EP61))","v":""},{"$f":"IF($Q18=\"\",\"\",IF($S18=0,\"\",Berechnung!EQ61))","v":""},{"$f":"IF($Q18=\"\",\"\",IF($S18=0,\"\",Berechnung!ER61))","v":""},{"$f":"IF($Q18=\"\",\"\",IF($S18=0,\"\",Berechnung!ES61))","v":""},{"$f":"IF($Q18=\"\",\"\",IF($S18=0,\"\",Berechnung!ET61))","v":""},{"$f":"IF($Q18=\"\",\"\",IF($S18=0,\"\",Berechnung!EU61))","v":""},null,{"$f":"Berechnung!EX61","v":"20"},{"$f":"Berechnung!EY61","v":"JI"},{"$f":"Berechnung!EZ61","v":0},{"$f":"IF($AC18=\"\",\"\",IF($AE18=0,\"\",Berechnung!FA61))","v":""},{"$f":"IF($AC18=\"\",\"\",IF($AE18=0,\"\",Berechnung!FB61))","v":""},{"$f":"IF($AC18=\"\",\"\",IF($AE18=0,\"\",Berechnung!FC61))","v":""},{"$f":"IF($AC18=\"\",\"\",IF($AE18=0,\"\",Berechnung!FD61))","v":""},{"$f":"IF($AC18=\"\",\"\",IF($AE18=0,\"\",Berechnung!FE61))","v":""},{"$f":"IF($AC18=\"\",\"\",IF($AE18=0,\"\",Berechnung!FF61))","v":""},{"$f":"IF($AC18=\"\",\"\",IF($AE18=0,\"\",Berechnung!FG61))","v":""},{"$f":"IF($AC18=\"\",\"\",IF($AE18=0,\"\",Berechnung!FH61))","v":""},null,{"$f":"Berechnung!FK61","v":"20"},{"$f":"Berechnung!FL61","v":"JI"},{"$f":"Berechnung!FM61","v":0},{"$f":"IF($AO18=\"\",\"\",IF($AQ18=0,\"\",Berechnung!FN61))","v":""},{"$f":"IF($AO18=\"\",\"\",IF($AQ18=0,\"\",Berechnung!FO61))","v":""},{"$f":"IF($AO18=\"\",\"\",IF($AQ18=0,\"\",Berechnung!FP61))","v":""},{"$f":"IF($AO18=\"\",\"\",IF($AQ18=0,\"\",Berechnung!FQ61))","v":""},{"$f":"IF($AO18=\"\",\"\",IF($AQ18=0,\"\",Berechnung!FR61))","v":""},{"$f":"IF($AO18=\"\",\"\",IF($AQ18=0,\"\",Berechnung!FS61))","v":""},{"$f":"IF($AO18=\"\",\"\",IF($AQ18=0,\"\",Berechnung!FT61))","v":""},{"$f":"IF($AO18=\"\",\"\",IF($AQ18=0,\"\",Berechnung!FU61))","v":""}]
[null,{"$f":"Berechnung!DV62","v":"22"},{"$f":"Berechnung!DW62","v":"YOU"},null,{"$f":"Berechnung!DX62","v":0},{"$f":"IF($B19=\"\",\"\",IF($E19=0,\"\",Berechnung!DY62))","v":""},{"$f":"IF($B19=\"\",\"\",IF($E19=0,\"\",Berechnung!DZ62))","v":""},{"$f":"IF($B19=\"\",\"\",IF($E19=0,\"\",Berechnung!EA62))","v":""},{"$f":"IF($B19=\"\",\"\",IF($E19=0,\"\",Berechnung!EB62))","v":""},{"$f":"IF($B19=\"\",\"\",IF($E19=0,\"\",Berechnung!EC62))","v":""},{"$f":"IF($B19=\"\",\"\",IF($E19=0,\"\",Berechnung!ED62))","v":""},{"$f":"IF($B19=\"\",\"\",IF($E19=0,\"\",Berechnung!EE62))","v":""},{"$f":"IF($B19=\"\",\"\",IF($E19=0,\"\",Berechnung!EF62))","v":""},{"$f":"IF($B19=\"\",\"\",IF($E19=0,\"\",Berechnung!EG62))","v":""},{"$f":"IF($B19=\"\",\"\",IF($E19=0,\"\",Berechnung!EH62))","v":""},null,{"$f":"Berechnung!EK62","v":"22"},{"$f":"Berechnung!EL62","v":"YOU"},{"$f":"Berechnung!EM62","v":0},{"$f":"IF($Q19=\"\",\"\",IF($S19=0,\"\",Berechnung!EN62))","v":""},{"$f":"IF($Q19=\"\",\"\",IF($S19=0,\"\",Berechnung!EO62))","v":""},{"$f":"IF($Q19=\"\",\"\",IF($S19=0,\"\",Berechnung!EP62))","v":""},{"$f":"IF($Q19=\"\",\"\",IF($S19=0,\"\",Berechnung!EQ62))","v":""},{"$f":"IF($Q19=\"\",\"\",IF($S19=0,\"\",Berechnung!ER62))","v":""},{"$f":"IF($Q19=\"\",\"\",IF($S19=0,\"\",Berechnung!ES62))","v":""},{"$f":"IF($Q19=\"\",\"\",IF($S19=0,\"\",Berechnung!ET62))","v":""},{"$f":"IF($Q19=\"\",\"\",IF($S19=0,\"\",Berechnung!EU62))","v":""},null,{"$f":"Berechnung!EX62","v":"22"},{"$f":"Berechnung!EY62","v":"YOU"},{"$f":"Berechnung!EZ62","v":0},{"$f":"IF($AC19=\"\",\"\",IF($AE19=0,\"\",Berechnung!FA62))","v":""},{"$f":"IF($AC19=\"\",\"\",IF($AE19=0,\"\",Berechnung!FB62))","v":""},{"$f":"IF($AC19=\"\",\"\",IF($AE19=0,\"\",Berechnung!FC62))","v":""},{"$f":"IF($AC19=\"\",\"\",IF($AE19=0,\"\",Berechnung!FD62))","v":""},{"$f":"IF($AC19=\"\",\"\",IF($AE19=0,\"\",Berechnung!FE62))","v":""},{"$f":"IF($AC19=\"\",\"\",IF($AE19=0,\"\",Berechnung!FF62))","v":""},{"$f":"IF($AC19=\"\",\"\",IF($AE19=0,\"\",Berechnung!FG62))","v":""},{"$f":"IF($AC19=\"\",\"\",IF($AE19=0,\"\",Berechnung!FH62))","v":""},null,{"$f":"Berechnung!FK62","v":"22"},{"$f":"Berechnung!FL62","v":"YOU"},{"$f":"Berechnung!FM62","v":0},{"$f":"IF($AO19=\"\",\"\",IF($AQ19=0,\"\",Berechnung!FN62))","v":""},{"$f":"IF($AO19=\"\",\"\",IF($AQ19=0,\"\",Berechnung!FO62))","v":""},{"$f":"IF($AO19=\"\",\"\",IF($AQ19=0,\"\",Berechnung!FP62))","v":""},{"$f":"IF($AO19=\"\",\"\",IF($AQ19=0,\"\",Berechnung!FQ62))","v":""},{"$f":"IF($AO19=\"\",\"\",IF($AQ19=0,\"\",Berechnung!FR62))","v":""},{"$f":"IF($AO19=\"\",\"\",IF($AQ19=0,\"\",Berechnung!FS62))","v":""},{"$f":"IF($AO19=\"\",\"\",IF($AQ19=0,\"\",Berechnung!FT62))","v":""},{"$f":"IF($AO19=\"\",\"\",IF($AQ19=0,\"\",Berechnung!FU62))","v":""}]
[null,{"$f":"Berechnung!DV63","v":"25"},{"$f":"Berechnung!DW63","v":"OH"},null,{"$f":"Berechnung!DX63","v":0},{"$f":"IF($B20=\"\",\"\",IF($E20=0,\"\",Berechnung!DY63))","v":""},{"$f":"IF($B20=\"\",\"\",IF($E20=0,\"\",Berechnung!DZ63))","v":""},{"$f":"IF($B20=\"\",\"\",IF($E20=0,\"\",Berechnung!EA63))","v":""},{"$f":"IF($B20=\"\",\"\",IF($E20=0,\"\",Berechnung!EB63))","v":""},{"$f":"IF($B20=\"\",\"\",IF($E20=0,\"\",Berechnung!EC63))","v":""},{"$f":"IF($B20=\"\",\"\",IF($E20=0,\"\",Berechnung!ED63))","v":""},{"$f":"IF($B20=\"\",\"\",IF($E20=0,\"\",Berechnung!EE63))","v":""},{"$f":"IF($B20=\"\",\"\",IF($E20=0,\"\",Berechnung!EF63))","v":""},{"$f":"IF($B20=\"\",\"\",IF($E20=0,\"\",Berechnung!EG63))","v":""},{"$f":"IF($B20=\"\",\"\",IF($E20=0,\"\",Berechnung!EH63))","v":""},null,{"$f":"Berechnung!EK63","v":"25"},{"$f":"Berechnung!EL63","v":"OH"},{"$f":"Berechnung!EM63","v":0},{"$f":"IF($Q20=\"\",\"\",IF($S20=0,\"\",Berechnung!EN63))","v":""},{"$f":"IF($Q20=\"\",\"\",IF($S20=0,\"\",Berechnung!EO63))","v":""},{"$f":"IF($Q20=\"\",\"\",IF($S20=0,\"\",Berechnung!EP63))","v":""},{"$f":"IF($Q20=\"\",\"\",IF($S20=0,\"\",Berechnung!EQ63))","v":""},{"$f":"IF($Q20=\"\",\"\",IF($S20=0,\"\",Berechnung!ER63))","v":""},{"$f":"IF($Q20=\"\",\"\",IF($S20=0,\"\",Berechnung!ES63))","v":""},{"$f":"IF($Q20=\"\",\"\",IF($S20=0,\"\",Berechnung!ET63))","v":""},{"$f":"IF($Q20=\"\",\"\",IF($S20=0,\"\",Berechnung!EU63))","v":""},null,{"$f":"Berechnung!EX63","v":"25"},{"$f":"Berechnung!EY63","v":"OH"},{"$f":"Berechnung!EZ63","v":0},{"$f":"IF($AC20=\"\",\"\",IF($AE20=0,\"\",Berechnung!FA63))","v":""},{"$f":"IF($AC20=\"\",\"\",IF($AE20=0,\"\",Berechnung!FB63))","v":""},{"$f":"IF($AC20=\"\",\"\",IF($AE20=0,\"\",Berechnung!FC63))","v":""},{"$f":"IF($AC20=\"\",\"\",IF($AE20=0,\"\",Berechnung!FD63))","v":""},{"$f":"IF($AC20=\"\",\"\",IF($AE20=0,\"\",Berechnung!FE63))","v":""},{"$f":"IF($AC20=\"\",\"\",IF($AE20=0,\"\",Berechnung!FF63))","v":""},{"$f":"IF($AC20=\"\",\"\",IF($AE20=0,\"\",Berechnung!FG63))","v":""},{"$f":"IF($AC20=\"\",\"\",IF($AE20=0,\"\",Berechnung!FH63))","v":""},null,{"$f":"Berechnung!FK63","v":"25"},{"$f":"Berechnung!FL63","v":"OH"},{"$f":"Berechnung!FM63","v":0},{"$f":"IF($AO20=\"\",\"\",IF($AQ20=0,\"\",Berechnung!FN63))","v":""},{"$f":"IF($AO20=\"\",\"\",IF($AQ20=0,\"\",Berechnung!FO63))","v":""},{"$f":"IF($AO20=\"\",\"\",IF($AQ20=0,\"\",Berechnung!FP63))","v":""},{"$f":"IF($AO20=\"\",\"\",IF($AQ20=0,\"\",Berechnung!FQ63))","v":""},{"$f":"IF($AO20=\"\",\"\",IF($AQ20=0,\"\",Berechnung!FR63))","v":""},{"$f":"IF($AO20=\"\",\"\",IF($AQ20=0,\"\",Berechnung!FS63))","v":""},{"$f":"IF($AO20=\"\",\"\",IF($AQ20=0,\"\",Berechnung!FT63))","v":""},{"$f":"IF($AO20=\"\",\"\",IF($AQ20=0,\"\",Berechnung!FU63))","v":""}]
[null,{"$f":"Berechnung!DV64","v":""},{"$f":"Berechnung!DW64","v":""},null,{"$f":"Berechnung!DX64","v":""},{"$f":"IF($B21=\"\",\"\",IF($E21=0,\"\",Berechnung!DY64))","v":""},{"$f":"IF($B21=\"\",\"\",IF($E21=0,\"\",Berechnung!DZ64))","v":""},{"$f":"IF($B21=\"\",\"\",IF($E21=0,\"\",Berechnung!EA64))","v":""},{"$f":"IF($B21=\"\",\"\",IF($E21=0,\"\",Berechnung!EB64))","v":""},{"$f":"IF($B21=\"\",\"\",IF($E21=0,\"\",Berechnung!EC64))","v":""},{"$f":"IF($B21=\"\",\"\",IF($E21=0,\"\",Berechnung!ED64))","v":""},{"$f":"IF($B21=\"\",\"\",IF($E21=0,\"\",Berechnung!EE64))","v":""},{"$f":"IF($B21=\"\",\"\",IF($E21=0,\"\",Berechnung!EF64))","v":""},{"$f":"IF($B21=\"\",\"\",IF($E21=0,\"\",Berechnung!EG64))","v":""},{"$f":"IF($B21=\"\",\"\",IF($E21=0,\"\",Berechnung!EH64))","v":""},null,{"$f":"Berechnung!EK64","v":""},{"$f":"Berechnung!EL64","v":""},{"$f":"Berechnung!EM64","v":""},{"$f":"IF($Q21=\"\",\"\",IF($S21=0,\"\",Berechnung!EN64))","v":""},{"$f":"IF($Q21=\"\",\"\",IF($S21=0,\"\",Berechnung!EO64))","v":""},{"$f":"IF($Q21=\"\",\"\",IF($S21=0,\"\",Berechnung!EP64))","v":""},{"$f":"IF($Q21=\"\",\"\",IF($S21=0,\"\",Berechnung!EQ64))","v":""},{"$f":"IF($Q21=\"\",\"\",IF($S21=0,\"\",Berechnung!ER64))","v":""},{"$f":"IF($Q21=\"\",\"\",IF($S21=0,\"\",Berechnung!ES64))","v":""},{"$f":"IF($Q21=\"\",\"\",IF($S21=0,\"\",Berechnung!ET64))","v":""},{"$f":"IF($Q21=\"\",\"\",IF($S21=0,\"\",Berechnung!EU64))","v":""},null,{"$f":"Berechnung!EX64","v":""},{"$f":"Berechnung!EY64","v":""},{"$f":"Berechnung!EZ64","v":""},{"$f":"IF($AC21=\"\",\"\",IF($AE21=0,\"\",Berechnung!FA64))","v":""},{"$f":"IF($AC21=\"\",\"\",IF($AE21=0,\"\",Berechnung!FB64))","v":""},{"$f":"IF($AC21=\"\",\"\",IF($AE21=0,\"\",Berechnung!FC64))","v":""},{"$f":"IF($AC21=\"\",\"\",IF($AE21=0,\"\",Berechnung!FD64))","v":""},{"$f":"IF($AC21=\"\",\"\",IF($AE21=0,\"\",Berechnung!FE64))","v":""},{"$f":"IF($AC21=\"\",\"\",IF($AE21=0,\"\",Berechnung!FF64))","v":""},{"$f":"IF($AC21=\"\",\"\",IF($AE21=0,\"\",Berechnung!FG64))","v":""},{"$f":"IF($AC21=\"\",\"\",IF($AE21=0,\"\",Berechnung!FH64))","v":""},null,{"$f":"Berechnung!FK64","v":""},{"$f":"Berechnung!FL64","v":""},{"$f":"Berechnung!FM64","v":""},{"$f":"IF($AO21=\"\",\"\",IF($AQ21=0,\"\",Berechnung!FN64))","v":""},{"$f":"IF($AO21=\"\",\"\",IF($AQ21=0,\"\",Berechnung!FO64))","v":""},{"$f":"IF($AO21=\"\",\"\",IF($AQ21=0,\"\",Berechnung!FP64))","v":""},{"$f":"IF($AO21=\"\",\"\",IF($AQ21=0,\"\",Berechnung!FQ64))","v":""},{"$f":"IF($AO21=\"\",\"\",IF($AQ21=0,\"\",Berechnung!FR64))","v":""},{"$f":"IF($AO21=\"\",\"\",IF($AQ21=0,\"\",Berechnung!FS64))","v":""},{"$f":"IF($AO21=\"\",\"\",IF($AQ21=0,\"\",Berechnung!FT64))","v":""},{"$f":"IF($AO21=\"\",\"\",IF($AQ21=0,\"\",Berechnung!FU64))","v":""}]
[null,{"$f":"Berechnung!DV65","v":""},{"$f":"Berechnung!DW65","v":""},null,{"$f":"Berechnung!DX65","v":""},{"$f":"IF($B22=\"\",\"\",IF($E22=0,\"\",Berechnung!DY65))","v":""},{"$f":"IF($B22=\"\",\"\",IF($E22=0,\"\",Berechnung!DZ65))","v":""},{"$f":"IF($B22=\"\",\"\",IF($E22=0,\"\",Berechnung!EA65))","v":""},{"$f":"IF($B22=\"\",\"\",IF($E22=0,\"\",Berechnung!EB65))","v":""},{"$f":"IF($B22=\"\",\"\",IF($E22=0,\"\",Berechnung!EC65))","v":""},{"$f":"IF($B22=\"\",\"\",IF($E22=0,\"\",Berechnung!ED65))","v":""},{"$f":"IF($B22=\"\",\"\",IF($E22=0,\"\",Berechnung!EE65))","v":""},{"$f":"IF($B22=\"\",\"\",IF($E22=0,\"\",Berechnung!EF65))","v":""},{"$f":"IF($B22=\"\",\"\",IF($E22=0,\"\",Berechnung!EG65))","v":""},{"$f":"IF($B22=\"\",\"\",IF($E22=0,\"\",Berechnung!EH65))","v":""},null,{"$f":"Berechnung!EK65","v":""},{"$f":"Berechnung!EL65","v":""},{"$f":"Berechnung!EM65","v":""},{"$f":"IF($Q22=\"\",\"\",IF($S22=0,\"\",Berechnung!EN65))","v":""},{"$f":"IF($Q22=\"\",\"\",IF($S22=0,\"\",Berechnung!EO65))","v":""},{"$f":"IF($Q22=\"\",\"\",IF($S22=0,\"\",Berechnung!EP65))","v":""},{"$f":"IF($Q22=\"\",\"\",IF($S22=0,\"\",Berechnung!EQ65))","v":""},{"$f":"IF($Q22=\"\",\"\",IF($S22=0,\"\",Berechnung!ER65))","v":""},{"$f":"IF($Q22=\"\",\"\",IF($S22=0,\"\",Berechnung!ES65))","v":""},{"$f":"IF($Q22=\"\",\"\",IF($S22=0,\"\",Berechnung!ET65))","v":""},{"$f":"IF($Q22=\"\",\"\",IF($S22=0,\"\",Berechnung!EU65))","v":""},null,{"$f":"Berechnung!EX65","v":""},{"$f":"Berechnung!EY65","v":""},{"$f":"Berechnung!EZ65","v":""},{"$f":"IF($AC22=\"\",\"\",IF($AE22=0,\"\",Berechnung!FA65))","v":""},{"$f":"IF($AC22=\"\",\"\",IF($AE22=0,\"\",Berechnung!FB65))","v":""},{"$f":"IF($AC22=\"\",\"\",IF($AE22=0,\"\",Berechnung!FC65))","v":""},{"$f":"IF($AC22=\"\",\"\",IF($AE22=0,\"\",Berechnung!FD65))","v":""},{"$f":"IF($AC22=\"\",\"\",IF($AE22=0,\"\",Berechnung!FE65))","v":""},{"$f":"IF($AC22=\"\",\"\",IF($AE22=0,\"\",Berechnung!FF65))","v":""},{"$f":"IF($AC22=\"\",\"\",IF($AE22=0,\"\",Berechnung!FG65))","v":""},{"$f":"IF($AC22=\"\",\"\",IF($AE22=0,\"\",Berechnung!FH65))","v":""},null,{"$f":"Berechnung!FK65","v":""},{"$f":"Berechnung!FL65","v":""},{"$f":"Berechnung!FM65","v":""},{"$f":"IF($AO22=\"\",\"\",IF($AQ22=0,\"\",Berechnung!FN65))","v":""},{"$f":"IF($AO22=\"\",\"\",IF($AQ22=0,\"\",Berechnung!FO65))","v":""},{"$f":"IF($AO22=\"\",\"\",IF($AQ22=0,\"\",Berechnung!FP65))","v":""},{"$f":"IF($AO22=\"\",\"\",IF($AQ22=0,\"\",Berechnung!FQ65))","v":""},{"$f":"IF($AO22=\"\",\"\",IF($AQ22=0,\"\",Berechnung!FR65))","v":""},{"$f":"IF($AO22=\"\",\"\",IF($AQ22=0,\"\",Berechnung!FS65))","v":""},{"$f":"IF($AO22=\"\",\"\",IF($AQ22=0,\"\",Berechnung!FT65))","v":""},{"$f":"IF($AO22=\"\",\"\",IF($AQ22=0,\"\",Berechnung!FU65))","v":""}]
[null,{"$f":"Berechnung!DV66","v":""},{"$f":"Berechnung!DW66","v":""},null,{"$f":"Berechnung!DX66","v":""},{"$f":"IF($B23=\"\",\"\",IF($E23=0,\"\",Berechnung!DY66))","v":""},{"$f":"IF($B23=\"\",\"\",IF($E23=0,\"\",Berechnung!DZ66))","v":""},{"$f":"IF($B23=\"\",\"\",IF($E23=0,\"\",Berechnung!EA66))","v":""},{"$f":"IF($B23=\"\",\"\",IF($E23=0,\"\",Berechnung!EB66))","v":""},{"$f":"IF($B23=\"\",\"\",IF($E23=0,\"\",Berechnung!EC66))","v":""},{"$f":"IF($B23=\"\",\"\",IF($E23=0,\"\",Berechnung!ED66))","v":""},{"$f":"IF($B23=\"\",\"\",IF($E23=0,\"\",Berechnung!EE66))","v":""},{"$f":"IF($B23=\"\",\"\",IF($E23=0,\"\",Berechnung!EF66))","v":""},{"$f":"IF($B23=\"\",\"\",IF($E23=0,\"\",Berechnung!EG66))","v":""},{"$f":"IF($B23=\"\",\"\",IF($E23=0,\"\",Berechnung!EH66))","v":""},null,{"$f":"Berechnung!EK66","v":""},{"$f":"Berechnung!EL66","v":""},{"$f":"Berechnung!EM66","v":""},{"$f":"IF($Q23=\"\",\"\",IF($S23=0,\"\",Berechnung!EN66))","v":""},{"$f":"IF($Q23=\"\",\"\",IF($S23=0,\"\",Berechnung!EO66))","v":""},{"$f":"IF($Q23=\"\",\"\",IF($S23=0,\"\",Berechnung!EP66))","v":""},{"$f":"IF($Q23=\"\",\"\",IF($S23=0,\"\",Berechnung!EQ66))","v":""},{"$f":"IF($Q23=\"\",\"\",IF($S23=0,\"\",Berechnung!ER66))","v":""},{"$f":"IF($Q23=\"\",\"\",IF($S23=0,\"\",Berechnung!ES66))","v":""},{"$f":"IF($Q23=\"\",\"\",IF($S23=0,\"\",Berechnung!ET66))","v":""},{"$f":"IF($Q23=\"\",\"\",IF($S23=0,\"\",Berechnung!EU66))","v":""},null,{"$f":"Berechnung!EX66","v":""},{"$f":"Berechnung!EY66","v":""},{"$f":"Berechnung!EZ66","v":""},{"$f":"IF($AC23=\"\",\"\",IF($AE23=0,\"\",Berechnung!FA66))","v":""},{"$f":"IF($AC23=\"\",\"\",IF($AE23=0,\"\",Berechnung!FB66))","v":""},{"$f":"IF($AC23=\"\",\"\",IF($AE23=0,\"\",Berechnung!FC66))","v":""},{"$f":"IF($AC23=\"\",\"\",IF($AE23=0,\"\",Berechnung!FD66))","v":""},{"$f":"IF($AC23=\"\",\"\",IF($AE23=0,\"\",Berechnung!FE66))","v":""},{"$f":"IF($AC23=\"\",\"\",IF($AE23=0,\"\",Berechnung!FF66))","v":""},{"$f":"IF($AC23=\"\",\"\",IF($AE23=0,\"\",Berechnung!FG66))","v":""},{"$f":"IF($AC23=\"\",\"\",IF($AE23=0,\"\",Berechnung!FH66))","v":""},null,{"$f":"Berechnung!FK66","v":""},{"$f":"Berechnung!FL66","v":""},{"$f":"Berechnung!FM66","v":""},{"$f":"IF($AO23=\"\",\"\",IF($AQ23=0,\"\",Berechnung!FN66))","v":""},{"$f":"IF($AO23=\"\",\"\",IF($AQ23=0,\"\",Berechnung!FO66))","v":""},{"$f":"IF($AO23=\"\",\"\",IF($AQ23=0,\"\",Berechnung!FP66))","v":""},{"$f":"IF($AO23=\"\",\"\",IF($AQ23=0,\"\",Berechnung!FQ66))","v":""},{"$f":"IF($AO23=\"\",\"\",IF($AQ23=0,\"\",Berechnung!FR66))","v":""},{"$f":"IF($AO23=\"\",\"\",IF($AQ23=0,\"\",Berechnung!FS66))","v":""},{"$f":"IF($AO23=\"\",\"\",IF($AQ23=0,\"\",Berechnung!FT66))","v":""},{"$f":"IF($AO23=\"\",\"\",IF($AQ23=0,\"\",Berechnung!FU66))","v":""}]
[null,{"$f":"Berechnung!DV67","v":""},{"$f":"Berechnung!DW67","v":""},null,{"$f":"Berechnung!DX67","v":""},{"$f":"IF($B24=\"\",\"\",IF($E24=0,\"\",Berechnung!DY67))","v":""},{"$f":"IF($B24=\"\",\"\",IF($E24=0,\"\",Berechnung!DZ67))","v":""},{"$f":"IF($B24=\"\",\"\",IF($E24=0,\"\",Berechnung!EA67))","v":""},{"$f":"IF($B24=\"\",\"\",IF($E24=0,\"\",Berechnung!EB67))","v":""},{"$f":"IF($B24=\"\",\"\",IF($E24=0,\"\",Berechnung!EC67))","v":""},{"$f":"IF($B24=\"\",\"\",IF($E24=0,\"\",Berechnung!ED67))","v":""},{"$f":"IF($B24=\"\",\"\",IF($E24=0,\"\",Berechnung!EE67))","v":""},{"$f":"IF($B24=\"\",\"\",IF($E24=0,\"\",Berechnung!EF67))","v":""},{"$f":"IF($B24=\"\",\"\",IF($E24=0,\"\",Berechnung!EG67))","v":""},{"$f":"IF($B24=\"\",\"\",IF($E24=0,\"\",Berechnung!EH67))","v":""},null,{"$f":"Berechnung!EK67","v":""},{"$f":"Berechnung!EL67","v":""},{"$f":"Berechnung!EM67","v":""},{"$f":"IF($Q24=\"\",\"\",IF($S24=0,\"\",Berechnung!EN67))","v":""},{"$f":"IF($Q24=\"\",\"\",IF($S24=0,\"\",Berechnung!EO67))","v":""},{"$f":"IF($Q24=\"\",\"\",IF($S24=0,\"\",Berechnung!EP67))","v":""},{"$f":"IF($Q24=\"\",\"\",IF($S24=0,\"\",Berechnung!EQ67))","v":""},{"$f":"IF($Q24=\"\",\"\",IF($S24=0,\"\",Berechnung!ER67))","v":""},{"$f":"IF($Q24=\"\",\"\",IF($S24=0,\"\",Berechnung!ES67))","v":""},{"$f":"IF($Q24=\"\",\"\",IF($S24=0,\"\",Berechnung!ET67))","v":""},{"$f":"IF($Q24=\"\",\"\",IF($S24=0,\"\",Berechnung!EU67))","v":""},null,{"$f":"Berechnung!EX67","v":""},{"$f":"Berechnung!EY67","v":""},{"$f":"Berechnung!EZ67","v":""},{"$f":"IF($AC24=\"\",\"\",IF($AE24=0,\"\",Berechnung!FA67))","v":""},{"$f":"IF($AC24=\"\",\"\",IF($AE24=0,\"\",Berechnung!FB67))","v":""},{"$f":"IF($AC24=\"\",\"\",IF($AE24=0,\"\",Berechnung!FC67))","v":""},{"$f":"IF($AC24=\"\",\"\",IF($AE24=0,\"\",Berechnung!FD67))","v":""},{"$f":"IF($AC24=\"\",\"\",IF($AE24=0,\"\",Berechnung!FE67))","v":""},{"$f":"IF($AC24=\"\",\"\",IF($AE24=0,\"\",Berechnung!FF67))","v":""},{"$f":"IF($AC24=\"\",\"\",IF($AE24=0,\"\",Berechnung!FG67))","v":""},{"$f":"IF($AC24=\"\",\"\",IF($AE24=0,\"\",Berechnung!FH67))","v":""},null,{"$f":"Berechnung!FK67","v":""},{"$f":"Berechnung!FL67","v":""},{"$f":"Berechnung!FM67","v":""},{"$f":"IF($AO24=\"\",\"\",IF($AQ24=0,\"\",Berechnung!FN67))","v":""},{"$f":"IF($AO24=\"\",\"\",IF($AQ24=0,\"\",Berechnung!FO67))","v":""},{"$f":"IF($AO24=\"\",\"\",IF($AQ24=0,\"\",Berechnung!FP67))","v":""},{"$f":"IF($AO24=\"\",\"\",IF($AQ24=0,\"\",Berechnung!FQ67))","v":""},{"$f":"IF($AO24=\"\",\"\",IF($AQ24=0,\"\",Berechnung!FR67))","v":""},{"$f":"IF($AO24=\"\",\"\",IF($AQ24=0,\"\",Berechnung!FS67))","v":""},{"$f":"IF($AO24=\"\",\"\",IF($AQ24=0,\"\",Berechnung!FT67))","v":""},{"$f":"IF($AO24=\"\",\"\",IF($AQ24=0,\"\",Berechnung!FU67))","v":""}]
[null,{"$f":"Berechnung!DV68","v":""},{"$f":"Berechnung!DW68","v":""},null,{"$f":"Berechnung!DX68","v":""},{"$f":"IF($B25=\"\",\"\",IF($E25=0,\"\",Berechnung!DY68))","v":""},{"$f":"IF($B25=\"\",\"\",IF($E25=0,\"\",Berechnung!DZ68))","v":""},{"$f":"IF($B25=\"\",\"\",IF($E25=0,\"\",Berechnung!EA68))","v":""},{"$f":"IF($B25=\"\",\"\",IF($E25=0,\"\",Berechnung!EB68))","v":""},{"$f":"IF($B25=\"\",\"\",IF($E25=0,\"\",Berechnung!EC68))","v":""},{"$f":"IF($B25=\"\",\"\",IF($E25=0,\"\",Berechnung!ED68))","v":""},{"$f":"IF($B25=\"\",\"\",IF($E25=0,\"\",Berechnung!EE68))","v":""},{"$f":"IF($B25=\"\",\"\",IF($E25=0,\"\",Berechnung!EF68))","v":""},{"$f":"IF($B25=\"\",\"\",IF($E25=0,\"\",Berechnung!EG68))","v":""},{"$f":"IF($B25=\"\",\"\",IF($E25=0,\"\",Berechnung!EH68))","v":""},null,{"$f":"Berechnung!EK68","v":""},{"$f":"Berechnung!EL68","v":""},{"$f":"Berechnung!EM68","v":""},{"$f":"IF($Q25=\"\",\"\",IF($S25=0,\"\",Berechnung!EN68))","v":""},{"$f":"IF($Q25=\"\",\"\",IF($S25=0,\"\",Berechnung!EO68))","v":""},{"$f":"IF($Q25=\"\",\"\",IF($S25=0,\"\",Berechnung!EP68))","v":""},{"$f":"IF($Q25=\"\",\"\",IF($S25=0,\"\",Berechnung!EQ68))","v":""},{"$f":"IF($Q25=\"\",\"\",IF($S25=0,\"\",Berechnung!ER68))","v":""},{"$f":"IF($Q25=\"\",\"\",IF($S25=0,\"\",Berechnung!ES68))","v":""},{"$f":"IF($Q25=\"\",\"\",IF($S25=0,\"\",Berechnung!ET68))","v":""},{"$f":"IF($Q25=\"\",\"\",IF($S25=0,\"\",Berechnung!EU68))","v":""},null,{"$f":"Berechnung!EX68","v":""},{"$f":"Berechnung!EY68","v":""},{"$f":"Berechnung!EZ68","v":""},{"$f":"IF($AC25=\"\",\"\",IF($AE25=0,\"\",Berechnung!FA68))","v":""},{"$f":"IF($AC25=\"\",\"\",IF($AE25=0,\"\",Berechnung!FB68))","v":""},{"$f":"IF($AC25=\"\",\"\",IF($AE25=0,\"\",Berechnung!FC68))","v":""},{"$f":"IF($AC25=\"\",\"\",IF($AE25=0,\"\",Berechnung!FD68))","v":""},{"$f":"IF($AC25=\"\",\"\",IF($AE25=0,\"\",Berechnung!FE68))","v":""},{"$f":"IF($AC25=\"\",\"\",IF($AE25=0,\"\",Berechnung!FF68))","v":""},{"$f":"IF($AC25=\"\",\"\",IF($AE25=0,\"\",Berechnung!FG68))","v":""},{"$f":"IF($AC25=\"\",\"\",IF($AE25=0,\"\",Berechnung!FH68))","v":""},null,{"$f":"Berechnung!FK68","v":""},{"$f":"Berechnung!FL68","v":""},{"$f":"Berechnung!FM68","v":""},{"$f":"IF($AO25=\"\",\"\",IF($AQ25=0,\"\",Berechnung!FN68))","v":""},{"$f":"IF($AO25=\"\",\"\",IF($AQ25=0,\"\",Berechnung!FO68))","v":""},{"$f":"IF($AO25=\"\",\"\",IF($AQ25=0,\"\",Berechnung!FP68))","v":""},{"$f":"IF($AO25=\"\",\"\",IF($AQ25=0,\"\",Berechnung!FQ68))","v":""},{"$f":"IF($AO25=\"\",\"\",IF($AQ25=0,\"\",Berechnung!FR68))","v":""},{"$f":"IF($AO25=\"\",\"\",IF($AQ25=0,\"\",Berechnung!FS68))","v":""},{"$f":"IF($AO25=\"\",\"\",IF($AQ25=0,\"\",Berechnung!FT68))","v":""},{"$f":"IF($AO25=\"\",\"\",IF($AQ25=0,\"\",Berechnung!FU68))","v":""}]
[null,{"$f":"Berechnung!DV69","v":""},{"$f":"Berechnung!DW69","v":""},null,{"$f":"Berechnung!DX69","v":""},{"$f":"IF($B26=\"\",\"\",IF($E26=0,\"\",Berechnung!DY69))","v":""},{"$f":"IF($B26=\"\",\"\",IF($E26=0,\"\",Berechnung!DZ69))","v":""},{"$f":"IF($B26=\"\",\"\",IF($E26=0,\"\",Berechnung!EA69))","v":""},{"$f":"IF($B26=\"\",\"\",IF($E26=0,\"\",Berechnung!EB69))","v":""},{"$f":"IF($B26=\"\",\"\",IF($E26=0,\"\",Berechnung!EC69))","v":""},{"$f":"IF($B26=\"\",\"\",IF($E26=0,\"\",Berechnung!ED69))","v":""},{"$f":"IF($B26=\"\",\"\",IF($E26=0,\"\",Berechnung!EE69))","v":""},{"$f":"IF($B26=\"\",\"\",IF($E26=0,\"\",Berechnung!EF69))","v":""},{"$f":"IF($B26=\"\",\"\",IF($E26=0,\"\",Berechnung!EG69))","v":""},{"$f":"IF($B26=\"\",\"\",IF($E26=0,\"\",Berechnung!EH69))","v":""},null,{"$f":"Berechnung!EK69","v":""},{"$f":"Berechnung!EL69","v":""},{"$f":"Berechnung!EM69","v":""},{"$f":"IF($Q26=\"\",\"\",IF($S26=0,\"\",Berechnung!EN69))","v":""},{"$f":"IF($Q26=\"\",\"\",IF($S26=0,\"\",Berechnung!EO69))","v":""},{"$f":"IF($Q26=\"\",\"\",IF($S26=0,\"\",Berechnung!EP69))","v":""},{"$f":"IF($Q26=\"\",\"\",IF($S26=0,\"\",Berechnung!EQ69))","v":""},{"$f":"IF($Q26=\"\",\"\",IF($S26=0,\"\",Berechnung!ER69))","v":""},{"$f":"IF($Q26=\"\",\"\",IF($S26=0,\"\",Berechnung!ES69))","v":""},{"$f":"IF($Q26=\"\",\"\",IF($S26=0,\"\",Berechnung!ET69))","v":""},{"$f":"IF($Q26=\"\",\"\",IF($S26=0,\"\",Berechnung!EU69))","v":""},null,{"$f":"Berechnung!EX69","v":""},{"$f":"Berechnung!EY69","v":""},{"$f":"Berechnung!EZ69","v":""},{"$f":"IF($AC26=\"\",\"\",IF($AE26=0,\"\",Berechnung!FA69))","v":""},{"$f":"IF($AC26=\"\",\"\",IF($AE26=0,\"\",Berechnung!FB69))","v":""},{"$f":"IF($AC26=\"\",\"\",IF($AE26=0,\"\",Berechnung!FC69))","v":""},{"$f":"IF($AC26=\"\",\"\",IF($AE26=0,\"\",Berechnung!FD69))","v":""},{"$f":"IF($AC26=\"\",\"\",IF($AE26=0,\"\",Berechnung!FE69))","v":""},{"$f":"IF($AC26=\"\",\"\",IF($AE26=0,\"\",Berechnung!FF69))","v":""},{"$f":"IF($AC26=\"\",\"\",IF($AE26=0,\"\",Berechnung!FG69))","v":""},{"$f":"IF($AC26=\"\",\"\",IF($AE26=0,\"\",Berechnung!FH69))","v":""},null,{"$f":"Berechnung!FK69","v":""},{"$f":"Berechnung!FL69","v":""},{"$f":"Berechnung!FM69","v":""},{"$f":"IF($AO26=\"\",\"\",IF($AQ26=0,\"\",Berechnung!FN69))","v":""},{"$f":"IF($AO26=\"\",\"\",IF($AQ26=0,\"\",Berechnung!FO69))","v":""},{"$f":"IF($AO26=\"\",\"\",IF($AQ26=0,\"\",Berechnung!FP69))","v":""},{"$f":"IF($AO26=\"\",\"\",IF($AQ26=0,\"\",Berechnung!FQ69))","v":""},{"$f":"IF($AO26=\"\",\"\",IF($AQ26=0,\"\",Berechnung!FR69))","v":""},{"$f":"IF($AO26=\"\",\"\",IF($AQ26=0,\"\",Berechnung!FS69))","v":""},{"$f":"IF($AO26=\"\",\"\",IF($AQ26=0,\"\",Berechnung!FT69))","v":""},{"$f":"IF($AO26=\"\",\"\",IF($AQ26=0,\"\",Berechnung!FU69))","v":""}]
[]
[]
[]
[null,null,null,null,"eff:","(events(#+) - events(=/)) / all events",null,null,null,null,null,null,null,null,null,null,null,null,{"$f":"Berechnung!FZ2&\"        \"&S32&\"  ( \"&ROUND((S32/E6)*100,0)&\" % )\"","v":"Reception S4        10  ( 12 % )"},null,null,null,null,null,null,null,null,null,null,null,{"$f":"Berechnung!GM2&\"        \"&AE32&\"  ( \"&ROUND((AE32/E6)*100,0)&\" % )\"","v":"Reception S3        9  ( 11 % )"},null,null,null,null,null,null,null,null,null,null,null,{"$f":"Berechnung!GZ2&\"        \"&AQ32&\"  ( \"&ROUND((AQ32/E6)*100,0)&\" % )\"","v":"Reception S2        16  ( 20 % )"}]
[null,null,null,null,null,null,null,null,null,null,null,null,null,null,null,null,null,null,"∑","in %",{"$f":"Berechnung!GB3","v":"=/"},{"$f":"Berechnung!GC3","v":"+"},{"$f":"Berechnung!GD3","v":"#"},{"$f":"Berechnung!GE3","v":"=/%"},{"$f":"Berechnung!GF3","v":"+#%"},{"$f":"Berechnung!GG3","v":"#%"},{"$f":"Berechnung!GH3","v":"eff"},null,null,null,"∑","in %",{"$f":"Berechnung!GO3","v":"=/"},{"$f":"Berechnung!GP3","v":"+"},{"$f":"Berechnung!GQ3","v":"#"},{"$f":"Berechnung!GR3","v":"=/%"},{"$f":"Berechnung!GS3","v":"+#%"},{"$f":"Berechnung!GT3","v":"#%"},{"$f":"Berechnung!GU3","v":"eff"},null,null,null,"∑","in %",{"$f":"Berechnung!HB3","v":"=/"},{"$f":"Berechnung!HC3","v":"+"},{"$f":"Berechnung!HD3","v":"#"},{"$f":"Berechnung!HE3","v":"=/%"},{"$f":"Berechnung!HF3","v":"+#%"},{"$f":"Berechnung!HG3","v":"#%"},{"$f":"Berechnung!HH3","v":"eff"}]
[null,null,null,null,null,null,null,null,null,null,null,null,null,null,null,null,null,{"$f":"Berechnung!FY49","v":"KOREA"},{"$f":"Berechnung!FZ49","v":10},null,{"$f":"Berechnung!GB26","v":0},{"$f":"Berechnung!GC26","v":3},{"$f":"Berechnung!GD26","v":3},{"$f":"Berechnung!GE26","v":0.3},{"$f":"Berechnung!GF26","v":0.6},{"$f":"Berechnung!GG26","v":0.3},{"$f":"Berechnung!GH26","v":0.6},null,null,{"$f":"Berechnung!GL49","v":"KOREA"},{"$f":"Berechnung!GM49","v":9},null,{"$f":"Berechnung!GO26","v":0},{"$f":"Berechnung!GP26","v":7},{"$f":"Berechnung!GQ26","v":0},{"$f":"Berechnung!GR26","v":0},{"$f":"Berechnung!GS26","v":0.77777777777777779},{"$f":"Berechnung!GT26","v":0},{"$f":"Berechnung!GU26","v":0.77777777777777779},null,null,{"$f":"Berechnung!GY49","v":"KOREA"},{"$f":"Berechnung!GZ49","v":16},null,{"$f":"Berechnung!HB26","v":0},{"$f":"Berechnung!HC26","v":5},{"$f":"Berechnung!HD26","v":6},{"$f":"Berechnung!HE26","v":0.375},{"$f":"Berechnung!HF26","v":0.6875},{"$f":"Berechnung!HG26","v":0.375},{"$f":"Berechnung!HH26","v":0.6875}]
[null,null,null,null,null,null,null,null,null,null,null,null,null,null,null,null,{"$f":"Berechnung!FX50","v":"19"},{"$f":"Berechnung!FY50","v":"JEONG"},{"$f":"Berechnung!FZ50","v":4},{"$f":"IF(Q33=\"\",\"\",IF(S33=0,\"\",Berechnung!GA50))","v":0.4},{"$f":"IF(Q33=\"\",\"\",IF(S33=0,\"\",Berechnung!GB50))","v":0},{"$f":"IF(Q33=\"\",\"\",IF(S33=0,\"\",Berechnung!GC50))","v":1},{"$f":"IF(Q33=\"\",\"\",IF(S33=0,\"\",Berechnung!GD50))","v":0},{"$f":"IF(Q33=\"\",\"\",IF(S33=0,\"\",Berechnung!GE50))","v":0},{"$f":"IF(Q33=\"\",\"\",IF(S33=0,\"\",Berechnung!GF50))","v":0.25},{"$f":"IF(Q33=\"\",\"\",IF(S33=0,\"\",Berechnung!GG50))","v":0},{"$f":"IF(Q33=\"\",\"\",IF(S33=0,\"\",Berechnung!GH50))","v":0.25},null,{"$f":"Berechnung!GK50","v":"19"},{"$f":"Berechnung!GL50","v":"JEONG"},{"$f":"Berechnung!GM50","v":5},{"$f":"IF(AC33=\"\",\"\",IF(AE33=0,\"\",Berechnung!GN50))","v":0.55555555555555558},{"$f":"IF(AC33=\"\",\"\",IF(AE33=0,\"\",Berechnung!GO50))","v":0},{"$f":"IF(AC33=\"\",\"\",IF(AE33=0,\"\",Berechnung!GP50))","v":5},{"$f":"IF(AC33=\"\",\"\",IF(AE33=0,\"\",Berechnung!GQ50))","v":0},{"$f":"IF(AC33=\"\",\"\",IF(AE33=0,\"\",Berechnung!GR50))","v":0},{"$f":"IF(AC33=\"\",\"\",IF(AE33=0,\"\",Berechnung!GS50))","v":1},{"$f":"IF(AC33=\"\",\"\",IF(AE33=0,\"\",Berechnung!GT50))","v":0},{"$f":"IF(AC33=\"\",\"\",IF(AE33=0,\"\",Berechnung!GU50))","v":1},null,{"$f":"Berechnung!GX50","v":"9"},{"$f":"Berechnung!GY50","v":"KWAK"},{"$f":"Berechnung!GZ50","v":9},{"$f":"IF(AO33=\"\",\"\",IF(AQ33=0,\"\",Berechnung!HA50))","v":0.5625},{"$f":"IF(AO33=\"\",\"\",IF(AQ33=0,\"\",Berechnung!HB50))","v":0},{"$f":"IF(AO33=\"\",\"\",IF(AQ33=0,\"\",Berechnung!HC50))","v":4},{"$f":"IF(AO33=\"\",\"\",IF(AQ33=0,\"\",Berechnung!HD50))","v":1},{"$f":"IF(AO33=\"\",\"\",IF(AQ33=0,\"\",Berechnung!HE50))","v":0},{"$f":"IF(AO33=\"\",\"\",IF(AQ33=0,\"\",Berechnung!HF50))","v":0.55555555555555558},{"$f":"IF(AO33=\"\",\"\",IF(AQ33=0,\"\",Berechnung!HG50))","v":0.1111111111111111},{"$f":"IF(AO33=\"\",\"\",IF(AQ33=0,\"\",Berechnung!HH50))","v":0.55555555555555558}]
[null,null,null,null,null,null,null,null,null,null,null,null,null,null,null,null,{"$f":"Berechnung!FX51","v":"9"},{"$f":"Berechnung!FY51","v":"KWAK"},{"$f":"Berechnung!FZ51","v":3},{"$f":"IF(Q34=\"\",\"\",IF(S34=0,\"\",Berechnung!GA51))","v":0.3},{"$f":"IF(Q34=\"\",\"\",IF(S34=0,\"\",Berechnung!GB51))","v":0},{"$f":"IF(Q34=\"\",\"\",IF(S34=0,\"\",Berechnung!GC51))","v":1},{"$f":"IF(Q34=\"\",\"\",IF(S34=0,\"\",Berechnung!GD51))","v":2},{"$f":"IF(Q34=\"\",\"\",IF(S34=0,\"\",Berechnung!GE51))","v":0},{"$f":"IF(Q34=\"\",\"\",IF(S34=0,\"\",Berechnung!GF51))","v":1},{"$f":"IF(Q34=\"\",\"\",IF(S34=0,\"\",Berechnung!GG51))","v":0.66666666666666663},{"$f":"IF(Q34=\"\",\"\",IF(S34=0,\"\",Berechnung!GH51))","v":1},null,{"$f":"Berechnung!GK51","v":"9"},{"$f":"Berechnung!GL51","v":"KWAK"},{"$f":"Berechnung!GM51","v":4},{"$f":"IF(AC34=\"\",\"\",IF(AE34=0,\"\",Berechnung!GN51))","v":0.44444444444444442},{"$f":"IF(AC34=\"\",\"\",IF(AE34=0,\"\",Berechnung!GO51))","v":0},{"$f":"IF(AC34=\"\",\"\",IF(AE34=0,\"\",Berechnung!GP51))","v":2},{"$f":"IF(AC34=\"\",\"\",IF(AE34=0,\"\",Berechnung!GQ51))","v":0},{"$f":"IF(AC34=\"\",\"\",IF(AE34=0,\"\",Berechnung!GR51))","v":0},{"$f":"IF(AC34=\"\",\"\",IF(AE34=0,\"\",Berechnung!GS51))","v":0.5},{"$f":"IF(AC34=\"\",\"\",IF(AE34=0,\"\",Berechnung!GT51))","v":0},{"$f":"IF(AC34=\"\",\"\",IF(AE34=0,\"\",Berechnung!GU51))","v":0.5},null,{"$f":"Berechnung!GX51","v":"14"},{"$f":"Berechnung!GY51","v":"SONG"},{"$f":"Berechnung!GZ51","v":4},{"$f":"IF(AO34=\"\",\"\",IF(AQ34=0,\"\",Berechnung!HA51))","v":0.25},{"$f":"IF(AO34=\"\",\"\",IF(AQ34=0,\"\",Berechnung!HB51))","v":0},{"$f":"IF(AO34=\"\",\"\",IF(AQ34=0,\"\",Berechnung!HC51))","v":0},{"$f":"IF(AO34=\"\",\"\",IF(AQ34=0,\"\",Berechnung!HD51))","v":3},{"$f":"IF(AO34=\"\",\"\",IF(AQ34=0,\"\",Berechnung!HE51))","v":0},{"$f":"IF(AO34=\"\",\"\",IF(AQ34=0,\"\",Berechnung!HF51))","v":0.75},{"$f":"IF(AO34=\"\",\"\",IF(AQ34=0,\"\",Berechnung!HG51))","v":0.75},{"$f":"IF(AO34=\"\",\"\",IF(AQ34=0,\"\",Berechnung!HH51))","v":0.75}]
[null,null,null,null,null,null,null,null,null,null,null,null,null,null,null,null,{"$f":"Berechnung!FX52","v":"14"},{"$f":"Berechnung!FY52","v":"SONG"},{"$f":"Berechnung!FZ52","v":2},{"$f":"IF(Q35=\"\",\"\",IF(S35=0,\"\",Berechnung!GA52))","v":0.2},{"$f":"IF(Q35=\"\",\"\",IF(S35=0,\"\",Berechnung!GB52))","v":0},{"$f":"IF(Q35=\"\",\"\",IF(S35=0,\"\",Berechnung!GC52))","v":0},{"$f":"IF(Q35=\"\",\"\",IF(S35=0,\"\",Berechnung!GD52))","v":1},{"$f":"IF(Q35=\"\",\"\",IF(S35=0,\"\",Berechnung!GE52))","v":0},{"$f":"IF(Q35=\"\",\"\",IF(S35=0,\"\",Berechnung!GF52))","v":0.5},{"$f":"IF(Q35=\"\",\"\",IF(S35=0,\"\",Berechnung!GG52))","v":0.5},{"$f":"IF(Q35=\"\",\"\",IF(S35=0,\"\",Berechnung!GH52))","v":0.5},null,{"$f":"Berechnung!GK52","v":"1"},{"$f":"Berechnung!GL52","v":"SONG"},{"$f":"Berechnung!GM52","v":0},{"$f":"IF(AC35=\"\",\"\",IF(AE35=0,\"\",Berechnung!GN52))","v":""},{"$f":"IF(AC35=\"\",\"\",IF(AE35=0,\"\",Berechnung!GO52))","v":""},{"$f":"IF(AC35=\"\",\"\",IF(AE35=0,\"\",Berechnung!GP52))","v":""},{"$f":"IF(AC35=\"\",\"\",IF(AE35=0,\"\",Berechnung!GQ52))","v":""},{"$f":"IF(AC35=\"\",\"\",IF(AE35=0,\"\",Berechnung!GR52))","v":""},{"$f":"IF(AC35=\"\",\"\",IF(AE35=0,\"\",Berechnung!GS52))","v":""},{"$f":"IF(AC35=\"\",\"\",IF(AE35=0,\"\",Berechnung!GT52))","v":""},{"$f":"IF(AC35=\"\",\"\",IF(AE35=0,\"\",Berechnung!GU52))","v":""},null,{"$f":"Berechnung!GX52","v":"19"},{"$f":"Berechnung!GY52","v":"JEONG"},{"$f":"Berechnung!GZ52","v":3},{"$f":"IF(AO35=\"\",\"\",IF(AQ35=0,\"\",Berechnung!HA52))","v":0.1875},{"$f":"IF(AO35=\"\",\"\",IF(AQ35=0,\"\",Berechnung!HB52))","v":0},{"$f":"IF(AO35=\"\",\"\",IF(AQ35=0,\"\",Berechnung!HC52))","v":1},{"$f":"IF(AO35=\"\",\"\",IF(AQ35=0,\"\",Berechnung!HD52))","v":2},{"$f":"IF(AO35=\"\",\"\",IF(AQ35=0,\"\",Berechnung!HE52))","v":0},{"$f":"IF(AO35=\"\",\"\",IF(AQ35=0,\"\",Berechnung!HF52))","v":1},{"$f":"IF(AO35=\"\",\"\",IF(AQ35=0,\"\",Berechnung!HG52))","v":0.66666666666666663},{"$f":"IF(AO35=\"\",\"\",IF(AQ35=0,\"\",Berechnung!HH52))","v":1}]
[null,null,null,null,null,null,null,null,null,null,null,null,null,null,null,null,{"$f":"Berechnung!FX53","v":"1"},{"$f":"Berechnung!FY53","v":"SONG"},{"$f":"Berechnung!FZ53","v":1},{"$f":"IF(Q36=\"\",\"\",IF(S36=0,\"\",Berechnung!GA53))","v":0.1},{"$f":"IF(Q36=\"\",\"\",IF(S36=0,\"\",Berechnung!GB53))","v":0},{"$f":"IF(Q36=\"\",\"\",IF(S36=0,\"\",Berechnung!GC53))","v":1},{"$f":"IF(Q36=\"\",\"\",IF(S36=0,\"\",Berechnung!GD53))","v":0},{"$f":"IF(Q36=\"\",\"\",IF(S36=0,\"\",Berechnung!GE53))","v":0},{"$f":"IF(Q36=\"\",\"\",IF(S36=0,\"\",Berechnung!GF53))","v":1},{"$f":"IF(Q36=\"\",\"\",IF(S36=0,\"\",Berechnung!GG53))","v":0},{"$f":"IF(Q36=\"\",\"\",IF(S36=0,\"\",Berechnung!GH53))","v":1},null,{"$f":"Berechnung!GK53","v":"4"},{"$f":"Berechnung!GL53","v":"SHIN"},{"$f":"Berechnung!GM53","v":0},{"$f":"IF(AC36=\"\",\"\",IF(AE36=0,\"\",Berechnung!GN53))","v":""},{"$f":"IF(AC36=\"\",\"\",IF(AE36=0,\"\",Berechnung!GO53))","v":""},{"$f":"IF(AC36=\"\",\"\",IF(AE36=0,\"\",Berechnung!GP53))","v":""},{"$f":"IF(AC36=\"\",\"\",IF(AE36=0,\"\",Berechnung!GQ53))","v":""},{"$f":"IF(AC36=\"\",\"\",IF(AE36=0,\"\",Berechnung!GR53))","v":""},{"$f":"IF(AC36=\"\",\"\",IF(AE36=0,\"\",Berechnung!GS53))","v":""},{"$f":"IF(AC36=\"\",\"\",IF(AE36=0,\"\",Berechnung!GT53))","v":""},{"$f":"IF(AC36=\"\",\"\",IF(AE36=0,\"\",Berechnung!GU53))","v":""},null,{"$f":"Berechnung!GX53","v":"1"},{"$f":"Berechnung!GY53","v":"SONG"},{"$f":"Berechnung!GZ53","v":0},{"$f":"IF(AO36=\"\",\"\",IF(AQ36=0,\"\",Berechnung!HA53))","v":""},{"$f":"IF(AO36=\"\",\"\",IF(AQ36=0,\"\",Berechnung!HB53))","v":""},{"$f":"IF(AO36=\"\",\"\",IF(AQ36=0,\"\",Berechnung!HC53))","v":""},{"$f":"IF(AO36=\"\",\"\",IF(AQ36=0,\"\",Berechnung!HD53))","v":""},{"$f":"IF(AO36=\"\",\"\",IF(AQ36=0,\"\",Berechnung!HE53))","v":""},{"$f":"IF(AO36=\"\",\"\",IF(AQ36=0,\"\",Berechnung!HF53))","v":""},{"$f":"IF(AO36=\"\",\"\",IF(AQ36=0,\"\",Berechnung!HG53))","v":""},{"$f":"IF(AO36=\"\",\"\",IF(AQ36=0,\"\",Berechnung!HH53))","v":""}]
[null,null,null,null,null,null,null,null,null,null,null,null,null,null,null,null,{"$f":"Berechnung!FX54","v":"4"},{"$f":"Berechnung!FY54","v":"SHIN"},{"$f":"Berechnung!FZ54","v":0},{"$f":"IF(Q37=\"\",\"\",IF(S37=0,\"\",Berechnung!GA54))","v":""},{"$f":"IF(Q37=\"\",\"\",IF(S37=0,\"\",Berechnung!GB54))","v":""},{"$f":"IF(Q37=\"\",\"\",IF(S37=0,\"\",Berechnung!GC54))","v":""},{"$f":"IF(Q37=\"\",\"\",IF(S37=0,\"\",Berechnung!GD54))","v":""},{"$f":"IF(Q37=\"\",\"\",IF(S37=0,\"\",Berechnung!GE54))","v":""},{"$f":"IF(Q37=\"\",\"\",IF(S37=0,\"\",Berechnung!GF54))","v":""},{"$f":"IF(Q37=\"\",\"\",IF(S37=0,\"\",Berechnung!GG54))","v":""},{"$f":"IF(Q37=\"\",\"\",IF(S37=0,\"\",Berechnung!GH54))","v":""},null,{"$f":"Berechnung!GK54","v":"6"},{"$f":"Berechnung!GL54","v":"LEE"},{"$f":"Berechnung!GM54","v":0},{"$f":"IF(AC37=\"\",\"\",IF(AE37=0,\"\",Berechnung!GN54))","v":""},{"$f":"IF(AC37=\"\",\"\",IF(AE37=0,\"\",Berechnung!GO54))","v":""},{"$f":"IF(AC37=\"\",\"\",IF(AE37=0,\"\",Berechnung!GP54))","v":""},{"$f":"IF(AC37=\"\",\"\",IF(AE37=0,\"\",Berechnung!GQ54))","v":""},{"$f":"IF(AC37=\"\",\"\",IF(AE37=0,\"\",Berechnung!GR54))","v":""},{"$f":"IF(AC37=\"\",\"\",IF(AE37=0,\"\",Berechnung!GS54))","v":""},{"$f":"IF(AC37=\"\",\"\",IF(AE37=0,\"\",Berechnung!GT54))","v":""},{"$f":"IF(AC37=\"\",\"\",IF(AE37=0,\"\",Berechnung!GU54))","v":""},null,{"$f":"Berechnung!GX54","v":"4"},{"$f":"Berechnung!GY54","v":"SHIN"},{"$f":"Berechnung!GZ54","v":0},{"$f":"IF(AO37=\"\",\"\",IF(AQ37=0,\"\",Berechnung!HA54))","v":""},{"$f":"IF(AO37=\"\",\"\",IF(AQ37=0,\"\",Berechnung!HB54))","v":""},{"$f":"IF(AO37=\"\",\"\",IF(AQ37=0,\"\",Berechnung!HC54))","v":""},{"$f":"IF(AO37=\"\",\"\",IF(AQ37=0,\"\",Berechnung!HD54))","v":""},{"$f":"IF(AO37=\"\",\"\",IF(AQ37=0,\"\",Berechnung!HE54))","v":""},{"$f":"IF(AO37=\"\",\"\",IF(AQ37=0,\"\",Berechnung!HF54))","v":""},{"$f":"IF(AO37=\"\",\"\",IF(AQ37=0,\"\",Berechnung!HG54))","v":""},{"$f":"IF(AO37=\"\",\"\",IF(AQ37=0,\"\",Berechnung!HH54))","v":""}]
[null,null,null,null,null,null,null,null,null,null,null,null,null,null,null,null,{"$f":"Berechnung!FX55","v":"6"},{"$f":"Berechnung!FY55","v":"LEE"},{"$f":"Berechnung!FZ55","v":0},{"$f":"IF(Q38=\"\",\"\",IF(S38=0,\"\",Berechnung!GA55))","v":""},{"$f":"IF(Q38=\"\",\"\",IF(S38=0,\"\",Berechnung!GB55))","v":""},{"$f":"IF(Q38=\"\",\"\",IF(S38=0,\"\",Berechnung!GC55))","v":""},{"$f":"IF(Q38=\"\",\"\",IF(S38=0,\"\",Berechnung!GD55))","v":""},{"$f":"IF(Q38=\"\",\"\",IF(S38=0,\"\",Berechnung!GE55))","v":""},{"$f":"IF(Q38=\"\",\"\",IF(S38=0,\"\",Berechnung!GF55))","v":""},{"$f":"IF(Q38=\"\",\"\",IF(S38=0,\"\",Berechnung!GG55))","v":""},{"$f":"IF(Q38=\"\",\"\",IF(S38=0,\"\",Berechnung!GH55))","v":""},null,{"$f":"Berechnung!GK55","v":"8"},{"$f":"Berechnung!GL55","v":"PARK"},{"$f":"Berechnung!GM55","v":0},{"$f":"IF(AC38=\"\",\"\",IF(AE38=0,\"\",Berechnung!GN55))","v":""},{"$f":"IF(AC38=\"\",\"\",IF(AE38=0,\"\",Berechnung!GO55))","v":""},{"$f":"IF(AC38=\"\",\"\",IF(AE38=0,\"\",Berechnung!GP55))","v":""},{"$f":"IF(AC38=\"\",\"\",IF(AE38=0,\"\",Berechnung!GQ55))","v":""},{"$f":"IF(AC38=\"\",\"\",IF(AE38=0,\"\",Berechnung!GR55))","v":""},{"$f":"IF(AC38=\"\",\"\",IF(AE38=0,\"\",Berechnung!GS55))","v":""},{"$f":"IF(AC38=\"\",\"\",IF(AE38=0,\"\",Berechnung!GT55))","v":""},{"$f":"IF(AC38=\"\",\"\",IF(AE38=0,\"\",Berechnung!GU55))","v":""},null,{"$f":"Berechnung!GX55","v":"6"},{"$f":"Berechnung!GY55","v":"LEE"},{"$f":"Berechnung!GZ55","v":0},{"$f":"IF(AO38=\"\",\"\",IF(AQ38=0,\"\",Berechnung!HA55))","v":""},{"$f":"IF(AO38=\"\",\"\",IF(AQ38=0,\"\",Berechnung!HB55))","v":""},{"$f":"IF(AO38=\"\",\"\",IF(AQ38=0,\"\",Berechnung!HC55))","v":""},{"$f":"IF(AO38=\"\",\"\",IF(AQ38=0,\"\",Berechnung!HD55))","v":""},{"$f":"IF(AO38=\"\",\"\",IF(AQ38=0,\"\",Berechnung!HE55))","v":""},{"$f":"IF(AO38=\"\",\"\",IF(AQ38=0,\"\",Berechnung!HF55))","v":""},{"$f":"IF(AO38=\"\",\"\",IF(AQ38=0,\"\",Berechnung!HG55))","v":""},{"$f":"IF(AO38=\"\",\"\",IF(AQ38=0,\"\",Berechnung!HH55))","v":""}]
[null,null,null,null,null,null,null,null,null,null,null,null,null,null,null,null,{"$f":"Berechnung!FX56","v":"8"},{"$f":"Berechnung!FY56","v":"PARK"},{"$f":"Berechnung!FZ56","v":0},{"$f":"IF(Q39=\"\",\"\",IF(S39=0,\"\",Berechnung!GA56))","v":""},{"$f":"IF(Q39=\"\",\"\",IF(S39=0,\"\",Berechnung!GB56))","v":""},{"$f":"IF(Q39=\"\",\"\",IF(S39=0,\"\",Berechnung!GC56))","v":""},{"$f":"IF(Q39=\"\",\"\",IF(S39=0,\"\",Berechnung!GD56))","v":""},{"$f":"IF(Q39=\"\",\"\",IF(S39=0,\"\",Berechnung!GE56))","v":""},{"$f":"IF(Q39=\"\",\"\",IF(S39=0,\"\",Berechnung!GF56))","v":""},{"$f":"IF(Q39=\"\",\"\",IF(S39=0,\"\",Berechnung!GG56))","v":""},{"$f":"IF(Q39=\"\",\"\",IF(S39=0,\"\",Berechnung!GH56))","v":""},null,{"$f":"Berechnung!GK56","v":"11"},{"$f":"Berechnung!GL56","v":"CHOI"},{"$f":"Berechnung!GM56","v":0},{"$f":"IF(AC39=\"\",\"\",IF(AE39=0,\"\",Berechnung!GN56))","v":""},{"$f":"IF(AC39=\"\",\"\",IF(AE39=0,\"\",Berechnung!GO56))","v":""},{"$f":"IF(AC39=\"\",\"\",IF(AE39=0,\"\",Berechnung!GP56))","v":""},{"$f":"IF(AC39=\"\",\"\",IF(AE39=0,\"\",Berechnung!GQ56))","v":""},{"$f":"IF(AC39=\"\",\"\",IF(AE39=0,\"\",Berechnung!GR56))","v":""},{"$f":"IF(AC39=\"\",\"\",IF(AE39=0,\"\",Berechnung!GS56))","v":""},{"$f":"IF(AC39=\"\",\"\",IF(AE39=0,\"\",Berechnung!GT56))","v":""},{"$f":"IF(AC39=\"\",\"\",IF(AE39=0,\"\",Berechnung!GU56))","v":""},null,{"$f":"Berechnung!GX56","v":"8"},{"$f":"Berechnung!GY56","v":"PARK"},{"$f":"Berechnung!GZ56","v":0},{"$f":"IF(AO39=\"\",\"\",IF(AQ39=0,\"\",Berechnung!HA56))","v":""},{"$f":"IF(AO39=\"\",\"\",IF(AQ39=0,\"\",Berechnung!HB56))","v":""},{"$f":"IF(AO39=\"\",\"\",IF(AQ39=0,\"\",Berechnung!HC56))","v":""},{"$f":"IF(AO39=\"\",\"\",IF(AQ39=0,\"\",Berechnung!HD56))","v":""},{"$f":"IF(AO39=\"\",\"\",IF(AQ39=0,\"\",Berechnung!HE56))","v":""},{"$f":"IF(AO39=\"\",\"\",IF(AQ39=0,\"\",Berechnung!HF56))","v":""},{"$f":"IF(AO39=\"\",\"\",IF(AQ39=0,\"\",Berechnung!HG56))","v":""},{"$f":"IF(AO39=\"\",\"\",IF(AQ39=0,\"\",Berechnung!HH56))","v":""}]
[null,null,null,null,null,null,null,null,null,null,null,null,null,null,null,null,{"$f":"Berechnung!FX57","v":"11"},{"$f":"Berechnung!FY57","v":"CHOI"},{"$f":"Berechnung!FZ57","v":0},{"$f":"IF(Q40=\"\",\"\",IF(S40=0,\"\",Berechnung!GA57))","v":""},{"$f":"IF(Q40=\"\",\"\",IF(S40=0,\"\",Berechnung!GB57))","v":""},{"$f":"IF(Q40=\"\",\"\",IF(S40=0,\"\",Berechnung!GC57))","v":""},{"$f":"IF(Q40=\"\",\"\",IF(S40=0,\"\",Berechnung!GD57))","v":""},{"$f":"IF(Q40=\"\",\"\",IF(S40=0,\"\",Berechnung!GE57))","v":""},{"$f":"IF(Q40=\"\",\"\",IF(S40=0,\"\",Berechnung!GF57))","v":""},{"$f":"IF(Q40=\"\",\"\",IF(S40=0,\"\",Berechnung!GG57))","v":""},{"$f":"IF(Q40=\"\",\"\",IF(S40=0,\"\",Berechnung!GH57))","v":""},null,{"$f":"Berechnung!GK57","v":"12"},{"$f":"Berechnung!GL57","v":"JEON"},{"$f":"Berechnung!GM57","v":0},{"$f":"IF(AC40=\"\",\"\",IF(AE40=0,\"\",Berechnung!GN57))","v":""},{"$f":"IF(AC40=\"\",\"\",IF(AE40=0,\"\",Berechnung!GO57))","v":""},{"$f":"IF(AC40=\"\",\"\",IF(AE40=0,\"\",Berechnung!GP57))","v":""},{"$f":"IF(AC40=\"\",\"\",IF(AE40=0,\"\",Berechnung!GQ57))","v":""},{"$f":"IF(AC40=\"\",\"\",IF(AE40=0,\"\",Berechnung!GR57))","v":""},{"$f":"IF(AC40=\"\",\"\",IF(AE40=0,\"\",Berechnung!GS57))","v":""},{"$f":"IF(AC40=\"\",\"\",IF(AE40=0,\"\",Berechnung!GT57))","v":""},{"$f":"IF(AC40=\"\",\"\",IF(AE40=0,\"\",Berechnung!GU57))","v":""},null,{"$f":"Berechnung!GX57","v":"11"},{"$f":"Berechnung!GY57","v":"CHOI"},{"$f":"Berechnung!GZ57","v":0},{"$f":"IF(AO40=\"\",\"\",IF(AQ40=0,\"\",Berechnung!HA57))","v":""},{"$f":"IF(AO40=\"\",\"\",IF(AQ40=0,\"\",Berechnung!HB57))","v":""},{"$f":"IF(AO40=\"\",\"\",IF(AQ40=0,\"\",Berechnung!HC57))","v":""},{"$f":"IF(AO40=\"\",\"\",IF(AQ40=0,\"\",Berechnung!HD57))","v":""},{"$f":"IF(AO40=\"\",\"\",IF(AQ40=0,\"\",Berechnung!HE57))","v":""},{"$f":"IF(AO40=\"\",\"\",IF(AQ40=0,\"\",Berechnung!HF57))","v":""},{"$f":"IF(AO40=\"\",\"\",IF(AQ40=0,\"\",Berechnung!HG57))","v":""},{"$f":"IF(AO40=\"\",\"\",IF(AQ40=0,\"\",Berechnung!HH57))","v":""}]
[null,null,null,null,null,null,null,null,null,null,null,null,null,null,null,null,{"$f":"Berechnung!FX58","v":"12"},{"$f":"Berechnung!FY58","v":"JEON"},{"$f":"Berechnung!FZ58","v":0},{"$f":"IF(Q41=\"\",\"\",IF(S41=0,\"\",Berechnung!GA58))","v":""},{"$f":"IF(Q41=\"\",\"\",IF(S41=0,\"\",Berechnung!GB58))","v":""},{"$f":"IF(Q41=\"\",\"\",IF(S41=0,\"\",Berechnung!GC58))","v":""},{"$f":"IF(Q41=\"\",\"\",IF(S41=0,\"\",Berechnung!GD58))","v":""},{"$f":"IF(Q41=\"\",\"\",IF(S41=0,\"\",Berechnung!GE58))","v":""},{"$f":"IF(Q41=\"\",\"\",IF(S41=0,\"\",Berechnung!GF58))","v":""},{"$f":"IF(Q41=\"\",\"\",IF(S41=0,\"\",Berechnung!GG58))","v":""},{"$f":"IF(Q41=\"\",\"\",IF(S41=0,\"\",Berechnung!GH58))","v":""},null,{"$f":"Berechnung!GK58","v":"14"},{"$f":"Berechnung!GL58","v":"SONG"},{"$f":"Berechnung!GM58","v":0},{"$f":"IF(AC41=\"\",\"\",IF(AE41=0,\"\",Berechnung!GN58))","v":""},{"$f":"IF(AC41=\"\",\"\",IF(AE41=0,\"\",Berechnung!GO58))","v":""},{"$f":"IF(AC41=\"\",\"\",IF(AE41=0,\"\",Berechnung!GP58))","v":""},{"$f":"IF(AC41=\"\",\"\",IF(AE41=0,\"\",Berechnung!GQ58))","v":""},{"$f":"IF(AC41=\"\",\"\",IF(AE41=0,\"\",Berechnung!GR58))","v":""},{"$f":"IF(AC41=\"\",\"\",IF(AE41=0,\"\",Berechnung!GS58))","v":""},{"$f":"IF(AC41=\"\",\"\",IF(AE41=0,\"\",Berechnung!GT58))","v":""},{"$f":"IF(AC41=\"\",\"\",IF(AE41=0,\"\",Berechnung!GU58))","v":""},null,{"$f":"Berechnung!GX58","v":"12"},{"$f":"Berechnung!GY58","v":"JEON"},{"$f":"Berechnung!GZ58","v":0},{"$f":"IF(AO41=\"\",\"\",IF(AQ41=0,\"\",Berechnung!HA58))","v":""},{"$f":"IF(AO41=\"\",\"\",IF(AQ41=0,\"\",Berechnung!HB58))","v":""},{"$f":"IF(AO41=\"\",\"\",IF(AQ41=0,\"\",Berechnung!HC58))","v":""},{"$f":"IF(AO41=\"\",\"\",IF(AQ41=0,\"\",Berechnung!HD58))","v":""},{"$f":"IF(AO41=\"\",\"\",IF(AQ41=0,\"\",Berechnung!HE58))","v":""},{"$f":"IF(AO41=\"\",\"\",IF(AQ41=0,\"\",Berechnung!HF58))","v":""},{"$f":"IF(AO41=\"\",\"\",IF(AQ41=0,\"\",Berechnung!HG58))","v":""},{"$f":"IF(AO41=\"\",\"\",IF(AQ41=0,\"\",Berechnung!HH58))","v":""}]
[null,null,null,null,null,null,null,null,null,null,null,null,null,null,null,null,{"$f":"Berechnung!FX59","v":"16"},{"$f":"Berechnung!FY59","v":"CHOI"},{"$f":"Berechnung!FZ59","v":0},{"$f":"IF(Q42=\"\",\"\",IF(S42=0,\"\",Berechnung!GA59))","v":""},{"$f":"IF(Q42=\"\",\"\",IF(S42=0,\"\",Berechnung!GB59))","v":""},{"$f":"IF(Q42=\"\",\"\",IF(S42=0,\"\",Berechnung!GC59))","v":""},{"$f":"IF(Q42=\"\",\"\",IF(S42=0,\"\",Berechnung!GD59))","v":""},{"$f":"IF(Q42=\"\",\"\",IF(S42=0,\"\",Berechnung!GE59))","v":""},{"$f":"IF(Q42=\"\",\"\",IF(S42=0,\"\",Berechnung!GF59))","v":""},{"$f":"IF(Q42=\"\",\"\",IF(S42=0,\"\",Berechnung!GG59))","v":""},{"$f":"IF(Q42=\"\",\"\",IF(S42=0,\"\",Berechnung!GH59))","v":""},null,{"$f":"Berechnung!GK59","v":"16"},{"$f":"Berechnung!GL59","v":"CHOI"},{"$f":"Berechnung!GM59","v":0},{"$f":"IF(AC42=\"\",\"\",IF(AE42=0,\"\",Berechnung!GN59))","v":""},{"$f":"IF(AC42=\"\",\"\",IF(AE42=0,\"\",Berechnung!GO59))","v":""},{"$f":"IF(AC42=\"\",\"\",IF(AE42=0,\"\",Berechnung!GP59))","v":""},{"$f":"IF(AC42=\"\",\"\",IF(AE42=0,\"\",Berechnung!GQ59))","v":""},{"$f":"IF(AC42=\"\",\"\",IF(AE42=0,\"\",Berechnung!GR59))","v":""},{"$f":"IF(AC42=\"\",\"\",IF(AE42=0,\"\",Berechnung!GS59))","v":""},{"$f":"IF(AC42=\"\",\"\",IF(AE42=0,\"\",Berechnung!GT59))","v":""},{"$f":"IF(AC42=\"\",\"\",IF(AE42=0,\"\",Berechnung!GU59))","v":""},null,{"$f":"Berechnung!GX59","v":"16"},{"$f":"Berechnung!GY59","v":"CHOI"},{"$f":"Berechnung!GZ59","v":0},{"$f":"IF(AO42=\"\",\"\",IF(AQ42=0,\"\",Berechnung!HA59))","v":""},{"$f":"IF(AO42=\"\",\"\",IF(AQ42=0,\"\",Berechnung!HB59))","v":""},{"$f":"IF(AO42=\"\",\"\",IF(AQ42=0,\"\",Berechnung!HC59))","v":""},{"$f":"IF(AO42=\"\",\"\",IF(AQ42=0,\"\",Berechnung!HD59))","v":""},{"$f":"IF(AO42=\"\",\"\",IF(AQ42=0,\"\",Berechnung!HE59))","v":""},{"$f":"IF(AO42=\"\",\"\",IF(AQ42=0,\"\",Berechnung!HF59))","v":""},{"$f":"IF(AO42=\"\",\"\",IF(AQ42=0,\"\",Berechnung!HG59))","v":""},{"$f":"IF(AO42=\"\",\"\",IF(AQ42=0,\"\",Berechnung!HH59))","v":""}]
[null,null,null,null,null,null,null,null,null,null,null,null,null,null,null,null,{"$f":"Berechnung!FX60","v":"17"},{"$f":"Berechnung!FY60","v":"SEO"},{"$f":"Berechnung!FZ60","v":0},{"$f":"IF(Q43=\"\",\"\",IF(S43=0,\"\",Berechnung!GA60))","v":""},{"$f":"IF(Q43=\"\",\"\",IF(S43=0,\"\",Berechnung!GB60))","v":""},{"$f":"IF(Q43=\"\",\"\",IF(S43=0,\"\",Berechnung!GC60))","v":""},{"$f":"IF(Q43=\"\",\"\",IF(S43=0,\"\",Berechnung!GD60))","v":""},{"$f":"IF(Q43=\"\",\"\",IF(S43=0,\"\",Berechnung!GE60))","v":""},{"$f":"IF(Q43=\"\",\"\",IF(S43=0,\"\",Berechnung!GF60))","v":""},{"$f":"IF(Q43=\"\",\"\",IF(S43=0,\"\",Berechnung!GG60))","v":""},{"$f":"IF(Q43=\"\",\"\",IF(S43=0,\"\",Berechnung!GH60))","v":""},null,{"$f":"Berechnung!GK60","v":"17"},{"$f":"Berechnung!GL60","v":"SEO"},{"$f":"Berechnung!GM60","v":0},{"$f":"IF(AC43=\"\",\"\",IF(AE43=0,\"\",Berechnung!GN60))","v":""},{"$f":"IF(AC43=\"\",\"\",IF(AE43=0,\"\",Berechnung!GO60))","v":""},{"$f":"IF(AC43=\"\",\"\",IF(AE43=0,\"\",Berechnung!GP60))","v":""},{"$f":"IF(AC43=\"\",\"\",IF(AE43=0,\"\",Berechnung!GQ60))","v":""},{"$f":"IF(AC43=\"\",\"\",IF(AE43=0,\"\",Berechnung!GR60))","v":""},{"$f":"IF(AC43=\"\",\"\",IF(AE43=0,\"\",Berechnung!GS60))","v":""},{"$f":"IF(AC43=\"\",\"\",IF(AE43=0,\"\",Berechnung!GT60))","v":""},{"$f":"IF(AC43=\"\",\"\",IF(AE43=0,\"\",Berechnung!GU60))","v":""},null,{"$f":"Berechnung!GX60","v":"17"},{"$f":"Berechnung!GY60","v":"SEO"},{"$f":"Berechnung!GZ60","v":0},{"$f":"IF(AO43=\"\",\"\",IF(AQ43=0,\"\",Berechnung!HA60))","v":""},{"$f":"IF(AO43=\"\",\"\",IF(AQ43=0,\"\",Berechnung!HB60))","v":""},{"$f":"IF(AO43=\"\",\"\",IF(AQ43=0,\"\",Berechnung!HC60))","v":""},{"$f":"IF(AO43=\"\",\"\",IF(AQ43=0,\"\",Berechnung!HD60))","v":""},{"$f":"IF(AO43=\"\",\"\",IF(AQ43=0,\"\",Berechnung!HE60))","v":""},{"$f":"IF(AO43=\"\",\"\",IF(AQ43=0,\"\",Berechnung!HF60))","v":""},{"$f":"IF(AO43=\"\",\"\",IF(AQ43=0,\"\",Berechnung!HG60))","v":""},{"$f":"IF(AO43=\"\",\"\",IF(AQ43=0,\"\",Berechnung!HH60))","v":""}]
[null,null,null,null,null,null,null,null,null,null,null,null,null,null,null,null,{"$f":"Berechnung!FX61","v":"20"},{"$f":"Berechnung!FY61","v":"JI"},{"$f":"Berechnung!FZ61","v":0},{"$f":"IF(Q44=\"\",\"\",IF(S44=0,\"\",Berechnung!GA61))","v":""},{"$f":"IF(Q44=\"\",\"\",IF(S44=0,\"\",Berechnung!GB61))","v":""},{"$f":"IF(Q44=\"\",\"\",IF(S44=0,\"\",Berechnung!GC61))","v":""},{"$f":"IF(Q44=\"\",\"\",IF(S44=0,\"\",Berechnung!GD61))","v":""},{"$f":"IF(Q44=\"\",\"\",IF(S44=0,\"\",Berechnung!GE61))","v":""},{"$f":"IF(Q44=\"\",\"\",IF(S44=0,\"\",Berechnung!GF61))","v":""},{"$f":"IF(Q44=\"\",\"\",IF(S44=0,\"\",Berechnung!GG61))","v":""},{"$f":"IF(Q44=\"\",\"\",IF(S44=0,\"\",Berechnung!GH61))","v":""},null,{"$f":"Berechnung!GK61","v":"20"},{"$f":"Berechnung!GL61","v":"JI"},{"$f":"Berechnung!GM61","v":0},{"$f":"IF(AC44=\"\",\"\",IF(AE44=0,\"\",Berechnung!GN61))","v":""},{"$f":"IF(AC44=\"\",\"\",IF(AE44=0,\"\",Berechnung!GO61))","v":""},{"$f":"IF(AC44=\"\",\"\",IF(AE44=0,\"\",Berechnung!GP61))","v":""},{"$f":"IF(AC44=\"\",\"\",IF(AE44=0,\"\",Berechnung!GQ61))","v":""},{"$f":"IF(AC44=\"\",\"\",IF(AE44=0,\"\",Berechnung!GR61))","v":""},{"$f":"IF(AC44=\"\",\"\",IF(AE44=0,\"\",Berechnung!GS61))","v":""},{"$f":"IF(AC44=\"\",\"\",IF(AE44=0,\"\",Berechnung!GT61))","v":""},{"$f":"IF(AC44=\"\",\"\",IF(AE44=0,\"\",Berechnung!GU61))","v":""},null,{"$f":"Berechnung!GX61","v":"20"},{"$f":"Berechnung!GY61","v":"JI"},{"$f":"Berechnung!GZ61","v":0},{"$f":"IF(AO44=\"\",\"\",IF(AQ44=0,\"\",Berechnung!HA61))","v":""},{"$f":"IF(AO44=\"\",\"\",IF(AQ44=0,\"\",Berechnung!HB61))","v":""},{"$f":"IF(AO44=\"\",\"\",IF(AQ44=0,\"\",Berechnung!HC61))","v":""},{"$f":"IF(AO44=\"\",\"\",IF(AQ44=0,\"\",Berechnung!HD61))","v":""},{"$f":"IF(AO44=\"\",\"\",IF(AQ44=0,\"\",Berechnung!HE61))","v":""},{"$f":"IF(AO44=\"\",\"\",IF(AQ44=0,\"\",Berechnung!HF61))","v":""},{"$f":"IF(AO44=\"\",\"\",IF(AQ44=0,\"\",Berechnung!HG61))","v":""},{"$f":"IF(AO44=\"\",\"\",IF(AQ44=0,\"\",Berechnung!HH61))","v":""}]
[null,null,null,null,null,null,null,null,null,null,null,null,null,null,null,null,{"$f":"Berechnung!FX62","v":"22"},{"$f":"Berechnung!FY62","v":"YOU"},{"$f":"Berechnung!FZ62","v":0},{"$f":"IF(Q45=\"\",\"\",IF(S45=0,\"\",Berechnung!GA62))","v":""},{"$f":"IF(Q45=\"\",\"\",IF(S45=0,\"\",Berechnung!GB62))","v":""},{"$f":"IF(Q45=\"\",\"\",IF(S45=0,\"\",Berechnung!GC62))","v":""},{"$f":"IF(Q45=\"\",\"\",IF(S45=0,\"\",Berechnung!GD62))","v":""},{"$f":"IF(Q45=\"\",\"\",IF(S45=0,\"\",Berechnung!GE62))","v":""},{"$f":"IF(Q45=\"\",\"\",IF(S45=0,\"\",Berechnung!GF62))","v":""},{"$f":"IF(Q45=\"\",\"\",IF(S45=0,\"\",Berechnung!GG62))","v":""},{"$f":"IF(Q45=\"\",\"\",IF(S45=0,\"\",Berechnung!GH62))","v":""},null,{"$f":"Berechnung!GK62","v":"22"},{"$f":"Berechnung!GL62","v":"YOU"},{"$f":"Berechnung!GM62","v":0},{"$f":"IF(AC45=\"\",\"\",IF(AE45=0,\"\",Berechnung!GN62))","v":""},{"$f":"IF(AC45=\"\",\"\",IF(AE45=0,\"\",Berechnung!GO62))","v":""},{"$f":"IF(AC45=\"\",\"\",IF(AE45=0,\"\",Berechnung!GP62))","v":""},{"$f":"IF(AC45=\"\",\"\",IF(AE45=0,\"\",Berechnung!GQ62))","v":""},{"$f":"IF(AC45=\"\",\"\",IF(AE45=0,\"\",Berechnung!GR62))","v":""},{"$f":"IF(AC45=\"\",\"\",IF(AE45=0,\"\",Berechnung!GS62))","v":""},{"$f":"IF(AC45=\"\",\"\",IF(AE45=0,\"\",Berechnung!GT62))","v":""},{"$f":"IF(AC45=\"\",\"\",IF(AE45=0,\"\",Berechnung!GU62))","v":""},null,{"$f":"Berechnung!GX62","v":"22"},{"$f":"Berechnung!GY62","v":"YOU"},{"$f":"Berechnung!GZ62","v":0},{"$f":"IF(AO45=\"\",\"\",IF(AQ45=0,\"\",Berechnung!HA62))","v":""},{"$f":"IF(AO45=\"\",\"\",IF(AQ45=0,\"\",Berechnung!HB62))","v":""},{"$f":"IF(AO45=\"\",\"\",IF(AQ45=0,\"\",Berechnung!HC62))","v":""},{"$f":"IF(AO45=\"\",\"\",IF(AQ45=0,\"\",Berechnung!HD62))","v":""},{"$f":"IF(AO45=\"\",\"\",IF(AQ45=0,\"\",Berechnung!HE62))","v":""},{"$f":"IF(AO45=\"\",\"\",IF(AQ45=0,\"\",Berechnung!HF62))","v":""},{"$f":"IF(AO45=\"\",\"\",IF(AQ45=0,\"\",Berechnung!HG62))","v":""},{"$f":"IF(AO45=\"\",\"\",IF(AQ45=0,\"\",Berechnung!HH62))","v":""}]
[null,null,null,null,null,null,null,null,null,null,null,null,null,null,null,null,{"$f":"Berechnung!FX63","v":"25"},{"$f":"Berechnung!FY63","v":"OH"},{"$f":"Berechnung!FZ63","v":0},{"$f":"IF(Q46=\"\",\"\",IF(S46=0,\"\",Berechnung!GA63))","v":""},{"$f":"IF(Q46=\"\",\"\",IF(S46=0,\"\",Berechnung!GB63))","v":""},{"$f":"IF(Q46=\"\",\"\",IF(S46=0,\"\",Berechnung!GC63))","v":""},{"$f":"IF(Q46=\"\",\"\",IF(S46=0,\"\",Berechnung!GD63))","v":""},{"$f":"IF(Q46=\"\",\"\",IF(S46=0,\"\",Berechnung!GE63))","v":""},{"$f":"IF(Q46=\"\",\"\",IF(S46=0,\"\",Berechnung!GF63))","v":""},{"$f":"IF(Q46=\"\",\"\",IF(S46=0,\"\",Berechnung!GG63))","v":""},{"$f":"IF(Q46=\"\",\"\",IF(S46=0,\"\",Berechnung!GH63))","v":""},null,{"$f":"Berechnung!GK63","v":"25"},{"$f":"Berechnung!GL63","v":"OH"},{"$f":"Berechnung!GM63","v":0},{"$f":"IF(AC46=\"\",\"\",IF(AE46=0,\"\",Berechnung!GN63))","v":""},{"$f":"IF(AC46=\"\",\"\",IF(AE46=0,\"\",Berechnung!GO63))","v":""},{"$f":"IF(AC46=\"\",\"\",IF(AE46=0,\"\",Berechnung!GP63))","v":""},{"$f":"IF(AC46=\"\",\"\",IF(AE46=0,\"\",Berechnung!GQ63))","v":""},{"$f":"IF(AC46=\"\",\"\",IF(AE46=0,\"\",Berechnung!GR63))","v":""},{"$f":"IF(AC46=\"\",\"\",IF(AE46=0,\"\",Berechnung!GS63))","v":""},{"$f":"IF(AC46=\"\",\"\",IF(AE46=0,\"\",Berechnung!GT63))","v":""},{"$f":"IF(AC46=\"\",\"\",IF(AE46=0,\"\",Berechnung!GU63))","v":""},null,{"$f":"Berechnung!GX63","v":"25"},{"$f":"Berechnung!GY63","v":"OH"},{"$f":"Berechnung!GZ63","v":0},{"$f":"IF(AO46=\"\",\"\",IF(AQ46=0,\"\",Berechnung!HA63))","v":""},{"$f":"IF(AO46=\"\",\"\",IF(AQ46=0,\"\",Berechnung!HB63))","v":""},{"$f":"IF(AO46=\"\",\"\",IF(AQ46=0,\"\",Berechnung!HC63))","v":""},{"$f":"IF(AO46=\"\",\"\",IF(AQ46=0,\"\",Berechnung!HD63))","v":""},{"$f":"IF(AO46=\"\",\"\",IF(AQ46=0,\"\",Berechnung!HE63))","v":""},{"$f":"IF(AO46=\"\",\"\",IF(AQ46=0,\"\",Berechnung!HF63))","v":""},{"$f":"IF(AO46=\"\",\"\",IF(AQ46=0,\"\",Berechnung!HG63))","v":""},{"$f":"IF(AO46=\"\",\"\",IF(AQ46=0,\"\",Berechnung!HH63))","v":""}]
[null,null,null,null,null,null,null,null,null,null,null,null,null,null,null,null,{"$f":"Berechnung!FX64","v":""},{"$f":"Berechnung!FY64","v":""},{"$f":"Berechnung!FZ64","v":""},{"$f":"IF(Q47=\"\",\"\",IF(S47=0,\"\",Berechnung!GA64))","v":""},{"$f":"IF(Q47=\"\",\"\",IF(S47=0,\"\",Berechnung!GB64))","v":""},{"$f":"IF(Q47=\"\",\"\",IF(S47=0,\"\",Berechnung!GC64))","v":""},{"$f":"IF(Q47=\"\",\"\",IF(S47=0,\"\",Berechnung!GD64))","v":""},{"$f":"IF(Q47=\"\",\"\",IF(S47=0,\"\",Berechnung!GE64))","v":""},{"$f":"IF(Q47=\"\",\"\",IF(S47=0,\"\",Berechnung!GF64))","v":""},{"$f":"IF(Q47=\"\",\"\",IF(S47=0,\"\",Berechnung!GG64))","v":""},{"$f":"IF(Q47=\"\",\"\",IF(S47=0,\"\",Berechnung!GH64))","v":""},null,{"$f":"Berechnung!GK64","v":""},{"$f":"Berechnung!GL64","v":""},{"$f":"Berechnung!GM64","v":""},{"$f":"IF(AC47=\"\",\"\",IF(AE47=0,\"\",Berechnung!GN64))","v":""},{"$f":"IF(AC47=\"\",\"\",IF(AE47=0,\"\",Berechnung!GO64))","v":""},{"$f":"IF(AC47=\"\",\"\",IF(AE47=0,\"\",Berechnung!GP64))","v":""},{"$f":"IF(AC47=\"\",\"\",IF(AE47=0,\"\",Berechnung!GQ64))","v":""},{"$f":"IF(AC47=\"\",\"\",IF(AE47=0,\"\",Berechnung!GR64))","v":""},{"$f":"IF(AC47=\"\",\"\",IF(AE47=0,\"\",Berechnung!GS64))","v":""},{"$f":"IF(AC47=\"\",\"\",IF(AE47=0,\"\",Berechnung!GT64))","v":""},{"$f":"IF(AC47=\"\",\"\",IF(AE47=0,\"\",Berechnung!GU64))","v":""},null,{"$f":"Berechnung!GX64","v":""},{"$f":"Berechnung!GY64","v":""},{"$f":"Berechnung!GZ64","v":""},{"$f":"IF(AO47=\"\",\"\",IF(AQ47=0,\"\",Berechnung!HA64))","v":""},{"$f":"IF(AO47=\"\",\"\",IF(AQ47=0,\"\",Berechnung!HB64))","v":""},{"$f":"IF(AO47=\"\",\"\",IF(AQ47=0,\"\",Berechnung!HC64))","v":""},{"$f":"IF(AO47=\"\",\"\",IF(AQ47=0,\"\",Berechnung!HD64))","v":""},{"$f":"IF(AO47=\"\",\"\",IF(AQ47=0,\"\",Berechnung!HE64))","v":""},{"$f":"IF(AO47=\"\",\"\",IF(AQ47=0,\"\",Berechnung!HF64))","v":""},{"$f":"IF(AO47=\"\",\"\",IF(AQ47=0,\"\",Berechnung!HG64))","v":""},{"$f":"IF(AO47=\"\",\"\",IF(AQ47=0,\"\",Berechnung!HH64))","v":""}]
[null,null,null,null,null,null,null,null,null,null,null,null,null,null,null,null,{"$f":"Berechnung!FX65","v":""},{"$f":"Berechnung!FY65","v":""},{"$f":"Berechnung!FZ65","v":""},{"$f":"IF(Q48=\"\",\"\",IF(S48=0,\"\",Berechnung!GA65))","v":""},{"$f":"IF(Q48=\"\",\"\",IF(S48=0,\"\",Berechnung!GB65))","v":""},{"$f":"IF(Q48=\"\",\"\",IF(S48=0,\"\",Berechnung!GC65))","v":""},{"$f":"IF(Q48=\"\",\"\",IF(S48=0,\"\",Berechnung!GD65))","v":""},{"$f":"IF(Q48=\"\",\"\",IF(S48=0,\"\",Berechnung!GE65))","v":""},{"$f":"IF(Q48=\"\",\"\",IF(S48=0,\"\",Berechnung!GF65))","v":""},{"$f":"IF(Q48=\"\",\"\",IF(S48=0,\"\",Berechnung!GG65))","v":""},{"$f":"IF(Q48=\"\",\"\",IF(S48=0,\"\",Berechnung!GH65))","v":""},null,{"$f":"Berechnung!GK65","v":""},{"$f":"Berechnung!GL65","v":""},{"$f":"Berechnung!GM65","v":""},{"$f":"IF(AC48=\"\",\"\",IF(AE48=0,\"\",Berechnung!GN65))","v":""},{"$f":"IF(AC48=\"\",\"\",IF(AE48=0,\"\",Berechnung!GO65))","v":""},{"$f":"IF(AC48=\"\",\"\",IF(AE48=0,\"\",Berechnung!GP65))","v":""},{"$f":"IF(AC48=\"\",\"\",IF(AE48=0,\"\",Berechnung!GQ65))","v":""},{"$f":"IF(AC48=\"\",\"\",IF(AE48=0,\"\",Berechnung!GR65))","v":""},{"$f":"IF(AC48=\"\",\"\",IF(AE48=0,\"\",Berechnung!GS65))","v":""},{"$f":"IF(AC48=\"\",\"\",IF(AE48=0,\"\",Berechnung!GT65))","v":""},{"$f":"IF(AC48=\"\",\"\",IF(AE48=0,\"\",Berechnung!GU65))","v":""},null,{"$f":"Berechnung!GX65","v":""},{"$f":"Berechnung!GY65","v":""},{"$f":"Berechnung!GZ65","v":""},{"$f":"IF(AO48=\"\",\"\",IF(AQ48=0,\"\",Berechnung!HA65))","v":""},{"$f":"IF(AO48=\"\",\"\",IF(AQ48=0,\"\",Berechnung!HB65))","v":""},{"$f":"IF(AO48=\"\",\"\",IF(AQ48=0,\"\",Berechnung!HC65))","v":""},{"$f":"IF(AO48=\"\",\"\",IF(AQ48=0,\"\",Berechnung!HD65))","v":""},{"$f":"IF(AO48=\"\",\"\",IF(AQ48=0,\"\",Berechnung!HE65))","v":""},{"$f":"IF(AO48=\"\",\"\",IF(AQ48=0,\"\",Berechnung!HF65))","v":""},{"$f":"IF(AO48=\"\",\"\",IF(AQ48=0,\"\",Berechnung!HG65))","v":""},{"$f":"IF(AO48=\"\",\"\",IF(AQ48=0,\"\",Berechnung!HH65))","v":""}]
[null,null,null,null,null,null,null,null,null,null,null,null,null,null,null,null,{"$f":"Berechnung!FX66","v":""},{"$f":"Berechnung!FY66","v":""},{"$f":"Berechnung!FZ66","v":""},{"$f":"IF(Q49=\"\",\"\",IF(S49=0,\"\",Berechnung!GA66))","v":""},{"$f":"IF(Q49=\"\",\"\",IF(S49=0,\"\",Berechnung!GB66))","v":""},{"$f":"IF(Q49=\"\",\"\",IF(S49=0,\"\",Berechnung!GC66))","v":""},{"$f":"IF(Q49=\"\",\"\",IF(S49=0,\"\",Berechnung!GD66))","v":""},{"$f":"IF(Q49=\"\",\"\",IF(S49=0,\"\",Berechnung!GE66))","v":""},{"$f":"IF(Q49=\"\",\"\",IF(S49=0,\"\",Berechnung!GF66))","v":""},{"$f":"IF(Q49=\"\",\"\",IF(S49=0,\"\",Berechnung!GG66))","v":""},{"$f":"IF(Q49=\"\",\"\",IF(S49=0,\"\",Berechnung!GH66))","v":""},null,{"$f":"Berechnung!GK66","v":""},{"$f":"Berechnung!GL66","v":""},{"$f":"Berechnung!GM66","v":""},{"$f":"IF(AC49=\"\",\"\",IF(AE49=0,\"\",Berechnung!GN66))","v":""},{"$f":"IF(AC49=\"\",\"\",IF(AE49=0,\"\",Berechnung!GO66))","v":""},{"$f":"IF(AC49=\"\",\"\",IF(AE49=0,\"\",Berechnung!GP66))","v":""},{"$f":"IF(AC49=\"\",\"\",IF(AE49=0,\"\",Berechnung!GQ66))","v":""},{"$f":"IF(AC49=\"\",\"\",IF(AE49=0,\"\",Berechnung!GR66))","v":""},{"$f":"IF(AC49=\"\",\"\",IF(AE49=0,\"\",Berechnung!GS66))","v":""},{"$f":"IF(AC49=\"\",\"\",IF(AE49=0,\"\",Berechnung!GT66))","v":""},{"$f":"IF(AC49=\"\",\"\",IF(AE49=0,\"\",Berechnung!GU66))","v":""},null,{"$f":"Berechnung!GX66","v":""},{"$f":"Berechnung!GY66","v":""},{"$f":"Berechnung!GZ66","v":""},{"$f":"IF(AO49=\"\",\"\",IF(AQ49=0,\"\",Berechnung!HA66))","v":""},{"$f":"IF(AO49=\"\",\"\",IF(AQ49=0,\"\",Berechnung!HB66))","v":""},{"$f":"IF(AO49=\"\",\"\",IF(AQ49=0,\"\",Berechnung!HC66))","v":""},{"$f":"IF(AO49=\"\",\"\",IF(AQ49=0,\"\",Berechnung!HD66))","v":""},{"$f":"IF(AO49=\"\",\"\",IF(AQ49=0,\"\",Berechnung!HE66))","v":""},{"$f":"IF(AO49=\"\",\"\",IF(AQ49=0,\"\",Berechnung!HF66))","v":""},{"$f":"IF(AO49=\"\",\"\",IF(AQ49=0,\"\",Berechnung!HG66))","v":""},{"$f":"IF(AO49=\"\",\"\",IF(AQ49=0,\"\",Berechnung!HH66))","v":""}]
[null,null,null,null,null,null,null,null,null,null,null,null,null,null,null,null,{"$f":"Berechnung!FX67","v":""},{"$f":"Berechnung!FY67","v":""},{"$f":"Berechnung!FZ67","v":""},{"$f":"IF(Q50=\"\",\"\",IF(S50=0,\"\",Berechnung!GA67))","v":""},{"$f":"IF(Q50=\"\",\"\",IF(S50=0,\"\",Berechnung!GB67))","v":""},{"$f":"IF(Q50=\"\",\"\",IF(S50=0,\"\",Berechnung!GC67))","v":""},{"$f":"IF(Q50=\"\",\"\",IF(S50=0,\"\",Berechnung!GD67))","v":""},{"$f":"IF(Q50=\"\",\"\",IF(S50=0,\"\",Berechnung!GE67))","v":""},{"$f":"IF(Q50=\"\",\"\",IF(S50=0,\"\",Berechnung!GF67))","v":""},{"$f":"IF(Q50=\"\",\"\",IF(S50=0,\"\",Berechnung!GG67))","v":""},{"$f":"IF(Q50=\"\",\"\",IF(S50=0,\"\",Berechnung!GH67))","v":""},null,{"$f":"Berechnung!GK67","v":""},{"$f":"Berechnung!GL67","v":""},{"$f":"Berechnung!GM67","v":""},{"$f":"IF(AC50=\"\",\"\",IF(AE50=0,\"\",Berechnung!GN67))","v":""},{"$f":"IF(AC50=\"\",\"\",IF(AE50=0,\"\",Berechnung!GO67))","v":""},{"$f":"IF(AC50=\"\",\"\",IF(AE50=0,\"\",Berechnung!GP67))","v":""},{"$f":"IF(AC50=\"\",\"\",IF(AE50=0,\"\",Berechnung!GQ67))","v":""},{"$f":"IF(AC50=\"\",\"\",IF(AE50=0,\"\",Berechnung!GR67))","v":""},{"$f":"IF(AC50=\"\",\"\",IF(AE50=0,\"\",Berechnung!GS67))","v":""},{"$f":"IF(AC50=\"\",\"\",IF(AE50=0,\"\",Berechnung!GT67))","v":""},{"$f":"IF(AC50=\"\",\"\",IF(AE50=0,\"\",Berechnung!GU67))","v":""},null,{"$f":"Berechnung!GX67","v":""},{"$f":"Berechnung!GY67","v":""},{"$f":"Berechnung!GZ67","v":""},{"$f":"IF(AO50=\"\",\"\",IF(AQ50=0,\"\",Berechnung!HA67))","v":""},{"$f":"IF(AO50=\"\",\"\",IF(AQ50=0,\"\",Berechnung!HB67))","v":""},{"$f":"IF(AO50=\"\",\"\",IF(AQ50=0,\"\",Berechnung!HC67))","v":""},{"$f":"IF(AO50=\"\",\"\",IF(AQ50=0,\"\",Berechnung!HD67))","v":""},{"$f":"IF(AO50=\"\",\"\",IF(AQ50=0,\"\",Berechnung!HE67))","v":""},{"$f":"IF(AO50=\"\",\"\",IF(AQ50=0,\"\",Berechnung!HF67))","v":""},{"$f":"IF(AO50=\"\",\"\",IF(AQ50=0,\"\",Berechnung!HG67))","v":""},{"$f":"IF(AO50=\"\",\"\",IF(AQ50=0,\"\",Berechnung!HH67))","v":""}]
[null,null,null,null,null,null,null,null,null,null,null,null,null,null,null,null,{"$f":"Berechnung!FX68","v":""},{"$f":"Berechnung!FY68","v":""},{"$f":"Berechnung!FZ68","v":""},{"$f":"IF(Q51=\"\",\"\",IF(S51=0,\"\",Berechnung!GA68))","v":""},{"$f":"IF(Q51=\"\",\"\",IF(S51=0,\"\",Berechnung!GB68))","v":""},{"$f":"IF(Q51=\"\",\"\",IF(S51=0,\"\",Berechnung!GC68))","v":""},{"$f":"IF(Q51=\"\",\"\",IF(S51=0,\"\",Berechnung!GD68))","v":""},{"$f":"IF(Q51=\"\",\"\",IF(S51=0,\"\",Berechnung!GE68))","v":""},{"$f":"IF(Q51=\"\",\"\",IF(S51=0,\"\",Berechnung!GF68))","v":""},{"$f":"IF(Q51=\"\",\"\",IF(S51=0,\"\",Berechnung!GG68))","v":""},{"$f":"IF(Q51=\"\",\"\",IF(S51=0,\"\",Berechnung!GH68))","v":""},null,{"$f":"Berechnung!GK68","v":""},{"$f":"Berechnung!GL68","v":""},{"$f":"Berechnung!GM68","v":""},{"$f":"IF(AC51=\"\",\"\",IF(AE51=0,\"\",Berechnung!GN68))","v":""},{"$f":"IF(AC51=\"\",\"\",IF(AE51=0,\"\",Berechnung!GO68))","v":""},{"$f":"IF(AC51=\"\",\"\",IF(AE51=0,\"\",Berechnung!GP68))","v":""},{"$f":"IF(AC51=\"\",\"\",IF(AE51=0,\"\",Berechnung!GQ68))","v":""},{"$f":"IF(AC51=\"\",\"\",IF(AE51=0,\"\",Berechnung!GR68))","v":""},{"$f":"IF(AC51=\"\",\"\",IF(AE51=0,\"\",Berechnung!GS68))","v":""},{"$f":"IF(AC51=\"\",\"\",IF(AE51=0,\"\",Berechnung!GT68))","v":""},{"$f":"IF(AC51=\"\",\"\",IF(AE51=0,\"\",Berechnung!GU68))","v":""},null,{"$f":"Berechnung!GX68","v":""},{"$f":"Berechnung!GY68","v":""},{"$f":"Berechnung!GZ68","v":""},{"$f":"IF(AO51=\"\",\"\",IF(AQ51=0,\"\",Berechnung!HA68))","v":""},{"$f":"IF(AO51=\"\",\"\",IF(AQ51=0,\"\",Berechnung!HB68))","v":""},{"$f":"IF(AO51=\"\",\"\",IF(AQ51=0,\"\",Berechnung!HC68))","v":""},{"$f":"IF(AO51=\"\",\"\",IF(AQ51=0,\"\",Berechnung!HD68))","v":""},{"$f":"IF(AO51=\"\",\"\",IF(AQ51=0,\"\",Berechnung!HE68))","v":""},{"$f":"IF(AO51=\"\",\"\",IF(AQ51=0,\"\",Berechnung!HF68))","v":""},{"$f":"IF(AO51=\"\",\"\",IF(AQ51=0,\"\",Berechnung!HG68))","v":""},{"$f":"IF(AO51=\"\",\"\",IF(AQ51=0,\"\",Berechnung!HH68))","v":""}]
[null,null,null,null,null,null,null,null,null,null,null,null,null,null,null,null,{"$f":"Berechnung!FX69","v":""},{"$f":"Berechnung!FY69","v":""},{"$f":"Berechnung!FZ69","v":""},{"$f":"IF(Q52=\"\",\"\",IF(S52=0,\"\",Berechnung!GA69))","v":""},{"$f":"IF(Q52=\"\",\"\",IF(S52=0,\"\",Berechnung!GB69))","v":""},{"$f":"IF(Q52=\"\",\"\",IF(S52=0,\"\",Berechnung!GC69))","v":""},{"$f":"IF(Q52=\"\",\"\",IF(S52=0,\"\",Berechnung!GD69))","v":""},{"$f":"IF(Q52=\"\",\"\",IF(S52=0,\"\",Berechnung!GE69))","v":""},{"$f":"IF(Q52=\"\",\"\",IF(S52=0,\"\",Berechnung!GF69))","v":""},{"$f":"IF(Q52=\"\",\"\",IF(S52=0,\"\",Berechnung!GG69))","v":""},{"$f":"IF(Q52=\"\",\"\",IF(S52=0,\"\",Berechnung!GH69))","v":""},null,{"$f":"Berechnung!GK69","v":""},{"$f":"Berechnung!GL69","v":""},{"$f":"Berechnung!GM69","v":""},{"$f":"IF(AC52=\"\",\"\",IF(AE52=0,\"\",Berechnung!GN69))","v":""},{"$f":"IF(AC52=\"\",\"\",IF(AE52=0,\"\",Berechnung!GO69))","v":""},{"$f":"IF(AC52=\"\",\"\",IF(AE52=0,\"\",Berechnung!GP69))","v":""},{"$f":"IF(AC52=\"\",\"\",IF(AE52=0,\"\",Berechnung!GQ69))","v":""},{"$f":"IF(AC52=\"\",\"\",IF(AE52=0,\"\",Berechnung!GR69))","v":""},{"$f":"IF(AC52=\"\",\"\",IF(AE52=0,\"\",Berechnung!GS69))","v":""},{"$f":"IF(AC52=\"\",\"\",IF(AE52=0,\"\",Berechnung!GT69))","v":""},{"$f":"IF(AC52=\"\",\"\",IF(AE52=0,\"\",Berechnung!GU69))","v":""},null,{"$f":"Berechnung!GX69","v":""},{"$f":"Berechnung!GY69","v":""},{"$f":"Berechnung!GZ69","v":""},{"$f":"IF(AO52=\"\",\"\",IF(AQ52=0,\"\",Berechnung!HA69))","v":""},{"$f":"IF(AO52=\"\",\"\",IF(AQ52=0,\"\",Berechnung!HB69))","v":""},{"$f":"IF(AO52=\"\",\"\",IF(AQ52=0,\"\",Berechnung!HC69))","v":""},{"$f":"IF(AO52=\"\",\"\",IF(AQ52=0,\"\",Berechnung!HD69))","v":""},{"$f":"IF(AO52=\"\",\"\",IF(AQ52=0,\"\",Berechnung!HE69))","v":""},{"$f":"IF(AO52=\"\",\"\",IF(AQ52=0,\"\",Berechnung!HF69))","v":""},{"$f":"IF(AO52=\"\",\"\",IF(AQ52=0,\"\",Berechnung!HG69))","v":""},{"$f":"IF(AO52=\"\",\"\",IF(AQ52=0,\"\",Berechnung!HH69))","v":""}]

{"sheet":"R 1","index":9,"n_rows":52,"n_cols":170,"rows_kept":52,"cut":false,"hidden":false,"merged":[[7,165,7,169],[4,49,4,52],[32,62,32,73],[32,2,32,5],[4,5,4,7],[7,160,7,164],[7,135,7,139],[7,131,7,134],[7,140,7,144],[12,75,12,85],[13,31,13,35],[7,145,7,149],[7,150,7,154],[7,155,7,159],[22,31,22,35],[32,31,32,35],[4,87,4,97],[1,31,1,38],[4,31,4,34],[4,40,4,43],[38,2,38,5],[38,11,38,14],[38,7,38,10],[38,17,38,19],[38,20,38,24],[24,63,24,73],[4,63,4,73],[4,75,4,85],[4,12,4,14],[4,19,4,21],[4,26,4,28],[18,75,18,85],[24,75,24,85],[6,87,6,97],[12,87,12,97],[18,87,18,97],[24,87,24,97],[6,75,6,85],[45,2,45,7],[45,9,45,10],[45,18,45,19],[45,11,45,17],[45,27,45,28],[1,9,1,28],[45,62,45,73],[1,2,1,6],[4,2,4,4],[4,9,4,11],[4,16,4,18],[4,23,4,25],[32,7,32,10],[6,63,6,73],[12,63,12,73],[18,63,18,73],[32,11,32,14],[32,16,32,19],[32,20,32,24],[32,25,32,28],[38,25,38,28]]}
[]
[null,null,"Rotation 1",null,null,null,null,null,null,{"$f":"Daten!A3","v":"KOREA"},null,null,null,null,null,null,null,null,null,null,null,null,null,null,null,null,null,null,null,null,null,"Distribution"]
[]
[]
[null,null,{"$f":"\"Base \"&Options!S7","v":"Base K1"},null,null,{"$f":"BL10&\" % (\"&BL9&\")\"","v":"67 % (6)"},null,null,null,{"$f":"\"Base \"&Options!S8","v":"Base K2"},null,null,{"$f":"BL16&\" % (\"&BL15&\")\"","v":"11 % (1)"},null,null,null,{"$f":"\"Base \"&Options!S9","v":"Base K7"},null,null,{"$f":"BL22&\" % (\"&BL21&\")\"","v":"22 % (2)"},null,null,null,{"$f":"\"Base \"&Options!S10","v":"Base KD"},null,null,{"$f":"BL28&\" % (\"&BL27&\")\"","v":"0 % (0)"},null,null,null,null,"K1 after all R",null,null,null,{"$f":"EB10","v":10},null,{"$f":"EC10","v":"20%"},{"$f":"EE10","v":0.4},null,"K1 after R#+",null,null,null,{"$f":"EB11","v":9},null,{"$f":"EC11","v":"22%"},{"$f":"EE11","v":0.44444444444444442},null,"K2 Transition",null,null,null,{"$f":"EB12","v":6},null,{"$f":"EC12","v":"17%"},{"$f":"EE12","v":0.5},null,null,null,null,null,null,"alle Punkte",null,null,null,null,null,null,null,null,null,null,null,"0-20",null,null,null,null,null,null,null,null,null,null,null,"20-x"]
[]
[null,null,null,null,null,null,null,null,null,null,null,null,null,null,null,null,null,null,null,null,null,null,null,null,null,null,null,null,null,null,null,null,null,null,null,null,null,null,null,null,null,null,null,null,null,null,null,null,null,null,null,null,null,null,null,null,null,null,null,null,null,null,null,{"$f":"\"Base \"&Options!$S7","v":"Base K1"},null,null,null,null,null,null,null,null,null,null,null,{"$f":"\"Base \"&Options!$S7","v":"Base K1"},null,null,null,null,null,null,null,null,null,null,null,{"$f":"\"Base \"&Options!$S7","v":"Base K1"},null,null,null,null,null,null,null,null,null,null,null,null,"Reception",null,null,null,null,null,null,null,null,null,null,null,"K1 after R#+",null,null,null,null,null,null,null,null,"K2 Transition",null,null,null,null,null,null,null,null,"Distribution"]
[null,null,null,null,null,null,null,null,null,null,null,null,null,null,null,null,null,null,null,null,null,null,null,null,null,null,null,null,null,null,null,null,null,null,null,null,null,null,null,null,null,null,null,null,null,null,null,null,null,null,null,null,null,null,null,null,null,null,null,null,null,null,null,{"$f":"Daten!B29","v":"K1"},{"$f":"Daten!F29","v":"P4"},{"$f":"Daten!G29","v":"SA"},{"$f":"Daten!H29","v":"H6"},{"$f":"Daten!I29","v":"P2"},{"$f":"Daten!J29","v":"H1"},{"$f":"Daten!K29","v":"P4-E"},{"$f":"Daten!L29","v":"SA-E"},{"$f":"Daten!M29","v":"H6-E"},{"$f":"Daten!N29","v":"P2-E"},{"$f":"Daten!O29","v":"H1-E"},null,{"$f":"Daten!B37","v":"K1"},{"$f":"Daten!F37","v":"P4"},{"$f":"Daten!G37","v":"SA"},{"$f":"Daten!H37","v":"H6"},{"$f":"Daten!I37","v":"P2"},{"$f":"Daten!J37","v":"H1"},{"$f":"Daten!K37","v":"P4-E"},{"$f":"Daten!L37","v":"SA-E"},{"$f":"Daten!M37","v":"H6-E"},{"$f":"Daten!N37","v":"P2-E"},{"$f":"Daten!O37","v":"H1-E"},null,{"$f":"Daten!B45","v":"K1"},{"$f":"Daten!F45","v":"P4"},{"$f":"Daten!G45","v":"SA"},{"$f":"Daten!H45","v":"H6"},{"$f":"Daten!I45","v":"P2"},{"$f":"Daten!J45","v":"H1"},{"$f":"Daten!K45","v":"P4-E"},{"$f":"Daten!L45","v":"SA-E"},{"$f":"Daten!M45","v":"H6-E"},{"$f":"Daten!N45","v":"P2-E"},{"$f":"Daten!O45","v":"H1-E"},null,null,null,{"$f":"'Daten SR'!T4","v":"R 1"},{"$f":"'Daten SR'!W4","v":"R 1/="},{"$f":"CY8&\"%\"","v":"R 1/=%"},{"$f":"'Daten SR'!V4","v":"R 1+"},{"$f":"DA8&\"%\"","v":"R 1+%"},{"$f":"'Daten SR'!U4","v":"R 1#"},{"$f":"DC8&\"%\"","v":"R 1#%"},{"$f":"DA8&\"#%\"","v":"R 1+#%"},{"$f":"CX8&\" Eff\"","v":"R 1 Eff"},null,null,null,{"$f":"'Daten A2'!F5","v":"A"},{"$f":"'Daten A2'!I5","v":"A="},{"$f":"DK8&\"%\"","v":"A=%"},{"$f":"'Daten A2'!H5","v":"A#"},{"$f":"DM8&\"%\"","v":"A#%"},{"$f":"'Daten A2'!G5","v":"Eff"},null,null,null,{"$f":"'Daten A2'!B5","v":"A"},{"$f":"'Daten A2'!E5","v":"A="},{"$f":"DT8&\"%\"","v":"A=%"},{"$f":"'Daten A2'!D5","v":"A#"},{"$f":"DV8&\"%\"","v":"A#%"},{"$f":"'Daten A2'!C5","v":"Eff"},null,null,null,"alle",null,null,null,"Pos2",null,null,null,null,"Pos3",null,null,null,null,"Pos4",null,null,null,null,"Pos9",null,null,null,null,"Pos8",null,null,null,null,"Pos7",null,null,null,null,"PosS"]
[null,null,null,null,null,null,null,null,null,null,null,null,null,null,null,null,null,null,null,null,null,null,null,null,null,null,null,null,null,null,null,{"$f":"EU10","v":0},{"$f":"EV10","v":"-"},null,{"$f":"EZ10","v":2},{"$f":"FA10","v":0.2},null,{"$f":"FE10","v":0},{"$f":"FF10","v":"-"},null,{"$f":"EU11","v":0},{"$f":"EV11","v":"-"},null,{"$f":"EZ11","v":2},{"$f":"FA11","v":0.22222222222222221},null,{"$f":"FE11","v":0},{"$f":"FF11","v":"-"},null,{"$f":"EU12","v":0},{"$f":"EV12","v":"-"},null,{"$f":"EZ12","v":1},{"$f":"FA12","v":0.16666666666666666},null,{"$f":"FE12","v":0},{"$f":"FF12","v":"-"},null,null,null,null,null,null,{"$f":"Daten!B30","v":6},{"$f":"Daten!F30","v":4},{"$f":"Daten!G30","v":0},{"$f":"Daten!H30","v":1},{"$f":"Daten!I30","v":1},{"$f":"Daten!J30","v":0},{"$f":"Daten!K30","v":"75%"},{"$f":"Daten!L30","v":"0%"},{"$f":"Daten!M30","v":"-100%"},{"$f":"Daten!N30","v":"-100%"},{"$f":"Daten!O30","v":"0%"},null,{"$f":"Daten!B38","v":5},{"$f":"Daten!F38","v":3},{"$f":"Daten!G38","v":0},{"$f":"Daten!H38","v":1},{"$f":"Daten!I38","v":1},{"$f":"Daten!J38","v":0},{"$f":"Daten!K38","v":"67%"},{"$f":"Daten!L38","v":"0%"},{"$f":"Daten!M38","v":"-100%"},{"$f":"Daten!N38","v":"-100%"},{"$f":"Daten!O38","v":"0%"},null,{"$f":"Daten!B46","v":1},{"$f":"Daten!F46","v":1},{"$f":"Daten!G46","v":0},{"$f":"Daten!H46","v":0},{"$f":"Daten!I46","v":0},{"$f":"Daten!J46","v":0},{"$f":"Daten!K46","v":"100%"},{"$f":"Daten!L46","v":"0%"},{"$f":"Daten!M46","v":"0%"},{"$f":"Daten!N46","v":"0%"},{"$f":"Daten!O46","v":"0%"},null,null,{"$f":"'Daten SR'!A5","v":"KOREA"},{"$f":"'Daten SR'!T5","v":10},{"$f":"'Daten SR'!W5","v":0},{"$f":"IF($CX9=0,\"-\",CY9/$CX9)","v":0},{"$f":"'Daten SR'!V5","v":5},{"$f":"IF($CX9=0,\"-\",DA9/$CX9)","v":0.5},{"$f":"'Daten SR'!U5","v":4},{"$f":"IF($CX9=0,\"-\",DC9/$CX9)","v":0.4},{"$f":"IF($CX9=0,\"-\",(DA9+DC9)/$CX9)","v":0.9},{"$f":"IF(CX9=0,\"-\",(DC9+DA9-CY9)/CX9)","v":0.9},null,null,{"$f":"'Daten A2'!A6","v":"KOREA"},{"$f":"'Daten A2'!F6","v":9},{"$f":"'Daten A2'!I6","v":0},{"$f":"IF($DJ9=0,\"-\",DK9/$DJ9)","v":0},{"$f":"'Daten A2'!H6","v":4},{"$f":"IF($DJ9=0,\"-\",DM9/$DJ9)","v":0.44444444444444442},{"$f":"IF($DJ9=0,\"-\",'Daten A2'!G6)","v":"22%"},null,null,{"$f":"'Daten A2'!A6","v":"KOREA"},{"$f":"'Daten A2'!B6","v":6},{"$f":"'Daten A2'!E6","v":1},{"$f":"IF($DS9=0,\"-\",DT9/$DS9)","v":0.16666666666666666},{"$f":"'Daten A2'!D6","v":3},{"$f":"IF($DS9=0,\"-\",DV9/$DS9)","v":0.5},{"$f":"IF($DS9=0,\"-\",'Daten A2'!C6)","v":"17%"},null,null,null,"r","Eff","#","#%","r","r%","Eff","#","#%","r","r%","Eff","#","#%","r","r%","Eff","#","#%","r","r%","Eff","#","#%","r","r%","Eff","#","#%","r","r%","Eff","#","#%","r","r%","Eff","#","#%"]
[null,null,null,null,null,null,null,null,null,null,null,null,null,null,null,null,null,null,null,null,null,null,null,null,null,null,null,null,null,null,null,{"$f":"EW10","v":"-"},{"$f":"EY10","v":"-"},null,{"$f":"FB10","v":"0%"},{"$f":"FD10","v":0.5},null,{"$f":"FG10","v":"-"},{"$f":"FI10","v":"-"},null,{"$f":"EW11","v":"-"},{"$f":"EY11","v":"-"},null,{"$f":"FB11","v":"0%"},{"$f":"FD11","v":0.5},null,{"$f":"FG11","v":"-"},{"$f":"FI11","v":"-"},null,{"$f":"EW12","v":"-"},{"$f":"EY12","v":"-"},null,{"$f":"FB12","v":"100%"},{"$f":"FD12","v":1},null,{"$f":"FG12","v":"-"},{"$f":"FI12","v":"-"},null,null,null,null,null,null,{"$f":"IF(BL9=0,0,ROUND(BL9/(BL9+BL15+BL21+BL27),2)*100)","v":67},{"$f":"IF($BL9=0,0,ROUND(BM9/$BL9,2)*100)","v":67},{"$f":"IF($BL9=0,0,ROUND(BN9/$BL9,2)*100)","v":0},{"$f":"IF($BL9=0,0,ROUND(BO9/$BL9,2)*100)","v":17},{"$f":"IF($BL9=0,0,ROUND(BP9/$BL9,2)*100)","v":17},{"$f":"IF($BL9=0,0,ROUND(BQ9/$BL9,2)*100)","v":0},{"$f":"IF(BM9=0,\"\",BR9)","v":"75%"},{"$f":"IF(BN9=0,\"\",BS9)","v":""},{"$f":"IF(BO9=0,\"\",BT9)","v":"-100%"},{"$f":"IF(BP9=0,\"\",BU9)","v":"-100%"},{"$f":"IF(BQ9=0,\"\",BV9)","v":""},null,{"$f":"IF(BX9=0,0,ROUND(BX9/(BX9+BX15+BX21+BX27),2)*100)","v":83},{"$f":"IF($BX9=0,0,ROUND(BY9/$BX9,2)*100)","v":60},{"$f":"IF($BX9=0,0,ROUND(BZ9/$BX9,2)*100)","v":0},{"$f":"IF($BX9=0,0,ROUND(CA9/$BX9,2)*100)","v":20},{"$f":"IF($BX9=0,0,ROUND(CB9/$BX9,2)*100)","v":20},{"$f":"IF($BX9=0,0,ROUND(CC9/$BX9,2)*100)","v":0},{"$f":"IF(BY9=0,\"\",CD9)","v":"67%"},{"$f":"IF(BZ9=0,\"\",CE9)","v":""},{"$f":"IF(CA9=0,\"\",CF9)","v":"-100%"},{"$f":"IF(CB9=0,\"\",CG9)","v":"-100%"},{"$f":"IF(CC9=0,\"\",CH9)","v":""},null,{"$f":"IF(CJ9=0,0,ROUND(CJ9/(CJ9+CJ15+CJ21+CJ27),2)*100)","v":33},{"$f":"IF($CJ9=0,0,ROUND(CK9/$CJ9,2)*100)","v":100},{"$f":"IF($CJ9=0,0,ROUND(CL9/$CJ9,2)*100)","v":0},{"$f":"IF($CJ9=0,0,ROUND(CM9/$CJ9,2)*100)","v":0},{"$f":"IF($CJ9=0,0,ROUND(CN9/$CJ9,2)*100)","v":0},{"$f":"IF($CJ9=0,0,ROUND(CO9/$CJ9,2)*100)","v":0},{"$f":"IF(CK9=0,\"\",CP9)","v":"100%"},{"$f":"IF(CL9=0,\"\",CQ9)","v":""},{"$f":"IF(CM9=0,\"\",CR9)","v":""},{"$f":"IF(CN9=0,\"\",CS9)","v":""},{"$f":"IF(CO9=0,\"\",CT9)","v":""},null,null,{"$f":"'Daten SR'!A6","v":"1 SONG"},{"$f":"'Daten SR'!T6","v":3},{"$f":"'Daten SR'!W6","v":0},{"$f":"IF(CX10=0,\"-\",CY10/CX10)","v":0},{"$f":"'Daten SR'!V6","v":2},{"$f":"IF($CX10=0,\"-\",DA10/$CX10)","v":0.66666666666666663},{"$f":"'Daten SR'!U6","v":1},{"$f":"IF($CX10=0,\"-\",DC10/$CX10)","v":0.33333333333333331},{"$f":"IF($CX10=0,\"-\",(DA10+DC10)/$CX10)","v":1},{"$f":"IF(CX10=0,\"-\",(DC10+DA10-CY10)/CX10)","v":1},null,null,{"$f":"'Daten A2'!A7","v":"1 SONG"},{"$f":"'Daten A2'!F7","v":3},{"$f":"'Daten A2'!I7","v":0},{"$f":"IF($DJ10=0,\"-\",DK10/$DJ10)","v":0},{"$f":"'Daten A2'!H7","v":2},{"$f":"IF($DJ10=0,\"-\",DM10/$DJ10)","v":0.66666666666666663},{"$f":"IF($DJ10=0,\"-\",'Daten A2'!G7)","v":"33%"},null,null,{"$f":"'Daten A2'!A7","v":"1 SONG"},{"$f":"'Daten A2'!B7","v":3},{"$f":"'Daten A2'!E7","v":0},{"$f":"IF($DS10=0,\"-\",DT10/$DS10)","v":0},{"$f":"'Daten A2'!D7","v":1},{"$f":"IF($DS10=0,\"-\",DV10/$DS10)","v":0.33333333333333331},{"$f":"IF($DS10=0,\"-\",'Daten A2'!C7)","v":"0%"},null,null,"K1 all",{"$f":"Daten!B84","v":10},{"$f":"IF(EB10=0,\"-\",Daten!C84)","v":"20%"},{"$f":"Daten!D84","v":4},{"$f":"IF(EB10=0,\"-\",ED10/EB10)","v":0.4},{"$f":"Daten!E84","v":2},{"$f":"IF(OR($EB10=0,EF10=0),\"-\",EF10/$EB10)","v":0.2},{"$f":"IF(EF10=0,\"-\",Daten!F84)","v":"-50%"},{"$f":"Daten!G84","v":0},{"$f":"IF(EF10=0,\"-\",EI10/EF10)","v":0},{"$f":"Daten!H84","v":2},{"$f":"IF(OR($EB10=0,EK10=0),\"-\",EK10/$EB10)","v":0.2},{"$f":"IF(EK10=0,\"-\",Daten!I84)","v":"0%"},{"$f":"Daten!J84","v":0},{"$f":"IF(EK10=0,\"-\",EN10/EK10)","v":0},{"$f":"Daten!K84","v":4},{"$f":"IF(OR($EB10=0,EP10=0),\"-\",EP10/$EB10)","v":0.4},{"$f":"IF(EP10=0,\"-\",Daten!L84)","v":"75%"},{"$f":"Daten!M84","v":3},{"$f":"IF(EP10=0,\"-\",ES10/EP10)","v":0.75},{"$f":"Daten!N84","v":0},{"$f":"IF(OR($EB10=0,EU10=0),\"-\",EU10/$EB10)","v":"-"},{"$f":"IF(EU10=0,\"-\",Daten!O84)","v":"-"},{"$f":"Daten!P84","v":0},{"$f":"IF(EU10=0,\"-\",EX10/EU10)","v":"-"},{"$f":"Daten!Q84","v":2},{"$f":"IF(OR($EB10=0,EZ10=0),\"-\",EZ10/$EB10)","v":0.2},{"$f":"IF(EZ10=0,\"-\",Daten!R84)","v":"0%"},{"$f":"Daten!S84","v":1},{"$f":"IF(EZ10=0,\"-\",FC10/EZ10)","v":0.5},{"$f":"Daten!T84","v":0},{"$f":"IF(OR($EB10=0,FE10=0),\"-\",FE10/$EB10)","v":"-"},{"$f":"IF(FE10=0,\"-\",Daten!U84)","v":"-"},{"$f":"Daten!V84","v":0},{"$f":"IF(FE10=0,\"-\",FH10/FE10)","v":"-"},{"$f":"Daten!W84","v":0},{"$f":"IF(OR($EB10=0,FJ10=0),\"-\",FJ10/$EB10)","v":"-"},{"$f":"IF(FJ10=0,\"-\",Daten!X84)","v":"-"},{"$f":"Daten!Y84","v":0},{"$f":"IF(FJ10=0,\"-\",FM10/FJ10)","v":"-"}]
[null,null,null,null,null,null,null,null,null,null,null,null,null,null,null,null,null,null,null,null,null,null,null,null,null,null,null,null,null,null,null,{"$f":"EF10","v":2},{"$f":"EG10","v":0.2},null,{"$f":"EK10","v":2},{"$f":"EL10","v":0.2},null,{"$f":"EP10","v":4},{"$f":"EQ10","v":0.4},null,{"$f":"EF11","v":1},{"$f":"EG11","v":0.1111111111111111},null,{"$f":"EK11","v":2},{"$f":"EL11","v":0.22222222222222221},null,{"$f":"EP11","v":4},{"$f":"EQ11","v":0.44444444444444442},null,{"$f":"EF12","v":0},{"$f":"EG12","v":"-"},null,{"$f":"EK12","v":0},{"$f":"EL12","v":"-"},null,{"$f":"EP12","v":5},{"$f":"EQ12","v":0.83333333333333337},null,null,null,null,null,null,null,null,null,null,null,null,null,null,null,null,null,null,null,null,null,null,null,null,null,null,null,null,null,null,null,null,null,null,null,null,null,null,null,null,null,null,null,{"$f":"'Daten SR'!A7","v":"4 SHIN"},{"$f":"'Daten SR'!T7","v":0},{"$f":"'Daten SR'!W7","v":0},"-",{"$f":"'Daten SR'!V7","v":0},"-",{"$f":"'Daten SR'!U7","v":0},"-","-","-",null,null,{"$f":"'Daten A2'!A8","v":"4 SHIN"},{"$f":"'Daten A2'!F8","v":0},{"$f":"'Daten A2'!I8","v":0},"-",{"$f":"'Daten A2'!H8","v":0},"-",{"$f":"IF($DJ11=0,\"-\",'Daten A2'!G8)","v":"-"},null,null,{"$f":"'Daten A2'!A8","v":"4 SHIN"},{"$f":"'Daten A2'!B8","v":0},{"$f":"'Daten A2'!E8","v":0},"-",{"$f":"'Daten A2'!D8","v":0},"-",{"$f":"IF($DS11=0,\"-\",'Daten A2'!C8)","v":"-"},null,null,"K1  R#+",{"$f":"Daten!B104","v":9},{"$f":"IF(EB11=0,\"-\",Daten!C104)","v":"22%"},{"$f":"Daten!D104","v":4},{"$f":"IF(EB11=0,\"-\",ED11/EB11)","v":0.44444444444444442},{"$f":"Daten!E104","v":1},{"$f":"IF(OR($EB11=0,EF11=0),\"-\",EF11/$EB11)","v":0.1111111111111111},{"$f":"IF(EF11=0,\"-\",Daten!F104)","v":"-100%"},{"$f":"Daten!G104","v":0},{"$f":"IF(EF11=0,\"-\",EI11/EF11)","v":0},{"$f":"Daten!H104","v":2},{"$f":"IF(OR($EB11=0,EK11=0),\"-\",EK11/$EB11)","v":0.22222222222222221},{"$f":"IF(EK11=0,\"-\",Daten!I104)","v":"0%"},{"$f":"Daten!J104","v":0},{"$f":"IF(EK11=0,\"-\",EN11/EK11)","v":0},{"$f":"Daten!K104","v":4},{"$f":"IF(OR($EB11=0,EP11=0),\"-\",EP11/$EB11)","v":0.44444444444444442},{"$f":"IF(EP11=0,\"-\",Daten!L104)","v":"75%"},{"$f":"Daten!M104","v":3},{"$f":"IF(EP11=0,\"-\",ES11/EP11)","v":0.75},{"$f":"Daten!N104","v":0},{"$f":"IF(OR($EB11=0,EU11=0),\"-\",EU11/$EB11)","v":"-"},{"$f":"IF(EU11=0,\"-\",Daten!O104)","v":"-"},{"$f":"Daten!P104","v":0},{"$f":"IF(EU11=0,\"-\",EX11/EU11)","v":"-"},{"$f":"Daten!Q104","v":2},{"$f":"IF(OR($EB11=0,EZ11=0),\"-\",EZ11/$EB11)","v":0.22222222222222221},{"$f":"IF(EZ11=0,\"-\",Daten!R104)","v":"0%"},{"$f":"Daten!S104","v":1},{"$f":"IF(EZ11=0,\"-\",FC11/EZ11)","v":0.5},{"$f":"Daten!T104","v":0},{"$f":"IF(OR($EB11=0,FE11=0),\"-\",FE11/$EB11)","v":"-"},{"$f":"IF(FE11=0,\"-\",Daten!U104)","v":"-"},{"$f":"Daten!V104","v":0},{"$f":"IF(FE11=0,\"-\",FH11/FE11)","v":"-"},{"$f":"Daten!W104","v":0},{"$f":"IF(OR($EB11=0,FJ11=0),\"-\",FJ11/$EB11)","v":"-"},{"$f":"IF(FJ11=0,\"-\",Daten!X104)","v":"-"},{"$f":"Daten!Y104","v":0},{"$f":"IF(FJ11=0,\"-\",FM11/FJ11)","v":"-"}]
[null,null,null,null,null,null,null,null,null,null,null,null,null,null,null,null,null,null,null,null,null,null,null,null,null,null,null,null,null,null,null,{"$f":"EH10","v":"-50%"},{"$f":"EJ10","v":0},null,{"$f":"EM10","v":"0%"},{"$f":"EO10","v":0},null,{"$f":"ER10","v":"75%"},{"$f":"ET10","v":0.75},null,{"$f":"EH11","v":"-100%"},{"$f":"EJ11","v":0},null,{"$f":"EM11","v":"0%"},{"$f":"EO11","v":0},null,{"$f":"ER11","v":"75%"},{"$f":"ET11","v":0.75},null,{"$f":"EH12","v":"-"},{"$f":"EJ12","v":"-"},null,{"$f":"EM12","v":"-"},{"$f":"EO12","v":"-"},null,{"$f":"ER12","v":"0%"},{"$f":"ET12","v":0.4},null,null,null,null,null,null,null,null,null,null,null,null,null,null,null,null,null,null,null,null,null,null,null,null,null,null,null,null,null,null,null,null,null,null,null,null,null,null,null,null,null,null,null,{"$f":"'Daten SR'!A8","v":"6 LEE"},{"$f":"'Daten SR'!T8","v":0},{"$f":"'Daten SR'!W8","v":0},"-",{"$f":"'Daten SR'!V8","v":0},"-",{"$f":"'Daten SR'!U8","v":0},"-","-","-",null,null,{"$f":"'Daten A2'!A9","v":"6 LEE"},{"$f":"'Daten A2'!F9","v":0},{"$f":"'Daten A2'!I9","v":0},"-",{"$f":"'Daten A2'!H9","v":0},"-",{"$f":"IF($DJ12=0,\"-\",'Daten A2'!G9)","v":"-"},null,null,{"$f":"'Daten A2'!A9","v":"6 LEE"},{"$f":"'Daten A2'!B9","v":0},{"$f":"'Daten A2'!E9","v":0},"-",{"$f":"'Daten A2'!D9","v":0},"-",{"$f":"IF($DS12=0,\"-\",'Daten A2'!C9)","v":"-"},null,null,"K2",{"$f":"Daten!B94","v":6},{"$f":"IF(EB12=0,\"-\",Daten!C94)","v":"17%"},{"$f":"Daten!D94","v":3},{"$f":"IF(EB12=0,\"-\",ED12/EB12)","v":0.5},{"$f":"Daten!E94","v":0},{"$f":"IF(OR($EB12=0,EF12=0),\"-\",EF12/$EB12)","v":"-"},{"$f":"IF(EF12=0,\"-\",Daten!F94)","v":"-"},{"$f":"Daten!G94","v":0},{"$f":"IF(EF12=0,\"-\",EI12/EF12)","v":"-"},{"$f":"Daten!H94","v":0},{"$f":"IF(OR($EB12=0,EK12=0),\"-\",EK12/$EB12)","v":"-"},{"$f":"IF(EK12=0,\"-\",Daten!I94)","v":"-"},{"$f":"Daten!J94","v":0},{"$f":"IF(EK12=0,\"-\",EN12/EK12)","v":"-"},{"$f":"Daten!K94","v":5},{"$f":"IF(OR($EB12=0,EP12=0),\"-\",EP12/$EB12)","v":0.83333333333333337},{"$f":"IF(EP12=0,\"-\",Daten!L94)","v":"0%"},{"$f":"Daten!M94","v":2},{"$f":"IF(EP12=0,\"-\",ES12/EP12)","v":0.4},{"$f":"Daten!N94","v":0},{"$f":"IF(OR($EB12=0,EU12=0),\"-\",EU12/$EB12)","v":"-"},{"$f":"IF(EU12=0,\"-\",Daten!O94)","v":"-"},{"$f":"Daten!P94","v":0},{"$f":"IF(EU12=0,\"-\",EX12/EU12)","v":"-"},{"$f":"Daten!Q94","v":1},{"$f":"IF(OR($EB12=0,EZ12=0),\"-\",EZ12/$EB12)","v":0.16666666666666666},{"$f":"IF(EZ12=0,\"-\",Daten!R94)","v":"100%"},{"$f":"Daten!S94","v":1},{"$f":"IF(EZ12=0,\"-\",FC12/EZ12)","v":1},{"$f":"Daten!T94","v":0},{"$f":"IF(OR($EB12=0,FE12=0),\"-\",FE12/$EB12)","v":"-"},{"$f":"IF(FE12=0,\"-\",Daten!U94)","v":"-"},{"$f":"Daten!V94","v":0},{"$f":"IF(FE12=0,\"-\",FH12/FE12)","v":"-"},{"$f":"Daten!W94","v":0},{"$f":"IF(OR($EB12=0,FJ12=0),\"-\",FJ12/$EB12)","v":"-"},{"$f":"IF(FJ12=0,\"-\",Daten!X94)","v":"-"},{"$f":"Daten!Y94","v":0},{"$f":"IF(FJ12=0,\"-\",FM12/FJ12)","v":"-"}]
[null,null,null,null,null,null,null,null,null,null,null,null,null,null,null,null,null,null,null,null,null,null,null,null,null,null,null,null,null,null,null,null,null,null,null,null,null,null,null,null,null,null,null,null,null,null,null,null,null,null,null,null,null,null,null,null,null,null,null,null,null,null,null,{"$f":"\"Base \"&Options!$S8","v":"Base K2"},null,null,null,null,null,null,null,null,null,null,null,{"$f":"\"Base \"&Options!$S8","v":"Base K2"},null,null,null,null,null,null,null,null,null,null,null,{"$f":"\"Base \"&Options!$S8","v":"Base K2"},null,null,null,null,null,null,null,null,null,null,null,null,{"$f":"'Daten SR'!A9","v":"8 PARK"},{"$f":"'Daten SR'!T9","v":0},{"$f":"'Daten SR'!W9","v":0},"-",{"$f":"'Daten SR'!V9","v":0},"-",{"$f":"'Daten SR'!U9","v":0},"-","-","-",null,null,{"$f":"'Daten A2'!A10","v":"8 PARK"},{"$f":"'Daten A2'!F10","v":0},{"$f":"'Daten A2'!I10","v":0},"-",{"$f":"'Daten A2'!H10","v":0},"-",{"$f":"IF($DJ13=0,\"-\",'Daten A2'!G10)","v":"-"},null,null,{"$f":"'Daten A2'!A10","v":"8 PARK"},{"$f":"'Daten A2'!B10","v":1},{"$f":"'Daten A2'!E10","v":1},1,{"$f":"'Daten A2'!D10","v":0},0,{"$f":"IF($DS13=0,\"-\",'Daten A2'!C10)","v":"-100%"}]
[null,null,null,null,null,null,null,null,null,null,null,null,null,null,null,null,null,null,null,null,null,null,null,null,null,null,null,null,null,null,null,"Reception",null,null,null,null,null,"∑","∑ %",null,"=/","=/ %",null,"+","+ %",null,"#","# %",null,"+# %","Eff",null,null,null,null,null,null,null,null,null,null,null,null,{"$f":"Daten!C29","v":"K2"},{"$f":"Daten!P29","v":"P4"},{"$f":"Daten!Q29","v":"SA"},{"$f":"Daten!R29","v":"H6"},{"$f":"Daten!S29","v":"P2"},{"$f":"Daten!T29","v":"H1"},{"$f":"Daten!U29","v":"P4-E"},{"$f":"Daten!V29","v":"SA-E"},{"$f":"Daten!W29","v":"H6-E"},{"$f":"Daten!X29","v":"P2-E"},{"$f":"Daten!Y29","v":"H1-E"},null,{"$f":"Daten!C37","v":"K2"},{"$f":"Daten!P37","v":"P4"},{"$f":"Daten!Q37","v":"SA"},{"$f":"Daten!R37","v":"H6"},{"$f":"Daten!S37","v":"P2"},{"$f":"Daten!T37","v":"H1"},{"$f":"Daten!U37","v":"P4-E"},{"$f":"Daten!V37","v":"SA-E"},{"$f":"Daten!W37","v":"H6-E"},{"$f":"Daten!X37","v":"P2-E"},{"$f":"Daten!Y37","v":"H1-E"},null,{"$f":"Daten!C45","v":"K2"},{"$f":"Daten!P45","v":"P4"},{"$f":"Daten!Q45","v":"SA"},{"$f":"Daten!R45","v":"H6"},{"$f":"Daten!S45","v":"P2"},{"$f":"Daten!T45","v":"H1"},{"$f":"Daten!U45","v":"P4-E"},{"$f":"Daten!V45","v":"SA-E"},{"$f":"Daten!W45","v":"H6-E"},{"$f":"Daten!X45","v":"P2-E"},{"$f":"Daten!Y45","v":"H1-E"},null,null,{"$f":"'Daten SR'!A10","v":"9 KWAK"},{"$f":"'Daten SR'!T10","v":4},{"$f":"'Daten SR'!W10","v":0},0,{"$f":"'Daten SR'!V10","v":2},0.5,{"$f":"'Daten SR'!U10","v":1},0.25,0.75,0.75,null,null,{"$f":"'Daten A2'!A11","v":"9 KWAK"},{"$f":"'Daten A2'!F11","v":0},{"$f":"'Daten A2'!I11","v":0},"-",{"$f":"'Daten A2'!H11","v":0},"-",{"$f":"IF($DJ14=0,\"-\",'Daten A2'!G11)","v":"-"},null,null,{"$f":"'Daten A2'!A11","v":"9 KWAK"},{"$f":"'Daten A2'!B11","v":0},{"$f":"'Daten A2'!E11","v":0},"-",{"$f":"'Daten A2'!D11","v":0},"-",{"$f":"IF($DS14=0,\"-\",'Daten A2'!C11)","v":"-"}]
[null,null,null,null,null,null,null,null,null,null,null,null,null,null,null,null,null,null,null,null,null,null,null,null,null,null,null,null,null,null,null,{"$f":"CW33","v":"KOREA"},null,null,null,null,null,{"$f":"CX33","v":10},{"$f":"AL15/$AL$15","v":1},null,{"$f":"CY33","v":0},0,null,{"$f":"DA33","v":5},0.5,null,{"$f":"DC33","v":4},0.4,null,{"$f":"DE33","v":0.9},0.9,null,null,null,null,null,null,null,null,null,null,null,null,{"$f":"Daten!C30","v":1},{"$f":"Daten!P30","v":0},{"$f":"Daten!Q30","v":1},{"$f":"Daten!R30","v":0},{"$f":"Daten!S30","v":0},{"$f":"Daten!T30","v":0},{"$f":"Daten!U30","v":"0%"},{"$f":"Daten!V30","v":"0%"},{"$f":"Daten!W30","v":"0%"},{"$f":"Daten!X30","v":"0%"},{"$f":"Daten!Y30","v":"0%"},null,{"$f":"Daten!C38","v":1},{"$f":"Daten!P38","v":0},{"$f":"Daten!Q38","v":1},{"$f":"Daten!R38","v":0},{"$f":"Daten!S38","v":0},{"$f":"Daten!T38","v":0},{"$f":"Daten!U38","v":"0%"},{"$f":"Daten!V38","v":"0%"},{"$f":"Daten!W38","v":"0%"},{"$f":"Daten!X38","v":"0%"},{"$f":"Daten!Y38","v":"0%"},null,{"$f":"Daten!C46","v":0},{"$f":"Daten!P46","v":0},{"$f":"Daten!Q46","v":0},{"$f":"Daten!R46","v":0},{"$f":"Daten!S46","v":0},{"$f":"Daten!T46","v":0},{"$f":"Daten!U46","v":"0%"},{"$f":"Daten!V46","v":"0%"},{"$f":"Daten!W46","v":"0%"},{"$f":"Daten!X46","v":"0%"},{"$f":"Daten!Y46","v":"0%"},null,null,{"$f":"'Daten SR'!A11","v":"11 CHOI"},{"$f":"'Daten SR'!T11","v":0},{"$f":"'Daten SR'!W11","v":0},"-",{"$f":"'Daten SR'!V11","v":0},"-",{"$f":"'Daten SR'!U11","v":0},"-","-","-",null,null,{"$f":"'Daten A2'!A12","v":"11 CHOI"},{"$f":"'Daten A2'!F12","v":2},{"$f":"'Daten A2'!I12","v":0},0,{"$f":"'Daten A2'!H12","v":0},0,{"$f":"IF($DJ15=0,\"-\",'Daten A2'!G12)","v":"0%"},null,null,{"$f":"'Daten A2'!A12","v":"11 CHOI"},{"$f":"'Daten A2'!B12","v":0},{"$f":"'Daten A2'!E12","v":0},"-",{"$f":"'Daten A2'!D12","v":0},"-",{"$f":"IF($DS15=0,\"-\",'Daten A2'!C12)","v":"-"}]
[null,null,null,null,null,null,null,null,null,null,null,null,null,null,null,null,null,null,null,null,null,null,null,null,null,null,null,null,null,null,null,"9 KWAK",null,null,null,null,null,4,0.4,null,0,0,null,2,0.5,null,1,0.25,null,0.75,0.75,null,null,null,null,null,null,null,null,null,null,null,null,{"$f":"IF(BL15=0,0,ROUND(BL15/(BL9+BL15+BL21+BL27),2)*100)","v":11},{"$f":"IF($BL15=0,0,ROUND(BM15/$BL15,2)*100)","v":0},{"$f":"IF($BL15=0,0,ROUND(BN15/$BL15,2)*100)","v":100},{"$f":"IF($BL15=0,0,ROUND(BO15/$BL15,2)*100)","v":0},{"$f":"IF($BL15=0,0,ROUND(BP15/$BL15,2)*100)","v":0},{"$f":"IF($BL15=0,0,ROUND(BQ15/$BL15,2)*100)","v":0},{"$f":"IF(BM15=0,\"\",BR15)","v":""},{"$f":"IF(BN15=0,\"\",BS15)","v":"0%"},{"$f":"IF(BO15=0,\"\",BT15)","v":""},{"$f":"IF(BP15=0,\"\",BU15)","v":""},{"$f":"IF(BQ15=0,\"\",BV15)","v":""},null,{"$f":"IF(BX15=0,0,ROUND(BX15/($BL9+$BL15+$BL21+$BL27),2)*100)","v":11},{"$f":"IF($BX15=0,0,ROUND(BY15/$BX15,2)*100)","v":0},{"$f":"IF($BX15=0,0,ROUND(BZ15/$BX15,2)*100)","v":100},{"$f":"IF($BX15=0,0,ROUND(CA15/$BX15,2)*100)","v":0},{"$f":"IF($BX15=0,0,ROUND(CB15/$BX15,2)*100)","v":0},{"$f":"IF($BX15=0,0,ROUND(CC15/$BX15,2)*100)","v":0},{"$f":"IF(BY15=0,\"\",CD15)","v":""},{"$f":"IF(BZ15=0,\"\",CE15)","v":"0%"},{"$f":"IF(CA15=0,\"\",CF15)","v":""},{"$f":"IF(CB15=0,\"\",CG15)","v":""},{"$f":"IF(CC15=0,\"\",CH15)","v":""},null,{"$f":"IF(CJ15=0,0,ROUND(CJ15/(CJ9+CJ15+CJ21+CJ27),2)*100)","v":0},{"$f":"IF($CJ15=0,0,ROUND(CK15/$CJ15,2)*100)","v":0},{"$f":"IF($CJ15=0,0,ROUND(CL15/$CJ15,2)*100)","v":0},{"$f":"IF($CJ15=0,0,ROUND(CM15/$CJ15,2)*100)","v":0},{"$f":"IF($CJ15=0,0,ROUND(CN15/$CJ15,2)*100)","v":0},{"$f":"IF($CJ15=0,0,ROUND(CO15/$CJ15,2)*100)","v":0},{"$f":"IF(CK15=0,\"\",CP15)","v":""},{"$f":"IF(CL15=0,\"\",CQ15)","v":""},{"$f":"IF(CM15=0,\"\",CR15)","v":""},{"$f":"IF(CN15=0,\"\",CS15)","v":""},{"$f":"IF(CO15=0,\"\",CT15)","v":""},null,null,{"$f":"'Daten SR'!A12","v":"12 JEON"},{"$f":"'Daten SR'!T12","v":0},{"$f":"'Daten SR'!W12","v":0},"-",{"$f":"'Daten SR'!V12","v":0},"-",{"$f":"'Daten SR'!U12","v":0},"-","-","-",null,null,{"$f":"'Daten A2'!A13","v":"12 JEON"},{"$f":"'Daten A2'!F13","v":0},{"$f":"'Daten A2'!I13","v":0},"-",{"$f":"'Daten A2'!H13","v":0},"-",{"$f":"IF($DJ16=0,\"-\",'Daten A2'!G13)","v":"-"},null,null,{"$f":"'Daten A2'!A13","v":"12 JEON"},{"$f":"'Daten A2'!B13","v":0},{"$f":"'Daten A2'!E13","v":0},"-",{"$f":"'Daten A2'!D13","v":0},"-",{"$f":"IF($DS16=0,\"-\",'Daten A2'!C13)","v":"-"}]
[null,null,null,null,null,null,null,null,null,null,null,null,null,null,null,null,null,null,null,null,null,null,null,null,null,null,null,null,null,null,null,"1 SONG",null,null,null,null,null,3,0.3,null,0,0,null,2,0.66666666666666663,null,1,0.33333333333333331,null,1,1,null,null,null,null,null,null,null,null,null,null,null,null,null,null,null,null,null,null,null,null,null,null,null,null,null,null,null,null,null,null,null,null,null,null,null,null,null,null,null,null,null,null,null,null,null,null,null,null,null,{"$f":"'Daten SR'!A13","v":"14 SONG"},{"$f":"'Daten SR'!T13","v":0},{"$f":"'Daten SR'!W13","v":0},"-",{"$f":"'Daten SR'!V13","v":0},"-",{"$f":"'Daten SR'!U13","v":0},"-","-","-",null,null,{"$f":"'Daten A2'!A14","v":"14 SONG"},{"$f":"'Daten A2'!F14","v":0},{"$f":"'Daten A2'!I14","v":0},"-",{"$f":"'Daten A2'!H14","v":0},"-",{"$f":"IF($DJ17=0,\"-\",'Daten A2'!G14)","v":"-"},null,null,{"$f":"'Daten A2'!A14","v":"14 SONG"},{"$f":"'Daten A2'!B14","v":0},{"$f":"'Daten A2'!E14","v":0},"-",{"$f":"'Daten A2'!D14","v":0},"-",{"$f":"IF($DS17=0,\"-\",'Daten A2'!C14)","v":"-"}]
[null,null,null,null,null,null,null,null,null,null,null,null,null,null,null,null,null,null,null,null,null,null,null,null,null,null,null,null,null,null,null,"19 JEONG",null,null,null,null,null,3,0.3,null,0,0,null,1,0.33333333333333331,null,2,0.66666666666666663,null,1,1,null,null,null,null,null,null,null,null,null,null,null,null,null,null,null,null,null,null,null,null,null,null,null,null,null,null,null,null,null,null,null,null,null,null,null,null,null,null,null,null,null,null,null,null,null,null,null,null,null,{"$f":"'Daten SR'!A14","v":"16 CHOI"},{"$f":"'Daten SR'!T14","v":0},{"$f":"'Daten SR'!W14","v":0},"-",{"$f":"'Daten SR'!V14","v":0},"-",{"$f":"'Daten SR'!U14","v":0},"-","-",{"$f":"IF(CX18=0,\"-\",(DC18+DA18-CY18)/CX18)","v":"-"},null,null,{"$f":"'Daten A2'!A15","v":"16 CHOI"},{"$f":"'Daten A2'!F15","v":3},{"$f":"'Daten A2'!I15","v":0},0,{"$f":"'Daten A2'!H15","v":2},0.66666666666666663,{"$f":"IF($DJ18=0,\"-\",'Daten A2'!G15)","v":"67%"},null,null,{"$f":"'Daten A2'!A15","v":"16 CHOI"},{"$f":"'Daten A2'!B15","v":2},{"$f":"'Daten A2'!E15","v":0},0,{"$f":"'Daten A2'!D15","v":2},1,{"$f":"IF($DS18=0,\"-\",'Daten A2'!C15)","v":"100%"}]
[null,null,null,null,null,null,null,null,null,null,null,null,null,null,null,null,null,null,null,null,null,null,null,null,null,null,null,null,null,null,null,"4 SHIN",null,null,null,null,null,0,0,null,0,"-",null,0,"-",null,0,"-",null,"-","-",null,null,null,null,null,null,null,null,null,null,null,null,{"$f":"\"Base \"&Options!$S9","v":"Base K7"},null,null,null,null,null,null,null,null,null,null,null,{"$f":"\"Base \"&Options!$S9","v":"Base K7"},null,null,null,null,null,null,null,null,null,null,null,{"$f":"\"Base \"&Options!$S9","v":"Base K7"},null,null,null,null,null,null,null,null,null,null,null,null,{"$f":"'Daten SR'!A15","v":"17 SEO"},{"$f":"'Daten SR'!T15","v":0},{"$f":"'Daten SR'!W15","v":0},"-",{"$f":"'Daten SR'!V15","v":0},"-",{"$f":"'Daten SR'!U15","v":0},"-","-","-",null,null,{"$f":"'Daten A2'!A16","v":"17 SEO"},{"$f":"'Daten A2'!F16","v":1},{"$f":"'Daten A2'!I16","v":0},0,{"$f":"'Daten A2'!H16","v":0},0,{"$f":"IF($DJ19=0,\"-\",'Daten A2'!G16)","v":"-100%"},null,null,{"$f":"'Daten A2'!A16","v":"17 SEO"},{"$f":"'Daten A2'!B16","v":0},{"$f":"'Daten A2'!E16","v":0},"-",{"$f":"'Daten A2'!D16","v":0},"-",{"$f":"IF($DS19=0,\"-\",'Daten A2'!C16)","v":"-"}]
[null,null,null,null,null,null,null,null,null,null,null,null,null,null,null,null,null,null,null,null,null,null,null,null,null,null,null,null,null,null,null,"6 LEE",null,null,null,null,null,0,0,null,0,"-",null,0,"-",null,0,"-",null,"-","-",null,null,null,null,null,null,null,null,null,null,null,null,{"$f":"Daten!D29","v":"K7"},{"$f":"Daten!Z29","v":"P4"},{"$f":"Daten!AA29","v":"SA"},{"$f":"Daten!AB29","v":"H6"},{"$f":"Daten!AC29","v":"P2"},{"$f":"Daten!AD29","v":"H1"},{"$f":"Daten!AE29","v":"P4-E"},{"$f":"Daten!AF29","v":"SA-E"},{"$f":"Daten!AG29","v":"H6-E"},{"$f":"Daten!AH29","v":"P2-E"},{"$f":"Daten!AI29","v":"H1-E"},null,{"$f":"Daten!D37","v":"K7"},{"$f":"Daten!Z37","v":"P4"},{"$f":"Daten!AA37","v":"SA"},{"$f":"Daten!AB37","v":"H6"},{"$f":"Daten!AC37","v":"P2"},{"$f":"Daten!AD37","v":"H1"},{"$f":"Daten!AE37","v":"P4-E"},{"$f":"Daten!AF37","v":"SA-E"},{"$f":"Daten!AG37","v":"H6-E"},{"$f":"Daten!AH37","v":"P2-E"},{"$f":"Daten!AI37","v":"H1-E"},null,{"$f":"Daten!D45","v":"K7"},{"$f":"Daten!Z45","v":"P4"},{"$f":"Daten!AA45","v":"SA"},{"$f":"Daten!AB45","v":"H6"},{"$f":"Daten!AC45","v":"P2"},{"$f":"Daten!AD45","v":"H1"},{"$f":"Daten!AE45","v":"P4-E"},{"$f":"Daten!AF45","v":"SA-E"},{"$f":"Daten!AG45","v":"H6-E"},{"$f":"Daten!AH45","v":"P2-E"},{"$f":"Daten!AI45","v":"H1-E"},null,null,{"$f":"'Daten SR'!A16","v":"19 JEONG"},{"$f":"'Daten SR'!T16","v":3},{"$f":"'Daten SR'!W16","v":0},0,{"$f":"'Daten SR'!V16","v":1},0.33333333333333331,{"$f":"'Daten SR'!U16","v":2},0.66666666666666663,1,1,null,null,{"$f":"'Daten A2'!A17","v":"19 JEONG"},{"$f":"'Daten A2'!F17","v":0},{"$f":"'Daten A2'!I17","v":0},"-",{"$f":"'Daten A2'!H17","v":0},"-",{"$f":"IF($DJ20=0,\"-\",'Daten A2'!G17)","v":"-"},null,null,{"$f":"'Daten A2'!A17","v":"19 JEONG"},{"$f":"'Daten A2'!B17","v":0},{"$f":"'Daten A2'!E17","v":0},"-",{"$f":"'Daten A2'!D17","v":0},"-",{"$f":"IF($DS20=0,\"-\",'Daten A2'!C17)","v":"-"}]
[null,null,null,null,null,null,null,null,null,null,null,null,null,null,null,null,null,null,null,null,null,null,null,null,null,null,null,null,null,null,null,"8 PARK",null,null,null,null,null,0,0,null,0,"-",null,0,"-",null,0,"-",null,"-","-",null,null,null,null,null,null,null,null,null,null,null,null,{"$f":"Daten!D30","v":2},{"$f":"Daten!Z30","v":0},{"$f":"Daten!AA30","v":1},{"$f":"Daten!AB30","v":1},{"$f":"Daten!AC30","v":0},{"$f":"Daten!AD30","v":0},{"$f":"Daten!AE30","v":"0%"},{"$f":"Daten!AF30","v":"0%"},{"$f":"Daten!AG30","v":"100%"},{"$f":"Daten!AH30","v":"0%"},{"$f":"Daten!AI30","v":"0%"},null,{"$f":"Daten!D38","v":0},{"$f":"Daten!Z38","v":0},{"$f":"Daten!AA38","v":0},{"$f":"Daten!AB38","v":0},{"$f":"Daten!AC38","v":0},{"$f":"Daten!AD38","v":0},{"$f":"Daten!AE38","v":"0%"},{"$f":"Daten!AF38","v":"0%"},{"$f":"Daten!AG38","v":"0%"},{"$f":"Daten!AH38","v":"0%"},{"$f":"Daten!AI38","v":"0%"},null,{"$f":"Daten!D46","v":2},{"$f":"Daten!Z46","v":0},{"$f":"Daten!AA46","v":1},{"$f":"Daten!AB46","v":1},{"$f":"Daten!AC46","v":0},{"$f":"Daten!AD46","v":0},{"$f":"Daten!AE46","v":"0%"},{"$f":"Daten!AF46","v":"0%"},{"$f":"Daten!AG46","v":"100%"},{"$f":"Daten!AH46","v":"0%"},{"$f":"Daten!AI46","v":"0%"},null,null,{"$f":"'Daten SR'!A17","v":"20 JI"},{"$f":"'Daten SR'!T17","v":0},{"$f":"'Daten SR'!W17","v":0},"-",{"$f":"'Daten SR'!V17","v":0},"-",{"$f":"'Daten SR'!U17","v":0},"-","-","-",null,null,{"$f":"'Daten A2'!A18","v":"20 JI"},{"$f":"'Daten A2'!F18","v":0},{"$f":"'Daten A2'!I18","v":0},"-",{"$f":"'Daten A2'!H18","v":0},"-",{"$f":"IF($DJ21=0,\"-\",'Daten A2'!G18)","v":"-"},null,null,{"$f":"'Daten A2'!A18","v":"20 JI"},{"$f":"'Daten A2'!B18","v":0},{"$f":"'Daten A2'!E18","v":0},"-",{"$f":"'Daten A2'!D18","v":0},"-",{"$f":"IF($DS21=0,\"-\",'Daten A2'!C18)","v":"-"}]
[null,null,null,null,null,null,null,null,null,null,null,null,null,null,null,null,null,null,null,null,null,null,null,null,null,null,null,null,null,null,null,null,null,null,null,null,null,null,null,null,null,null,null,null,null,null,null,null,null,null,null,null,null,null,null,null,null,null,null,null,null,null,null,{"$f":"IF(BL21=0,0,ROUND(BL21/(BL9+BL15+BL21+BL27),2)*100)","v":22},{"$f":"IF($BL21=0,0,ROUND(BM21/$BL21,2)*100)","v":0},{"$f":"IF($BL21=0,0,ROUND(BN21/$BL21,2)*100)","v":50},{"$f":"IF($BL21=0,0,ROUND(BO21/$BL21,2)*100)","v":50},{"$f":"IF($BL21=0,0,ROUND(BP21/$BL21,2)*100)","v":0},{"$f":"IF($BL21=0,0,ROUND(BQ21/$BL21,2)*100)","v":0},{"$f":"IF(BM21=0,\"\",BR21)","v":""},{"$f":"IF(BN21=0,\"\",BS21)","v":"0%"},{"$f":"IF(BO21=0,\"\",BT21)","v":"100%"},{"$f":"IF(BP21=0,\"\",BU21)","v":""},{"$f":"IF(BQ21=0,\"\",BV21)","v":""},null,{"$f":"IF(BX21=0,0,ROUND(BX21/($BL9+$BL15+$BL21+$BL27),2)*100)","v":0},{"$f":"IF($BX21=0,0,ROUND(BY21/$BX21,2)*100)","v":0},{"$f":"IF($BX21=0,0,ROUND(BZ21/$BX21,2)*100)","v":0},{"$f":"IF($BX21=0,0,ROUND(CA21/$BX21,2)*100)","v":0},{"$f":"IF($BX21=0,0,ROUND(CB21/$BX21,2)*100)","v":0},{"$f":"IF($BX21=0,0,ROUND(CC21/$BX21,2)*100)","v":0},{"$f":"IF(BY21=0,\"\",CD21)","v":""},{"$f":"IF(BZ21=0,\"\",CE21)","v":""},{"$f":"IF(CA21=0,\"\",CF21)","v":""},{"$f":"IF(CB21=0,\"\",CG21)","v":""},{"$f":"IF(CC21=0,\"\",CH21)","v":""},null,{"$f":"IF(CJ21=0,0,ROUND(CJ21/(CJ9+CJ15+CJ21+CJ27),2)*100)","v":67},{"$f":"IF($CJ21=0,0,ROUND(CK21/$CJ21,2)*100)","v":0},{"$f":"IF($CJ21=0,0,ROUND(CL21/$CJ21,2)*100)","v":50},{"$f":"IF($CJ21=0,0,ROUND(CM21/$CJ21,2)*100)","v":50},{"$f":"IF($CJ21=0,0,ROUND(CN21/$CJ21,2)*100)","v":0},{"$f":"IF($CJ21=0,0,ROUND(CO21/$CJ21,2)*100)","v":0},{"$f":"IF(CK21=0,\"\",CP21)","v":""},{"$f":"IF(CL21=0,\"\",CQ21)","v":"0%"},{"$f":"IF(CM21=0,\"\",CR21)","v":"100%"},{"$f":"IF(CN21=0,\"\",CS21)","v":""},{"$f":"IF(CO21=0,\"\",CT21)","v":""},null,null,{"$f":"'Daten SR'!A18","v":"22 YOU"},{"$f":"'Daten SR'!T18","v":0},{"$f":"'Daten SR'!W18","v":0},"-",{"$f":"'Daten SR'!V18","v":0},"-",{"$f":"'Daten SR'!U18","v":0},"-","-","-",null,null,{"$f":"'Daten A2'!A19","v":"22 YOU"},{"$f":"'Daten A2'!F19","v":0},{"$f":"'Daten A2'!I19","v":0},"-",{"$f":"'Daten A2'!H19","v":0},"-",{"$f":"IF($DJ22=0,\"-\",'Daten A2'!G19)","v":"-"},null,null,{"$f":"'Daten A2'!A19","v":"22 YOU"},{"$f":"'Daten A2'!B19","v":0},{"$f":"'Daten A2'!E19","v":0},"-",{"$f":"'Daten A2'!D19","v":0},"-",{"$f":"IF($DS22=0,\"-\",'Daten A2'!C19)","v":"-"}]
[null,null,null,null,null,null,null,null,null,null,null,null,null,null,null,null,null,null,null,null,null,null,null,null,null,null,null,null,null,null,null,"K1-Attacks after R#+",null,null,null,null,null,"∑","∑ %",null,"=","= %",null,"#","# %",null,"Eff",null,null,null,null,null,null,null,null,null,null,null,null,null,null,null,null,null,null,null,null,null,null,null,null,null,null,null,null,null,null,null,null,null,null,null,null,null,null,null,null,null,null,null,null,null,null,null,null,null,null,null,null,null,{"$f":"'Daten SR'!A19","v":"25 OH"},{"$f":"'Daten SR'!T19","v":0},{"$f":"'Daten SR'!W19","v":0},"-",{"$f":"'Daten SR'!V19","v":0},"-",{"$f":"'Daten SR'!U19","v":0},"-","-","-",null,null,{"$f":"'Daten A2'!A20","v":"25 OH"},{"$f":"'Daten A2'!F20","v":0},{"$f":"'Daten A2'!I20","v":0},"-",{"$f":"'Daten A2'!H20","v":0},"-",{"$f":"IF($DJ23=0,\"-\",'Daten A2'!G20)","v":"-"},null,null,{"$f":"'Daten A2'!A20","v":"25 OH"},{"$f":"'Daten A2'!B20","v":0},{"$f":"'Daten A2'!E20","v":0},"-",{"$f":"'Daten A2'!D20","v":0},"-",{"$f":"IF($DS23=0,\"-\",'Daten A2'!C20)","v":"-"}]
[null,null,null,null,null,null,null,null,null,null,null,null,null,null,null,null,null,null,null,null,null,null,null,null,null,null,null,null,null,null,null,{"$f":"DI33","v":"KOREA"},null,null,null,null,null,{"$f":"DJ33","v":9},{"$f":"AL24/$AL$24","v":1},null,{"$f":"DK33","v":0},0,null,{"$f":"DM33","v":4},{"$f":"DN33","v":0.44444444444444442},null,{"$f":"DO33","v":"22%"},null,null,null,null,null,null,null,null,null,null,null,null,null,null,null,null,null,null,null,null,null,null,null,null,null,null,null,null,null,null,null,null,null,null,null,null,null,null,null,null,null,null,null,null,null,null,null,null,null,null,null,null,null,{"$f":"'Daten SR'!A20","v":0},{"$f":"'Daten SR'!T20","v":0},{"$f":"'Daten SR'!W20","v":0},"-",{"$f":"'Daten SR'!V20","v":0},"-",{"$f":"'Daten SR'!U20","v":0},"-","-","-",null,null,{"$f":"'Daten A2'!A21","v":0},{"$f":"'Daten A2'!F21","v":0},{"$f":"'Daten A2'!I21","v":0},"-",{"$f":"'Daten A2'!H21","v":0},"-",{"$f":"IF($DJ24=0,\"-\",'Daten A2'!G21)","v":"-"},null,null,{"$f":"'Daten A2'!A21","v":0},{"$f":"'Daten A2'!B21","v":0},{"$f":"'Daten A2'!E21","v":0},"-",{"$f":"'Daten A2'!D21","v":0},"-",{"$f":"IF($DS24=0,\"-\",'Daten A2'!C21)","v":"-"}]
[null,null,null,null,null,null,null,null,null,null,null,null,null,null,null,null,null,null,null,null,null,null,null,null,null,null,null,null,null,null,null,{"$f":"DI34","v":"1 SONG"},null,null,null,null,null,{"$f":"DJ34","v":3},{"$f":"AL25/$AL$24","v":0.33333333333333331},null,0,0,null,{"$f":"DM34","v":2},0.66666666666666663,null,{"$f":"DO34","v":"33%"},null,null,null,null,null,null,null,null,null,null,null,null,null,null,null,null,{"$f":"\"Base \"&Options!$S10","v":"Base KD"},null,null,null,null,null,null,null,null,null,null,null,{"$f":"\"Base \"&Options!$S10","v":"Base KD"},null,null,null,null,null,null,null,null,null,null,null,{"$f":"\"Base \"&Options!$S10","v":"Base KD"},null,null,null,null,null,null,null,null,null,null,null,null,{"$f":"'Daten SR'!A21","v":0},{"$f":"'Daten SR'!T21","v":0},{"$f":"'Daten SR'!W21","v":0},"-",{"$f":"'Daten SR'!V21","v":0},"-",{"$f":"'Daten SR'!U21","v":0},"-","-","-",null,null,{"$f":"'Daten A2'!A22","v":0},{"$f":"'Daten A2'!F22","v":0},{"$f":"'Daten A2'!I22","v":0},"-",{"$f":"'Daten A2'!H22","v":0},"-",{"$f":"IF($DJ25=0,\"-\",'Daten A2'!G22)","v":"-"},null,null,{"$f":"'Daten A2'!A22","v":0},{"$f":"'Daten A2'!B22","v":0},{"$f":"'Daten A2'!E22","v":0},"-",{"$f":"'Daten A2'!D22","v":0},"-",{"$f":"IF($DS25=0,\"-\",'Daten A2'!C22)","v":"-"}]
[null,null,null,null,null,null,null,null,null,null,null,null,null,null,null,null,null,null,null,null,null,null,null,null,null,null,null,null,null,null,null,"16 CHOI",null,null,null,null,null,3,0.33333333333333331,null,0,0,null,2,0.66666666666666663,null,"67%",null,null,null,null,null,null,null,null,null,null,null,null,null,null,null,null,{"$f":"Daten!E29","v":"KD"},{"$f":"Daten!AJ29","v":"P4"},{"$f":"Daten!AK29","v":"SA"},{"$f":"Daten!AL29","v":"H6"},{"$f":"Daten!AM29","v":"P2"},{"$f":"Daten!AN29","v":"H1"},{"$f":"Daten!AO29","v":"P4-E"},{"$f":"Daten!AP29","v":"SA-E"},{"$f":"Daten!AQ29","v":"H6-E"},{"$f":"Daten!AR29","v":"P2-E"},{"$f":"Daten!AS29","v":"H1-E"},null,{"$f":"Daten!E37","v":"KD"},{"$f":"Daten!AJ37","v":"P4"},{"$f":"Daten!AK37","v":"SA"},{"$f":"Daten!AL37","v":"H6"},{"$f":"Daten!AM37","v":"P2"},{"$f":"Daten!AN37","v":"H1"},{"$f":"Daten!AO37","v":"P4-E"},{"$f":"Daten!AP37","v":"SA-E"},{"$f":"Daten!AQ37","v":"H6-E"},{"$f":"Daten!AR37","v":"P2-E"},{"$f":"Daten!AS37","v":"H1-E"},null,{"$f":"Daten!E45","v":"KD"},{"$f":"Daten!AJ45","v":"P4"},{"$f":"Daten!AK45","v":"SA"},{"$f":"Daten!AL45","v":"H6"},{"$f":"Daten!AM45","v":"P2"},{"$f":"Daten!AN45","v":"H1"},{"$f":"Daten!AO45","v":"P4-E"},{"$f":"Daten!AP45","v":"SA-E"},{"$f":"Daten!AQ45","v":"H6-E"},{"$f":"Daten!AR45","v":"P2-E"},{"$f":"Daten!AS45","v":"H1-E"},null,null,{"$f":"'Daten SR'!A22","v":0},{"$f":"'Daten SR'!T22","v":0},{"$f":"'Daten SR'!W22","v":0},"-",{"$f":"'Daten SR'!V22","v":0},"-",{"$f":"'Daten SR'!U22","v":0},"-","-","-",null,null,{"$f":"'Daten A2'!A23","v":0},{"$f":"'Daten A2'!F23","v":0},{"$f":"'Daten A2'!I23","v":0},"-",{"$f":"'Daten A2'!H23","v":0},"-",{"$f":"IF($DJ26=0,\"-\",'Daten A2'!G23)","v":"-"},null,null,{"$f":"'Daten A2'!A23","v":0},{"$f":"'Daten A2'!B23","v":0},{"$f":"'Daten A2'!E23","v":0},"-",{"$f":"'Daten A2'!D23","v":0},"-",{"$f":"IF($DS26=0,\"-\",'Daten A2'!C23)","v":"-"}]
[null,null,null,null,null,null,null,null,null,null,null,null,null,null,null,null,null,null,null,null,null,null,null,null,null,null,null,null,null,null,null,"11 CHOI",null,null,null,null,null,2,0.22222222222222221,null,0,0,null,0,0,null,"0%",null,null,null,null,null,null,null,null,null,null,null,null,null,null,null,null,{"$f":"Daten!E30","v":0},{"$f":"Daten!AJ30","v":0},{"$f":"Daten!AK30","v":0},{"$f":"Daten!AL30","v":0},{"$f":"Daten!AM30","v":0},{"$f":"Daten!AN30","v":0},{"$f":"Daten!AO30","v":"0%"},{"$f":"Daten!AP30","v":"0%"},{"$f":"Daten!AQ30","v":"0%"},{"$f":"Daten!AR30","v":"0%"},{"$f":"Daten!AS30","v":"0%"},null,{"$f":"Daten!E38","v":0},{"$f":"Daten!AJ38","v":0},{"$f":"Daten!AK38","v":0},{"$f":"Daten!AL38","v":0},{"$f":"Daten!AM38","v":0},{"$f":"Daten!AN38","v":0},{"$f":"Daten!AO38","v":"0%"},{"$f":"Daten!AP38","v":"0%"},{"$f":"Daten!AQ38","v":"0%"},{"$f":"Daten!AR38","v":"0%"},{"$f":"Daten!AS38","v":"0%"},null,{"$f":"Daten!E46","v":0},{"$f":"Daten!AJ46","v":0},{"$f":"Daten!AK46","v":0},{"$f":"Daten!AL46","v":0},{"$f":"Daten!AM46","v":0},{"$f":"Daten!AN46","v":0},{"$f":"Daten!AO46","v":"0%"},{"$f":"Daten!AP46","v":"0%"},{"$f":"Daten!AQ46","v":"0%"},{"$f":"Daten!AR46","v":"0%"},{"$f":"Daten!AS46","v":"0%"},null,null,{"$f":"'Daten SR'!A23","v":0},{"$f":"'Daten SR'!T23","v":0},{"$f":"'Daten SR'!W23","v":0},"-",{"$f":"'Daten SR'!V23","v":0},"-",{"$f":"'Daten SR'!U23","v":0},"-","-","-",null,null,{"$f":"'Daten A2'!A24","v":0},{"$f":"'Daten A2'!F24","v":0},{"$f":"'Daten A2'!I24","v":0},"-",{"$f":"'Daten A2'!H24","v":0},"-",{"$f":"IF($DJ27=0,\"-\",'Daten A2'!G24)","v":"-"},null,null,{"$f":"'Daten A2'!A24","v":0},{"$f":"'Daten A2'!B24","v":0},{"$f":"'Daten A2'!E24","v":0},"-",{"$f":"'Daten A2'!D24","v":0},"-",{"$f":"IF($DS27=0,\"-\",'Daten A2'!C24)","v":"-"}]
[null,null,null,null,null,null,null,null,null,null,null,null,null,null,null,null,null,null,null,null,null,null,null,null,null,null,null,null,null,null,null,"17 SEO",null,null,null,null,null,1,0.1111111111111111,null,0,0,null,0,0,null,"-100%",null,null,null,null,null,null,null,null,null,null,null,null,null,null,null,null,{"$f":"IF(BL27=0,0,ROUND(BL27/(BL9+BL15+BL21+BL27),2)*100)","v":0},{"$f":"IF($BL27=0,0,ROUND(BM27/$BL27,2)*100)","v":0},{"$f":"IF($BL27=0,0,ROUND(BN27/$BL27,2)*100)","v":0},{"$f":"IF($BL27=0,0,ROUND(BO27/$BL27,2)*100)","v":0},{"$f":"IF($BL27=0,0,ROUND(BP27/$BL27,2)*100)","v":0},{"$f":"IF($BL27=0,0,ROUND(BQ27/$BL27,2)*100)","v":0},{"$f":"IF(BM27=0,\"\",BR27)","v":""},{"$f":"IF(BN27=0,\"\",BS27)","v":""},{"$f":"IF(BO27=0,\"\",BT27)","v":""},{"$f":"IF(BP27=0,\"\",BU27)","v":""},{"$f":"IF(BQ27=0,\"\",BV27)","v":""},null,{"$f":"IF(BX27=0,0,ROUND(BX27/($BL9+$BL15+$BL21+$BL27),2)*100)","v":0},{"$f":"IF($BX27=0,0,ROUND(BY27/$BX27,2)*100)","v":0},{"$f":"IF($BX27=0,0,ROUND(BZ27/$BX27,2)*100)","v":0},{"$f":"IF($BX27=0,0,ROUND(CA27/$BX27,2)*100)","v":0},{"$f":"IF($BX27=0,0,ROUND(CB27/$BX27,2)*100)","v":0},{"$f":"IF($BX27=0,0,ROUND(CC27/$BX27,2)*100)","v":0},{"$f":"IF(BY27=0,\"\",CD27)","v":""},{"$f":"IF(BZ27=0,\"\",CE27)","v":""},{"$f":"IF(CA27=0,\"\",CF27)","v":""},{"$f":"IF(CB27=0,\"\",CG27)","v":""},{"$f":"IF(CC27=0,\"\",CH27)","v":""},null,{"$f":"IF(CJ27=0,0,ROUND(CJ27/(CJ9+CJ15+CJ21+CJ27),2)*100)","v":0},{"$f":"IF($CJ27=0,0,ROUND(CK27/$CJ27,2)*100)","v":0},{"$f":"IF($CJ27=0,0,ROUND(CL27/$CJ27,2)*100)","v":0},{"$f":"IF($CJ27=0,0,ROUND(CM27/$CJ27,2)*100)","v":0},{"$f":"IF($CJ27=0,0,ROUND(CN27/$CJ27,2)*100)","v":0},{"$f":"IF($CJ27=0,0,ROUND(CO27/$CJ27,2)*100)","v":0},{"$f":"IF(CK27=0,\"\",CP27)","v":""},{"$f":"IF(CL27=0,\"\",CQ27)","v":""},{"$f":"IF(CM27=0,\"\",CR27)","v":""},{"$f":"IF(CN27=0,\"\",CS27)","v":""},{"$f":"IF(CO27=0,\"\",CT27)","v":""},null,null,{"$f":"'Daten SR'!A24","v":0},{"$f":"'Daten SR'!T24","v":0},{"$f":"'Daten SR'!W24","v":0},"-",{"$f":"'Daten SR'!V24","v":0},"-",{"$f":"'Daten SR'!U24","v":0},"-","-","-",null,null,{"$f":"'Daten A2'!A25","v":0},{"$f":"'Daten A2'!F25","v":0},{"$f":"'Daten A2'!I25","v":0},"-",{"$f":"'Daten A2'!H25","v":0},"-",{"$f":"IF($DJ28=0,\"-\",'Daten A2'!G25)","v":"-"},null,null,{"$f":"'Daten A2'!A25","v":0},{"$f":"'Daten A2'!B25","v":0},{"$f":"'Daten A2'!E25","v":0},"-",{"$f":"'Daten A2'!D25","v":0},"-",{"$f":"IF($DS28=0,\"-\",'Daten A2'!C25)","v":"-"}]
[null,null,null,null,null,null,null,null,null,null,null,null,null,null,null,null,null,null,null,null,null,null,null,null,null,null,null,null,null,null,null,"4 SHIN",null,null,null,null,null,0,0,null,0,"-",null,0,"-",null,"-"]
[null,null,null,null,null,null,null,null,null,null,null,null,null,null,null,null,null,null,null,null,null,null,null,null,null,null,null,null,null,null,null,"6 LEE",null,null,null,null,null,0,0,null,0,"-",null,0,"-",null,"-"]
[null,null,null,null,null,null,null,null,null,null,null,null,null,null,null,null,null,null,null,null,null,null,null,null,null,null,null,null,null,null,null,"8 PARK",null,null,null,null,null,0,0,null,0,"-",null,0,"-",null,"-"]
[]
[null,null,"Rec in Pos 1",null,null,null,null,{"$f":"CI35&\" % (\"&BL35&\")\"","v":"11 % (1)"},null,null,null,"Rec in Pos 6",null,null,null,null,{"$f":"CI36&\" % (\"&BL36&\")\"","v":"56 % (5)"},null,null,null,"Rec in Pos 5",null,null,null,null,{"$f":"CI37&\" % (\"&BL37&\")\"","v":"33 % (3)"},null,null,null,null,null,"K2-Attacks - Transition",null,null,null,null,null,"∑","∑ %",null,"=","= %",null,"#","# %",null,"Eff",null,null,null,null,null,null,null,null,null,null,null,null,null,null,null,"Attack depending on R Position",null,null,null,null,null,null,null,null,null,null,null,null,null,null,null,null,null,null,null,null,null,null,null,null,null,null,null,null,null,null,null,null,null,null,null,null,null,"KOREA",10,0,0,5,0.5,4,0.4,0.9,0.9,null,null,"KOREA",9,0,0,4,0.44444444444444442,"22%",null,null,"KOREA",6,1,0.16666666666666666,3,0.5,"17%"]
[null,null,null,null,null,null,null,null,null,null,null,null,null,null,null,null,null,null,null,null,null,null,null,null,null,null,null,null,null,null,null,{"$f":"DR33","v":"KOREA"},null,null,null,null,null,{"$f":"DS33","v":6},{"$f":"AL34/$AL$34","v":1},null,{"$f":"DT33","v":1},{"$f":"DU33","v":0.16666666666666666},null,{"$f":"DV33","v":3},{"$f":"DW33","v":0.5},null,{"$f":"DX33","v":"17%"},null,null,null,null,null,null,null,null,null,null,null,null,null,null,null,null,{"$f":"Daten!B55","v":"alle"},{"$f":"Daten!C55","v":"P4"},{"$f":"Daten!D55","v":"X"},{"$f":"Daten!E55","v":4},{"$f":"Daten!F55","v":1},{"$f":"Daten!G55","v":"Set"},{"$f":"Daten!H55","v":3},{"$f":"Daten!I55","v":"OF"},{"$f":"Daten!J55","v":"P2"},{"$f":"Daten!K55","v":"HF6"},{"$f":"Daten!L55","v":"HF1"},null,null,{"$f":"Daten!C55","v":"P4"},{"$f":"Daten!D55","v":"X"},{"$f":"Daten!E55","v":4},{"$f":"Daten!F55","v":1},{"$f":"Daten!G55","v":"Set"},{"$f":"Daten!H55","v":3},{"$f":"Daten!I55","v":"OF"},{"$f":"Daten!J55","v":"P2"},{"$f":"Daten!K55","v":"HF6"},{"$f":"Daten!L55","v":"HF1"},null,null,null,null,null,null,null,null,null,null,null,null,null,null,"9 KWAK",4,0,0,2,0.5,1,0.25,0.75,0.75,null,null,"1 SONG",3,0,0,2,0.66666666666666663,"33%",null,null,"1 SONG",3,0,0,1,0.33333333333333331,"0%"]
[null,null,null,null,null,null,null,null,null,null,null,null,null,null,null,null,null,null,null,null,null,null,null,null,null,null,null,null,null,null,null,{"$f":"DR34","v":"1 SONG"},null,null,null,null,null,{"$f":"DS34","v":3},{"$f":"AL35/$AL$34","v":0.5},null,{"$f":"DT34","v":0},0,null,{"$f":"DV34","v":1},0.33333333333333331,null,{"$f":"DX34","v":"0%"},null,null,null,null,null,null,null,null,null,null,null,null,null,null,null,"R1",{"$f":"Daten!B56","v":1},{"$f":"Daten!C56","v":0},{"$f":"Daten!D56","v":0},{"$f":"Daten!E56","v":1},{"$f":"Daten!F56","v":0},{"$f":"Daten!G56","v":0},{"$f":"Daten!H56","v":0},{"$f":"Daten!I56","v":0},{"$f":"Daten!J56","v":0},{"$f":"Daten!K56","v":0},{"$f":"Daten!L56","v":0},null,"R1",{"$f":"IF($BL35=0,0,ROUND(BM35/$BL35,2)*100)","v":0},0,100,0,0,0,0,0,0,0,{"$f":"IF(BL35=0,0,ROUND(BL35/$BL$41,2)*100)","v":11},null,null,null,null,null,null,null,null,null,null,null,null,null,"1 SONG",3,0,0,2,0.66666666666666663,1,0.33333333333333331,1,1,null,null,"16 CHOI",3,0,0,2,0.66666666666666663,"67%",null,null,"16 CHOI",2,0,0,2,1,"100%"]
[null,null,null,null,null,null,null,null,null,null,null,null,null,null,null,null,null,null,null,null,null,null,null,null,null,null,null,null,null,null,null,{"$f":"DR35","v":"16 CHOI"},null,null,null,null,null,2,0.33333333333333331,null,0,0,null,2,1,null,"100%",null,null,null,null,null,null,null,null,null,null,null,null,null,null,null,"R6",{"$f":"Daten!M56","v":5},{"$f":"Daten!N56","v":3},{"$f":"Daten!O56","v":0},{"$f":"Daten!P56","v":0},{"$f":"Daten!Q56","v":0},{"$f":"Daten!R56","v":0},{"$f":"Daten!S56","v":0},{"$f":"Daten!T56","v":0},{"$f":"Daten!U56","v":0},{"$f":"Daten!V56","v":1},{"$f":"Daten!W56","v":0},null,"R6",60,0,0,0,0,0,0,0,20,0,56.000000000000007,null,null,null,null,null,null,null,null,null,null,null,null,null,"19 JEONG",3,0,0,1,0.33333333333333331,2,0.66666666666666663,1,1,null,null,"11 CHOI",2,0,0,0,0,"0%",null,null,"8 PARK",1,1,1,0,0,"-100%"]
[null,null,null,null,null,null,null,null,null,null,null,null,null,null,null,null,null,null,null,null,null,null,null,null,null,null,null,null,null,null,null,"8 PARK",null,null,null,null,null,1,0.16666666666666666,null,1,1,null,0,0,null,"-100%",null,null,null,null,null,null,null,null,null,null,null,null,null,null,null,"R5",{"$f":"Daten!X56","v":3},{"$f":"Daten!Y56","v":1},{"$f":"Daten!Z56","v":0},{"$f":"Daten!AA56","v":0},{"$f":"Daten!AB56","v":0},{"$f":"Daten!AC56","v":0},{"$f":"Daten!AD56","v":0},{"$f":"Daten!AE56","v":0},{"$f":"Daten!AF56","v":1},{"$f":"Daten!AG56","v":1},{"$f":"Daten!AH56","v":0},null,"R5",33,0,0,0,0,0,0,33,33,0,33,null,null,null,null,null,null,null,null,null,null,null,null,null,"4 SHIN",0,0,"-",0,"-",0,"-","-","-",null,null,"17 SEO",1,0,0,0,0,"-100%",null,null,"4 SHIN",0,0,"-",0,"-","-"]
[null,null,null,null,null,null,null,null,null,null,null,null,null,null,null,null,null,null,null,null,null,null,null,null,null,null,null,null,null,null,null,"4 SHIN",null,null,null,null,null,0,0,null,0,"-",null,0,"-",null,"-",null,null,null,null,null,null,null,null,null,null,null,null,null,null,null,"R4",{"$f":"Daten!X63","v":0},{"$f":"Daten!Y63","v":0},{"$f":"Daten!Z63","v":0},{"$f":"Daten!AA63","v":0},{"$f":"Daten!AB63","v":0},{"$f":"Daten!AC63","v":0},{"$f":"Daten!AD63","v":0},{"$f":"Daten!AE63","v":0},{"$f":"Daten!AF63","v":0},{"$f":"Daten!AG63","v":0},{"$f":"Daten!AH63","v":0},null,"R4",0,0,0,0,0,0,0,0,0,0,0,null,null,null,null,null,null,null,null,null,null,null,null,null,"6 LEE",0,0,"-",0,"-",0,"-","-","-",null,null,"4 SHIN",0,0,"-",0,"-","-",null,null,"6 LEE",0,0,"-",0,"-","-"]
[null,null,"Rec in Pos 2",null,null,null,null,{"$f":"CI40&\" % (\"&BL40&\")\"","v":"0 % (0)"},null,null,null,"Rec in Pos 3",null,null,null,null,null,{"$f":"CI39&\" % (\"&BL39&\")\"","v":"0 % (0)"},null,null,"Rec in Pos 4",null,null,null,null,{"$f":"CI38&\" % (\"&BL38&\")\"","v":"0 % (0)"},null,null,null,null,null,"6 LEE",null,null,null,null,null,0,0,null,0,"-",null,0,"-",null,"-",null,null,null,null,null,null,null,null,null,null,null,null,null,null,null,"R3",{"$f":"Daten!M63","v":0},{"$f":"Daten!N63","v":0},{"$f":"Daten!O63","v":0},{"$f":"Daten!P63","v":0},{"$f":"Daten!Q63","v":0},{"$f":"Daten!R63","v":0},{"$f":"Daten!S63","v":0},{"$f":"Daten!T63","v":0},{"$f":"Daten!U63","v":0},{"$f":"Daten!V63","v":0},{"$f":"Daten!W63","v":0},null,"R3",0,0,0,0,0,0,0,0,0,0,0,null,null,null,null,null,null,null,null,null,null,null,null,null,"8 PARK",0,0,"-",0,"-",0,"-","-","-",null,null,"6 LEE",0,0,"-",0,"-","-",null,null,"9 KWAK",0,0,"-",0,"-","-"]
[null,null,null,null,null,null,null,null,null,null,null,null,null,null,null,null,null,null,null,null,null,null,null,null,null,null,null,null,null,null,null,"9 KWAK",null,null,null,null,null,0,0,null,0,"-",null,0,"-",null,"-",null,null,null,null,null,null,null,null,null,null,null,null,null,null,null,"R2",{"$f":"Daten!B63","v":0},{"$f":"Daten!C63","v":0},{"$f":"Daten!D63","v":0},{"$f":"Daten!E63","v":0},{"$f":"Daten!F63","v":0},{"$f":"Daten!G63","v":0},{"$f":"Daten!H63","v":0},{"$f":"Daten!I63","v":0},{"$f":"Daten!J63","v":0},{"$f":"Daten!K63","v":0},{"$f":"Daten!L63","v":0},null,"R2",0,0,0,0,0,0,0,0,0,0,0,null,null,null,null,null,null,null,null,null,null,null,null,null,"11 CHOI",0,0,"-",0,"-",0,"-","-","-",null,null,"8 PARK",0,0,"-",0,"-","-",null,null,"11 CHOI",0,0,"-",0,"-","-"]
[null,null,null,null,null,null,null,null,null,null,null,null,null,null,null,null,null,null,null,null,null,null,null,null,null,null,null,null,null,null,null,"11 CHOI",null,null,null,null,null,0,0,null,0,"-",null,0,"-",null,"-",null,null,null,null,null,null,null,null,null,null,null,null,null,null,null,null,{"$f":"SUM(BL35:BL40)","v":9},null,null,null,null,null,null,null,null,null,null,null,null,null,null,null,null,null,null,null,null,null,null,null,null,null,null,null,null,null,null,null,null,null,null,null,null,"12 JEON",0,0,"-",0,"-",0,"-","-","-",null,null,"9 KWAK",0,0,"-",0,"-","-",null,null,"12 JEON",0,0,"-",0,"-","-"]
[null,null,null,null,null,null,null,null,null,null,null,null,null,null,null,null,null,null,null,null,null,null,null,null,null,null,null,null,null,null,null,null,null,null,null,null,null,null,null,null,null,null,null,null,null,null,null,null,null,null,null,null,null,null,null,null,null,null,null,null,null,null,null,null,null,null,null,null,null,null,null,null,null,null,null,null,null,null,null,null,null,null,null,null,null,null,null,null,null,null,null,null,null,null,null,null,null,null,null,null,"14 SONG",0,0,"-",0,"-",0,"-","-","-",null,null,"12 JEON",0,0,"-",0,"-","-",null,null,"14 SONG",0,0,"-",0,"-","-"]
[null,null,null,null,null,null,null,null,null,null,null,null,null,null,null,null,null,null,null,null,null,null,null,null,null,null,null,null,null,null,null,null,null,null,null,null,null,null,null,null,null,null,null,null,null,null,null,null,null,null,null,null,null,null,null,null,null,null,null,null,null,null,null,null,null,null,null,null,null,null,null,null,null,null,null,null,null,null,null,null,null,null,null,null,null,null,null,null,null,null,null,null,null,null,null,null,null,null,null,null,"16 CHOI",0,0,"-",0,"-",0,"-","-","-",null,null,"14 SONG",0,0,"-",0,"-","-",null,null,"17 SEO",0,0,"-",0,"-","-"]
[null,null,null,null,null,null,null,null,null,null,null,null,null,null,null,null,null,null,null,null,null,null,null,null,null,null,null,null,null,null,null,null,null,null,null,null,null,null,null,null,null,null,null,null,null,null,null,null,null,null,null,null,null,null,null,null,null,null,null,null,null,null,null,null,null,null,null,null,null,null,null,null,null,null,null,null,null,null,null,null,null,null,null,null,null,null,null,null,null,null,null,null,null,null,null,null,null,null,null,null,"17 SEO",0,0,"-",0,"-",0,"-","-","-",null,null,"19 JEONG",0,0,"-",0,"-","-",null,null,"19 JEONG",0,0,"-",0,"-","-"]
[null,null,null,null,null,null,null,null,null,null,null,null,null,null,null,null,null,null,null,null,null,null,null,null,null,null,null,null,null,null,null,null,null,null,null,null,null,null,null,null,null,null,null,null,null,null,null,null,null,null,null,null,null,null,null,null,null,null,null,null,null,null,null,null,null,null,null,null,null,null,null,null,null,null,null,null,null,null,null,null,null,null,null,null,null,null,null,null,null,null,null,null,null,null,null,null,null,null,null,null,"20 JI",0,0,"-",0,"-",0,"-","-","-",null,null,"20 JI",0,0,"-",0,"-","-",null,null,"20 JI",0,0,"-",0,"-","-"]
[null,null,"Settermovement to 4",null,null,null,null,null,null,{"$f":"BL48","v":0},null,"Settermovement to 3",null,null,null,null,null,null,{"$f":"BL49","v":9},null,"Settermovement to 2",null,null,null,null,null,null,{"$f":"BL50","v":0},null,null,null,null,null,null,null,null,null,null,null,null,null,null,null,null,null,null,null,null,null,null,null,null,null,null,null,null,null,null,null,null,null,null,"Settermovement",null,null,null,null,null,null,null,null,null,null,null,null,null,null,null,null,null,null,null,null,null,null,null,null,null,null,null,null,null,null,null,null,null,null,null,null,null,"22 YOU",0,0,"-",0,"-",0,"-","-","-",null,null,"22 YOU",0,0,"-",0,"-","-",null,null,"22 YOU",0,0,"-",0,"-","-"]
[null,null,null,null,null,null,null,null,null,null,null,null,null,null,null,null,null,null,null,null,null,null,null,null,null,null,null,null,null,null,null,null,null,null,null,null,null,null,null,null,null,null,null,null,null,null,null,null,null,null,null,null,null,null,null,null,null,null,null,null,null,null,null,{"$f":"Daten!X73","v":"alle"},{"$f":"Daten!Y73","v":"P4"},{"$f":"Daten!Z73","v":"X"},{"$f":"Daten!AA73","v":4},{"$f":"Daten!AB73","v":1},{"$f":"Daten!AC73","v":"Set"},{"$f":"Daten!AD73","v":3},{"$f":"Daten!AE73","v":"OF"},{"$f":"Daten!AF73","v":"P2"},{"$f":"Daten!AG73","v":"HF6"},{"$f":"Daten!AH73","v":"HF1"},null,null,{"$f":"Daten!Y73","v":"P4"},{"$f":"Daten!Z73","v":"X"},{"$f":"Daten!AA73","v":4},{"$f":"Daten!AB73","v":1},{"$f":"Daten!AC73","v":"Set"},{"$f":"Daten!AD73","v":3},{"$f":"Daten!AE73","v":"OF"},{"$f":"Daten!AF73","v":"P2"},{"$f":"Daten!AG73","v":"HF6"},{"$f":"Daten!AH73","v":"HF1"},null,null,null,null,null,null,null,null,null,null,null,null,null,null,"25 OH",0,0,"-",0,"-",0,"-","-","-",null,null,"25 OH",0,0,"-",0,"-","-",null,null,"25 OH",0,0,"-",0,"-","-"]
[null,null,null,null,null,null,null,null,null,null,null,null,null,null,null,null,null,null,null,null,null,null,null,null,null,null,null,null,null,null,null,null,null,null,null,null,null,null,null,null,null,null,null,null,null,null,null,null,null,null,null,null,null,null,null,null,null,null,null,null,null,null,"P4",{"$f":"Daten!X74","v":0},{"$f":"Daten!Y74","v":0},{"$f":"Daten!Z74","v":0},{"$f":"Daten!AA74","v":0},{"$f":"Daten!AB74","v":0},{"$f":"Daten!AC74","v":0},{"$f":"Daten!AD74","v":0},{"$f":"Daten!AE74","v":0},{"$f":"Daten!AF74","v":0},{"$f":"Daten!AG74","v":0},{"$f":"Daten!AH74","v":0},null,"P4",{"$f":"IF($BL48=0,0,ROUND(BM48/$BL48,2)*100)","v":0},0,0,0,0,0,0,0,0,0,null,null,null,null,null,null,null,null,null,null,null,null,null,null,0,0,0,"-",0,"-",0,"-","-","-",null,null,0,0,0,"-",0,"-","-",null,null,0,0,0,"-",0,"-","-"]
[null,null,null,null,null,null,null,null,null,null,null,null,null,null,null,null,null,null,null,null,null,null,null,null,null,null,null,null,null,null,null,null,null,null,null,null,null,null,null,null,null,null,null,null,null,null,null,null,null,null,null,null,null,null,null,null,null,null,null,null,null,null,"P3",{"$f":"Daten!M74","v":9},{"$f":"Daten!N74","v":4},{"$f":"Daten!O74","v":0},{"$f":"Daten!P74","v":1},{"$f":"Daten!Q74","v":0},{"$f":"Daten!R74","v":0},{"$f":"Daten!S74","v":1},{"$f":"Daten!T74","v":0},{"$f":"Daten!U74","v":1},{"$f":"Daten!V74","v":2},{"$f":"Daten!W74","v":0},null,"P3",44,0,11,0,0,11,0,11,22,0,null,null,null,null,null,null,null,null,null,null,null,null,null,null,0,0,0,"-",0,"-",0,"-","-","-",null,null,0,0,0,"-",0,"-","-",null,null,0,0,0,"-",0,"-","-"]
[null,null,null,null,null,null,null,null,null,null,null,null,null,null,null,null,null,null,null,null,null,null,null,null,null,null,null,null,null,null,null,null,null,null,null,null,null,null,null,null,null,null,null,null,null,null,null,null,null,null,null,null,null,null,null,null,null,null,null,null,null,null,"P2",{"$f":"Daten!B74","v":0},{"$f":"Daten!C74","v":0},{"$f":"Daten!D74","v":0},{"$f":"Daten!E74","v":0},{"$f":"Daten!F74","v":0},{"$f":"Daten!G74","v":0},{"$f":"Daten!H74","v":0},{"$f":"Daten!I74","v":0},{"$f":"Daten!J74","v":0},{"$f":"Daten!K74","v":0},{"$f":"Daten!L74","v":0},null,"P2",0,0,0,0,0,0,0,0,0,0,null,null,null,null,null,null,null,null,null,null,null,null,null,null,0,0,0,"-",0,"-",0,"-","-","-",null,null,0,0,0,"-",0,"-","-",null,null,0,0,0,"-",0,"-","-"]
[null,null,null,null,null,null,null,null,null,null,null,null,null,null,null,null,null,null,null,null,null,null,null,null,null,null,null,null,null,null,null,null,null,null,null,null,null,null,null,null,null,null,null,null,null,null,null,null,null,null,null,null,null,null,null,null,null,null,null,null,null,null,null,null,null,null,null,null,null,null,null,null,null,null,null,null,null,null,null,null,null,null,null,null,null,null,null,null,null,null,null,null,null,null,null,null,null,null,null,null,0,0,0,"-",0,"-",0,"-","-","-",null,null,0,0,0,"-",0,"-","-",null,null,0,0,0,"-",0,"-","-"]
[null,null,null,null,null,null,null,null,null,null,null,null,null,null,null,null,null,null,null,null,null,null,null,null,null,null,null,null,null,null,null,null,null,null,null,null,null,null,null,null,null,null,null,null,null,null,null,null,null,null,null,null,null,null,null,null,null,null,null,null,null,null,null,null,null,null,null,null,null,null,null,null,null,null,null,null,null,null,null,null,null,null,null,null,null,null,null,null,null,null,null,null,null,null,null,null,null,null,null,null,0,0,0,"-",0,"-",0,"-","-","-",null,null,0,0,0,"-",0,"-","-",null,null,0,0,0,"-",0,"-","-"]

{"sheet":"R 6","index":10,"n_rows":52,"n_cols":170,"rows_kept":52,"cut":false,"hidden":false,"merged":[[7,165,7,169],[7,160,7,164],[1,31,1,38],[4,31,4,34],[4,40,4,43],[4,49,4,52],[6,75,6,85],[6,87,6,97],[6,63,6,73],[7,150,7,154],[7,155,7,159],[7,135,7,139],[7,131,7,134],[4,63,4,73],[4,75,4,85],[4,87,4,97],[13,31,13,35],[7,140,7,144],[7,145,7,149],[45,20,45,25],[45,26,45,28],[45,62,45,73],[18,75,18,85],[18,87,18,97],[24,87,24,97],[12,63,12,73],[12,75,12,85],[12,87,12,97],[24,75,24,85],[24,63,24,73],[38,17,38,19],[38,20,38,24],[45,17,45,19],[38,25,38,28],[45,2,45,7],[45,9,45,10],[45,11,45,16],[38,2,38,5],[38,7,38,10],[38,11,38,14],[32,2,32,5],[32,7,32,10],[32,11,32,14],[32,16,32,19],[18,63,18,73],[32,62,32,73],[22,31,22,35],[32,20,32,24],[32,31,32,35],[32,25,32,28],[4,16,4,18],[4,19,4,21],[1,2,1,6],[4,2,4,4],[4,5,4,7],[4,9,4,11],[4,12,4,14],[1,9,1,28],[4,23,4,25],[4,26,4,28]]}
[]
[null,null,"Rotation 6",null,null,null,null,null,null,{"$f":"Daten!A3","v":"KOREA"},null,null,null,null,null,null,null,null,null,null,null,null,null,null,null,null,null,null,null,null,null,"Distribution"]
[]
[]
[null,null,{"$f":"\"Base \"&Options!S7","v":"Base K1"},null,null,{"$f":"BL10&\" % (\"&BL9&\")\"","v":"50 % (4)"},null,null,null,{"$f":"\"Base \"&Options!S8","v":"Base K2"},null,null,{"$f":"BL16&\" % (\"&BL15&\")\"","v":"50 % (4)"},null,null,null,{"$f":"\"Base \"&Options!S9","v":"Base K7"},null,null,{"$f":"BL22&\" % (\"&BL21&\")\"","v":"0 % (0)"},null,null,null,{"$f":"\"Base \"&Options!S10","v":"Base KD"},null,null,{"$f":"BL28&\" % (\"&BL27&\")\"","v":"0 % (0)"},null,null,null,null,"K1 after all R",null,null,null,{"$f":"EB10","v":19},null,{"$f":"EC10","v":"47%"},{"$f":"EE10","v":0.57894736842105265},null,"K1 after R#+",null,null,null,{"$f":"EB11","v":8},null,{"$f":"EC11","v":"38%"},{"$f":"EE11","v":0.5},null,"K2 Transition",null,null,null,{"$f":"EB12","v":6},null,{"$f":"EC12","v":"-33%"},{"$f":"EE12","v":0.33333333333333331},null,null,null,null,null,null,"alle Punkte",null,null,null,null,null,null,null,null,null,null,null,"0-20",null,null,null,null,null,null,null,null,null,null,null,"20-x"]
[]
[null,null,null,null,null,null,null,null,null,null,null,null,null,null,null,null,null,null,null,null,null,null,null,null,null,null,null,null,null,null,null,null,null,null,null,null,null,null,null,null,null,null,null,null,null,null,null,null,null,null,null,null,null,null,null,null,null,null,null,null,null,null,null,{"$f":"\"Base \"&Options!$S7","v":"Base K1"},null,null,null,null,null,null,null,null,null,null,null,{"$f":"\"Base \"&Options!$S7","v":"Base K1"},null,null,null,null,null,null,null,null,null,null,null,{"$f":"\"Base \"&Options!$S7","v":"Base K1"},null,null,null,null,null,null,null,null,null,null,null,null,"Reception",null,null,null,null,null,null,null,null,null,null,null,"K1 after R#+",null,null,null,null,null,null,null,null,"K2 Transition",null,null,null,null,null,null,null,null,"Distribution"]
[null,null,null,null,null,null,null,null,null,null,null,null,null,null,null,null,null,null,null,null,null,null,null,null,null,null,null,null,null,null,null,null,null,null,null,null,null,null,null,null,null,null,null,null,null,null,null,null,null,null,null,null,null,null,null,null,null,null,null,null,null,null,null,{"$f":"Daten!B29","v":"K1"},{"$f":"Daten!F29","v":"P4"},{"$f":"Daten!G29","v":"SA"},{"$f":"Daten!H29","v":"H6"},{"$f":"Daten!I29","v":"P2"},{"$f":"Daten!J29","v":"H1"},{"$f":"Daten!K29","v":"P4-E"},{"$f":"Daten!L29","v":"SA-E"},{"$f":"Daten!M29","v":"H6-E"},{"$f":"Daten!N29","v":"P2-E"},{"$f":"Daten!O29","v":"H1-E"},null,{"$f":"Daten!B37","v":"K1"},{"$f":"Daten!F37","v":"P4"},{"$f":"Daten!G37","v":"SA"},{"$f":"Daten!H37","v":"H6"},{"$f":"Daten!I37","v":"P2"},{"$f":"Daten!J37","v":"H1"},{"$f":"Daten!K37","v":"P4-E"},{"$f":"Daten!L37","v":"SA-E"},{"$f":"Daten!M37","v":"H6-E"},{"$f":"Daten!N37","v":"P2-E"},{"$f":"Daten!O37","v":"H1-E"},null,{"$f":"Daten!B45","v":"K1"},{"$f":"Daten!F45","v":"P4"},{"$f":"Daten!G45","v":"SA"},{"$f":"Daten!H45","v":"H6"},{"$f":"Daten!I45","v":"P2"},{"$f":"Daten!J45","v":"H1"},{"$f":"Daten!K45","v":"P4-E"},{"$f":"Daten!L45","v":"SA-E"},{"$f":"Daten!M45","v":"H6-E"},{"$f":"Daten!N45","v":"P2-E"},{"$f":"Daten!O45","v":"H1-E"},null,null,null,{"$f":"'Daten SR'!X4","v":"R 6"},{"$f":"'Daten SR'!AA4","v":"R 6/="},{"$f":"CY8&\"%\"","v":"R 6/=%"},{"$f":"'Daten SR'!Z4","v":"R 6+"},{"$f":"DA8&\"%\"","v":"R 6+%"},{"$f":"'Daten SR'!Y4","v":"R 6#"},{"$f":"DC8&\"%\"","v":"R 6#%"},{"$f":"DA8&\"#%\"","v":"R 6+#%"},{"$f":"CX8&\" Eff\"","v":"R 6 Eff"},null,null,null,{"$f":"'Daten A2'!N5","v":"A"},{"$f":"'Daten A2'!Q5","v":"A="},{"$f":"DK8&\"%\"","v":"A=%"},{"$f":"'Daten A2'!P5","v":"A#"},{"$f":"DM8&\"%\"","v":"A#%"},{"$f":"'Daten A2'!O5","v":"Eff"},null,null,null,{"$f":"'Daten A2'!J5","v":"A"},{"$f":"'Daten A2'!M5","v":"A="},{"$f":"DT8&\"%\"","v":"A=%"},{"$f":"'Daten A2'!L5","v":"A#"},{"$f":"DV8&\"%\"","v":"A#%"},{"$f":"'Daten A2'!K5","v":"Eff"},null,null,null,"alle",null,null,null,"Pos2",null,null,null,null,"Pos3",null,null,null,null,"Pos4",null,null,null,null,"Pos9",null,null,null,null,"Pos8",null,null,null,null,"Pos7",null,null,null,null,"PosS"]
[null,null,null,null,null,null,null,null,null,null,null,null,null,null,null,null,null,null,null,null,null,null,null,null,null,null,null,null,null,null,null,{"$f":"EU10","v":0},{"$f":"EV10","v":"-"},null,{"$f":"EZ10","v":2},{"$f":"FA10","v":0.10526315789473684},null,{"$f":"FE10","v":0},{"$f":"FF10","v":"-"},null,{"$f":"EU11","v":0},{"$f":"EV11","v":"-"},null,{"$f":"EZ11","v":2},{"$f":"FA11","v":0.25},null,{"$f":"FE11","v":0},{"$f":"FF11","v":"-"},null,{"$f":"EU12","v":0},{"$f":"EV12","v":"-"},null,{"$f":"EZ12","v":0},{"$f":"FA12","v":"-"},null,{"$f":"FE12","v":0},{"$f":"FF12","v":"-"},null,null,null,null,null,null,{"$f":"Daten!B31","v":4},{"$f":"Daten!F31","v":0},{"$f":"Daten!G31","v":2},{"$f":"Daten!H31","v":1},{"$f":"Daten!I31","v":1},{"$f":"Daten!J31","v":0},{"$f":"Daten!K31","v":"0%"},{"$f":"Daten!L31","v":"100%"},{"$f":"Daten!M31","v":"0%"},{"$f":"Daten!N31","v":"100%"},{"$f":"Daten!O31","v":"0%"},null,{"$f":"Daten!B39","v":4},{"$f":"Daten!F39","v":0},{"$f":"Daten!G39","v":2},{"$f":"Daten!H39","v":1},{"$f":"Daten!I39","v":1},{"$f":"Daten!J39","v":0},{"$f":"Daten!K39","v":"0%"},{"$f":"Daten!L39","v":"100%"},{"$f":"Daten!M39","v":"0%"},{"$f":"Daten!N39","v":"100%"},{"$f":"Daten!O39","v":"0%"},null,{"$f":"Daten!B47","v":0},{"$f":"Daten!F47","v":0},{"$f":"Daten!G47","v":0},{"$f":"Daten!H47","v":0},{"$f":"Daten!I47","v":0},{"$f":"Daten!J47","v":0},{"$f":"Daten!K47","v":"0%"},{"$f":"Daten!L47","v":"0%"},{"$f":"Daten!M47","v":"0%"},{"$f":"Daten!N47","v":"0%"},{"$f":"Daten!O47","v":"0%"},null,null,{"$f":"'Daten SR'!A5","v":"KOREA"},{"$f":"'Daten SR'!X5","v":22},{"$f":"'Daten SR'!AA5","v":2},{"$f":"IF($CX9=0,\"-\",CY9/$CX9)","v":9.0909090909090912E-2},{"$f":"'Daten SR'!Z5","v":4},{"$f":"IF($CX9=0,\"-\",DA9/$CX9)","v":0.18181818181818182},{"$f":"'Daten SR'!Y5","v":4},{"$f":"IF($CX9=0,\"-\",DC9/$CX9)","v":0.18181818181818182},{"$f":"IF($CX9=0,\"-\",(DA9+DC9)/$CX9)","v":0.36363636363636365},{"$f":"IF(CX9=0,\"-\",(DC9+DA9-CY9)/CX9)","v":0.27272727272727271},null,null,{"$f":"'Daten A2'!A6","v":"KOREA"},{"$f":"'Daten A2'!N6","v":8},{"$f":"'Daten A2'!Q6","v":1},{"$f":"IF($DJ9=0,\"-\",DK9/$DJ9)","v":0.125},{"$f":"'Daten A2'!P6","v":4},{"$f":"IF($DJ9=0,\"-\",DM9/$DJ9)","v":0.5},{"$f":"IF($DJ9=0,\"-\",'Daten A2'!O6)","v":"38%"},null,null,{"$f":"'Daten A2'!A6","v":"KOREA"},{"$f":"'Daten A2'!J6","v":6},{"$f":"'Daten A2'!M6","v":0},{"$f":"IF($DS9=0,\"-\",DT9/$DS9)","v":0},{"$f":"'Daten A2'!L6","v":2},{"$f":"IF($DS9=0,\"-\",DV9/$DS9)","v":0.33333333333333331},{"$f":"IF($DS9=0,\"-\",'Daten A2'!K6)","v":"-33%"},null,null,null,"r","Eff","#","#%","r","r%","Eff","#","#%","r","r%","Eff","#","#%","r","r%","Eff","#","#%","r","r%","Eff","#","#%","r","r%","Eff","#","#%","r","r%","Eff","#","#%","r","r%","Eff","#","#%"]
[null,null,null,null,null,null,null,null,null,null,null,null,null,null,null,null,null,null,null,null,null,null,null,null,null,null,null,null,null,null,null,{"$f":"EW10","v":"-"},{"$f":"EY10","v":"-"},null,{"$f":"FB10","v":"50%"},{"$f":"FD10","v":0.5},null,{"$f":"FG10","v":"-"},{"$f":"FI10","v":"-"},null,{"$f":"EW11","v":"-"},{"$f":"EY11","v":"-"},null,{"$f":"FB11","v":"50%"},{"$f":"FD11","v":0.5},null,{"$f":"FG11","v":"-"},{"$f":"FI11","v":"-"},null,{"$f":"EW12","v":"-"},{"$f":"EY12","v":"-"},null,{"$f":"FB12","v":"-"},{"$f":"FD12","v":"-"},null,{"$f":"FG12","v":"-"},{"$f":"FI12","v":"-"},null,null,null,null,null,null,{"$f":"IF(BL9=0,0,ROUND(BL9/(BL9+BL15+BL21+BL27),2)*100)","v":50},{"$f":"IF($BL9=0,0,ROUND(BM9/$BL9,2)*100)","v":0},{"$f":"IF($BL9=0,0,ROUND(BN9/$BL9,2)*100)","v":50},{"$f":"IF($BL9=0,0,ROUND(BO9/$BL9,2)*100)","v":25},{"$f":"IF($BL9=0,0,ROUND(BP9/$BL9,2)*100)","v":25},{"$f":"IF($BL9=0,0,ROUND(BQ9/$BL9,2)*100)","v":0},{"$f":"IF(BM9=0,\"\",BR9)","v":""},{"$f":"IF(BN9=0,\"\",BS9)","v":"100%"},{"$f":"IF(BO9=0,\"\",BT9)","v":"0%"},{"$f":"IF(BP9=0,\"\",BU9)","v":"100%"},{"$f":"IF(BQ9=0,\"\",BV9)","v":""},null,{"$f":"IF(BX9=0,0,ROUND(BX9/(BX9+BX15+BX21+BX27),2)*100)","v":56.999999999999993},{"$f":"IF($BX9=0,0,ROUND(BY9/$BX9,2)*100)","v":0},{"$f":"IF($BX9=0,0,ROUND(BZ9/$BX9,2)*100)","v":50},{"$f":"IF($BX9=0,0,ROUND(CA9/$BX9,2)*100)","v":25},{"$f":"IF($BX9=0,0,ROUND(CB9/$BX9,2)*100)","v":25},{"$f":"IF($BX9=0,0,ROUND(CC9/$BX9,2)*100)","v":0},{"$f":"IF(BY9=0,\"\",CD9)","v":""},{"$f":"IF(BZ9=0,\"\",CE9)","v":"100%"},{"$f":"IF(CA9=0,\"\",CF9)","v":"0%"},{"$f":"IF(CB9=0,\"\",CG9)","v":"100%"},{"$f":"IF(CC9=0,\"\",CH9)","v":""},null,{"$f":"IF(CJ9=0,0,ROUND(CJ9/(CJ9+CJ15+CJ21+CJ27),2)*100)","v":0},{"$f":"IF($CJ9=0,0,ROUND(CK9/$CJ9,2)*100)","v":0},{"$f":"IF($CJ9=0,0,ROUND(CL9/$CJ9,2)*100)","v":0},{"$f":"IF($CJ9=0,0,ROUND(CM9/$CJ9,2)*100)","v":0},{"$f":"IF($CJ9=0,0,ROUND(CN9/$CJ9,2)*100)","v":0},{"$f":"IF($CJ9=0,0,ROUND(CO9/$CJ9,2)*100)","v":0},{"$f":"IF(CK9=0,\"\",CP9)","v":""},{"$f":"IF(CL9=0,\"\",CQ9)","v":""},{"$f":"IF(CM9=0,\"\",CR9)","v":""},{"$f":"IF(CN9=0,\"\",CS9)","v":""},{"$f":"IF(CO9=0,\"\",CT9)","v":""},null,null,{"$f":"'Daten SR'!A6","v":"1 SONG"},{"$f":"'Daten SR'!X6","v":3},{"$f":"'Daten SR'!AA6","v":1},{"$f":"IF($CX10=0,\"-\",CY10/$CX10)","v":0.33333333333333331},{"$f":"'Daten SR'!Z6","v":1},{"$f":"IF($CX10=0,\"-\",DA10/$CX10)","v":0.33333333333333331},{"$f":"'Daten SR'!Y6","v":0},{"$f":"IF($CX10=0,\"-\",DC10/$CX10)","v":0},{"$f":"IF($CX10=0,\"-\",(DA10+DC10)/$CX10)","v":0.33333333333333331},{"$f":"IF(CX10=0,\"-\",(DC10+DA10-CY10)/CX10)","v":0},null,null,{"$f":"'Daten A2'!A7","v":"1 SONG"},{"$f":"'Daten A2'!N7","v":3},{"$f":"'Daten A2'!Q7","v":1},{"$f":"IF($DJ10=0,\"-\",DK10/$DJ10)","v":0.33333333333333331},{"$f":"'Daten A2'!P7","v":1},{"$f":"IF($DJ10=0,\"-\",DM10/$DJ10)","v":0.33333333333333331},{"$f":"IF($DJ10=0,\"-\",'Daten A2'!O7)","v":"0%"},null,null,{"$f":"'Daten A2'!A7","v":"1 SONG"},{"$f":"'Daten A2'!J7","v":0},{"$f":"'Daten A2'!M7","v":0},{"$f":"IF($DS10=0,\"-\",DT10/$DS10)","v":"-"},{"$f":"'Daten A2'!L7","v":0},{"$f":"IF($DS10=0,\"-\",DV10/$DS10)","v":"-"},{"$f":"IF($DS10=0,\"-\",'Daten A2'!K7)","v":"-"},null,null,"K1 all",{"$f":"Daten!B85","v":19},{"$f":"Daten!C85","v":"47%"},{"$f":"Daten!D85","v":11},{"$f":"IF(EB10=0,\"-\",ED10/EB10)","v":0.57894736842105265},{"$f":"Daten!E85","v":7},{"$f":"IF(OR($EB10=0,EF10=0),\"-\",EF10/$EB10)","v":0.36842105263157893},{"$f":"IF(EF10=0,\"-\",Daten!F85)","v":"86%"},{"$f":"Daten!G85","v":6},{"$f":"IF(EF10=0,\"-\",EI10/EF10)","v":0.8571428571428571},{"$f":"Daten!H85","v":6},{"$f":"IF(OR($EB10=0,EK10=0),\"-\",EK10/$EB10)","v":0.31578947368421051},{"$f":"IF(EK10=0,\"-\",Daten!I85)","v":"33%"},{"$f":"Daten!J85","v":3},{"$f":"IF(EK10=0,\"-\",EN10/EK10)","v":0.5},{"$f":"Daten!K85","v":4},{"$f":"IF(OR($EB10=0,EP10=0),\"-\",EP10/$EB10)","v":0.21052631578947367},{"$f":"IF(EP10=0,\"-\",Daten!L85)","v":"0%"},{"$f":"Daten!M85","v":1},{"$f":"IF(EP10=0,\"-\",ES10/EP10)","v":0.25},{"$f":"Daten!N85","v":0},{"$f":"IF(OR($EB10=0,EU10=0),\"-\",EU10/$EB10)","v":"-"},{"$f":"IF(EU10=0,\"-\",Daten!O85)","v":"-"},{"$f":"Daten!P85","v":0},{"$f":"IF(EU10=0,\"-\",EX10/EU10)","v":"-"},{"$f":"Daten!Q85","v":2},{"$f":"IF(OR($EB10=0,EZ10=0),\"-\",EZ10/$EB10)","v":0.10526315789473684},{"$f":"IF(EZ10=0,\"-\",Daten!R85)","v":"50%"},{"$f":"Daten!S85","v":1},{"$f":"IF(EZ10=0,\"-\",FC10/EZ10)","v":0.5},{"$f":"Daten!T85","v":0},{"$f":"IF(OR($EB10=0,FE10=0),\"-\",FE10/$EB10)","v":"-"},{"$f":"IF(FE10=0,\"-\",Daten!U85)","v":"-"},{"$f":"Daten!V85","v":0},{"$f":"IF(FE10=0,\"-\",FH10/FE10)","v":"-"},{"$f":"Daten!W85","v":0},{"$f":"IF(OR($EB10=0,FJ10=0),\"-\",FJ10/$EB10)","v":"-"},{"$f":"IF(FJ10=0,\"-\",Daten!X85)","v":"-"},{"$f":"Daten!Y85","v":0},{"$f":"IF(FJ10=0,\"-\",FM10/FJ10)","v":"-"}]
[null,null,null,null,null,null,null,null,null,null,null,null,null,null,null,null,null,null,null,null,null,null,null,null,null,null,null,null,null,null,null,{"$f":"EF10","v":7},{"$f":"EG10","v":0.36842105263157893},null,{"$f":"EK10","v":6},{"$f":"EL10","v":0.31578947368421051},null,{"$f":"EP10","v":4},{"$f":"EQ10","v":0.21052631578947367},null,{"$f":"EF11","v":2},{"$f":"EG11","v":0.25},null,{"$f":"EK11","v":3},{"$f":"EL11","v":0.375},null,{"$f":"EP11","v":1},{"$f":"EQ11","v":0.125},null,{"$f":"EF12","v":3},{"$f":"EG12","v":0.5},null,{"$f":"EK12","v":1},{"$f":"EL12","v":0.16666666666666666},null,{"$f":"EP12","v":2},{"$f":"EQ12","v":0.33333333333333331},null,null,null,null,null,null,null,null,null,null,null,null,null,null,null,null,null,null,null,null,null,null,null,null,null,null,null,null,null,null,null,null,null,null,null,null,null,null,null,null,null,null,null,{"$f":"'Daten SR'!A7","v":"4 SHIN"},{"$f":"'Daten SR'!X7","v":0},{"$f":"'Daten SR'!AA7","v":0},"-",{"$f":"'Daten SR'!Z7","v":0},"-",{"$f":"'Daten SR'!Y7","v":0},"-","-","-",null,null,{"$f":"'Daten A2'!A8","v":"4 SHIN"},{"$f":"'Daten A2'!N8","v":0},{"$f":"'Daten A2'!Q8","v":0},"-",{"$f":"'Daten A2'!P8","v":0},"-",{"$f":"IF($DJ11=0,\"-\",'Daten A2'!O8)","v":"-"},null,null,{"$f":"'Daten A2'!A8","v":"4 SHIN"},{"$f":"'Daten A2'!J8","v":0},{"$f":"'Daten A2'!M8","v":0},"-",{"$f":"'Daten A2'!L8","v":0},"-",{"$f":"IF($DS11=0,\"-\",'Daten A2'!K8)","v":"-"},null,null,"K1  R#+",{"$f":"Daten!B105","v":8},{"$f":"IF(EB11=0,\"-\",Daten!C105)","v":"38%"},{"$f":"Daten!D105","v":4},{"$f":"IF(EB11=0,\"-\",ED11/EB11)","v":0.5},{"$f":"Daten!E105","v":2},{"$f":"IF(OR($EB11=0,EF11=0),\"-\",EF11/$EB11)","v":0.25},{"$f":"IF(EF11=0,\"-\",Daten!F105)","v":"50%"},{"$f":"Daten!G105","v":1},{"$f":"IF(EF11=0,\"-\",EI11/EF11)","v":0.5},{"$f":"Daten!H105","v":3},{"$f":"IF(OR($EB11=0,EK11=0),\"-\",EK11/$EB11)","v":0.375},{"$f":"IF(EK11=0,\"-\",Daten!I105)","v":"67%"},{"$f":"Daten!J105","v":2},{"$f":"IF(EK11=0,\"-\",EN11/EK11)","v":0.66666666666666663},{"$f":"Daten!K105","v":1},{"$f":"IF(OR($EB11=0,EP11=0),\"-\",EP11/$EB11)","v":0.125},{"$f":"IF(EP11=0,\"-\",Daten!L105)","v":"-100%"},{"$f":"Daten!M105","v":0},{"$f":"IF(EP11=0,\"-\",ES11/EP11)","v":0},{"$f":"Daten!N105","v":0},{"$f":"IF(OR($EB11=0,EU11=0),\"-\",EU11/$EB11)","v":"-"},{"$f":"IF(EU11=0,\"-\",Daten!O105)","v":"-"},{"$f":"Daten!P105","v":0},{"$f":"IF(EU11=0,\"-\",EX11/EU11)","v":"-"},{"$f":"Daten!Q105","v":2},{"$f":"IF(OR($EB11=0,EZ11=0),\"-\",EZ11/$EB11)","v":0.25},{"$f":"IF(EZ11=0,\"-\",Daten!R105)","v":"50%"},{"$f":"Daten!S105","v":1},{"$f":"IF(EZ11=0,\"-\",FC11/EZ11)","v":0.5},{"$f":"Daten!T105","v":0},{"$f":"IF(OR($EB11=0,FE11=0),\"-\",FE11/$EB11)","v":"-"},{"$f":"IF(FE11=0,\"-\",Daten!U105)","v":"-"},{"$f":"Daten!V105","v":0},{"$f":"IF(FE11=0,\"-\",FH11/FE11)","v":"-"},{"$f":"Daten!W105","v":0},{"$f":"IF(OR($EB11=0,FJ11=0),\"-\",FJ11/$EB11)","v":"-"},{"$f":"IF(FJ11=0,\"-\",Daten!X105)","v":"-"},{"$f":"Daten!Y105","v":0},{"$f":"IF(FJ11=0,\"-\",FM11/FJ11)","v":"-"}]
[null,null,null,null,null,null,null,null,null,null,null,null,null,null,null,null,null,null,null,null,null,null,null,null,null,null,null,null,null,null,null,{"$f":"EH10","v":"86%"},{"$f":"EJ10","v":0.8571428571428571},null,{"$f":"EM10","v":"33%"},{"$f":"EO10","v":0.5},null,{"$f":"ER10","v":"0%"},{"$f":"ET10","v":0.25},null,{"$f":"EH11","v":"50%"},{"$f":"EJ11","v":0.5},null,{"$f":"EM11","v":"67%"},{"$f":"EO11","v":0.66666666666666663},null,{"$f":"ER11","v":"-100%"},{"$f":"ET11","v":0},null,{"$f":"EH12","v":"-100%"},{"$f":"EJ12","v":0},null,{"$f":"EM12","v":"100%"},{"$f":"EO12","v":1},null,{"$f":"ER12","v":"0%"},{"$f":"ET12","v":0.5},null,null,null,null,null,null,null,null,null,null,null,null,null,null,null,null,null,null,null,null,null,null,null,null,null,null,null,null,null,null,null,null,null,null,null,null,null,null,null,null,null,null,null,{"$f":"'Daten SR'!A8","v":"6 LEE"},{"$f":"'Daten SR'!X8","v":0},{"$f":"'Daten SR'!AA8","v":0},"-",{"$f":"'Daten SR'!Z8","v":0},"-",{"$f":"'Daten SR'!Y8","v":0},"-","-","-",null,null,{"$f":"'Daten A2'!A9","v":"6 LEE"},{"$f":"'Daten A2'!N9","v":0},{"$f":"'Daten A2'!Q9","v":0},"-",{"$f":"'Daten A2'!P9","v":0},"-",{"$f":"IF($DJ12=0,\"-\",'Daten A2'!O9)","v":"-"},null,null,{"$f":"'Daten A2'!A9","v":"6 LEE"},{"$f":"'Daten A2'!J9","v":0},{"$f":"'Daten A2'!M9","v":0},"-",{"$f":"'Daten A2'!L9","v":0},"-",{"$f":"IF($DS12=0,\"-\",'Daten A2'!K9)","v":"-"},null,null,"K2",{"$f":"Daten!B95","v":6},{"$f":"Daten!C95","v":"-33%"},{"$f":"Daten!D95","v":2},{"$f":"IF(EB12=0,\"-\",ED12/EB12)","v":0.33333333333333331},{"$f":"Daten!E95","v":3},{"$f":"IF(OR($EB12=0,EF12=0),\"-\",EF12/$EB12)","v":0.5},{"$f":"IF(EF12=0,\"-\",Daten!F95)","v":"-100%"},{"$f":"Daten!G95","v":0},{"$f":"IF(EF12=0,\"-\",EI12/EF12)","v":0},{"$f":"Daten!H95","v":1},{"$f":"IF(OR($EB12=0,EK12=0),\"-\",EK12/$EB12)","v":0.16666666666666666},{"$f":"IF(EK12=0,\"-\",Daten!I95)","v":"100%"},{"$f":"Daten!J95","v":1},{"$f":"IF(EK12=0,\"-\",EN12/EK12)","v":1},{"$f":"Daten!K95","v":2},{"$f":"IF(OR($EB12=0,EP12=0),\"-\",EP12/$EB12)","v":0.33333333333333331},{"$f":"IF(EP12=0,\"-\",Daten!L95)","v":"0%"},{"$f":"Daten!M95","v":1},{"$f":"IF(EP12=0,\"-\",ES12/EP12)","v":0.5},{"$f":"Daten!N95","v":0},{"$f":"IF(OR($EB12=0,EU12=0),\"-\",EU12/$EB12)","v":"-"},{"$f":"IF(EU12=0,\"-\",Daten!O95)","v":"-"},{"$f":"Daten!P95","v":0},{"$f":"IF(EU12=0,\"-\",EX12/EU12)","v":"-"},{"$f":"Daten!Q95","v":0},{"$f":"IF(OR($EB12=0,EZ12=0),\"-\",EZ12/$EB12)","v":"-"},{"$f":"IF(EZ12=0,\"-\",Daten!R95)","v":"-"},{"$f":"Daten!S95","v":0},{"$f":"IF(EZ12=0,\"-\",FC12/EZ12)","v":"-"},{"$f":"Daten!T95","v":0},{"$f":"IF(OR($EB12=0,FE12=0),\"-\",FE12/$EB12)","v":"-"},{"$f":"IF(FE12=0,\"-\",Daten!U95)","v":"-"},{"$f":"Daten!V95","v":0},{"$f":"IF(FE12=0,\"-\",FH12/FE12)","v":"-"},{"$f":"Daten!W95","v":0},{"$f":"IF(OR($EB12=0,FJ12=0),\"-\",FJ12/$EB12)","v":"-"},{"$f":"IF(FJ12=0,\"-\",Daten!X95)","v":"-"},{"$f":"Daten!Y95","v":0},{"$f":"IF(FJ12=0,\"-\",FM12/FJ12)","v":"-"}]
[null,null,null,null,null,null,null,null,null,null,null,null,null,null,null,null,null,null,null,null,null,null,null,null,null,null,null,null,null,null,null,null,null,null,null,null,null,null,null,null,null,null,null,null,null,null,null,null,null,null,null,null,null,null,null,null,null,null,null,null,null,null,null,{"$f":"\"Base \"&Options!$S8","v":"Base K2"},null,null,null,null,null,null,null,null,null,null,null,{"$f":"\"Base \"&Options!$S8","v":"Base K2"},null,null,null,null,null,null,null,null,null,null,null,{"$f":"\"Base \"&Options!$S8","v":"Base K2"},null,null,null,null,null,null,null,null,null,null,null,null,{"$f":"'Daten SR'!A9","v":"8 PARK"},{"$f":"'Daten SR'!X9","v":0},{"$f":"'Daten SR'!AA9","v":0},"-",{"$f":"'Daten SR'!Z9","v":0},"-",{"$f":"'Daten SR'!Y9","v":0},"-","-","-",null,null,{"$f":"'Daten A2'!A10","v":"8 PARK"},{"$f":"'Daten A2'!N10","v":2},{"$f":"'Daten A2'!Q10","v":0},0,{"$f":"'Daten A2'!P10","v":1},0.5,{"$f":"IF($DJ13=0,\"-\",'Daten A2'!O10)","v":"50%"},null,null,{"$f":"'Daten A2'!A10","v":"8 PARK"},{"$f":"'Daten A2'!J10","v":0},{"$f":"'Daten A2'!M10","v":0},"-",{"$f":"'Daten A2'!L10","v":0},"-",{"$f":"IF($DS13=0,\"-\",'Daten A2'!K10)","v":"-"}]
[null,null,null,null,null,null,null,null,null,null,null,null,null,null,null,null,null,null,null,null,null,null,null,null,null,null,null,null,null,null,null,"Reception",null,null,null,null,null,"∑","∑ %",null,"=/","=/ %",null,"+","+ %",null,"#","# %",null,"+# %","Eff",null,null,null,null,null,null,null,null,null,null,null,null,{"$f":"Daten!C29","v":"K2"},{"$f":"Daten!P29","v":"P4"},{"$f":"Daten!Q29","v":"SA"},{"$f":"Daten!R29","v":"H6"},{"$f":"Daten!S29","v":"P2"},{"$f":"Daten!T29","v":"H1"},{"$f":"Daten!U29","v":"P4-E"},{"$f":"Daten!V29","v":"SA-E"},{"$f":"Daten!W29","v":"H6-E"},{"$f":"Daten!X29","v":"P2-E"},{"$f":"Daten!Y29","v":"H1-E"},null,{"$f":"Daten!C37","v":"K2"},{"$f":"Daten!P37","v":"P4"},{"$f":"Daten!Q37","v":"SA"},{"$f":"Daten!R37","v":"H6"},{"$f":"Daten!S37","v":"P2"},{"$f":"Daten!T37","v":"H1"},{"$f":"Daten!U37","v":"P4-E"},{"$f":"Daten!V37","v":"SA-E"},{"$f":"Daten!W37","v":"H6-E"},{"$f":"Daten!X37","v":"P2-E"},{"$f":"Daten!Y37","v":"H1-E"},null,{"$f":"Daten!C45","v":"K2"},{"$f":"Daten!P45","v":"P4"},{"$f":"Daten!Q45","v":"SA"},{"$f":"Daten!R45","v":"H6"},{"$f":"Daten!S45","v":"P2"},{"$f":"Daten!T45","v":"H1"},{"$f":"Daten!U45","v":"P4-E"},{"$f":"Daten!V45","v":"SA-E"},{"$f":"Daten!W45","v":"H6-E"},{"$f":"Daten!X45","v":"P2-E"},{"$f":"Daten!Y45","v":"H1-E"},null,null,{"$f":"'Daten SR'!A10","v":"9 KWAK"},{"$f":"'Daten SR'!X10","v":4},{"$f":"'Daten SR'!AA10","v":0},0,{"$f":"'Daten SR'!Z10","v":0},0,{"$f":"'Daten SR'!Y10","v":0},0,0,0,null,null,{"$f":"'Daten A2'!A11","v":"9 KWAK"},{"$f":"'Daten A2'!N11","v":0},{"$f":"'Daten A2'!Q11","v":0},"-",{"$f":"'Daten A2'!P11","v":0},"-",{"$f":"IF($DJ14=0,\"-\",'Daten A2'!O11)","v":"-"},null,null,{"$f":"'Daten A2'!A11","v":"9 KWAK"},{"$f":"'Daten A2'!J11","v":1},{"$f":"'Daten A2'!M11","v":0},0,{"$f":"'Daten A2'!L11","v":1},1,{"$f":"IF($DS14=0,\"-\",'Daten A2'!K11)","v":"100%"}]
[null,null,null,null,null,null,null,null,null,null,null,null,null,null,null,null,null,null,null,null,null,null,null,null,null,null,null,null,null,null,null,{"$f":"CW33","v":"KOREA"},null,null,null,null,null,{"$f":"CX33","v":22},{"$f":"AL15/$AL$15","v":1},null,{"$f":"CY33","v":2},9.0909090909090912E-2,null,{"$f":"DA33","v":4},0.18181818181818182,null,{"$f":"DC33","v":4},0.18181818181818182,null,{"$f":"DE33","v":0.36363636363636365},0.27272727272727271,null,null,null,null,null,null,null,null,null,null,null,null,{"$f":"Daten!C31","v":4},{"$f":"Daten!P31","v":1},{"$f":"Daten!Q31","v":1},{"$f":"Daten!R31","v":1},{"$f":"Daten!S31","v":1},{"$f":"Daten!T31","v":0},{"$f":"Daten!U31","v":"-100%"},{"$f":"Daten!V31","v":"0%"},{"$f":"Daten!W31","v":"100%"},{"$f":"Daten!X31","v":"0%"},{"$f":"Daten!Y31","v":"0%"},null,{"$f":"Daten!C39","v":3},{"$f":"Daten!P39","v":0},{"$f":"Daten!Q39","v":1},{"$f":"Daten!R39","v":1},{"$f":"Daten!S39","v":1},{"$f":"Daten!T39","v":0},{"$f":"Daten!U39","v":"0%"},{"$f":"Daten!V39","v":"0%"},{"$f":"Daten!W39","v":"100%"},{"$f":"Daten!X39","v":"0%"},{"$f":"Daten!Y39","v":"0%"},null,{"$f":"Daten!C47","v":1},{"$f":"Daten!P47","v":1},{"$f":"Daten!Q47","v":0},{"$f":"Daten!R47","v":0},{"$f":"Daten!S47","v":0},{"$f":"Daten!T47","v":0},{"$f":"Daten!U47","v":"-100%"},{"$f":"Daten!V47","v":"0%"},{"$f":"Daten!W47","v":"0%"},{"$f":"Daten!X47","v":"0%"},{"$f":"Daten!Y47","v":"0%"},null,null,{"$f":"'Daten SR'!A11","v":"11 CHOI"},{"$f":"'Daten SR'!X11","v":0},{"$f":"'Daten SR'!AA11","v":0},"-",{"$f":"'Daten SR'!Z11","v":0},"-",{"$f":"'Daten SR'!Y11","v":0},"-","-","-",null,null,{"$f":"'Daten A2'!A12","v":"11 CHOI"},{"$f":"'Daten A2'!N12","v":1},{"$f":"'Daten A2'!Q12","v":0},0,{"$f":"'Daten A2'!P12","v":1},1,{"$f":"IF($DJ15=0,\"-\",'Daten A2'!O12)","v":"100%"},null,null,{"$f":"'Daten A2'!A12","v":"11 CHOI"},{"$f":"'Daten A2'!J12","v":1},{"$f":"'Daten A2'!M12","v":0},0,{"$f":"'Daten A2'!L12","v":1},1,{"$f":"IF($DS15=0,\"-\",'Daten A2'!K12)","v":"100%"}]
[null,null,null,null,null,null,null,null,null,null,null,null,null,null,null,null,null,null,null,null,null,null,null,null,null,null,null,null,null,null,null,"19 JEONG",null,null,null,null,null,10,0.45454545454545453,null,1,0.1,null,2,0.2,null,3,0.3,null,0.5,0.4,null,null,null,null,null,null,null,null,null,null,null,null,{"$f":"IF(BL15=0,0,ROUND(BL15/(BL9+BL15+BL21+BL27),2)*100)","v":50},{"$f":"IF($BL15=0,0,ROUND(BM15/$BL15,2)*100)","v":25},{"$f":"IF($BL15=0,0,ROUND(BN15/$BL15,2)*100)","v":25},{"$f":"IF($BL15=0,0,ROUND(BO15/$BL15,2)*100)","v":25},{"$f":"IF($BL15=0,0,ROUND(BP15/$BL15,2)*100)","v":25},{"$f":"IF($BL15=0,0,ROUND(BQ15/$BL15,2)*100)","v":0},{"$f":"IF(BM15=0,\"\",BR15)","v":"-100%"},{"$f":"IF(BN15=0,\"\",BS15)","v":"0%"},{"$f":"IF(BO15=0,\"\",BT15)","v":"100%"},{"$f":"IF(BP15=0,\"\",BU15)","v":"0%"},{"$f":"IF(BQ15=0,\"\",BV15)","v":""},null,{"$f":"IF(BX15=0,0,ROUND(BX15/($BL9+$BL15+$BL21+$BL27),2)*100)","v":38},{"$f":"IF($BX15=0,0,ROUND(BY15/$BX15,2)*100)","v":0},{"$f":"IF($BX15=0,0,ROUND(BZ15/$BX15,2)*100)","v":33},{"$f":"IF($BX15=0,0,ROUND(CA15/$BX15,2)*100)","v":33},{"$f":"IF($BX15=0,0,ROUND(CB15/$BX15,2)*100)","v":33},{"$f":"IF($BX15=0,0,ROUND(CC15/$BX15,2)*100)","v":0},{"$f":"IF(BY15=0,\"\",CD15)","v":""},{"$f":"IF(BZ15=0,\"\",CE15)","v":"0%"},{"$f":"IF(CA15=0,\"\",CF15)","v":"100%"},{"$f":"IF(CB15=0,\"\",CG15)","v":"0%"},{"$f":"IF(CC15=0,\"\",CH15)","v":""},null,{"$f":"IF(CJ15=0,0,ROUND(CJ15/(CJ9+CJ15+CJ21+CJ27),2)*100)","v":100},{"$f":"IF($CJ15=0,0,ROUND(CK15/$CJ15,2)*100)","v":100},{"$f":"IF($CJ15=0,0,ROUND(CL15/$CJ15,2)*100)","v":0},{"$f":"IF($CJ15=0,0,ROUND(CM15/$CJ15,2)*100)","v":0},{"$f":"IF($CJ15=0,0,ROUND(CN15/$CJ15,2)*100)","v":0},{"$f":"IF($CJ15=0,0,ROUND(CO15/$CJ15,2)*100)","v":0},{"$f":"IF(CK15=0,\"\",CP15)","v":"-100%"},{"$f":"IF(CL15=0,\"\",CQ15)","v":""},{"$f":"IF(CM15=0,\"\",CR15)","v":""},{"$f":"IF(CN15=0,\"\",CS15)","v":""},{"$f":"IF(CO15=0,\"\",CT15)","v":""},null,null,{"$f":"'Daten SR'!A12","v":"12 JEON"},{"$f":"'Daten SR'!X12","v":0},{"$f":"'Daten SR'!AA12","v":0},"-",{"$f":"'Daten SR'!Z12","v":0},"-",{"$f":"'Daten SR'!Y12","v":0},"-","-","-",null,null,{"$f":"'Daten A2'!A13","v":"12 JEON"},{"$f":"'Daten A2'!N13","v":0},{"$f":"'Daten A2'!Q13","v":0},"-",{"$f":"'Daten A2'!P13","v":0},"-",{"$f":"IF($DJ16=0,\"-\",'Daten A2'!O13)","v":"-"},null,null,{"$f":"'Daten A2'!A13","v":"12 JEON"},{"$f":"'Daten A2'!J13","v":0},{"$f":"'Daten A2'!M13","v":0},"-",{"$f":"'Daten A2'!L13","v":0},"-",{"$f":"IF($DS16=0,\"-\",'Daten A2'!K13)","v":"-"}]
[null,null,null,null,null,null,null,null,null,null,null,null,null,null,null,null,null,null,null,null,null,null,null,null,null,null,null,null,null,null,null,"9 KWAK",null,null,null,null,null,4,0.18181818181818182,null,0,0,null,0,0,null,0,0,null,0,0,null,null,null,null,null,null,null,null,null,null,null,null,null,null,null,null,null,null,null,null,null,null,null,null,null,null,null,null,null,null,null,null,null,null,null,null,null,null,null,null,null,null,null,null,null,null,null,null,null,{"$f":"'Daten SR'!A13","v":"14 SONG"},{"$f":"'Daten SR'!X13","v":4},{"$f":"'Daten SR'!AA13","v":0},0,{"$f":"'Daten SR'!Z13","v":1},0.25,{"$f":"'Daten SR'!Y13","v":1},0.25,0.5,0.5,null,null,{"$f":"'Daten A2'!A14","v":"14 SONG"},{"$f":"'Daten A2'!N14","v":0},{"$f":"'Daten A2'!Q14","v":0},"-",{"$f":"'Daten A2'!P14","v":0},"-",{"$f":"IF($DJ17=0,\"-\",'Daten A2'!O14)","v":"-"},null,null,{"$f":"'Daten A2'!A14","v":"14 SONG"},{"$f":"'Daten A2'!J14","v":1},{"$f":"'Daten A2'!M14","v":0},0,{"$f":"'Daten A2'!L14","v":0},0,{"$f":"IF($DS17=0,\"-\",'Daten A2'!K14)","v":"-100%"}]
[null,null,null,null,null,null,null,null,null,null,null,null,null,null,null,null,null,null,null,null,null,null,null,null,null,null,null,null,null,null,null,"14 SONG",null,null,null,null,null,4,0.18181818181818182,null,0,0,null,1,0.25,null,1,0.25,null,0.5,0.5,null,null,null,null,null,null,null,null,null,null,null,null,null,null,null,null,null,null,null,null,null,null,null,null,null,null,null,null,null,null,null,null,null,null,null,null,null,null,null,null,null,null,null,null,null,null,null,null,null,{"$f":"'Daten SR'!A14","v":"16 CHOI"},{"$f":"'Daten SR'!X14","v":0},{"$f":"'Daten SR'!AA14","v":0},"-",{"$f":"'Daten SR'!Z14","v":0},"-",{"$f":"'Daten SR'!Y14","v":0},"-","-","-",null,null,{"$f":"'Daten A2'!A15","v":"16 CHOI"},{"$f":"'Daten A2'!N15","v":1},{"$f":"'Daten A2'!Q15","v":0},0,{"$f":"'Daten A2'!P15","v":0},0,{"$f":"IF($DJ18=0,\"-\",'Daten A2'!O15)","v":"0%"},null,null,{"$f":"'Daten A2'!A15","v":"16 CHOI"},{"$f":"'Daten A2'!J15","v":1},{"$f":"'Daten A2'!M15","v":0},0,{"$f":"'Daten A2'!L15","v":0},0,{"$f":"IF($DS18=0,\"-\",'Daten A2'!K15)","v":"-100%"}]
[null,null,null,null,null,null,null,null,null,null,null,null,null,null,null,null,null,null,null,null,null,null,null,null,null,null,null,null,null,null,null,"1 SONG",null,null,null,null,null,3,0.13636363636363635,null,1,0.33333333333333331,null,1,0.33333333333333331,null,0,0,null,0.33333333333333331,0,null,null,null,null,null,null,null,null,null,null,null,null,{"$f":"\"Base \"&Options!$S9","v":"Base K7"},null,null,null,null,null,null,null,null,null,null,null,{"$f":"\"Base \"&Options!$S9","v":"Base K7"},null,null,null,null,null,null,null,null,null,null,null,{"$f":"\"Base \"&Options!$S9","v":"Base K7"},null,null,null,null,null,null,null,null,null,null,null,null,{"$f":"'Daten SR'!A15","v":"17 SEO"},{"$f":"'Daten SR'!X15","v":1},{"$f":"'Daten SR'!AA15","v":0},0,{"$f":"'Daten SR'!Z15","v":0},0,{"$f":"'Daten SR'!Y15","v":0},0,0,0,null,null,{"$f":"'Daten A2'!A16","v":"17 SEO"},{"$f":"'Daten A2'!N16","v":1},{"$f":"'Daten A2'!Q16","v":0},0,{"$f":"'Daten A2'!P16","v":1},1,{"$f":"IF($DJ19=0,\"-\",'Daten A2'!O16)","v":"100%"},null,null,{"$f":"'Daten A2'!A16","v":"17 SEO"},{"$f":"'Daten A2'!J16","v":2},{"$f":"'Daten A2'!M16","v":0},0,{"$f":"'Daten A2'!L16","v":0},0,{"$f":"IF($DS19=0,\"-\",'Daten A2'!K16)","v":"-100%"}]
[null,null,null,null,null,null,null,null,null,null,null,null,null,null,null,null,null,null,null,null,null,null,null,null,null,null,null,null,null,null,null,"17 SEO",null,null,null,null,null,1,4.5454545454545456E-2,null,0,0,null,0,0,null,0,0,null,0,0,null,null,null,null,null,null,null,null,null,null,null,null,{"$f":"Daten!D29","v":"K7"},{"$f":"Daten!Z29","v":"P4"},{"$f":"Daten!AA29","v":"SA"},{"$f":"Daten!AB29","v":"H6"},{"$f":"Daten!AC29","v":"P2"},{"$f":"Daten!AD29","v":"H1"},{"$f":"Daten!AE29","v":"P4-E"},{"$f":"Daten!AF29","v":"SA-E"},{"$f":"Daten!AG29","v":"H6-E"},{"$f":"Daten!AH29","v":"P2-E"},{"$f":"Daten!AI29","v":"H1-E"},null,{"$f":"Daten!D37","v":"K7"},{"$f":"Daten!Z37","v":"P4"},{"$f":"Daten!AA37","v":"SA"},{"$f":"Daten!AB37","v":"H6"},{"$f":"Daten!AC37","v":"P2"},{"$f":"Daten!AD37","v":"H1"},{"$f":"Daten!AE37","v":"P4-E"},{"$f":"Daten!AF37","v":"SA-E"},{"$f":"Daten!AG37","v":"H6-E"},{"$f":"Daten!AH37","v":"P2-E"},{"$f":"Daten!AI37","v":"H1-E"},null,{"$f":"Daten!D45","v":"K7"},{"$f":"Daten!Z45","v":"P4"},{"$f":"Daten!AA45","v":"SA"},{"$f":"Daten!AB45","v":"H6"},{"$f":"Daten!AC45","v":"P2"},{"$f":"Daten!AD45","v":"H1"},{"$f":"Daten!AE45","v":"P4-E"},{"$f":"Daten!AF45","v":"SA-E"},{"$f":"Daten!AG45","v":"H6-E"},{"$f":"Daten!AH45","v":"P2-E"},{"$f":"Daten!AI45","v":"H1-E"},null,null,{"$f":"'Daten SR'!A16","v":"19 JEONG"},{"$f":"'Daten SR'!X16","v":10},{"$f":"'Daten SR'!AA16","v":1},0.1,{"$f":"'Daten SR'!Z16","v":2},0.2,{"$f":"'Daten SR'!Y16","v":3},0.3,0.5,0.4,null,null,{"$f":"'Daten A2'!A17","v":"19 JEONG"},{"$f":"'Daten A2'!N17","v":0},{"$f":"'Daten A2'!Q17","v":0},"-",{"$f":"'Daten A2'!P17","v":0},"-",{"$f":"IF($DJ20=0,\"-\",'Daten A2'!O17)","v":"-"},null,null,{"$f":"'Daten A2'!A17","v":"19 JEONG"},{"$f":"'Daten A2'!J17","v":0},{"$f":"'Daten A2'!M17","v":0},"-",{"$f":"'Daten A2'!L17","v":0},"-",{"$f":"IF($DS20=0,\"-\",'Daten A2'!K17)","v":"-"}]
[null,null,null,null,null,null,null,null,null,null,null,null,null,null,null,null,null,null,null,null,null,null,null,null,null,null,null,null,null,null,null,"4 SHIN",null,null,null,null,null,0,0,null,0,"-",null,0,"-",null,0,"-",null,"-","-",null,null,null,null,null,null,null,null,null,null,null,null,{"$f":"Daten!D31","v":0},{"$f":"Daten!Z31","v":0},{"$f":"Daten!AA31","v":0},{"$f":"Daten!AB31","v":0},{"$f":"Daten!AC31","v":0},{"$f":"Daten!AD31","v":0},{"$f":"Daten!AE31","v":"0%"},{"$f":"Daten!AF31","v":"0%"},{"$f":"Daten!AG31","v":"0%"},{"$f":"Daten!AH31","v":"0%"},{"$f":"Daten!AI31","v":"0%"},null,{"$f":"Daten!D39","v":0},{"$f":"Daten!Z39","v":0},{"$f":"Daten!AA39","v":0},{"$f":"Daten!AB39","v":0},{"$f":"Daten!AC39","v":0},{"$f":"Daten!AD39","v":0},{"$f":"Daten!AE39","v":"0%"},{"$f":"Daten!AF39","v":"0%"},{"$f":"Daten!AG39","v":"0%"},{"$f":"Daten!AH39","v":"0%"},{"$f":"Daten!AI39","v":"0%"},null,{"$f":"Daten!D47","v":0},{"$f":"Daten!Z47","v":0},{"$f":"Daten!AA47","v":0},{"$f":"Daten!AB47","v":0},{"$f":"Daten!AC47","v":0},{"$f":"Daten!AD47","v":0},{"$f":"Daten!AE47","v":"0%"},{"$f":"Daten!AF47","v":"0%"},{"$f":"Daten!AG47","v":"0%"},{"$f":"Daten!AH47","v":"0%"},{"$f":"Daten!AI47","v":"0%"},null,null,{"$f":"'Daten SR'!A17","v":"20 JI"},{"$f":"'Daten SR'!X17","v":0},{"$f":"'Daten SR'!AA17","v":0},"-",{"$f":"'Daten SR'!Z17","v":0},"-",{"$f":"'Daten SR'!Y17","v":0},"-","-","-",null,null,{"$f":"'Daten A2'!A18","v":"20 JI"},{"$f":"'Daten A2'!N18","v":0},{"$f":"'Daten A2'!Q18","v":0},"-",{"$f":"'Daten A2'!P18","v":0},"-",{"$f":"IF($DJ21=0,\"-\",'Daten A2'!O18)","v":"-"},null,null,{"$f":"'Daten A2'!A18","v":"20 JI"},{"$f":"'Daten A2'!J18","v":0},{"$f":"'Daten A2'!M18","v":0},"-",{"$f":"'Daten A2'!L18","v":0},"-",{"$f":"IF($DS21=0,\"-\",'Daten A2'!K18)","v":"-"}]
[null,null,null,null,null,null,null,null,null,null,null,null,null,null,null,null,null,null,null,null,null,null,null,null,null,null,null,null,null,null,null,null,null,null,null,null,null,null,null,null,null,null,null,null,null,null,null,null,null,null,null,null,null,null,null,null,null,null,null,null,null,null,null,{"$f":"IF(BL21=0,0,ROUND(BL21/(BL9+BL15+BL21+BL27),2)*100)","v":0},{"$f":"IF($BL21=0,0,ROUND(BM21/$BL21,2)*100)","v":0},{"$f":"IF($BL21=0,0,ROUND(BN21/$BL21,2)*100)","v":0},{"$f":"IF($BL21=0,0,ROUND(BO21/$BL21,2)*100)","v":0},{"$f":"IF($BL21=0,0,ROUND(BP21/$BL21,2)*100)","v":0},{"$f":"IF($BL21=0,0,ROUND(BQ21/$BL21,2)*100)","v":0},{"$f":"IF(BM21=0,\"\",BR21)","v":""},{"$f":"IF(BN21=0,\"\",BS21)","v":""},{"$f":"IF(BO21=0,\"\",BT21)","v":""},{"$f":"IF(BP21=0,\"\",BU21)","v":""},{"$f":"IF(BQ21=0,\"\",BV21)","v":""},null,{"$f":"IF(BX21=0,0,ROUND(BX21/($BL9+$BL15+$BL21+$BL27),2)*100)","v":0},{"$f":"IF($BX21=0,0,ROUND(BY21/$BX21,2)*100)","v":0},{"$f":"IF($BX21=0,0,ROUND(BZ21/$BX21,2)*100)","v":0},{"$f":"IF($BX21=0,0,ROUND(CA21/$BX21,2)*100)","v":0},{"$f":"IF($BX21=0,0,ROUND(CB21/$BX21,2)*100)","v":0},{"$f":"IF($BX21=0,0,ROUND(CC21/$BX21,2)*100)","v":0},{"$f":"IF(BY21=0,\"\",CD21)","v":""},{"$f":"IF(BZ21=0,\"\",CE21)","v":""},{"$f":"IF(CA21=0,\"\",CF21)","v":""},{"$f":"IF(CB21=0,\"\",CG21)","v":""},{"$f":"IF(CC21=0,\"\",CH21)","v":""},null,{"$f":"IF(CJ21=0,0,ROUND(CJ21/(CJ9+CJ15+CJ21+CJ27),2)*100)","v":0},{"$f":"IF($CJ21=0,0,ROUND(CK21/$CJ21,2)*100)","v":0},{"$f":"IF($CJ21=0,0,ROUND(CL21/$CJ21,2)*100)","v":0},{"$f":"IF($CJ21=0,0,ROUND(CM21/$CJ21,2)*100)","v":0},{"$f":"IF($CJ21=0,0,ROUND(CN21/$CJ21,2)*100)","v":0},{"$f":"IF($CJ21=0,0,ROUND(CO21/$CJ21,2)*100)","v":0},{"$f":"IF(CK21=0,\"\",CP21)","v":""},{"$f":"IF(CL21=0,\"\",CQ21)","v":""},{"$f":"IF(CM21=0,\"\",CR21)","v":""},{"$f":"IF(CN21=0,\"\",CS21)","v":""},{"$f":"IF(CO21=0,\"\",CT21)","v":""},null,null,{"$f":"'Daten SR'!A18","v":"22 YOU"},{"$f":"'Daten SR'!X18","v":0},{"$f":"'Daten SR'!AA18","v":0},"-",{"$f":"'Daten SR'!Z18","v":0},"-",{"$f":"'Daten SR'!Y18","v":0},"-","-","-",null,null,{"$f":"'Daten A2'!A19","v":"22 YOU"},{"$f":"'Daten A2'!N19","v":0},{"$f":"'Daten A2'!Q19","v":0},"-",{"$f":"'Daten A2'!P19","v":0},"-",{"$f":"IF($DJ22=0,\"-\",'Daten A2'!O19)","v":"-"},null,null,{"$f":"'Daten A2'!A19","v":"22 YOU"},{"$f":"'Daten A2'!J19","v":0},{"$f":"'Daten A2'!M19","v":0},"-",{"$f":"'Daten A2'!L19","v":0},"-",{"$f":"IF($DS22=0,\"-\",'Daten A2'!K19)","v":"-"}]
[null,null,null,null,null,null,null,null,null,null,null,null,null,null,null,null,null,null,null,null,null,null,null,null,null,null,null,null,null,null,null,"K1-Attacks after R#+",null,null,null,null,null,"∑","∑ %",null,"=","= %",null,"#","# %",null,"Eff",null,null,null,null,null,null,null,null,null,null,null,null,null,null,null,null,null,null,null,null,null,null,null,null,null,null,null,null,null,null,null,null,null,null,null,null,null,null,null,null,null,null,null,null,null,null,null,null,null,null,null,null,null,{"$f":"'Daten SR'!A19","v":"25 OH"},{"$f":"'Daten SR'!X19","v":0},{"$f":"'Daten SR'!AA19","v":0},"-",{"$f":"'Daten SR'!Z19","v":0},"-",{"$f":"'Daten SR'!Y19","v":0},"-","-","-",null,null,{"$f":"'Daten A2'!A20","v":"25 OH"},{"$f":"'Daten A2'!N20","v":0},{"$f":"'Daten A2'!Q20","v":0},"-",{"$f":"'Daten A2'!P20","v":0},"-",{"$f":"IF($DJ23=0,\"-\",'Daten A2'!O20)","v":"-"},null,null,{"$f":"'Daten A2'!A20","v":"25 OH"},{"$f":"'Daten A2'!J20","v":0},{"$f":"'Daten A2'!M20","v":0},"-",{"$f":"'Daten A2'!L20","v":0},"-",{"$f":"IF($DS23=0,\"-\",'Daten A2'!K20)","v":"-"}]
[null,null,null,null,null,null,null,null,null,null,null,null,null,null,null,null,null,null,null,null,null,null,null,null,null,null,null,null,null,null,null,{"$f":"DI33","v":"KOREA"},null,null,null,null,null,{"$f":"DJ33","v":8},{"$f":"AL24/$AL$24","v":1},null,{"$f":"DK33","v":1},{"$f":"DL33","v":0.125},null,{"$f":"DM33","v":4},{"$f":"DN33","v":0.5},null,{"$f":"DO33","v":"38%"},null,null,null,null,null,null,null,null,null,null,null,null,null,null,null,null,null,null,null,null,null,null,null,null,null,null,null,null,null,null,null,null,null,null,null,null,null,null,null,null,null,null,null,null,null,null,null,null,null,null,null,null,null,{"$f":"'Daten SR'!A20","v":0},{"$f":"'Daten SR'!X20","v":0},{"$f":"'Daten SR'!AA20","v":0},"-",{"$f":"'Daten SR'!Z20","v":0},"-",{"$f":"'Daten SR'!Y20","v":0},"-","-","-",null,null,{"$f":"'Daten A2'!A21","v":0},{"$f":"'Daten A2'!N21","v":0},{"$f":"'Daten A2'!Q21","v":0},"-",{"$f":"'Daten A2'!P21","v":0},"-",{"$f":"IF($DJ24=0,\"-\",'Daten A2'!O21)","v":"-"},null,null,{"$f":"'Daten A2'!A21","v":0},{"$f":"'Daten A2'!J21","v":0},{"$f":"'Daten A2'!M21","v":0},"-",{"$f":"'Daten A2'!L21","v":0},"-",{"$f":"IF($DS24=0,\"-\",'Daten A2'!K21)","v":"-"}]
[null,null,null,null,null,null,null,null,null,null,null,null,null,null,null,null,null,null,null,null,null,null,null,null,null,null,null,null,null,null,null,{"$f":"DI34","v":"1 SONG"},null,null,null,null,null,{"$f":"DJ34","v":3},{"$f":"AL25/$AL$24","v":0.375},null,{"$f":"DK34","v":1},0.33333333333333331,null,{"$f":"DM34","v":1},0.33333333333333331,null,{"$f":"DO34","v":"0%"},null,null,null,null,null,null,null,null,null,null,null,null,null,null,null,null,{"$f":"\"Base \"&Options!$S10","v":"Base KD"},null,null,null,null,null,null,null,null,null,null,null,{"$f":"\"Base \"&Options!$S10","v":"Base KD"},null,null,null,null,null,null,null,null,null,null,null,{"$f":"\"Base \"&Options!$S10","v":"Base KD"},null,null,null,null,null,null,null,null,null,null,null,null,{"$f":"'Daten SR'!A21","v":0},{"$f":"'Daten SR'!X21","v":0},{"$f":"'Daten SR'!AA21","v":0},"-",{"$f":"'Daten SR'!Z21","v":0},"-",{"$f":"'Daten SR'!Y21","v":0},"-","-","-",null,null,{"$f":"'Daten A2'!A22","v":0},{"$f":"'Daten A2'!N22","v":0},{"$f":"'Daten A2'!Q22","v":0},"-",{"$f":"'Daten A2'!P22","v":0},"-",{"$f":"IF($DJ25=0,\"-\",'Daten A2'!O22)","v":"-"},null,null,{"$f":"'Daten A2'!A22","v":0},{"$f":"'Daten A2'!J22","v":0},{"$f":"'Daten A2'!M22","v":0},"-",{"$f":"'Daten A2'!L22","v":0},"-",{"$f":"IF($DS25=0,\"-\",'Daten A2'!K22)","v":"-"}]
[null,null,null,null,null,null,null,null,null,null,null,null,null,null,null,null,null,null,null,null,null,null,null,null,null,null,null,null,null,null,null,"8 PARK",null,null,null,null,null,2,0.25,null,0,0,null,1,0.5,null,"50%",null,null,null,null,null,null,null,null,null,null,null,null,null,null,null,null,{"$f":"Daten!E29","v":"KD"},{"$f":"Daten!AJ29","v":"P4"},{"$f":"Daten!AK29","v":"SA"},{"$f":"Daten!AL29","v":"H6"},{"$f":"Daten!AM29","v":"P2"},{"$f":"Daten!AN29","v":"H1"},{"$f":"Daten!AO29","v":"P4-E"},{"$f":"Daten!AP29","v":"SA-E"},{"$f":"Daten!AQ29","v":"H6-E"},{"$f":"Daten!AR29","v":"P2-E"},{"$f":"Daten!AS29","v":"H1-E"},null,{"$f":"Daten!E37","v":"KD"},{"$f":"Daten!AJ37","v":"P4"},{"$f":"Daten!AK37","v":"SA"},{"$f":"Daten!AL37","v":"H6"},{"$f":"Daten!AM37","v":"P2"},{"$f":"Daten!AN37","v":"H1"},{"$f":"Daten!AO37","v":"P4-E"},{"$f":"Daten!AP37","v":"SA-E"},{"$f":"Daten!AQ37","v":"H6-E"},{"$f":"Daten!AR37","v":"P2-E"},{"$f":"Daten!AS37","v":"H1-E"},null,{"$f":"Daten!E45","v":"KD"},{"$f":"Daten!AJ45","v":"P4"},{"$f":"Daten!AK45","v":"SA"},{"$f":"Daten!AL45","v":"H6"},{"$f":"Daten!AM45","v":"P2"},{"$f":"Daten!AN45","v":"H1"},{"$f":"Daten!AO45","v":"P4-E"},{"$f":"Daten!AP45","v":"SA-E"},{"$f":"Daten!AQ45","v":"H6-E"},{"$f":"Daten!AR45","v":"P2-E"},{"$f":"Daten!AS45","v":"H1-E"},null,null,{"$f":"'Daten SR'!A22","v":0},{"$f":"'Daten SR'!X22","v":0},{"$f":"'Daten SR'!AA22","v":0},"-",{"$f":"'Daten SR'!Z22","v":0},"-",{"$f":"'Daten SR'!Y22","v":0},"-","-","-",null,null,{"$f":"'Daten A2'!A23","v":0},{"$f":"'Daten A2'!N23","v":0},{"$f":"'Daten A2'!Q23","v":0},"-",{"$f":"'Daten A2'!P23","v":0},"-",{"$f":"IF($DJ26=0,\"-\",'Daten A2'!O23)","v":"-"},null,null,{"$f":"'Daten A2'!A23","v":0},{"$f":"'Daten A2'!J23","v":0},{"$f":"'Daten A2'!M23","v":0},"-",{"$f":"'Daten A2'!L23","v":0},"-",{"$f":"IF($DS26=0,\"-\",'Daten A2'!K23)","v":"-"}]
[null,null,null,null,null,null,null,null,null,null,null,null,null,null,null,null,null,null,null,null,null,null,null,null,null,null,null,null,null,null,null,"11 CHOI",null,null,null,null,null,1,0.125,null,0,0,null,1,1,null,"100%",null,null,null,null,null,null,null,null,null,null,null,null,null,null,null,null,{"$f":"Daten!E31","v":0},{"$f":"Daten!AJ31","v":0},{"$f":"Daten!AK31","v":0},{"$f":"Daten!AL31","v":0},{"$f":"Daten!AM31","v":0},{"$f":"Daten!AN31","v":0},{"$f":"Daten!AO31","v":"0%"},{"$f":"Daten!AP31","v":"0%"},{"$f":"Daten!AQ31","v":"0%"},{"$f":"Daten!AR31","v":"0%"},{"$f":"Daten!AS31","v":"0%"},null,{"$f":"Daten!E39","v":0},{"$f":"Daten!AJ39","v":0},{"$f":"Daten!AK39","v":0},{"$f":"Daten!AL39","v":0},{"$f":"Daten!AM39","v":0},{"$f":"Daten!AN39","v":0},{"$f":"Daten!AO39","v":"0%"},{"$f":"Daten!AP39","v":"0%"},{"$f":"Daten!AQ39","v":"0%"},{"$f":"Daten!AR39","v":"0%"},{"$f":"Daten!AS39","v":"0%"},null,{"$f":"Daten!E47","v":0},{"$f":"Daten!AJ47","v":0},{"$f":"Daten!AK47","v":0},{"$f":"Daten!AL47","v":0},{"$f":"Daten!AM47","v":0},{"$f":"Daten!AN47","v":0},{"$f":"Daten!AO47","v":"0%"},{"$f":"Daten!AP47","v":"0%"},{"$f":"Daten!AQ47","v":"0%"},{"$f":"Daten!AR47","v":"0%"},{"$f":"Daten!AS47","v":"0%"},null,null,{"$f":"'Daten SR'!A23","v":0},{"$f":"'Daten SR'!X23","v":0},{"$f":"'Daten SR'!AA23","v":0},"-",{"$f":"'Daten SR'!Z23","v":0},"-",{"$f":"'Daten SR'!Y23","v":0},"-","-","-",null,null,{"$f":"'Daten A2'!A24","v":0},{"$f":"'Daten A2'!N24","v":0},{"$f":"'Daten A2'!Q24","v":0},"-",{"$f":"'Daten A2'!P24","v":0},"-",{"$f":"IF($DJ27=0,\"-\",'Daten A2'!O24)","v":"-"},null,null,{"$f":"'Daten A2'!A24","v":0},{"$f":"'Daten A2'!J24","v":0},{"$f":"'Daten A2'!M24","v":0},"-",{"$f":"'Daten A2'!L24","v":0},"-",{"$f":"IF($DS27=0,\"-\",'Daten A2'!K24)","v":"-"}]
[null,null,null,null,null,null,null,null,null,null,null,null,null,null,null,null,null,null,null,null,null,null,null,null,null,null,null,null,null,null,null,"16 CHOI",null,null,null,null,null,1,0.125,null,0,0,null,0,0,null,"0%",null,null,null,null,null,null,null,null,null,null,null,null,null,null,null,null,{"$f":"IF(BL27=0,0,ROUND(BL27/(BL9+BL15+BL21+BL27),2)*100)","v":0},{"$f":"IF($BL27=0,0,ROUND(BM27/$BL27,2)*100)","v":0},{"$f":"IF($BL27=0,0,ROUND(BN27/$BL27,2)*100)","v":0},{"$f":"IF($BL27=0,0,ROUND(BO27/$BL27,2)*100)","v":0},{"$f":"IF($BL27=0,0,ROUND(BP27/$BL27,2)*100)","v":0},{"$f":"IF($BL27=0,0,ROUND(BQ27/$BL27,2)*100)","v":0},{"$f":"IF(BM27=0,\"\",BR27)","v":""},{"$f":"IF(BN27=0,\"\",BS27)","v":""},{"$f":"IF(BO27=0,\"\",BT27)","v":""},{"$f":"IF(BP27=0,\"\",BU27)","v":""},{"$f":"IF(BQ27=0,\"\",BV27)","v":""},null,{"$f":"IF(BX27=0,0,ROUND(BX27/($BL9+$BL15+$BL21+$BL27),2)*100)","v":0},{"$f":"IF($BX27=0,0,ROUND(BY27/$BX27,2)*100)","v":0},{"$f":"IF($BX27=0,0,ROUND(BZ27/$BX27,2)*100)","v":0},{"$f":"IF($BX27=0,0,ROUND(CA27/$BX27,2)*100)","v":0},{"$f":"IF($BX27=0,0,ROUND(CB27/$BX27,2)*100)","v":0},{"$f":"IF($BX27=0,0,ROUND(CC27/$BX27,2)*100)","v":0},{"$f":"IF(BY27=0,\"\",CD27)","v":""},{"$f":"IF(BZ27=0,\"\",CE27)","v":""},{"$f":"IF(CA27=0,\"\",CF27)","v":""},{"$f":"IF(CB27=0,\"\",CG27)","v":""},{"$f":"IF(CC27=0,\"\",CH27)","v":""},null,{"$f":"IF(CJ27=0,0,ROUND(CJ27/(CJ9+CJ15+CJ21+CJ27),2)*100)","v":0},{"$f":"IF($CJ27=0,0,ROUND(CK27/$CJ27,2)*100)","v":0},{"$f":"IF($CJ27=0,0,ROUND(CL27/$CJ27,2)*100)","v":0},{"$f":"IF($CJ27=0,0,ROUND(CM27/$CJ27,2)*100)","v":0},{"$f":"IF($CJ27=0,0,ROUND(CN27/$CJ27,2)*100)","v":0},{"$f":"IF($CJ27=0,0,ROUND(CO27/$CJ27,2)*100)","v":0},{"$f":"IF(CK27=0,\"\",CP27)","v":""},{"$f":"IF(CL27=0,\"\",CQ27)","v":""},{"$f":"IF(CM27=0,\"\",CR27)","v":""},{"$f":"IF(CN27=0,\"\",CS27)","v":""},{"$f":"IF(CO27=0,\"\",CT27)","v":""},null,null,{"$f":"'Daten SR'!A24","v":0},{"$f":"'Daten SR'!X24","v":0},{"$f":"'Daten SR'!AA24","v":0},"-",{"$f":"'Daten SR'!Z24","v":0},"-",{"$f":"'Daten SR'!Y24","v":0},"-","-","-",null,null,{"$f":"'Daten A2'!A25","v":0},{"$f":"'Daten A2'!N25","v":0},{"$f":"'Daten A2'!Q25","v":0},"-",{"$f":"'Daten A2'!P25","v":0},"-",{"$f":"IF($DJ28=0,\"-\",'Daten A2'!O25)","v":"-"},null,null,{"$f":"'Daten A2'!A25","v":0},{"$f":"'Daten A2'!J25","v":0},{"$f":"'Daten A2'!M25","v":0},"-",{"$f":"'Daten A2'!L25","v":0},"-",{"$f":"IF($DS28=0,\"-\",'Daten A2'!K25)","v":"-"}]
[null,null,null,null,null,null,null,null,null,null,null,null,null,null,null,null,null,null,null,null,null,null,null,null,null,null,null,null,null,null,null,"17 SEO",null,null,null,null,null,1,0.125,null,0,0,null,1,1,null,"100%"]
[null,null,null,null,null,null,null,null,null,null,null,null,null,null,null,null,null,null,null,null,null,null,null,null,null,null,null,null,null,null,null,"4 SHIN",null,null,null,null,null,0,0,null,0,"-",null,0,"-",null,"-",null,null,null,null,null,null,null,null,null,null,null,null,null,null,null,null,null,{"$f":"BL9+BL15+BL21+BL27","v":8}]
[null,null,null,null,null,null,null,null,null,null,null,null,null,null,null,null,null,null,null,null,null,null,null,null,null,null,null,null,null,null,null,"6 LEE",null,null,null,null,null,0,0,null,0,"-",null,0,"-",null,"-"]
[]
[null,null,"Rec in Pos 1",null,null,null,null,{"$f":"CI35&\" % (\"&BL35&\")\"","v":"13 % (1)"},null,null,null,"Rec in Pos 6",null,null,null,null,{"$f":"CI36&\" % (\"&BL36&\")\"","v":"75 % (6)"},null,null,null,"Rec in Pos 5",null,null,null,null,{"$f":"CI37&\" % (\"&BL37&\")\"","v":"13 % (1)"},null,null,null,null,null,"K2-Attacks - Transition",null,null,null,null,null,"∑","∑ %",null,"=","= %",null,"#","# %",null,"Eff",null,null,null,null,null,null,null,null,null,null,null,null,null,null,null,"Attack depending on R Position",null,null,null,null,null,null,null,null,null,null,null,null,null,null,null,null,null,null,null,null,null,null,null,null,null,null,null,null,null,null,null,null,null,null,null,null,null,"KOREA",22,2,9.0909090909090912E-2,4,0.18181818181818182,4,0.18181818181818182,0.36363636363636365,0.27272727272727271,null,null,"KOREA",8,1,0.125,4,0.5,"38%",null,null,"KOREA",6,0,0,2,0.33333333333333331,"-33%"]
[null,null,null,null,null,null,null,null,null,null,null,null,null,null,null,null,null,null,null,null,null,null,null,null,null,null,null,null,null,null,null,{"$f":"DR33","v":"KOREA"},null,null,null,null,null,{"$f":"DS33","v":6},{"$f":"AL34/$AL$34","v":1},null,{"$f":"DT33","v":0},{"$f":"DU33","v":0},null,{"$f":"DV33","v":2},{"$f":"DW33","v":0.33333333333333331},null,{"$f":"DX33","v":"-33%"},null,null,null,null,null,null,null,null,null,null,null,null,null,null,null,null,{"$f":"Daten!B55","v":"alle"},{"$f":"Daten!C55","v":"P4"},{"$f":"Daten!D55","v":"X"},{"$f":"Daten!E55","v":4},{"$f":"Daten!F55","v":1},{"$f":"Daten!G55","v":"Set"},{"$f":"Daten!H55","v":3},{"$f":"Daten!I55","v":"OF"},{"$f":"Daten!J55","v":"P2"},{"$f":"Daten!K55","v":"HF6"},{"$f":"Daten!L55","v":"HF1"},null,null,{"$f":"Daten!C55","v":"P4"},{"$f":"Daten!D55","v":"X"},{"$f":"Daten!E55","v":4},{"$f":"Daten!F55","v":1},{"$f":"Daten!G55","v":"Set"},{"$f":"Daten!H55","v":3},{"$f":"Daten!I55","v":"OF"},{"$f":"Daten!J55","v":"P2"},{"$f":"Daten!K55","v":"HF6"},{"$f":"Daten!L55","v":"HF1"},null,null,null,null,null,null,null,null,null,null,null,null,null,null,"19 JEONG",10,1,0.1,2,0.2,3,0.3,0.5,0.4,null,null,"1 SONG",3,1,0.33333333333333331,1,0.33333333333333331,"0%",null,null,"17 SEO",2,0,0,0,0,"-100%"]
[null,null,null,null,null,null,null,null,null,null,null,null,null,null,null,null,null,null,null,null,null,null,null,null,null,null,null,null,null,null,null,{"$f":"DR34","v":"17 SEO"},null,null,null,null,null,{"$f":"DS34","v":2},{"$f":"AL35/$AL$34","v":0.33333333333333331},null,{"$f":"DT34","v":0},0,null,{"$f":"DV34","v":0},0,null,{"$f":"DX34","v":"-100%"},null,null,null,null,null,null,null,null,null,null,null,null,null,null,null,"R1",{"$f":"Daten!B57","v":1},{"$f":"Daten!C57","v":0},{"$f":"Daten!D57","v":0},{"$f":"Daten!E57","v":0},{"$f":"Daten!F57","v":0},{"$f":"Daten!G57","v":0},{"$f":"Daten!H57","v":0},{"$f":"Daten!I57","v":0},{"$f":"Daten!J57","v":0},{"$f":"Daten!K57","v":0},{"$f":"Daten!L57","v":0},null,"R1",{"$f":"IF($BL35=0,0,ROUND(BM35/$BL35,2)*100)","v":0},0,0,0,0,0,0,0,0,0,{"$f":"IF(BL35=0,0,ROUND(BL35/$BL$41,2)*100)","v":13},null,null,null,null,null,null,null,null,null,null,null,null,null,"9 KWAK",4,0,0,0,0,0,0,0,0,null,null,"8 PARK",2,0,0,1,0.5,"50%",null,null,"9 KWAK",1,0,0,1,1,"100%"]
[null,null,null,null,null,null,null,null,null,null,null,null,null,null,null,null,null,null,null,null,null,null,null,null,null,null,null,null,null,null,null,{"$f":"DR35","v":"9 KWAK"},null,null,null,null,null,1,0.16666666666666666,null,0,0,null,1,1,null,"100%",null,null,null,null,null,null,null,null,null,null,null,null,null,null,null,"R6",{"$f":"Daten!M57","v":6},{"$f":"Daten!N57","v":1},{"$f":"Daten!O57","v":0},{"$f":"Daten!P57","v":0},{"$f":"Daten!Q57","v":2},{"$f":"Daten!R57","v":0},{"$f":"Daten!S57","v":0},{"$f":"Daten!T57","v":0},{"$f":"Daten!U57","v":1},{"$f":"Daten!V57","v":2},{"$f":"Daten!W57","v":0},null,"R6",17,0,0,33,0,0,0,17,33,0,75,null,null,null,null,null,null,null,null,null,null,null,null,null,"14 SONG",4,0,0,1,0.25,1,0.25,0.5,0.5,null,null,"11 CHOI",1,0,0,1,1,"100%",null,null,"11 CHOI",1,0,0,1,1,"100%"]
[null,null,null,null,null,null,null,null,null,null,null,null,null,null,null,null,null,null,null,null,null,null,null,null,null,null,null,null,null,null,null,"11 CHOI",null,null,null,null,null,1,0.16666666666666666,null,0,0,null,1,1,null,"100%",null,null,null,null,null,null,null,null,null,null,null,null,null,null,null,"R5",{"$f":"Daten!X57","v":1},{"$f":"Daten!Y57","v":0},{"$f":"Daten!Z57","v":0},{"$f":"Daten!AA57","v":0},{"$f":"Daten!AB57","v":0},{"$f":"Daten!AC57","v":0},{"$f":"Daten!AD57","v":0},{"$f":"Daten!AE57","v":0},{"$f":"Daten!AF57","v":0},{"$f":"Daten!AG57","v":0},{"$f":"Daten!AH57","v":0},null,"R5",0,0,0,0,0,0,0,0,0,0,13,null,null,null,null,null,null,null,null,null,null,null,null,null,"1 SONG",3,1,0.33333333333333331,1,0.33333333333333331,0,0,0.33333333333333331,0,null,null,"16 CHOI",1,0,0,0,0,"0%",null,null,"14 SONG",1,0,0,0,0,"-100%"]
[null,null,null,null,null,null,null,null,null,null,null,null,null,null,null,null,null,null,null,null,null,null,null,null,null,null,null,null,null,null,null,"14 SONG",null,null,null,null,null,1,0.16666666666666666,null,0,0,null,0,0,null,"-100%",null,null,null,null,null,null,null,null,null,null,null,null,null,null,null,"R4",{"$f":"Daten!X64","v":0},{"$f":"Daten!Y64","v":0},{"$f":"Daten!Z64","v":0},{"$f":"Daten!AA64","v":0},{"$f":"Daten!AB64","v":0},{"$f":"Daten!AC64","v":0},{"$f":"Daten!AD64","v":0},{"$f":"Daten!AE64","v":0},{"$f":"Daten!AF64","v":0},{"$f":"Daten!AG64","v":0},{"$f":"Daten!AH64","v":0},null,"R4",0,0,0,0,0,0,0,0,0,0,0,null,null,null,null,null,null,null,null,null,null,null,null,null,"17 SEO",1,0,0,0,0,0,0,0,0,null,null,"17 SEO",1,0,0,1,1,"100%",null,null,"16 CHOI",1,0,0,0,0,"-100%"]
[null,null,"Rec in Pos 2",null,null,null,null,{"$f":"CI40&\" % (\"&BL40&\")\"","v":"0 % (0)"},null,null,null,"Rec in Pos 3",null,null,null,null,null,{"$f":"CI39&\" % (\"&BL39&\")\"","v":"0 % (0)"},null,null,"Rec in Pos 4",null,null,null,null,{"$f":"CI38&\" % (\"&BL38&\")\"","v":"0 % (0)"},null,null,null,null,null,"16 CHOI",null,null,null,null,null,1,0.16666666666666666,null,0,0,null,0,0,null,"-100%",null,null,null,null,null,null,null,null,null,null,null,null,null,null,null,"R3",{"$f":"Daten!M64","v":0},{"$f":"Daten!N64","v":0},{"$f":"Daten!O64","v":0},{"$f":"Daten!P64","v":0},{"$f":"Daten!Q64","v":0},{"$f":"Daten!R64","v":0},{"$f":"Daten!S64","v":0},{"$f":"Daten!T64","v":0},{"$f":"Daten!U64","v":0},{"$f":"Daten!V64","v":0},{"$f":"Daten!W64","v":0},null,"R3",0,0,0,0,0,0,0,0,0,0,0,null,null,null,null,null,null,null,null,null,null,null,null,null,"4 SHIN",0,0,"-",0,"-",0,"-","-","-",null,null,"4 SHIN",0,0,"-",0,"-","-",null,null,"1 SONG",0,0,"-",0,"-","-"]
[null,null,null,null,null,null,null,null,null,null,null,null,null,null,null,null,null,null,null,null,null,null,null,null,null,null,null,null,null,null,null,"1 SONG",null,null,null,null,null,0,0,null,0,"-",null,0,"-",null,"-",null,null,null,null,null,null,null,null,null,null,null,null,null,null,null,"R2",{"$f":"Daten!B64","v":0},{"$f":"Daten!C64","v":0},{"$f":"Daten!D64","v":0},{"$f":"Daten!E64","v":0},{"$f":"Daten!F64","v":0},{"$f":"Daten!G64","v":0},{"$f":"Daten!H64","v":0},{"$f":"Daten!I64","v":0},{"$f":"Daten!J64","v":0},{"$f":"Daten!K64","v":0},{"$f":"Daten!L64","v":0},null,"R2",0,0,0,0,0,0,0,0,0,0,0,null,null,null,null,null,null,null,null,null,null,null,null,null,"6 LEE",0,0,"-",0,"-",0,"-","-","-",null,null,"6 LEE",0,0,"-",0,"-","-",null,null,"4 SHIN",0,0,"-",0,"-","-"]
[null,null,null,null,null,null,null,null,null,null,null,null,null,null,null,null,null,null,null,null,null,null,null,null,null,null,null,null,null,null,null,"4 SHIN",null,null,null,null,null,0,0,null,0,"-",null,0,"-",null,"-",null,null,null,null,null,null,null,null,null,null,null,null,null,null,null,null,{"$f":"SUM(BL35:BL40)","v":8},null,null,null,null,null,null,null,null,null,null,null,null,null,null,null,null,null,null,null,null,null,null,null,null,null,null,null,null,null,null,null,null,null,null,null,null,"8 PARK",0,0,"-",0,"-",0,"-","-","-",null,null,"9 KWAK",0,0,"-",0,"-","-",null,null,"6 LEE",0,0,"-",0,"-","-"]
[null,null,null,null,null,null,null,null,null,null,null,null,null,null,null,null,null,null,null,null,null,null,null,null,null,null,null,null,null,null,null,null,null,null,null,null,null,null,null,null,null,null,null,null,null,null,null,null,null,null,null,null,null,null,null,null,null,null,null,null,null,null,null,null,null,null,null,null,null,null,null,null,null,null,null,null,null,null,null,null,null,null,null,null,null,null,null,null,null,null,null,null,null,null,null,null,null,null,null,null,"11 CHOI",0,0,"-",0,"-",0,"-","-","-",null,null,"12 JEON",0,0,"-",0,"-","-",null,null,"8 PARK",0,0,"-",0,"-","-"]
[null,null,null,null,null,null,null,null,null,null,null,null,null,null,null,null,null,null,null,null,null,null,null,null,null,null,null,null,null,null,null,null,null,null,null,null,null,null,null,null,null,null,null,null,null,null,null,null,null,null,null,null,null,null,null,null,null,null,null,null,null,null,null,null,null,null,null,null,null,null,null,null,null,null,null,null,null,null,null,null,null,null,null,null,null,null,null,null,null,null,null,null,null,null,null,null,null,null,null,null,"12 JEON",0,0,"-",0,"-",0,"-","-","-",null,null,"14 SONG",0,0,"-",0,"-","-",null,null,"12 JEON",0,0,"-",0,"-","-"]
[null,null,null,null,null,null,null,null,null,null,null,null,null,null,null,null,null,null,null,null,null,null,null,null,null,null,null,null,null,null,null,null,null,null,null,null,null,null,null,null,null,null,null,null,null,null,null,null,null,null,null,null,null,null,null,null,null,null,null,null,null,null,null,null,null,null,null,null,null,null,null,null,null,null,null,null,null,null,null,null,null,null,null,null,null,null,null,null,null,null,null,null,null,null,null,null,null,null,null,null,"16 CHOI",0,0,"-",0,"-",0,"-","-","-",null,null,"19 JEONG",0,0,"-",0,"-","-",null,null,"19 JEONG",0,0,"-",0,"-","-"]
[null,null,null,null,null,null,null,null,null,null,null,null,null,null,null,null,null,null,null,null,null,null,null,null,null,null,null,null,null,null,null,null,null,null,null,null,null,null,null,null,null,null,null,null,null,null,null,null,null,null,null,null,null,null,null,null,null,null,null,null,null,null,null,null,null,null,null,null,null,null,null,null,null,null,null,null,null,null,null,null,null,null,null,null,null,null,null,null,null,null,null,null,null,null,null,null,null,null,null,null,"20 JI",0,0,"-",0,"-",0,"-","-","-",null,null,"20 JI",0,0,"-",0,"-","-",null,null,"20 JI",0,0,"-",0,"-","-"]
[null,null,"Settermovement to 4",null,null,null,null,null,null,{"$f":"BL48","v":0},null,"Settermovement to 3",null,null,null,null,null,{"$f":"BL49","v":8},null,null,"Settermovement to 2",null,null,null,null,null,{"$f":"BL50","v":0},null,null,null,null,null,null,null,null,null,null,null,null,null,null,null,null,null,null,null,null,null,null,null,null,null,null,null,null,null,null,null,null,null,null,null,"Settermovement",null,null,null,null,null,null,null,null,null,null,null,null,null,null,null,null,null,null,null,null,null,null,null,null,null,null,null,null,null,null,null,null,null,null,null,null,null,"22 YOU",0,0,"-",0,"-",0,"-","-","-",null,null,"22 YOU",0,0,"-",0,"-","-",null,null,"22 YOU",0,0,"-",0,"-","-"]
[null,null,null,null,null,null,null,null,null,null,null,null,null,null,null,null,null,null,null,null,null,null,null,null,null,null,null,null,null,null,null,null,null,null,null,null,null,null,null,null,null,null,null,null,null,null,null,null,null,null,null,null,null,null,null,null,null,null,null,null,null,null,null,{"$f":"Daten!X73","v":"alle"},{"$f":"Daten!Y73","v":"P4"},{"$f":"Daten!Z73","v":"X"},{"$f":"Daten!AA73","v":4},{"$f":"Daten!AB73","v":1},{"$f":"Daten!AC73","v":"Set"},{"$f":"Daten!AD73","v":3},{"$f":"Daten!AE73","v":"OF"},{"$f":"Daten!AF73","v":"P2"},{"$f":"Daten!AG73","v":"HF6"},{"$f":"Daten!AH73","v":"HF1"},null,null,{"$f":"Daten!Y73","v":"P4"},{"$f":"Daten!Z73","v":"X"},{"$f":"Daten!AA73","v":4},{"$f":"Daten!AB73","v":1},{"$f":"Daten!AC73","v":"Set"},{"$f":"Daten!AD73","v":3},{"$f":"Daten!AE73","v":"OF"},{"$f":"Daten!AF73","v":"P2"},{"$f":"Daten!AG73","v":"HF6"},{"$f":"Daten!AH73","v":"HF1"},null,null,null,null,null,null,null,null,null,null,null,null,null,null,"25 OH",0,0,"-",0,"-",0,"-","-","-",null,null,"25 OH",0,0,"-",0,"-","-",null,null,"25 OH",0,0,"-",0,"-","-"]
[null,null,null,null,null,null,null,null,null,null,null,null,null,null,null,null,null,null,null,null,null,null,null,null,null,null,null,null,null,null,null,null,null,null,null,null,null,null,null,null,null,null,null,null,null,null,null,null,null,null,null,null,null,null,null,null,null,null,null,null,null,null,"P4",{"$f":"Daten!X75","v":0},{"$f":"Daten!Y75","v":0},{"$f":"Daten!Z75","v":0},{"$f":"Daten!AA75","v":0},{"$f":"Daten!AB75","v":0},{"$f":"Daten!AC75","v":0},{"$f":"Daten!AD75","v":0},{"$f":"Daten!AE75","v":0},{"$f":"Daten!AF75","v":0},{"$f":"Daten!AG75","v":0},{"$f":"Daten!AH75","v":0},null,"P4",{"$f":"IF($BL48=0,0,ROUND(BM48/$BL48,2)*100)","v":0},0,0,0,0,0,0,0,0,0,null,null,null,null,null,null,null,null,null,null,null,null,null,null,0,0,0,"-",0,"-",0,"-","-","-",null,null,0,0,0,"-",0,"-","-",null,null,0,0,0,"-",0,"-","-"]
[null,null,null,null,null,null,null,null,null,null,null,null,null,null,null,null,null,null,null,null,null,null,null,null,null,null,null,null,null,null,null,null,null,null,null,null,null,null,null,null,null,null,null,null,null,null,null,null,null,null,null,null,null,null,null,null,null,null,null,null,null,null,"P3",{"$f":"Daten!M75","v":8},{"$f":"Daten!N75","v":1},{"$f":"Daten!O75","v":0},{"$f":"Daten!P75","v":0},{"$f":"Daten!Q75","v":2},{"$f":"Daten!R75","v":0},{"$f":"Daten!S75","v":1},{"$f":"Daten!T75","v":0},{"$f":"Daten!U75","v":1},{"$f":"Daten!V75","v":2},{"$f":"Daten!W75","v":0},null,"P3",13,0,0,25,0,13,0,13,25,0,null,null,null,null,null,null,null,null,null,null,null,null,null,null,0,0,0,"-",0,"-",0,"-","-","-",null,null,0,0,0,"-",0,"-","-",null,null,0,0,0,"-",0,"-","-"]
[null,null,null,null,null,null,null,null,null,null,null,null,null,null,null,null,null,null,null,null,null,null,null,null,null,null,null,null,null,null,null,null,null,null,null,null,null,null,null,null,null,null,null,null,null,null,null,null,null,null,null,null,null,null,null,null,null,null,null,null,null,null,"P2",{"$f":"Daten!B75","v":0},{"$f":"Daten!C75","v":0},{"$f":"Daten!D75","v":0},{"$f":"Daten!E75","v":0},{"$f":"Daten!F75","v":0},{"$f":"Daten!G75","v":0},{"$f":"Daten!H75","v":0},{"$f":"Daten!I75","v":0},{"$f":"Daten!J75","v":0},{"$f":"Daten!K75","v":0},{"$f":"Daten!L75","v":0},null,"P2",0,0,0,0,0,0,0,0,0,0,null,null,null,null,null,null,null,null,null,null,null,null,null,null,0,0,0,"-",0,"-",0,"-","-","-",null,null,0,0,0,"-",0,"-","-",null,null,0,0,0,"-",0,"-","-"]
[null,null,null,null,null,null,null,null,null,null,null,null,null,null,null,null,null,null,null,null,null,null,null,null,null,null,null,null,null,null,null,null,null,null,null,null,null,null,null,null,null,null,null,null,null,null,null,null,null,null,null,null,null,null,null,null,null,null,null,null,null,null,null,null,null,null,null,null,null,null,null,null,null,null,null,null,null,null,null,null,null,null,null,null,null,null,null,null,null,null,null,null,null,null,null,null,null,null,null,null,0,0,0,"-",0,"-",0,"-","-","-",null,null,0,0,0,"-",0,"-","-",null,null,0,0,0,"-",0,"-","-"]
[null,null,null,null,null,null,null,null,null,null,null,null,null,null,null,null,null,null,null,null,null,null,null,null,null,null,null,null,null,null,null,null,null,null,null,null,null,null,null,null,null,null,null,null,null,null,null,null,null,null,null,null,null,null,null,null,null,null,null,null,null,null,null,null,null,null,null,null,null,null,null,null,null,null,null,null,null,null,null,null,null,null,null,null,null,null,null,null,null,null,null,null,null,null,null,null,null,null,null,null,0,0,0,"-",0,"-",0,"-","-","-",null,null,0,0,0,"-",0,"-","-",null,null,0,0,0,"-",0,"-","-"]

{"sheet":"R 5","index":11,"n_rows":52,"n_cols":170,"rows_kept":52,"cut":false,"hidden":false,"merged":[[7,165,7,169],[22,31,22,35],[32,31,32,35],[7,160,7,164],[1,31,1,38],[4,31,4,34],[4,40,4,43],[4,49,4,52],[13,31,13,35],[7,131,7,134],[7,135,7,139],[7,140,7,144],[7,145,7,149],[7,150,7,154],[7,155,7,159],[6,63,6,73],[6,75,6,85],[32,7,32,10],[32,11,32,14],[24,75,24,85],[24,87,24,97],[32,62,32,73],[24,63,24,73],[6,87,6,97],[45,62,45,73],[45,2,45,7],[45,9,45,10],[45,11,45,16],[45,17,45,19],[45,20,45,25],[45,26,45,28],[38,25,38,28],[32,2,32,5],[12,63,12,73],[12,75,12,85],[12,87,12,97],[32,16,32,19],[32,20,32,24],[32,25,32,28],[18,63,18,73],[18,75,18,85],[18,87,18,97],[38,2,38,5],[38,7,38,10],[38,11,38,14],[38,17,38,19],[38,20,38,24],[1,2,1,6],[4,2,4,4],[4,5,4,7],[4,9,4,11],[4,12,4,14],[4,63,4,73],[4,75,4,85],[4,87,4,97],[1,9,1,28],[4,16,4,18],[4,19,4,21],[4,23,4,25],[4,26,4,28]]}
[]
[null,null,"Rotation 5",null,null,null,null,null,null,{"$f":"Daten!A3","v":"KOREA"},null,null,null,null,null,null,null,null,null,null,null,null,null,null,null,null,null,null,null,null,null,"Distribution"]
[]
[]
[null,null,{"$f":"\"Base \"&Options!S7","v":"Base K1"},null,null,{"$f":"BL10&\" % (\"&BL9&\")\"","v":"50 % (5)"},null,null,null,{"$f":"\"Base \"&Options!S8","v":"Base K2"},null,null,{"$f":"BL16&\" % (\"&BL15&\")\"","v":"0 % (0)"},null,null,null,{"$f":"\"Base \"&Options!S9","v":"Base K7"},null,null,{"$f":"BL22&\" % (\"&BL21&\")\"","v":"50 % (5)"},null,null,null,{"$f":"\"Base \"&Options!S10","v":"Base KD"},null,null,{"$f":"BL28&\" % (\"&BL27&\")\"","v":"0 % (0)"},null,null,null,null,"K1 after all R",null,null,null,{"$f":"EB10","v":12},null,{"$f":"EC10","v":"33%"},{"$f":"EE10","v":0.5},null,"K1 after R#+",null,null,null,{"$f":"EB11","v":10},null,{"$f":"EC11","v":"50%"},{"$f":"EE11","v":0.6},null,"K2 Transition",null,null,null,{"$f":"EB12","v":8},null,{"$f":"EC12","v":"62%"},{"$f":"EE12","v":0.75},null,null,null,null,null,null,"alle Punkte",null,null,null,null,null,null,null,null,null,null,null,"0-20",null,null,null,null,null,null,null,null,null,null,null,"20-x"]
[]
[null,null,null,null,null,null,null,null,null,null,null,null,null,null,null,null,null,null,null,null,null,null,null,null,null,null,null,null,null,null,null,null,null,null,null,null,null,null,null,null,null,null,null,null,null,null,null,null,null,null,null,null,null,null,null,null,null,null,null,null,null,null,null,{"$f":"\"Base \"&Options!$S7","v":"Base K1"},null,null,null,null,null,null,null,null,null,null,null,{"$f":"\"Base \"&Options!$S7","v":"Base K1"},null,null,null,null,null,null,null,null,null,null,null,{"$f":"\"Base \"&Options!$S7","v":"Base K1"},null,null,null,null,null,null,null,null,null,null,null,null,"Reception",null,null,null,null,null,null,null,null,null,null,null,"K1 after R#+",null,null,null,null,null,null,null,null,"K2 Transition",null,null,null,null,null,null,null,null,"Distribution"]
[null,null,null,null,null,null,null,null,null,null,null,null,null,null,null,null,null,null,null,null,null,null,null,null,null,null,null,null,null,null,null,null,null,null,null,null,null,null,null,null,null,null,null,null,null,null,null,null,null,null,null,null,null,null,null,null,null,null,null,null,null,null,null,{"$f":"Daten!B29","v":"K1"},{"$f":"Daten!F29","v":"P4"},{"$f":"Daten!G29","v":"SA"},{"$f":"Daten!H29","v":"H6"},{"$f":"Daten!I29","v":"P2"},{"$f":"Daten!J29","v":"H1"},{"$f":"Daten!K29","v":"P4-E"},{"$f":"Daten!L29","v":"SA-E"},{"$f":"Daten!M29","v":"H6-E"},{"$f":"Daten!N29","v":"P2-E"},{"$f":"Daten!O29","v":"H1-E"},null,{"$f":"Daten!B37","v":"K1"},{"$f":"Daten!F37","v":"P4"},{"$f":"Daten!G37","v":"SA"},{"$f":"Daten!H37","v":"H6"},{"$f":"Daten!I37","v":"P2"},{"$f":"Daten!J37","v":"H1"},{"$f":"Daten!K37","v":"P4-E"},{"$f":"Daten!L37","v":"SA-E"},{"$f":"Daten!M37","v":"H6-E"},{"$f":"Daten!N37","v":"P2-E"},{"$f":"Daten!O37","v":"H1-E"},null,{"$f":"Daten!B45","v":"K1"},{"$f":"Daten!F45","v":"P4"},{"$f":"Daten!G45","v":"SA"},{"$f":"Daten!H45","v":"H6"},{"$f":"Daten!I45","v":"P2"},{"$f":"Daten!J45","v":"H1"},{"$f":"Daten!K45","v":"P4-E"},{"$f":"Daten!L45","v":"SA-E"},{"$f":"Daten!M45","v":"H6-E"},{"$f":"Daten!N45","v":"P2-E"},{"$f":"Daten!O45","v":"H1-E"},null,null,null,{"$f":"'Daten SR'!AB4","v":"R 5"},{"$f":"'Daten SR'!AE4","v":"R 5/="},{"$f":"CY8&\"%\"","v":"R 5/=%"},{"$f":"'Daten SR'!AD4","v":"R 5+"},{"$f":"DA8&\"%\"","v":"R 5+%"},{"$f":"'Daten SR'!AC4","v":"R 5#"},{"$f":"DC8&\"%\"","v":"R 5#%"},{"$f":"DA8&\"#%\"","v":"R 5+#%"},{"$f":"CX8&\" Eff\"","v":"R 5 Eff"},null,null,null,{"$f":"'Daten A2'!N5","v":"A"},{"$f":"'Daten A2'!Q5","v":"A="},{"$f":"DK8&\"%\"","v":"A=%"},{"$f":"'Daten A2'!P5","v":"A#"},{"$f":"DM8&\"%\"","v":"A#%"},{"$f":"'Daten A2'!O5","v":"Eff"},null,null,null,{"$f":"'Daten A2'!J5","v":"A"},{"$f":"'Daten A2'!M5","v":"A="},{"$f":"DT8&\"%\"","v":"A=%"},{"$f":"'Daten A2'!L5","v":"A#"},{"$f":"DV8&\"%\"","v":"A#%"},{"$f":"'Daten A2'!K5","v":"Eff"},null,null,null,"alle",null,null,null,"Pos2",null,null,null,null,"Pos3",null,null,null,null,"Pos4",null,null,null,null,"Pos9",null,null,null,null,"Pos8",null,null,null,null,"Pos7",null,null,null,null,"PosS"]
[null,null,null,null,null,null,null,null,null,null,null,null,null,null,null,null,null,null,null,null,null,null,null,null,null,null,null,null,null,null,null,{"$f":"EU10","v":0},{"$f":"EV10","v":"-"},null,{"$f":"EZ10","v":6},{"$f":"FA10","v":0.5},null,{"$f":"FE10","v":0},{"$f":"FF10","v":"-"},null,{"$f":"EU11","v":0},{"$f":"EV11","v":"-"},null,{"$f":"EZ11","v":5},{"$f":"FA11","v":0.5},null,{"$f":"FE11","v":0},{"$f":"FF11","v":"-"},null,{"$f":"EU12","v":0},{"$f":"EV12","v":"-"},null,{"$f":"EZ12","v":1},{"$f":"FA12","v":0.125},null,{"$f":"FE12","v":0},{"$f":"FF12","v":"-"},null,null,null,null,null,null,{"$f":"Daten!B32","v":5},{"$f":"Daten!F32","v":0},{"$f":"Daten!G32","v":1},{"$f":"Daten!H32","v":4},{"$f":"Daten!I32","v":0},{"$f":"Daten!J32","v":0},{"$f":"Daten!K32","v":"0%"},{"$f":"Daten!L32","v":"0%"},{"$f":"Daten!M32","v":"50%"},{"$f":"Daten!N32","v":"0%"},{"$f":"Daten!O32","v":"0%"},null,{"$f":"Daten!B40","v":5},{"$f":"Daten!F40","v":0},{"$f":"Daten!G40","v":1},{"$f":"Daten!H40","v":4},{"$f":"Daten!I40","v":0},{"$f":"Daten!J40","v":0},{"$f":"Daten!K40","v":"0%"},{"$f":"Daten!L40","v":"0%"},{"$f":"Daten!M40","v":"50%"},{"$f":"Daten!N40","v":"0%"},{"$f":"Daten!O40","v":"0%"},null,{"$f":"Daten!B48","v":0},{"$f":"Daten!F48","v":0},{"$f":"Daten!G48","v":0},{"$f":"Daten!H48","v":0},{"$f":"Daten!I48","v":0},{"$f":"Daten!J48","v":0},{"$f":"Daten!K48","v":"0%"},{"$f":"Daten!L48","v":"0%"},{"$f":"Daten!M48","v":"0%"},{"$f":"Daten!N48","v":"0%"},{"$f":"Daten!O48","v":"0%"},null,null,{"$f":"'Daten SR'!A5","v":"KOREA"},{"$f":"'Daten SR'!AB5","v":15},{"$f":"'Daten SR'!AE5","v":0},{"$f":"IF($CX9=0,\"-\",CY9/$CX9)","v":0},{"$f":"'Daten SR'!AD5","v":5},{"$f":"IF($CX9=0,\"-\",DA9/$CX9)","v":0.33333333333333331},{"$f":"'Daten SR'!AC5","v":5},{"$f":"IF($CX9=0,\"-\",DC9/$CX9)","v":0.33333333333333331},{"$f":"IF($CX9=0,\"-\",(DA9+DC9)/$CX9)","v":0.66666666666666663},{"$f":"IF(CX9=0,\"-\",(DC9+DA9-CY9)/CX9)","v":0.66666666666666663},null,null,{"$f":"'Daten A2'!A6","v":"KOREA"},{"$f":"'Daten A2'!V6","v":10},{"$f":"'Daten A2'!Y6","v":1},{"$f":"IF($DJ9=0,\"-\",DK9/$DJ9)","v":0.1},{"$f":"'Daten A2'!X6","v":6},{"$f":"IF($DJ9=0,\"-\",DM9/$DJ9)","v":0.6},{"$f":"IF($DJ9=0,\"-\",'Daten A2'!W6)","v":"50%"},null,null,{"$f":"'Daten A2'!A6","v":"KOREA"},{"$f":"'Daten A2'!R6","v":8},{"$f":"'Daten A2'!U6","v":1},{"$f":"IF($DS9=0,\"-\",DT9/$DS9)","v":0.125},{"$f":"'Daten A2'!T6","v":6},{"$f":"IF($DS9=0,\"-\",DV9/$DS9)","v":0.75},{"$f":"IF($DS9=0,\"-\",'Daten A2'!S6)","v":"62%"},null,null,null,"r","Eff","#","#%","r","r%","Eff","#","#%","r","r%","Eff","#","#%","r","r%","Eff","#","#%","r","r%","Eff","#","#%","r","r%","Eff","#","#%","r","r%","Eff","#","#%","r","r%","Eff","#","#%"]
[null,null,null,null,null,null,null,null,null,null,null,null,null,null,null,null,null,null,null,null,null,null,null,null,null,null,null,null,null,null,null,{"$f":"EW10","v":"-"},{"$f":"EY10","v":"-"},null,{"$f":"FB10","v":"17%"},{"$f":"FD10","v":0.5},null,{"$f":"FG10","v":"-"},{"$f":"FI10","v":"-"},null,{"$f":"EW11","v":"-"},{"$f":"EY11","v":"-"},null,{"$f":"FB11","v":"40%"},{"$f":"FD11","v":0.6},null,{"$f":"FG11","v":"-"},{"$f":"FI11","v":"-"},null,{"$f":"EW12","v":"-"},{"$f":"EY12","v":"-"},null,{"$f":"FB12","v":"100%"},{"$f":"FD12","v":1},null,{"$f":"FG12","v":"-"},{"$f":"FI12","v":"-"},null,null,null,null,null,null,{"$f":"IF(BL9=0,0,ROUND(BL9/(BL9+BL15+BL21+BL27),2)*100)","v":50},{"$f":"IF($BL9=0,0,ROUND(BM9/$BL9,2)*100)","v":0},{"$f":"IF($BL9=0,0,ROUND(BN9/$BL9,2)*100)","v":20},{"$f":"IF($BL9=0,0,ROUND(BO9/$BL9,2)*100)","v":80},{"$f":"IF($BL9=0,0,ROUND(BP9/$BL9,2)*100)","v":0},{"$f":"IF($BL9=0,0,ROUND(BQ9/$BL9,2)*100)","v":0},{"$f":"IF(BM9=0,\"\",BR9)","v":""},{"$f":"IF(BN9=0,\"\",BS9)","v":"0%"},{"$f":"IF(BO9=0,\"\",BT9)","v":"50%"},{"$f":"IF(BP9=0,\"\",BU9)","v":""},{"$f":"IF(BQ9=0,\"\",BV9)","v":""},null,{"$f":"IF(BX9=0,0,ROUND(BX9/(BX9+BX15+BX21+BX27),2)*100)","v":56.000000000000007},{"$f":"IF($BX9=0,0,ROUND(BY9/$BX9,2)*100)","v":0},{"$f":"IF($BX9=0,0,ROUND(BZ9/$BX9,2)*100)","v":20},{"$f":"IF($BX9=0,0,ROUND(CA9/$BX9,2)*100)","v":80},{"$f":"IF($BX9=0,0,ROUND(CB9/$BX9,2)*100)","v":0},{"$f":"IF($BX9=0,0,ROUND(CC9/$BX9,2)*100)","v":0},{"$f":"IF(BY9=0,\"\",CD9)","v":""},{"$f":"IF(BZ9=0,\"\",CE9)","v":"0%"},{"$f":"IF(CA9=0,\"\",CF9)","v":"50%"},{"$f":"IF(CB9=0,\"\",CG9)","v":""},{"$f":"IF(CC9=0,\"\",CH9)","v":""},null,{"$f":"IF(CJ9=0,0,ROUND(CJ9/(CJ9+CJ15+CJ21+CJ27),2)*100)","v":0},{"$f":"IF($CJ9=0,0,ROUND(CK9/$CJ9,2)*100)","v":0},{"$f":"IF($CJ9=0,0,ROUND(CL9/$CJ9,2)*100)","v":0},{"$f":"IF($CJ9=0,0,ROUND(CM9/$CJ9,2)*100)","v":0},{"$f":"IF($CJ9=0,0,ROUND(CN9/$CJ9,2)*100)","v":0},{"$f":"IF($CJ9=0,0,ROUND(CO9/$CJ9,2)*100)","v":0},{"$f":"IF(CK9=0,\"\",CP9)","v":""},{"$f":"IF(CL9=0,\"\",CQ9)","v":""},{"$f":"IF(CM9=0,\"\",CR9)","v":""},{"$f":"IF(CN9=0,\"\",CS9)","v":""},{"$f":"IF(CO9=0,\"\",CT9)","v":""},null,null,{"$f":"'Daten SR'!A6","v":"1 SONG"},{"$f":"'Daten SR'!AB6","v":0},{"$f":"'Daten SR'!AE6","v":0},{"$f":"IF($CX10=0,\"-\",CY10/$CX10)","v":"-"},{"$f":"'Daten SR'!AD6","v":0},{"$f":"IF($CX10=0,\"-\",DA10/$CX10)","v":"-"},{"$f":"'Daten SR'!AC6","v":0},{"$f":"IF($CX10=0,\"-\",DC10/$CX10)","v":"-"},{"$f":"IF($CX10=0,\"-\",(DA10+DC10)/$CX10)","v":"-"},{"$f":"IF(CX10=0,\"-\",(DC10+DA10-CY10)/CX10)","v":"-"},null,null,{"$f":"'Daten A2'!A7","v":"1 SONG"},{"$f":"'Daten A2'!V7","v":5},{"$f":"'Daten A2'!Y7","v":1},{"$f":"IF($DJ10=0,\"-\",DK10/$DJ10)","v":0.2},{"$f":"'Daten A2'!X7","v":3},{"$f":"IF($DJ10=0,\"-\",DM10/$DJ10)","v":0.6},{"$f":"IF($DJ10=0,\"-\",'Daten A2'!W7)","v":"40%"},null,null,{"$f":"'Daten A2'!A7","v":"1 SONG"},{"$f":"'Daten A2'!R7","v":1},{"$f":"'Daten A2'!U7","v":0},{"$f":"IF($DS10=0,\"-\",DT10/$DS10)","v":0},{"$f":"'Daten A2'!T7","v":1},{"$f":"IF($DS10=0,\"-\",DV10/$DS10)","v":1},{"$f":"IF($DS10=0,\"-\",'Daten A2'!S7)","v":"100%"},null,null,"K1 all",{"$f":"Daten!B86","v":12},{"$f":"Daten!C86","v":"33%"},{"$f":"Daten!D86","v":6},{"$f":"IF(EB10=0,\"-\",ED10/EB10)","v":0.5},{"$f":"Daten!E86","v":3},{"$f":"IF(OR($EB10=0,EF10=0),\"-\",EF10/$EB10)","v":0.25},{"$f":"IF(EF10=0,\"-\",Daten!F86)","v":"67%"},{"$f":"Daten!G86","v":2},{"$f":"IF(EF10=0,\"-\",EI10/EF10)","v":0.66666666666666663},{"$f":"Daten!H86","v":3},{"$f":"IF(OR($EB10=0,EK10=0),\"-\",EK10/$EB10)","v":0.25},{"$f":"IF(EK10=0,\"-\",Daten!I86)","v":"33%"},{"$f":"Daten!J86","v":1},{"$f":"IF(EK10=0,\"-\",EN10/EK10)","v":0.33333333333333331},{"$f":"Daten!K86","v":0},{"$f":"IF(OR($EB10=0,EP10=0),\"-\",EP10/$EB10)","v":"-"},{"$f":"IF(EP10=0,\"-\",Daten!L86)","v":"-"},{"$f":"Daten!M86","v":0},{"$f":"IF(EP10=0,\"-\",ES10/EP10)","v":"-"},{"$f":"Daten!N86","v":0},{"$f":"IF(OR($EB10=0,EU10=0),\"-\",EU10/$EB10)","v":"-"},{"$f":"IF(EU10=0,\"-\",Daten!O86)","v":"-"},{"$f":"Daten!P86","v":0},{"$f":"IF(EU10=0,\"-\",EX10/EU10)","v":"-"},{"$f":"Daten!Q86","v":6},{"$f":"IF(OR($EB10=0,EZ10=0),\"-\",EZ10/$EB10)","v":0.5},{"$f":"IF(EZ10=0,\"-\",Daten!R86)","v":"17%"},{"$f":"Daten!S86","v":3},{"$f":"IF(EZ10=0,\"-\",FC10/EZ10)","v":0.5},{"$f":"Daten!T86","v":0},{"$f":"IF(OR($EB10=0,FE10=0),\"-\",FE10/$EB10)","v":"-"},{"$f":"IF(FE10=0,\"-\",Daten!U86)","v":"-"},{"$f":"Daten!V86","v":0},{"$f":"IF(FE10=0,\"-\",FH10/FE10)","v":"-"},{"$f":"Daten!W86","v":0},{"$f":"IF(OR($EB10=0,FJ10=0),\"-\",FJ10/$EB10)","v":"-"},{"$f":"IF(FJ10=0,\"-\",Daten!X86)","v":"-"},{"$f":"Daten!Y86","v":0},{"$f":"IF(FJ10=0,\"-\",FM10/FJ10)","v":"-"}]
[null,null,null,null,null,null,null,null,null,null,null,null,null,null,null,null,null,null,null,null,null,null,null,null,null,null,null,null,null,null,null,{"$f":"EF10","v":3},{"$f":"EG10","v":0.25},null,{"$f":"EK10","v":3},{"$f":"EL10","v":0.25},null,{"$f":"EP10","v":0},{"$f":"EQ10","v":"-"},null,{"$f":"EF11","v":2},{"$f":"EG11","v":0.2},null,{"$f":"EK11","v":3},{"$f":"EL11","v":0.3},null,{"$f":"EP11","v":0},{"$f":"EQ11","v":"-"},null,{"$f":"EF12","v":2},{"$f":"EG12","v":0.25},null,{"$f":"EK12","v":1},{"$f":"EL12","v":0.125},null,{"$f":"EP12","v":4},{"$f":"EQ12","v":0.5},null,null,null,null,null,null,null,null,null,null,null,null,null,null,null,null,null,null,null,null,null,null,null,null,null,null,null,null,null,null,null,null,null,null,null,null,null,null,null,null,null,null,null,{"$f":"'Daten SR'!A7","v":"4 SHIN"},{"$f":"'Daten SR'!AB7","v":0},{"$f":"'Daten SR'!AE7","v":0},"-",{"$f":"'Daten SR'!AD7","v":0},"-",{"$f":"'Daten SR'!AC7","v":0},"-","-","-",null,null,{"$f":"'Daten A2'!A8","v":"4 SHIN"},{"$f":"'Daten A2'!V8","v":3},{"$f":"'Daten A2'!Y8","v":0},0,{"$f":"'Daten A2'!X8","v":1},0.33333333333333331,{"$f":"IF($DJ11=0,\"-\",'Daten A2'!W8)","v":"33%"},null,null,{"$f":"'Daten A2'!A8","v":"4 SHIN"},{"$f":"'Daten A2'!R8","v":1},{"$f":"'Daten A2'!U8","v":0},0,{"$f":"'Daten A2'!T8","v":1},1,{"$f":"IF($DS11=0,\"-\",'Daten A2'!S8)","v":"100%"},null,null,"K1  R#+",{"$f":"Daten!B106","v":10},{"$f":"IF(EB11=0,\"-\",Daten!C106)","v":"50%"},{"$f":"Daten!D106","v":6},{"$f":"IF(EB11=0,\"-\",ED11/EB11)","v":0.6},{"$f":"Daten!E106","v":2},{"$f":"IF(OR($EB11=0,EF11=0),\"-\",EF11/$EB11)","v":0.2},{"$f":"IF(EF11=0,\"-\",Daten!F106)","v":"100%"},{"$f":"Daten!G106","v":2},{"$f":"IF(EF11=0,\"-\",EI11/EF11)","v":1},{"$f":"Daten!H106","v":3},{"$f":"IF(OR($EB11=0,EK11=0),\"-\",EK11/$EB11)","v":0.3},{"$f":"IF(EK11=0,\"-\",Daten!I106)","v":"33%"},{"$f":"Daten!J106","v":1},{"$f":"IF(EK11=0,\"-\",EN11/EK11)","v":0.33333333333333331},{"$f":"Daten!K106","v":0},{"$f":"IF(OR($EB11=0,EP11=0),\"-\",EP11/$EB11)","v":"-"},{"$f":"IF(EP11=0,\"-\",Daten!L106)","v":"-"},{"$f":"Daten!M106","v":0},{"$f":"IF(EP11=0,\"-\",ES11/EP11)","v":"-"},{"$f":"Daten!N106","v":0},{"$f":"IF(OR($EB11=0,EU11=0),\"-\",EU11/$EB11)","v":"-"},{"$f":"IF(EU11=0,\"-\",Daten!O106)","v":"-"},{"$f":"Daten!P106","v":0},{"$f":"IF(EU11=0,\"-\",EX11/EU11)","v":"-"},{"$f":"Daten!Q106","v":5},{"$f":"IF(OR($EB11=0,EZ11=0),\"-\",EZ11/$EB11)","v":0.5},{"$f":"IF(EZ11=0,\"-\",Daten!R106)","v":"40%"},{"$f":"Daten!S106","v":3},{"$f":"IF(EZ11=0,\"-\",FC11/EZ11)","v":0.6},{"$f":"Daten!T106","v":0},{"$f":"IF(OR($EB11=0,FE11=0),\"-\",FE11/$EB11)","v":"-"},{"$f":"IF(FE11=0,\"-\",Daten!U106)","v":"-"},{"$f":"Daten!V106","v":0},{"$f":"IF(FE11=0,\"-\",FH11/FE11)","v":"-"},{"$f":"Daten!W106","v":0},{"$f":"IF(OR($EB11=0,FJ11=0),\"-\",FJ11/$EB11)","v":"-"},{"$f":"IF(FJ11=0,\"-\",Daten!X106)","v":"-"},{"$f":"Daten!Y106","v":0},{"$f":"IF(FJ11=0,\"-\",FM11/FJ11)","v":"-"}]
[null,null,null,null,null,null,null,null,null,null,null,null,null,null,null,null,null,null,null,null,null,null,null,null,null,null,null,null,null,null,null,{"$f":"EH10","v":"67%"},{"$f":"EJ10","v":0.66666666666666663},null,{"$f":"EM10","v":"33%"},{"$f":"EO10","v":0.33333333333333331},null,{"$f":"ER10","v":"-"},{"$f":"ET10","v":"-"},null,{"$f":"EH11","v":"100%"},{"$f":"EJ11","v":1},null,{"$f":"EM11","v":"33%"},{"$f":"EO11","v":0.33333333333333331},null,{"$f":"ER11","v":"-"},{"$f":"ET11","v":"-"},null,{"$f":"EH12","v":"100%"},{"$f":"EJ12","v":1},null,{"$f":"EM12","v":"100%"},{"$f":"EO12","v":1},null,{"$f":"ER12","v":"25%"},{"$f":"ET12","v":0.5},null,null,null,null,null,null,null,null,null,null,null,null,null,null,null,null,null,null,null,null,null,null,null,null,null,null,null,null,null,null,null,null,null,null,null,null,null,null,null,null,null,null,null,{"$f":"'Daten SR'!A8","v":"6 LEE"},{"$f":"'Daten SR'!AB8","v":0},{"$f":"'Daten SR'!AE8","v":0},"-",{"$f":"'Daten SR'!AD8","v":0},"-",{"$f":"'Daten SR'!AC8","v":0},"-","-","-",null,null,{"$f":"'Daten A2'!A9","v":"6 LEE"},{"$f":"'Daten A2'!V9","v":0},{"$f":"'Daten A2'!Y9","v":0},"-",{"$f":"'Daten A2'!X9","v":0},"-",{"$f":"IF($DJ12=0,\"-\",'Daten A2'!W9)","v":"-"},null,null,{"$f":"'Daten A2'!A9","v":"6 LEE"},{"$f":"'Daten A2'!R9","v":0},{"$f":"'Daten A2'!U9","v":0},"-",{"$f":"'Daten A2'!T9","v":0},"-",{"$f":"IF($DS12=0,\"-\",'Daten A2'!S9)","v":"-"},null,null,"K2",{"$f":"Daten!B96","v":8},{"$f":"Daten!C96","v":"62%"},{"$f":"Daten!D96","v":6},{"$f":"IF(EB12=0,\"-\",ED12/EB12)","v":0.75},{"$f":"Daten!E96","v":2},{"$f":"IF(OR($EB12=0,EF12=0),\"-\",EF12/$EB12)","v":0.25},{"$f":"IF(EF12=0,\"-\",Daten!F96)","v":"100%"},{"$f":"Daten!G96","v":2},{"$f":"IF(EF12=0,\"-\",EI12/EF12)","v":1},{"$f":"Daten!H96","v":1},{"$f":"IF(OR($EB12=0,EK12=0),\"-\",EK12/$EB12)","v":0.125},{"$f":"IF(EK12=0,\"-\",Daten!I96)","v":"100%"},{"$f":"Daten!J96","v":1},{"$f":"IF(EK12=0,\"-\",EN12/EK12)","v":1},{"$f":"Daten!K96","v":4},{"$f":"IF(OR($EB12=0,EP12=0),\"-\",EP12/$EB12)","v":0.5},{"$f":"IF(EP12=0,\"-\",Daten!L96)","v":"25%"},{"$f":"Daten!M96","v":2},{"$f":"IF(EP12=0,\"-\",ES12/EP12)","v":0.5},{"$f":"Daten!N96","v":0},{"$f":"IF(OR($EB12=0,EU12=0),\"-\",EU12/$EB12)","v":"-"},{"$f":"IF(EU12=0,\"-\",Daten!O96)","v":"-"},{"$f":"Daten!P96","v":0},{"$f":"IF(EU12=0,\"-\",EX12/EU12)","v":"-"},{"$f":"Daten!Q96","v":1},{"$f":"IF(OR($EB12=0,EZ12=0),\"-\",EZ12/$EB12)","v":0.125},{"$f":"IF(EZ12=0,\"-\",Daten!R96)","v":"100%"},{"$f":"Daten!S96","v":1},{"$f":"IF(EZ12=0,\"-\",FC12/EZ12)","v":1},{"$f":"Daten!T96","v":0},{"$f":"IF(OR($EB12=0,FE12=0),\"-\",FE12/$EB12)","v":"-"},{"$f":"IF(FE12=0,\"-\",Daten!U96)","v":"-"},{"$f":"Daten!V96","v":0},{"$f":"IF(FE12=0,\"-\",FH12/FE12)","v":"-"},{"$f":"Daten!W96","v":0},{"$f":"IF(OR($EB12=0,FJ12=0),\"-\",FJ12/$EB12)","v":"-"},{"$f":"IF(FJ12=0,\"-\",Daten!X96)","v":"-"},{"$f":"Daten!Y96","v":0},{"$f":"IF(FJ12=0,\"-\",FM12/FJ12)","v":"-"}]
[null,null,null,null,null,null,null,null,null,null,null,null,null,null,null,null,null,null,null,null,null,null,null,null,null,null,null,null,null,null,null,null,null,null,null,null,null,null,null,null,null,null,null,null,null,null,null,null,null,null,null,null,null,null,null,null,null,null,null,null,null,null,null,{"$f":"\"Base \"&Options!$S8","v":"Base K2"},null,null,null,null,null,null,null,null,null,null,null,{"$f":"\"Base \"&Options!$S8","v":"Base K2"},null,null,null,null,null,null,null,null,null,null,null,{"$f":"\"Base \"&Options!$S8","v":"Base K2"},null,null,null,null,null,null,null,null,null,null,null,null,{"$f":"'Daten SR'!A9","v":"8 PARK"},{"$f":"'Daten SR'!AB9","v":0},{"$f":"'Daten SR'!AE9","v":0},"-",{"$f":"'Daten SR'!AD9","v":0},"-",{"$f":"'Daten SR'!AC9","v":0},"-","-","-",null,null,{"$f":"'Daten A2'!A10","v":"8 PARK"},{"$f":"'Daten A2'!V10","v":0},{"$f":"'Daten A2'!Y10","v":0},"-",{"$f":"'Daten A2'!X10","v":0},"-",{"$f":"IF($DJ13=0,\"-\",'Daten A2'!W10)","v":"-"},null,null,{"$f":"'Daten A2'!A10","v":"8 PARK"},{"$f":"'Daten A2'!R10","v":0},{"$f":"'Daten A2'!U10","v":0},"-",{"$f":"'Daten A2'!T10","v":0},"-",{"$f":"IF($DS13=0,\"-\",'Daten A2'!S10)","v":"-"}]
[null,null,null,null,null,null,null,null,null,null,null,null,null,null,null,null,null,null,null,null,null,null,null,null,null,null,null,null,null,null,null,"Reception",null,null,null,null,null,"∑","∑ %",null,"=/","=/ %",null,"+","+ %",null,"#","# %",null,"+# %","Eff",null,null,null,null,null,null,null,null,null,null,null,null,{"$f":"Daten!C29","v":"K2"},{"$f":"Daten!P29","v":"P4"},{"$f":"Daten!Q29","v":"SA"},{"$f":"Daten!R29","v":"H6"},{"$f":"Daten!S29","v":"P2"},{"$f":"Daten!T29","v":"H1"},{"$f":"Daten!U29","v":"P4-E"},{"$f":"Daten!V29","v":"SA-E"},{"$f":"Daten!W29","v":"H6-E"},{"$f":"Daten!X29","v":"P2-E"},{"$f":"Daten!Y29","v":"H1-E"},null,{"$f":"Daten!C37","v":"K2"},{"$f":"Daten!P37","v":"P4"},{"$f":"Daten!Q37","v":"SA"},{"$f":"Daten!R37","v":"H6"},{"$f":"Daten!S37","v":"P2"},{"$f":"Daten!T37","v":"H1"},{"$f":"Daten!U37","v":"P4-E"},{"$f":"Daten!V37","v":"SA-E"},{"$f":"Daten!W37","v":"H6-E"},{"$f":"Daten!X37","v":"P2-E"},{"$f":"Daten!Y37","v":"H1-E"},null,{"$f":"Daten!C45","v":"K2"},{"$f":"Daten!P45","v":"P4"},{"$f":"Daten!Q45","v":"SA"},{"$f":"Daten!R45","v":"H6"},{"$f":"Daten!S45","v":"P2"},{"$f":"Daten!T45","v":"H1"},{"$f":"Daten!U45","v":"P4-E"},{"$f":"Daten!V45","v":"SA-E"},{"$f":"Daten!W45","v":"H6-E"},{"$f":"Daten!X45","v":"P2-E"},{"$f":"Daten!Y45","v":"H1-E"},null,null,{"$f":"'Daten SR'!A10","v":"9 KWAK"},{"$f":"'Daten SR'!AB10","v":5},{"$f":"'Daten SR'!AE10","v":0},0,{"$f":"'Daten SR'!AD10","v":2},0.4,{"$f":"'Daten SR'!AC10","v":1},0.2,0.6,0.6,null,null,{"$f":"'Daten A2'!A11","v":"9 KWAK"},{"$f":"'Daten A2'!V11","v":0},{"$f":"'Daten A2'!Y11","v":0},"-",{"$f":"'Daten A2'!X11","v":0},"-",{"$f":"IF($DJ14=0,\"-\",'Daten A2'!W11)","v":"-"},null,null,{"$f":"'Daten A2'!A11","v":"9 KWAK"},{"$f":"'Daten A2'!R11","v":3},{"$f":"'Daten A2'!U11","v":1},0.33333333333333331,{"$f":"'Daten A2'!T11","v":2},0.66666666666666663,{"$f":"IF($DS14=0,\"-\",'Daten A2'!S11)","v":"33%"}]
[null,null,null,null,null,null,null,null,null,null,null,null,null,null,null,null,null,null,null,null,null,null,null,null,null,null,null,null,null,null,null,{"$f":"CW33","v":"KOREA"},null,null,null,null,null,{"$f":"CX33","v":15},{"$f":"AL15/$AL$15","v":1},null,{"$f":"CY33","v":0},0,null,{"$f":"DA33","v":5},0.33333333333333331,null,{"$f":"DC33","v":5},0.33333333333333331,null,{"$f":"DE33","v":0.66666666666666663},0.66666666666666663,null,null,null,null,null,null,null,null,null,null,null,null,{"$f":"Daten!C32","v":0},{"$f":"Daten!P32","v":0},{"$f":"Daten!Q32","v":0},{"$f":"Daten!R32","v":0},{"$f":"Daten!S32","v":0},{"$f":"Daten!T32","v":0},{"$f":"Daten!U32","v":"0%"},{"$f":"Daten!V32","v":"0%"},{"$f":"Daten!W32","v":"0%"},{"$f":"Daten!X32","v":"0%"},{"$f":"Daten!Y32","v":"0%"},null,{"$f":"Daten!C40","v":0},{"$f":"Daten!P40","v":0},{"$f":"Daten!Q40","v":0},{"$f":"Daten!R40","v":0},{"$f":"Daten!S40","v":0},{"$f":"Daten!T40","v":0},{"$f":"Daten!U40","v":"0%"},{"$f":"Daten!V40","v":"0%"},{"$f":"Daten!W40","v":"0%"},{"$f":"Daten!X40","v":"0%"},{"$f":"Daten!Y40","v":"0%"},null,{"$f":"Daten!C48","v":0},{"$f":"Daten!P48","v":0},{"$f":"Daten!Q48","v":0},{"$f":"Daten!R48","v":0},{"$f":"Daten!S48","v":0},{"$f":"Daten!T48","v":0},{"$f":"Daten!U48","v":"0%"},{"$f":"Daten!V48","v":"0%"},{"$f":"Daten!W48","v":"0%"},{"$f":"Daten!X48","v":"0%"},{"$f":"Daten!Y48","v":"0%"},null,null,{"$f":"'Daten SR'!A11","v":"11 CHOI"},{"$f":"'Daten SR'!AB11","v":0},{"$f":"'Daten SR'!AE11","v":0},"-",{"$f":"'Daten SR'!AD11","v":0},"-",{"$f":"'Daten SR'!AC11","v":0},"-","-","-",null,null,{"$f":"'Daten A2'!A12","v":"11 CHOI"},{"$f":"'Daten A2'!V12","v":0},{"$f":"'Daten A2'!Y12","v":0},"-",{"$f":"'Daten A2'!X12","v":0},"-",{"$f":"IF($DJ15=0,\"-\",'Daten A2'!W12)","v":"-"},null,null,{"$f":"'Daten A2'!A12","v":"11 CHOI"},{"$f":"'Daten A2'!R12","v":0},{"$f":"'Daten A2'!U12","v":0},"-",{"$f":"'Daten A2'!T12","v":0},"-",{"$f":"IF($DS15=0,\"-\",'Daten A2'!S12)","v":"-"}]
[null,null,null,null,null,null,null,null,null,null,null,null,null,null,null,null,null,null,null,null,null,null,null,null,null,null,null,null,null,null,null,"19 JEONG",null,null,null,null,null,8,0.53333333333333333,null,0,0,null,2,0.25,null,3,0.375,null,0.625,0.625,null,null,null,null,null,null,null,null,null,null,null,null,{"$f":"IF(BL15=0,0,ROUND(BL15/(BL9+BL15+BL21+BL27),2)*100)","v":0},{"$f":"IF($BL15=0,0,ROUND(BM15/$BL15,2)*100)","v":0},{"$f":"IF($BL15=0,0,ROUND(BN15/$BL15,2)*100)","v":0},{"$f":"IF($BL15=0,0,ROUND(BO15/$BL15,2)*100)","v":0},{"$f":"IF($BL15=0,0,ROUND(BP15/$BL15,2)*100)","v":0},{"$f":"IF($BL15=0,0,ROUND(BQ15/$BL15,2)*100)","v":0},{"$f":"IF(BM15=0,\"\",BR15)","v":""},{"$f":"IF(BN15=0,\"\",BS15)","v":""},{"$f":"IF(BO15=0,\"\",BT15)","v":""},{"$f":"IF(BP15=0,\"\",BU15)","v":""},{"$f":"IF(BQ15=0,\"\",BV15)","v":""},null,{"$f":"IF(BX15=0,0,ROUND(BX15/($BL9+$BL15+$BL21+$BL27),2)*100)","v":0},{"$f":"IF($BX15=0,0,ROUND(BY15/$BX15,2)*100)","v":0},{"$f":"IF($BX15=0,0,ROUND(BZ15/$BX15,2)*100)","v":0},{"$f":"IF($BX15=0,0,ROUND(CA15/$BX15,2)*100)","v":0},{"$f":"IF($BX15=0,0,ROUND(CB15/$BX15,2)*100)","v":0},{"$f":"IF($BX15=0,0,ROUND(CC15/$BX15,2)*100)","v":0},{"$f":"IF(BY15=0,\"\",CD15)","v":""},{"$f":"IF(BZ15=0,\"\",CE15)","v":""},{"$f":"IF(CA15=0,\"\",CF15)","v":""},{"$f":"IF(CB15=0,\"\",CG15)","v":""},{"$f":"IF(CC15=0,\"\",CH15)","v":""},null,{"$f":"IF(CJ15=0,0,ROUND(CJ15/(CJ9+CJ15+CJ21+CJ27),2)*100)","v":0},{"$f":"IF($CJ15=0,0,ROUND(CK15/$CJ15,2)*100)","v":0},{"$f":"IF($CJ15=0,0,ROUND(CL15/$CJ15,2)*100)","v":0},{"$f":"IF($CJ15=0,0,ROUND(CM15/$CJ15,2)*100)","v":0},{"$f":"IF($CJ15=0,0,ROUND(CN15/$CJ15,2)*100)","v":0},{"$f":"IF($CJ15=0,0,ROUND(CO15/$CJ15,2)*100)","v":0},{"$f":"IF(CK15=0,\"\",CP15)","v":""},{"$f":"IF(CL15=0,\"\",CQ15)","v":""},{"$f":"IF(CM15=0,\"\",CR15)","v":""},{"$f":"IF(CN15=0,\"\",CS15)","v":""},{"$f":"IF(CO15=0,\"\",CT15)","v":""},null,null,{"$f":"'Daten SR'!A12","v":"12 JEON"},{"$f":"'Daten SR'!AB12","v":0},{"$f":"'Daten SR'!AE12","v":0},"-",{"$f":"'Daten SR'!AD12","v":0},"-",{"$f":"'Daten SR'!AC12","v":0},"-","-","-",null,null,{"$f":"'Daten A2'!A13","v":"12 JEON"},{"$f":"'Daten A2'!V13","v":0},{"$f":"'Daten A2'!Y13","v":0},"-",{"$f":"'Daten A2'!X13","v":0},"-",{"$f":"IF($DJ16=0,\"-\",'Daten A2'!W13)","v":"-"},null,null,{"$f":"'Daten A2'!A13","v":"12 JEON"},{"$f":"'Daten A2'!R13","v":0},{"$f":"'Daten A2'!U13","v":0},"-",{"$f":"'Daten A2'!T13","v":0},"-",{"$f":"IF($DS16=0,\"-\",'Daten A2'!S13)","v":"-"}]
[null,null,null,null,null,null,null,null,null,null,null,null,null,null,null,null,null,null,null,null,null,null,null,null,null,null,null,null,null,null,null,"9 KWAK",null,null,null,null,null,5,0.33333333333333331,null,0,0,null,2,0.4,null,1,0.2,null,0.6,0.6,null,null,null,null,null,null,null,null,null,null,null,null,null,null,null,null,null,null,null,null,null,null,null,null,null,null,null,null,null,null,null,null,null,null,null,null,null,null,null,null,null,null,null,null,null,null,null,null,null,{"$f":"'Daten SR'!A13","v":"14 SONG"},{"$f":"'Daten SR'!AB13","v":1},{"$f":"'Daten SR'!AE13","v":0},0,{"$f":"'Daten SR'!AD13","v":1},1,{"$f":"'Daten SR'!AC13","v":0},0,1,1,null,null,{"$f":"'Daten A2'!A14","v":"14 SONG"},{"$f":"'Daten A2'!V14","v":0},{"$f":"'Daten A2'!Y14","v":0},"-",{"$f":"'Daten A2'!X14","v":0},"-",{"$f":"IF($DJ17=0,\"-\",'Daten A2'!W14)","v":"-"},null,null,{"$f":"'Daten A2'!A14","v":"14 SONG"},{"$f":"'Daten A2'!R14","v":1},{"$f":"'Daten A2'!U14","v":0},0,{"$f":"'Daten A2'!T14","v":0},0,{"$f":"IF($DS17=0,\"-\",'Daten A2'!S14)","v":"0%"}]
[null,null,null,null,null,null,null,null,null,null,null,null,null,null,null,null,null,null,null,null,null,null,null,null,null,null,null,null,null,null,null,"14 SONG",null,null,null,null,null,1,6.6666666666666666E-2,null,0,0,null,1,1,null,0,0,null,1,1,null,null,null,null,null,null,null,null,null,null,null,null,null,null,null,null,null,null,null,null,null,null,null,null,null,null,null,null,null,null,null,null,null,null,null,null,null,null,null,null,null,null,null,null,null,null,null,null,null,{"$f":"'Daten SR'!A14","v":"16 CHOI"},{"$f":"'Daten SR'!AB14","v":0},{"$f":"'Daten SR'!AE14","v":0},"-",{"$f":"'Daten SR'!AD14","v":0},"-",{"$f":"'Daten SR'!AC14","v":0},"-","-","-",null,null,{"$f":"'Daten A2'!A15","v":"16 CHOI"},{"$f":"'Daten A2'!V15","v":1},{"$f":"'Daten A2'!Y15","v":0},0,{"$f":"'Daten A2'!X15","v":1},1,{"$f":"IF($DJ18=0,\"-\",'Daten A2'!W15)","v":"100%"},null,null,{"$f":"'Daten A2'!A15","v":"16 CHOI"},{"$f":"'Daten A2'!R15","v":0},{"$f":"'Daten A2'!U15","v":0},"-",{"$f":"'Daten A2'!T15","v":0},"-",{"$f":"IF($DS18=0,\"-\",'Daten A2'!S15)","v":"-"}]
[null,null,null,null,null,null,null,null,null,null,null,null,null,null,null,null,null,null,null,null,null,null,null,null,null,null,null,null,null,null,null,"17 SEO",null,null,null,null,null,1,6.6666666666666666E-2,null,0,0,null,0,0,null,1,1,null,1,1,null,null,null,null,null,null,null,null,null,null,null,null,{"$f":"\"Base \"&Options!$S9","v":"Base K7"},null,null,null,null,null,null,null,null,null,null,null,{"$f":"\"Base \"&Options!$S9","v":"Base K7"},null,null,null,null,null,null,null,null,null,null,null,{"$f":"\"Base \"&Options!$S9","v":"Base K7"},null,null,null,null,null,null,null,null,null,null,null,null,{"$f":"'Daten SR'!A15","v":"17 SEO"},{"$f":"'Daten SR'!AB15","v":1},{"$f":"'Daten SR'!AE15","v":0},0,{"$f":"'Daten SR'!AD15","v":0},0,{"$f":"'Daten SR'!AC15","v":1},1,1,1,null,null,{"$f":"'Daten A2'!A16","v":"17 SEO"},{"$f":"'Daten A2'!V16","v":1},{"$f":"'Daten A2'!Y16","v":0},0,{"$f":"'Daten A2'!X16","v":1},1,{"$f":"IF($DJ19=0,\"-\",'Daten A2'!W16)","v":"100%"},null,null,{"$f":"'Daten A2'!A16","v":"17 SEO"},{"$f":"'Daten A2'!R16","v":2},{"$f":"'Daten A2'!U16","v":0},0,{"$f":"'Daten A2'!T16","v":2},1,{"$f":"IF($DS19=0,\"-\",'Daten A2'!S16)","v":"100%"}]
[null,null,null,null,null,null,null,null,null,null,null,null,null,null,null,null,null,null,null,null,null,null,null,null,null,null,null,null,null,null,null,"1 SONG",null,null,null,null,null,0,0,null,0,"-",null,0,"-",null,0,"-",null,"-","-",null,null,null,null,null,null,null,null,null,null,null,null,{"$f":"Daten!D29","v":"K7"},{"$f":"Daten!Z29","v":"P4"},{"$f":"Daten!AA29","v":"SA"},{"$f":"Daten!AB29","v":"H6"},{"$f":"Daten!AC29","v":"P2"},{"$f":"Daten!AD29","v":"H1"},{"$f":"Daten!AE29","v":"P4-E"},{"$f":"Daten!AF29","v":"SA-E"},{"$f":"Daten!AG29","v":"H6-E"},{"$f":"Daten!AH29","v":"P2-E"},{"$f":"Daten!AI29","v":"H1-E"},null,{"$f":"Daten!D37","v":"K7"},{"$f":"Daten!Z37","v":"P4"},{"$f":"Daten!AA37","v":"SA"},{"$f":"Daten!AB37","v":"H6"},{"$f":"Daten!AC37","v":"P2"},{"$f":"Daten!AD37","v":"H1"},{"$f":"Daten!AE37","v":"P4-E"},{"$f":"Daten!AF37","v":"SA-E"},{"$f":"Daten!AG37","v":"H6-E"},{"$f":"Daten!AH37","v":"P2-E"},{"$f":"Daten!AI37","v":"H1-E"},null,{"$f":"Daten!D45","v":"K7"},{"$f":"Daten!Z45","v":"P4"},{"$f":"Daten!AA45","v":"SA"},{"$f":"Daten!AB45","v":"H6"},{"$f":"Daten!AC45","v":"P2"},{"$f":"Daten!AD45","v":"H1"},{"$f":"Daten!AE45","v":"P4-E"},{"$f":"Daten!AF45","v":"SA-E"},{"$f":"Daten!AG45","v":"H6-E"},{"$f":"Daten!AH45","v":"P2-E"},{"$f":"Daten!AI45","v":"H1-E"},null,null,{"$f":"'Daten SR'!A16","v":"19 JEONG"},{"$f":"'Daten SR'!AB16","v":8},{"$f":"'Daten SR'!AE16","v":0},0,{"$f":"'Daten SR'!AD16","v":2},0.25,{"$f":"'Daten SR'!AC16","v":3},0.375,0.625,0.625,null,null,{"$f":"'Daten A2'!A17","v":"19 JEONG"},{"$f":"'Daten A2'!V17","v":0},{"$f":"'Daten A2'!Y17","v":0},"-",{"$f":"'Daten A2'!X17","v":0},"-",{"$f":"IF($DJ20=0,\"-\",'Daten A2'!W17)","v":"-"},null,null,{"$f":"'Daten A2'!A17","v":"19 JEONG"},{"$f":"'Daten A2'!R17","v":0},{"$f":"'Daten A2'!U17","v":0},"-",{"$f":"'Daten A2'!T17","v":0},"-",{"$f":"IF($DS20=0,\"-\",'Daten A2'!S17)","v":"-"}]
[null,null,null,null,null,null,null,null,null,null,null,null,null,null,null,null,null,null,null,null,null,null,null,null,null,null,null,null,null,null,null,"4 SHIN",null,null,null,null,null,0,0,null,0,"-",null,0,"-",null,0,"-",null,"-","-",null,null,null,null,null,null,null,null,null,null,null,null,{"$f":"Daten!D32","v":5},{"$f":"Daten!Z32","v":0},{"$f":"Daten!AA32","v":2},{"$f":"Daten!AB32","v":1},{"$f":"Daten!AC32","v":2},{"$f":"Daten!AD32","v":0},{"$f":"Daten!AE32","v":"0%"},{"$f":"Daten!AF32","v":"50%"},{"$f":"Daten!AG32","v":"0%"},{"$f":"Daten!AH32","v":"100%"},{"$f":"Daten!AI32","v":"0%"},null,{"$f":"Daten!D40","v":4},{"$f":"Daten!Z40","v":0},{"$f":"Daten!AA40","v":2},{"$f":"Daten!AB40","v":1},{"$f":"Daten!AC40","v":1},{"$f":"Daten!AD40","v":0},{"$f":"Daten!AE40","v":"0%"},{"$f":"Daten!AF40","v":"50%"},{"$f":"Daten!AG40","v":"0%"},{"$f":"Daten!AH40","v":"100%"},{"$f":"Daten!AI40","v":"0%"},null,{"$f":"Daten!D48","v":1},{"$f":"Daten!Z48","v":0},{"$f":"Daten!AA48","v":0},{"$f":"Daten!AB48","v":0},{"$f":"Daten!AC48","v":1},{"$f":"Daten!AD48","v":0},{"$f":"Daten!AE48","v":"0%"},{"$f":"Daten!AF48","v":"0%"},{"$f":"Daten!AG48","v":"0%"},{"$f":"Daten!AH48","v":"100%"},{"$f":"Daten!AI48","v":"0%"},null,null,{"$f":"'Daten SR'!A17","v":"20 JI"},{"$f":"'Daten SR'!AB17","v":0},{"$f":"'Daten SR'!AE17","v":0},"-",{"$f":"'Daten SR'!AD17","v":0},"-",{"$f":"'Daten SR'!AC17","v":0},"-","-","-",null,null,{"$f":"'Daten A2'!A18","v":"20 JI"},{"$f":"'Daten A2'!V18","v":0},{"$f":"'Daten A2'!Y18","v":0},"-",{"$f":"'Daten A2'!X18","v":0},"-",{"$f":"IF($DJ21=0,\"-\",'Daten A2'!W18)","v":"-"},null,null,{"$f":"'Daten A2'!A18","v":"20 JI"},{"$f":"'Daten A2'!R18","v":0},{"$f":"'Daten A2'!U18","v":0},"-",{"$f":"'Daten A2'!T18","v":0},"-",{"$f":"IF($DS21=0,\"-\",'Daten A2'!S18)","v":"-"}]
[null,null,null,null,null,null,null,null,null,null,null,null,null,null,null,null,null,null,null,null,null,null,null,null,null,null,null,null,null,null,null,null,null,null,null,null,null,null,null,null,null,null,null,null,null,null,null,null,null,null,null,null,null,null,null,null,null,null,null,null,null,null,null,{"$f":"IF(BL21=0,0,ROUND(BL21/(BL9+BL15+BL21+BL27),2)*100)","v":50},{"$f":"IF($BL21=0,0,ROUND(BM21/$BL21,2)*100)","v":0},{"$f":"IF($BL21=0,0,ROUND(BN21/$BL21,2)*100)","v":40},{"$f":"IF($BL21=0,0,ROUND(BO21/$BL21,2)*100)","v":20},{"$f":"IF($BL21=0,0,ROUND(BP21/$BL21,2)*100)","v":40},{"$f":"IF($BL21=0,0,ROUND(BQ21/$BL21,2)*100)","v":0},{"$f":"IF(BM21=0,\"\",BR21)","v":""},{"$f":"IF(BN21=0,\"\",BS21)","v":"50%"},{"$f":"IF(BO21=0,\"\",BT21)","v":"0%"},{"$f":"IF(BP21=0,\"\",BU21)","v":"100%"},{"$f":"IF(BQ21=0,\"\",BV21)","v":""},null,{"$f":"IF(BX21=0,0,ROUND(BX21/($BL9+$BL15+$BL21+$BL27),2)*100)","v":40},{"$f":"IF($BX21=0,0,ROUND(BY21/$BX21,2)*100)","v":0},{"$f":"IF($BX21=0,0,ROUND(BZ21/$BX21,2)*100)","v":50},{"$f":"IF($BX21=0,0,ROUND(CA21/$BX21,2)*100)","v":25},{"$f":"IF($BX21=0,0,ROUND(CB21/$BX21,2)*100)","v":25},{"$f":"IF($BX21=0,0,ROUND(CC21/$BX21,2)*100)","v":0},{"$f":"IF(BY21=0,\"\",CD21)","v":""},{"$f":"IF(BZ21=0,\"\",CE21)","v":"50%"},{"$f":"IF(CA21=0,\"\",CF21)","v":"0%"},{"$f":"IF(CB21=0,\"\",CG21)","v":"100%"},{"$f":"IF(CC21=0,\"\",CH21)","v":""},null,{"$f":"IF(CJ21=0,0,ROUND(CJ21/(CJ9+CJ15+CJ21+CJ27),2)*100)","v":100},{"$f":"IF($CJ21=0,0,ROUND(CK21/$CJ21,2)*100)","v":0},{"$f":"IF($CJ21=0,0,ROUND(CL21/$CJ21,2)*100)","v":0},{"$f":"IF($CJ21=0,0,ROUND(CM21/$CJ21,2)*100)","v":0},{"$f":"IF($CJ21=0,0,ROUND(CN21/$CJ21,2)*100)","v":100},{"$f":"IF($CJ21=0,0,ROUND(CO21/$CJ21,2)*100)","v":0},{"$f":"IF(CK21=0,\"\",CP21)","v":""},{"$f":"IF(CL21=0,\"\",CQ21)","v":""},{"$f":"IF(CM21=0,\"\",CR21)","v":""},{"$f":"IF(CN21=0,\"\",CS21)","v":"100%"},{"$f":"IF(CO21=0,\"\",CT21)","v":""},null,null,{"$f":"'Daten SR'!A18","v":"22 YOU"},{"$f":"'Daten SR'!AB18","v":0},{"$f":"'Daten SR'!AE18","v":0},"-",{"$f":"'Daten SR'!AD18","v":0},"-",{"$f":"'Daten SR'!AC18","v":0},"-","-","-",null,null,{"$f":"'Daten A2'!A19","v":"22 YOU"},{"$f":"'Daten A2'!V19","v":0},{"$f":"'Daten A2'!Y19","v":0},"-",{"$f":"'Daten A2'!X19","v":0},"-",{"$f":"IF($DJ22=0,\"-\",'Daten A2'!W19)","v":"-"},null,null,{"$f":"'Daten A2'!A19","v":"22 YOU"},{"$f":"'Daten A2'!R19","v":0},{"$f":"'Daten A2'!U19","v":0},"-",{"$f":"'Daten A2'!T19","v":0},"-",{"$f":"IF($DS22=0,\"-\",'Daten A2'!S19)","v":"-"}]
[null,null,null,null,null,null,null,null,null,null,null,null,null,null,null,null,null,null,null,null,null,null,null,null,null,null,null,null,null,null,null,"K1-Attacks after R#+",null,null,null,null,null,"∑","∑ %",null,"=","= %",null,"#","# %",null,"Eff",null,null,null,null,null,null,null,null,null,null,null,null,null,null,null,null,null,null,null,null,null,null,null,null,null,null,null,null,null,null,null,null,null,null,null,null,null,null,null,null,null,null,null,null,null,null,null,null,null,null,null,null,null,{"$f":"'Daten SR'!A19","v":"25 OH"},{"$f":"'Daten SR'!AB19","v":0},{"$f":"'Daten SR'!AE19","v":0},"-",{"$f":"'Daten SR'!AD19","v":0},"-",{"$f":"'Daten SR'!AC19","v":0},"-","-","-",null,null,{"$f":"'Daten A2'!A20","v":"25 OH"},{"$f":"'Daten A2'!V20","v":0},{"$f":"'Daten A2'!Y20","v":0},"-",{"$f":"'Daten A2'!X20","v":0},"-",{"$f":"IF($DJ23=0,\"-\",'Daten A2'!W20)","v":"-"},null,null,{"$f":"'Daten A2'!A20","v":"25 OH"},{"$f":"'Daten A2'!R20","v":0},{"$f":"'Daten A2'!U20","v":0},"-",{"$f":"'Daten A2'!T20","v":0},"-",{"$f":"IF($DS23=0,\"-\",'Daten A2'!S20)","v":"-"}]
[null,null,null,null,null,null,null,null,null,null,null,null,null,null,null,null,null,null,null,null,null,null,null,null,null,null,null,null,null,null,null,{"$f":"DI33","v":"KOREA"},null,null,null,null,null,{"$f":"DJ33","v":10},{"$f":"AL24/$AL$24","v":1},null,{"$f":"DK33","v":1},{"$f":"DL33","v":0.1},null,{"$f":"DM33","v":6},{"$f":"DN33","v":0.6},null,{"$f":"DO33","v":"50%"},null,null,null,null,null,null,null,null,null,null,null,null,null,null,null,null,null,null,null,null,null,null,null,null,null,null,null,null,null,null,null,null,null,null,null,null,null,null,null,null,null,null,null,null,null,null,null,null,null,null,null,null,null,{"$f":"'Daten SR'!A20","v":0},{"$f":"'Daten SR'!AB20","v":0},{"$f":"'Daten SR'!AE20","v":0},"-",{"$f":"'Daten SR'!AD20","v":0},"-",{"$f":"'Daten SR'!AC20","v":0},"-","-","-",null,null,{"$f":"'Daten A2'!A21","v":0},{"$f":"'Daten A2'!V21","v":0},{"$f":"'Daten A2'!Y21","v":0},"-",{"$f":"'Daten A2'!X21","v":0},"-",{"$f":"IF($DJ24=0,\"-\",'Daten A2'!W21)","v":"-"},null,null,{"$f":"'Daten A2'!A21","v":0},{"$f":"'Daten A2'!R21","v":0},{"$f":"'Daten A2'!U21","v":0},"-",{"$f":"'Daten A2'!T21","v":0},"-",{"$f":"IF($DS24=0,\"-\",'Daten A2'!S21)","v":"-"}]
[null,null,null,null,null,null,null,null,null,null,null,null,null,null,null,null,null,null,null,null,null,null,null,null,null,null,null,null,null,null,null,{"$f":"DI34","v":"1 SONG"},null,null,null,null,null,{"$f":"DJ34","v":5},{"$f":"AL25/$AL$24","v":0.5},null,{"$f":"DK34","v":1},0.2,null,{"$f":"DM34","v":3},0.6,null,{"$f":"DO34","v":"40%"},null,null,null,null,null,null,null,null,null,null,null,null,null,null,null,null,{"$f":"\"Base \"&Options!$S10","v":"Base KD"},null,null,null,null,null,null,null,null,null,null,null,{"$f":"\"Base \"&Options!$S10","v":"Base KD"},null,null,null,null,null,null,null,null,null,null,null,{"$f":"\"Base \"&Options!$S10","v":"Base KD"},null,null,null,null,null,null,null,null,null,null,null,null,{"$f":"'Daten SR'!A21","v":0},{"$f":"'Daten SR'!AB21","v":0},{"$f":"'Daten SR'!AE21","v":0},"-",{"$f":"'Daten SR'!AD21","v":0},"-",{"$f":"'Daten SR'!AC21","v":0},"-","-","-",null,null,{"$f":"'Daten A2'!A22","v":0},{"$f":"'Daten A2'!V22","v":0},{"$f":"'Daten A2'!Y22","v":0},"-",{"$f":"'Daten A2'!X22","v":0},"-",{"$f":"IF($DJ25=0,\"-\",'Daten A2'!W22)","v":"-"},null,null,{"$f":"'Daten A2'!A22","v":0},{"$f":"'Daten A2'!R22","v":0},{"$f":"'Daten A2'!U22","v":0},"-",{"$f":"'Daten A2'!T22","v":0},"-",{"$f":"IF($DS25=0,\"-\",'Daten A2'!S22)","v":"-"}]
[null,null,null,null,null,null,null,null,null,null,null,null,null,null,null,null,null,null,null,null,null,null,null,null,null,null,null,null,null,null,null,"4 SHIN",null,null,null,null,null,3,0.3,null,0,0,null,1,0.33333333333333331,null,"33%",null,null,null,null,null,null,null,null,null,null,null,null,null,null,null,null,{"$f":"Daten!E29","v":"KD"},{"$f":"Daten!AJ29","v":"P4"},{"$f":"Daten!AK29","v":"SA"},{"$f":"Daten!AL29","v":"H6"},{"$f":"Daten!AM29","v":"P2"},{"$f":"Daten!AN29","v":"H1"},{"$f":"Daten!AO29","v":"P4-E"},{"$f":"Daten!AP29","v":"SA-E"},{"$f":"Daten!AQ29","v":"H6-E"},{"$f":"Daten!AR29","v":"P2-E"},{"$f":"Daten!AS29","v":"H1-E"},null,{"$f":"Daten!E37","v":"KD"},{"$f":"Daten!AJ37","v":"P4"},{"$f":"Daten!AK37","v":"SA"},{"$f":"Daten!AL37","v":"H6"},{"$f":"Daten!AM37","v":"P2"},{"$f":"Daten!AN37","v":"H1"},{"$f":"Daten!AO37","v":"P4-E"},{"$f":"Daten!AP37","v":"SA-E"},{"$f":"Daten!AQ37","v":"H6-E"},{"$f":"Daten!AR37","v":"P2-E"},{"$f":"Daten!AS37","v":"H1-E"},null,{"$f":"Daten!E45","v":"KD"},{"$f":"Daten!AJ45","v":"P4"},{"$f":"Daten!AK45","v":"SA"},{"$f":"Daten!AL45","v":"H6"},{"$f":"Daten!AM45","v":"P2"},{"$f":"Daten!AN45","v":"H1"},{"$f":"Daten!AO45","v":"P4-E"},{"$f":"Daten!AP45","v":"SA-E"},{"$f":"Daten!AQ45","v":"H6-E"},{"$f":"Daten!AR45","v":"P2-E"},{"$f":"Daten!AS45","v":"H1-E"},null,null,{"$f":"'Daten SR'!A22","v":0},{"$f":"'Daten SR'!AB22","v":0},{"$f":"'Daten SR'!AE22","v":0},"-",{"$f":"'Daten SR'!AD22","v":0},"-",{"$f":"'Daten SR'!AC22","v":0},"-","-","-",null,null,{"$f":"'Daten A2'!A23","v":0},{"$f":"'Daten A2'!V23","v":0},{"$f":"'Daten A2'!Y23","v":0},"-",{"$f":"'Daten A2'!X23","v":0},"-",{"$f":"IF($DJ26=0,\"-\",'Daten A2'!W23)","v":"-"},null,null,{"$f":"'Daten A2'!A23","v":0},{"$f":"'Daten A2'!R23","v":0},{"$f":"'Daten A2'!U23","v":0},"-",{"$f":"'Daten A2'!T23","v":0},"-",{"$f":"IF($DS26=0,\"-\",'Daten A2'!S23)","v":"-"}]
[null,null,null,null,null,null,null,null,null,null,null,null,null,null,null,null,null,null,null,null,null,null,null,null,null,null,null,null,null,null,null,"16 CHOI",null,null,null,null,null,1,0.1,null,0,0,null,1,1,null,"100%",null,null,null,null,null,null,null,null,null,null,null,null,null,null,null,null,{"$f":"Daten!E32","v":0},{"$f":"Daten!AJ32","v":0},{"$f":"Daten!AK32","v":0},{"$f":"Daten!AL32","v":0},{"$f":"Daten!AM32","v":0},{"$f":"Daten!AN32","v":0},{"$f":"Daten!AO32","v":"0%"},{"$f":"Daten!AP32","v":"0%"},{"$f":"Daten!AQ32","v":"0%"},{"$f":"Daten!AR32","v":"0%"},{"$f":"Daten!AS32","v":"0%"},null,{"$f":"Daten!E40","v":0},{"$f":"Daten!AJ40","v":0},{"$f":"Daten!AK40","v":0},{"$f":"Daten!AL40","v":0},{"$f":"Daten!AM40","v":0},{"$f":"Daten!AN40","v":0},{"$f":"Daten!AO40","v":"0%"},{"$f":"Daten!AP40","v":"0%"},{"$f":"Daten!AQ40","v":"0%"},{"$f":"Daten!AR40","v":"0%"},{"$f":"Daten!AS40","v":"0%"},null,{"$f":"Daten!E48","v":0},{"$f":"Daten!AJ48","v":0},{"$f":"Daten!AK48","v":0},{"$f":"Daten!AL48","v":0},{"$f":"Daten!AM48","v":0},{"$f":"Daten!AN48","v":0},{"$f":"Daten!AO48","v":"0%"},{"$f":"Daten!AP48","v":"0%"},{"$f":"Daten!AQ48","v":"0%"},{"$f":"Daten!AR48","v":"0%"},{"$f":"Daten!AS48","v":"0%"},null,null,{"$f":"'Daten SR'!A23","v":0},{"$f":"'Daten SR'!AB23","v":0},{"$f":"'Daten SR'!AE23","v":0},"-",{"$f":"'Daten SR'!AD23","v":0},"-",{"$f":"'Daten SR'!AC23","v":0},"-","-","-",null,null,{"$f":"'Daten A2'!A24","v":0},{"$f":"'Daten A2'!V24","v":0},{"$f":"'Daten A2'!Y24","v":0},"-",{"$f":"'Daten A2'!X24","v":0},"-",{"$f":"IF($DJ27=0,\"-\",'Daten A2'!W24)","v":"-"},null,null,{"$f":"'Daten A2'!A24","v":0},{"$f":"'Daten A2'!R24","v":0},{"$f":"'Daten A2'!U24","v":0},"-",{"$f":"'Daten A2'!T24","v":0},"-",{"$f":"IF($DS27=0,\"-\",'Daten A2'!S24)","v":"-"}]
[null,null,null,null,null,null,null,null,null,null,null,null,null,null,null,null,null,null,null,null,null,null,null,null,null,null,null,null,null,null,null,"17 SEO",null,null,null,null,null,1,0.1,null,0,0,null,1,1,null,"100%",null,null,null,null,null,null,null,null,null,null,null,null,null,null,null,null,{"$f":"IF(BL27=0,0,ROUND(BL27/(BL9+BL15+BL21+BL27),2)*100)","v":0},{"$f":"IF($BL27=0,0,ROUND(BM27/$BL27,2)*100)","v":0},{"$f":"IF($BL27=0,0,ROUND(BN27/$BL27,2)*100)","v":0},{"$f":"IF($BL27=0,0,ROUND(BO27/$BL27,2)*100)","v":0},{"$f":"IF($BL27=0,0,ROUND(BP27/$BL27,2)*100)","v":0},{"$f":"IF($BL27=0,0,ROUND(BQ27/$BL27,2)*100)","v":0},{"$f":"IF(BM27=0,\"\",BR27)","v":""},{"$f":"IF(BN27=0,\"\",BS27)","v":""},{"$f":"IF(BO27=0,\"\",BT27)","v":""},{"$f":"IF(BP27=0,\"\",BU27)","v":""},{"$f":"IF(BQ27=0,\"\",BV27)","v":""},null,{"$f":"IF(BX27=0,0,ROUND(BX27/($BL9+$BL15+$BL21+$BL27),2)*100)","v":0},{"$f":"IF($BX27=0,0,ROUND(BY27/$BX27,2)*100)","v":0},{"$f":"IF($BX27=0,0,ROUND(BZ27/$BX27,2)*100)","v":0},{"$f":"IF($BX27=0,0,ROUND(CA27/$BX27,2)*100)","v":0},{"$f":"IF($BX27=0,0,ROUND(CB27/$BX27,2)*100)","v":0},{"$f":"IF($BX27=0,0,ROUND(CC27/$BX27,2)*100)","v":0},{"$f":"IF(BY27=0,\"\",CD27)","v":""},{"$f":"IF(BZ27=0,\"\",CE27)","v":""},{"$f":"IF(CA27=0,\"\",CF27)","v":""},{"$f":"IF(CB27=0,\"\",CG27)","v":""},{"$f":"IF(CC27=0,\"\",CH27)","v":""},null,{"$f":"IF(CJ27=0,0,ROUND(CJ27/(CJ9+CJ15+CJ21+CJ27),2)*100)","v":0},{"$f":"IF($CJ27=0,0,ROUND(CK27/$CJ27,2)*100)","v":0},{"$f":"IF($CJ27=0,0,ROUND(CL27/$CJ27,2)*100)","v":0},{"$f":"IF($CJ27=0,0,ROUND(CM27/$CJ27,2)*100)","v":0},{"$f":"IF($CJ27=0,0,ROUND(CN27/$CJ27,2)*100)","v":0},{"$f":"IF($CJ27=0,0,ROUND(CO27/$CJ27,2)*100)","v":0},{"$f":"IF(CK27=0,\"\",CP27)","v":""},{"$f":"IF(CL27=0,\"\",CQ27)","v":""},{"$f":"IF(CM27=0,\"\",CR27)","v":""},{"$f":"IF(CN27=0,\"\",CS27)","v":""},{"$f":"IF(CO27=0,\"\",CT27)","v":""},null,null,{"$f":"'Daten SR'!A24","v":0},{"$f":"'Daten SR'!AB24","v":0},{"$f":"'Daten SR'!AE24","v":0},"-",{"$f":"'Daten SR'!AD24","v":0},"-",{"$f":"'Daten SR'!AC24","v":0},"-","-","-",null,null,{"$f":"'Daten A2'!A25","v":0},{"$f":"'Daten A2'!V25","v":0},{"$f":"'Daten A2'!Y25","v":0},"-",{"$f":"'Daten A2'!X25","v":0},"-",{"$f":"IF($DJ28=0,\"-\",'Daten A2'!W25)","v":"-"},null,null,{"$f":"'Daten A2'!A25","v":0},{"$f":"'Daten A2'!R25","v":0},{"$f":"'Daten A2'!U25","v":0},"-",{"$f":"'Daten A2'!T25","v":0},"-",{"$f":"IF($DS28=0,\"-\",'Daten A2'!S25)","v":"-"}]
[null,null,null,null,null,null,null,null,null,null,null,null,null,null,null,null,null,null,null,null,null,null,null,null,null,null,null,null,null,null,null,"6 LEE",null,null,null,null,null,0,0,null,0,"-",null,0,"-",null,"-"]
[null,null,null,null,null,null,null,null,null,null,null,null,null,null,null,null,null,null,null,null,null,null,null,null,null,null,null,null,null,null,null,"8 PARK",null,null,null,null,null,0,0,null,0,"-",null,0,"-",null,"-"]
[null,null,null,null,null,null,null,null,null,null,null,null,null,null,null,null,null,null,null,null,null,null,null,null,null,null,null,null,null,null,null,"9 KWAK",null,null,null,null,null,0,0,null,0,"-",null,0,"-",null,"-"]
[]
[null,null,"Rec in Pos 1",null,null,null,null,{"$f":"CI35&\" % (\"&BL35&\")\"","v":"10 % (1)"},null,null,null,"Rec in Pos 6",null,null,null,null,{"$f":"CI36&\" % (\"&BL36&\")\"","v":"50 % (5)"},null,null,null,"Rec in Pos 5",null,null,null,null,{"$f":"CI37&\" % (\"&BL37&\")\"","v":"40 % (4)"},null,null,null,null,null,"K2-Attacks - Transition",null,null,null,null,null,"∑","∑ %",null,"=","= %",null,"#","# %",null,"Eff",null,null,null,null,null,null,null,null,null,null,null,null,null,null,null,"Attack depending on R Position",null,null,null,null,null,null,null,null,null,null,null,null,null,null,null,null,null,null,null,null,null,null,null,null,null,null,null,null,null,null,null,null,null,null,null,null,null,"KOREA",15,0,0,5,0.33333333333333331,5,0.33333333333333331,0.66666666666666663,0.66666666666666663,null,null,"KOREA",10,1,0.1,6,0.6,"50%",null,null,"KOREA",8,1,0.125,6,0.75,"62%"]
[null,null,null,null,null,null,null,null,null,null,null,null,null,null,null,null,null,null,null,null,null,null,null,null,null,null,null,null,null,null,null,{"$f":"DR33","v":"KOREA"},null,null,null,null,null,{"$f":"DS33","v":8},{"$f":"AL34/$AL$34","v":1},null,{"$f":"DT33","v":1},{"$f":"DU33","v":0.125},null,{"$f":"DV33","v":6},{"$f":"DW33","v":0.75},null,{"$f":"DX33","v":"62%"},null,null,null,null,null,null,null,null,null,null,null,null,null,null,null,null,{"$f":"Daten!B55","v":"alle"},{"$f":"Daten!C55","v":"P4"},{"$f":"Daten!D55","v":"X"},{"$f":"Daten!E55","v":4},{"$f":"Daten!F55","v":1},{"$f":"Daten!G55","v":"Set"},{"$f":"Daten!H55","v":3},{"$f":"Daten!I55","v":"OF"},{"$f":"Daten!J55","v":"P2"},{"$f":"Daten!K55","v":"HF6"},{"$f":"Daten!L55","v":"HF1"},null,null,{"$f":"Daten!C55","v":"P4"},{"$f":"Daten!D55","v":"X"},{"$f":"Daten!E55","v":4},{"$f":"Daten!F55","v":1},{"$f":"Daten!G55","v":"Set"},{"$f":"Daten!H55","v":3},{"$f":"Daten!I55","v":"OF"},{"$f":"Daten!J55","v":"P2"},{"$f":"Daten!K55","v":"HF6"},{"$f":"Daten!L55","v":"HF1"},null,null,null,null,null,null,null,null,null,null,null,null,null,null,"19 JEONG",8,0,0,2,0.25,3,0.375,0.625,0.625,null,null,"1 SONG",5,1,0.2,3,0.6,"40%",null,null,"9 KWAK",3,1,0.33333333333333331,2,0.66666666666666663,"33%"]
[null,null,null,null,null,null,null,null,null,null,null,null,null,null,null,null,null,null,null,null,null,null,null,null,null,null,null,null,null,null,null,{"$f":"DR34","v":"9 KWAK"},null,null,null,null,null,{"$f":"DS34","v":3},{"$f":"AL35/$AL$34","v":0.375},null,{"$f":"DT34","v":1},0.33333333333333331,null,{"$f":"DV34","v":2},0.66666666666666663,null,{"$f":"DX34","v":"33%"},null,null,null,null,null,null,null,null,null,null,null,null,null,null,null,"R1",{"$f":"Daten!B58","v":1},{"$f":"Daten!C58","v":0},{"$f":"Daten!D58","v":0},{"$f":"Daten!E58","v":1},{"$f":"Daten!F58","v":0},{"$f":"Daten!G58","v":0},{"$f":"Daten!H58","v":0},{"$f":"Daten!I58","v":0},{"$f":"Daten!J58","v":0},{"$f":"Daten!K58","v":0},{"$f":"Daten!L58","v":0},null,"R1",{"$f":"IF($BL35=0,0,ROUND(BM35/$BL35,2)*100)","v":0},0,100,0,0,0,0,0,0,0,{"$f":"IF(BL35=0,0,ROUND(BL35/$BL$41,2)*100)","v":10},null,null,null,null,null,null,null,null,null,null,null,null,null,"9 KWAK",5,0,0,2,0.4,1,0.2,0.6,0.6,null,null,"4 SHIN",3,0,0,1,0.33333333333333331,"33%",null,null,"17 SEO",2,0,0,2,1,"100%"]
[null,null,null,null,null,null,null,null,null,null,null,null,null,null,null,null,null,null,null,null,null,null,null,null,null,null,null,null,null,null,null,{"$f":"DR35","v":"17 SEO"},null,null,null,null,null,2,0.25,null,0,0,null,2,1,null,"100%",null,null,null,null,null,null,null,null,null,null,null,null,null,null,null,"R6",{"$f":"Daten!M58","v":5},{"$f":"Daten!N58","v":0},{"$f":"Daten!O58","v":0},{"$f":"Daten!P58","v":1},{"$f":"Daten!Q58","v":0},{"$f":"Daten!R58","v":0},{"$f":"Daten!S58","v":0},{"$f":"Daten!T58","v":0},{"$f":"Daten!U58","v":1},{"$f":"Daten!V58","v":3},{"$f":"Daten!W58","v":0},null,"R6",0,0,20,0,0,0,0,20,60,0,50,null,null,null,null,null,null,null,null,null,null,null,null,null,"14 SONG",1,0,0,1,1,0,0,1,1,null,null,"16 CHOI",1,0,0,1,1,"100%",null,null,"1 SONG",1,0,0,1,1,"100%"]
[null,null,null,null,null,null,null,null,null,null,null,null,null,null,null,null,null,null,null,null,null,null,null,null,null,null,null,null,null,null,null,"1 SONG",null,null,null,null,null,1,0.125,null,0,0,null,1,1,null,"100%",null,null,null,null,null,null,null,null,null,null,null,null,null,null,null,"R5",{"$f":"Daten!X58","v":4},{"$f":"Daten!Y58","v":0},{"$f":"Daten!Z58","v":0},{"$f":"Daten!AA58","v":0},{"$f":"Daten!AB58","v":1},{"$f":"Daten!AC58","v":0},{"$f":"Daten!AD58","v":0},{"$f":"Daten!AE58","v":0},{"$f":"Daten!AF58","v":1},{"$f":"Daten!AG58","v":2},{"$f":"Daten!AH58","v":0},null,"R5",0,0,0,25,0,0,0,25,50,0,40,null,null,null,null,null,null,null,null,null,null,null,null,null,"17 SEO",1,0,0,0,0,1,1,1,1,null,null,"17 SEO",1,0,0,1,1,"100%",null,null,"4 SHIN",1,0,0,1,1,"100%"]
[null,null,null,null,null,null,null,null,null,null,null,null,null,null,null,null,null,null,null,null,null,null,null,null,null,null,null,null,null,null,null,"4 SHIN",null,null,null,null,null,1,0.125,null,0,0,null,1,1,null,"100%",null,null,null,null,null,null,null,null,null,null,null,null,null,null,null,"R4",{"$f":"Daten!X65","v":0},{"$f":"Daten!Y65","v":0},{"$f":"Daten!Z65","v":0},{"$f":"Daten!AA65","v":0},{"$f":"Daten!AB65","v":0},{"$f":"Daten!AC65","v":0},{"$f":"Daten!AD65","v":0},{"$f":"Daten!AE65","v":0},{"$f":"Daten!AF65","v":0},{"$f":"Daten!AG65","v":0},{"$f":"Daten!AH65","v":0},null,"R4",0,0,0,0,0,0,0,0,0,0,0,null,null,null,null,null,null,null,null,null,null,null,null,null,"1 SONG",0,0,"-",0,"-",0,"-","-","-",null,null,"6 LEE",0,0,"-",0,"-","-",null,null,"14 SONG",1,0,0,0,0,"0%"]
[null,null,"Rec in Pos 2",null,null,null,null,{"$f":"CI40&\" % (\"&BL40&\")\"","v":"0 % (0)"},null,null,null,"Rec in Pos 3",null,null,null,null,null,{"$f":"CI39&\" % (\"&BL39&\")\"","v":"0 % (0)"},null,null,"Rec in Pos 4",null,null,null,null,{"$f":"CI38&\" % (\"&BL38&\")\"","v":"0 % (0)"},null,null,null,null,null,"14 SONG",null,null,null,null,null,1,0.125,null,0,0,null,0,0,null,"0%",null,null,null,null,null,null,null,null,null,null,null,null,null,null,null,"R3",{"$f":"Daten!M65","v":0},{"$f":"Daten!N65","v":0},{"$f":"Daten!O65","v":0},{"$f":"Daten!P65","v":0},{"$f":"Daten!Q65","v":0},{"$f":"Daten!R65","v":0},{"$f":"Daten!S65","v":0},{"$f":"Daten!T65","v":0},{"$f":"Daten!U65","v":0},{"$f":"Daten!V65","v":0},{"$f":"Daten!W65","v":0},null,"R3",0,0,0,0,0,0,0,0,0,0,0,null,null,null,null,null,null,null,null,null,null,null,null,null,"4 SHIN",0,0,"-",0,"-",0,"-","-","-",null,null,"8 PARK",0,0,"-",0,"-","-",null,null,"6 LEE",0,0,"-",0,"-","-"]
[null,null,null,null,null,null,null,null,null,null,null,null,null,null,null,null,null,null,null,null,null,null,null,null,null,null,null,null,null,null,null,"6 LEE",null,null,null,null,null,0,0,null,0,"-",null,0,"-",null,"-",null,null,null,null,null,null,null,null,null,null,null,null,null,null,null,"R2",{"$f":"Daten!B65","v":0},{"$f":"Daten!C65","v":0},{"$f":"Daten!D65","v":0},{"$f":"Daten!E65","v":0},{"$f":"Daten!F65","v":0},{"$f":"Daten!G65","v":0},{"$f":"Daten!H65","v":0},{"$f":"Daten!I65","v":0},{"$f":"Daten!J65","v":0},{"$f":"Daten!K65","v":0},{"$f":"Daten!L65","v":0},null,"R2",0,0,0,0,0,0,0,0,0,0,0,null,null,null,null,null,null,null,null,null,null,null,null,null,"6 LEE",0,0,"-",0,"-",0,"-","-","-",null,null,"9 KWAK",0,0,"-",0,"-","-",null,null,"8 PARK",0,0,"-",0,"-","-"]
[null,null,null,null,null,null,null,null,null,null,null,null,null,null,null,null,null,null,null,null,null,null,null,null,null,null,null,null,null,null,null,"8 PARK",null,null,null,null,null,0,0,null,0,"-",null,0,"-",null,"-",null,null,null,null,null,null,null,null,null,null,null,null,null,null,null,null,{"$f":"SUM(BL35:BL40)","v":10},null,null,null,null,null,null,null,null,null,null,null,null,null,null,null,null,null,null,null,null,null,null,null,null,null,null,null,null,null,null,null,null,null,null,null,null,"8 PARK",0,0,"-",0,"-",0,"-","-","-",null,null,"11 CHOI",0,0,"-",0,"-","-",null,null,"11 CHOI",0,0,"-",0,"-","-"]
[null,null,null,null,null,null,null,null,null,null,null,null,null,null,null,null,null,null,null,null,null,null,null,null,null,null,null,null,null,null,null,null,null,null,null,null,null,null,null,null,null,null,null,null,null,null,null,null,null,null,null,null,null,null,null,null,null,null,null,null,null,null,null,null,null,null,null,null,null,null,null,null,null,null,null,null,null,null,null,null,null,null,null,null,null,null,null,null,null,null,null,null,null,null,null,null,null,null,null,null,"11 CHOI",0,0,"-",0,"-",0,"-","-","-",null,null,"12 JEON",0,0,"-",0,"-","-",null,null,"12 JEON",0,0,"-",0,"-","-"]
[null,null,null,null,null,null,null,null,null,null,null,null,null,null,null,null,null,null,null,null,null,null,null,null,null,null,null,null,null,null,null,null,null,null,null,null,null,null,null,null,null,null,null,null,null,null,null,null,null,null,null,null,null,null,null,null,null,null,null,null,null,null,null,null,null,null,null,null,null,null,null,null,null,null,null,null,null,null,null,null,null,null,null,null,null,null,null,null,null,null,null,null,null,null,null,null,null,null,null,null,"12 JEON",0,0,"-",0,"-",0,"-","-","-",null,null,"14 SONG",0,0,"-",0,"-","-",null,null,"16 CHOI",0,0,"-",0,"-","-"]
[null,null,null,null,null,null,null,null,null,null,null,null,null,null,null,null,null,null,null,null,null,null,null,null,null,null,null,null,null,null,null,null,null,null,null,null,null,null,null,null,null,null,null,null,null,null,null,null,null,null,null,null,null,null,null,null,null,null,null,null,null,null,null,null,null,null,null,null,null,null,null,null,null,null,null,null,null,null,null,null,null,null,null,null,null,null,null,null,null,null,null,null,null,null,null,null,null,null,null,null,"16 CHOI",0,0,"-",0,"-",0,"-","-","-",null,null,"19 JEONG",0,0,"-",0,"-","-",null,null,"19 JEONG",0,0,"-",0,"-","-"]
[null,null,null,null,null,null,null,null,null,null,null,null,null,null,null,null,null,null,null,null,null,null,null,null,null,null,null,null,null,null,null,null,null,null,null,null,null,null,null,null,null,null,null,null,null,null,null,null,null,null,null,null,null,null,null,null,null,null,null,null,null,null,null,null,null,null,null,null,null,null,null,null,null,null,null,null,null,null,null,null,null,null,null,null,null,null,null,null,null,null,null,null,null,null,null,null,null,null,null,null,"20 JI",0,0,"-",0,"-",0,"-","-","-",null,null,"20 JI",0,0,"-",0,"-","-",null,null,"20 JI",0,0,"-",0,"-","-"]
[null,null,"Settermovement to 4",null,null,null,null,null,null,{"$f":"BL48","v":0},null,"Settermovement to 3",null,null,null,null,null,{"$f":"BL49","v":9},null,null,"Settermovement to 2",null,null,null,null,null,{"$f":"BL50","v":1},null,null,null,null,null,null,null,null,null,null,null,null,null,null,null,null,null,null,null,null,null,null,null,null,null,null,null,null,null,null,null,null,null,null,null,"Settermovement",null,null,null,null,null,null,null,null,null,null,null,null,null,null,null,null,null,null,null,null,null,null,null,null,null,null,null,null,null,null,null,null,null,null,null,null,null,"22 YOU",0,0,"-",0,"-",0,"-","-","-",null,null,"22 YOU",0,0,"-",0,"-","-",null,null,"22 YOU",0,0,"-",0,"-","-"]
[null,null,null,null,null,null,null,null,null,null,null,null,null,null,null,null,null,null,null,null,null,null,null,null,null,null,null,null,null,null,null,null,null,null,null,null,null,null,null,null,null,null,null,null,null,null,null,null,null,null,null,null,null,null,null,null,null,null,null,null,null,null,null,{"$f":"Daten!X73","v":"alle"},{"$f":"Daten!Y73","v":"P4"},{"$f":"Daten!Z73","v":"X"},{"$f":"Daten!AA73","v":4},{"$f":"Daten!AB73","v":1},{"$f":"Daten!AC73","v":"Set"},{"$f":"Daten!AD73","v":3},{"$f":"Daten!AE73","v":"OF"},{"$f":"Daten!AF73","v":"P2"},{"$f":"Daten!AG73","v":"HF6"},{"$f":"Daten!AH73","v":"HF1"},null,null,{"$f":"Daten!Y73","v":"P4"},{"$f":"Daten!Z73","v":"X"},{"$f":"Daten!AA73","v":4},{"$f":"Daten!AB73","v":1},{"$f":"Daten!AC73","v":"Set"},{"$f":"Daten!AD73","v":3},{"$f":"Daten!AE73","v":"OF"},{"$f":"Daten!AF73","v":"P2"},{"$f":"Daten!AG73","v":"HF6"},{"$f":"Daten!AH73","v":"HF1"},null,null,null,null,null,null,null,null,null,null,null,null,null,null,"25 OH",0,0,"-",0,"-",0,"-","-","-",null,null,"25 OH",0,0,"-",0,"-","-",null,null,"25 OH",0,0,"-",0,"-","-"]
[null,null,null,null,null,null,null,null,null,null,null,null,null,null,null,null,null,null,null,null,null,null,null,null,null,null,null,null,null,null,null,null,null,null,null,null,null,null,null,null,null,null,null,null,null,null,null,null,null,null,null,null,null,null,null,null,null,null,null,null,null,null,"P4",{"$f":"Daten!X76","v":0},{"$f":"Daten!Y76","v":0},{"$f":"Daten!Z76","v":0},{"$f":"Daten!AA76","v":0},{"$f":"Daten!AB76","v":0},{"$f":"Daten!AC76","v":0},{"$f":"Daten!AD76","v":0},{"$f":"Daten!AE76","v":0},{"$f":"Daten!AF76","v":0},{"$f":"Daten!AG76","v":0},{"$f":"Daten!AH76","v":0},null,"P4",{"$f":"IF($BL48=0,0,ROUND(BM48/$BL48,2)*100)","v":0},0,0,0,0,0,0,0,0,0,null,null,null,null,null,null,null,null,null,null,null,null,null,null,0,0,0,"-",0,"-",0,"-","-","-",null,null,0,0,0,"-",0,"-","-",null,null,0,0,0,"-",0,"-","-"]
[null,null,null,null,null,null,null,null,null,null,null,null,null,null,null,null,null,null,null,null,null,null,null,null,null,null,null,null,null,null,null,null,null,null,null,null,null,null,null,null,null,null,null,null,null,null,null,null,null,null,null,null,null,null,null,null,null,null,null,null,null,null,"P3",{"$f":"Daten!M76","v":9},{"$f":"Daten!N76","v":0},{"$f":"Daten!O76","v":0},{"$f":"Daten!P76","v":2},{"$f":"Daten!Q76","v":1},{"$f":"Daten!R76","v":0},{"$f":"Daten!S76","v":0},{"$f":"Daten!T76","v":0},{"$f":"Daten!U76","v":2},{"$f":"Daten!V76","v":4},{"$f":"Daten!W76","v":0},null,"P3",0,0,22,11,0,0,0,22,44,0,null,null,null,null,null,null,null,null,null,null,null,null,null,null,0,0,0,"-",0,"-",0,"-","-","-",null,null,0,0,0,"-",0,"-","-",null,null,0,0,0,"-",0,"-","-"]
[null,null,null,null,null,null,null,null,null,null,null,null,null,null,null,null,null,null,null,null,null,null,null,null,null,null,null,null,null,null,null,null,null,null,null,null,null,null,null,null,null,null,null,null,null,null,null,null,null,null,null,null,null,null,null,null,null,null,null,null,null,null,"P2",{"$f":"Daten!B76","v":1},{"$f":"Daten!C76","v":0},{"$f":"Daten!D76","v":0},{"$f":"Daten!E76","v":0},{"$f":"Daten!F76","v":0},{"$f":"Daten!G76","v":0},{"$f":"Daten!H76","v":0},{"$f":"Daten!I76","v":0},{"$f":"Daten!J76","v":0},{"$f":"Daten!K76","v":1},{"$f":"Daten!L76","v":0},null,"P2",0,0,0,0,0,0,0,0,100,0,null,null,null,null,null,null,null,null,null,null,null,null,null,null,0,0,0,"-",0,"-",0,"-","-","-",null,null,0,0,0,"-",0,"-","-",null,null,0,0,0,"-",0,"-","-"]
[null,null,null,null,null,null,null,null,null,null,null,null,null,null,null,null,null,null,null,null,null,null,null,null,null,null,null,null,null,null,null,null,null,null,null,null,null,null,null,null,null,null,null,null,null,null,null,null,null,null,null,null,null,null,null,null,null,null,null,null,null,null,null,null,null,null,null,null,null,null,null,null,null,null,null,null,null,null,null,null,null,null,null,null,null,null,null,null,null,null,null,null,null,null,null,null,null,null,null,null,0,0,0,"-",0,"-",0,"-","-","-",null,null,0,0,0,"-",0,"-","-",null,null,0,0,0,"-",0,"-","-"]
[null,null,null,null,null,null,null,null,null,null,null,null,null,null,null,null,null,null,null,null,null,null,null,null,null,null,null,null,null,null,null,null,null,null,null,null,null,null,null,null,null,null,null,null,null,null,null,null,null,null,null,null,null,null,null,null,null,null,null,null,null,null,null,null,null,null,null,null,null,null,null,null,null,null,null,null,null,null,null,null,null,null,null,null,null,null,null,null,null,null,null,null,null,null,null,null,null,null,null,null,0,0,0,"-",0,"-",0,"-","-","-",null,null,0,0,0,"-",0,"-","-",null,null,0,0,0,"-",0,"-","-"]

{"sheet":"R 4","index":12,"n_rows":52,"n_cols":170,"rows_kept":52,"cut":false,"hidden":false,"merged":[[7,165,7,169],[7,160,7,164],[7,131,7,134],[7,135,7,139],[7,140,7,144],[7,145,7,149],[7,150,7,154],[7,155,7,159],[1,31,1,38],[4,31,4,34],[4,40,4,43],[4,49,4,52],[13,31,13,35],[45,62,45,73],[45,2,45,7],[45,9,45,10],[45,11,45,16],[45,17,45,19],[45,20,45,25],[45,26,45,28],[38,25,38,28],[32,2,32,5],[22,31,22,35],[32,7,32,10],[32,11,32,14],[32,31,32,35],[38,2,38,5],[38,7,38,10],[38,11,38,14],[38,17,38,19],[38,20,38,24],[12,63,12,73],[12,75,12,85],[12,87,12,97],[32,16,32,19],[32,20,32,24],[32,25,32,28],[18,63,18,73],[18,75,18,85],[18,87,18,97],[24,63,24,73],[24,75,24,85],[24,87,24,97],[32,62,32,73],[1,9,1,28],[6,63,6,73],[6,75,6,85],[6,87,6,97],[1,2,1,6],[4,2,4,4],[4,5,4,7],[4,9,4,11],[4,12,4,14],[4,16,4,18],[4,19,4,21],[4,23,4,25],[4,26,4,28],[4,63,4,73],[4,75,4,85],[4,87,4,97]]}
[]
[null,null,"Rotation 4",null,null,null,null,null,null,{"$f":"Daten!A3","v":"KOREA"},null,null,null,null,null,null,null,null,null,null,null,null,null,null,null,null,null,null,null,null,null,"Distribution"]
[]
[]
[null,null,{"$f":"\"Base \"&Options!S7","v":"Base K1"},null,null,{"$f":"BL10&\" % (\"&BL9&\")\"","v":"83 % (5)"},null,null,null,{"$f":"\"Base \"&Options!S8","v":"Base K2"},null,null,{"$f":"BL16&\" % (\"&BL15&\")\"","v":"0 % (0)"},null,null,null,{"$f":"\"Base \"&Options!S9","v":"Base K7"},null,null,{"$f":"BL22&\" % (\"&BL21&\")\"","v":"17 % (1)"},null,null,null,{"$f":"\"Base \"&Options!S10","v":"Base KD"},null,null,{"$f":"BL28&\" % (\"&BL27&\")\"","v":"0 % (0)"},null,null,null,null,"K1 after all R",null,null,null,{"$f":"EB10","v":9},null,{"$f":"EC10","v":"33%"},{"$f":"EE10","v":0.55555555555555558},null,"K1 after R#+",null,null,null,{"$f":"EB11","v":6},null,{"$f":"EC11","v":"83%"},{"$f":"EE11","v":0.83333333333333337},null,"K2 Transition",null,null,null,{"$f":"EB12","v":2},null,{"$f":"EC12","v":"0%"},{"$f":"EE12","v":0.5},null,null,null,null,null,null,"alle Punkte",null,null,null,null,null,null,null,null,null,null,null,"0-20",null,null,null,null,null,null,null,null,null,null,null,"20-x"]
[]
[null,null,null,null,null,null,null,null,null,null,null,null,null,null,null,null,null,null,null,null,null,null,null,null,null,null,null,null,null,null,null,null,null,null,null,null,null,null,null,null,null,null,null,null,null,null,null,null,null,null,null,null,null,null,null,null,null,null,null,null,null,null,null,{"$f":"\"Base \"&Options!$S7","v":"Base K1"},null,null,null,null,null,null,null,null,null,null,null,{"$f":"\"Base \"&Options!$S7","v":"Base K1"},null,null,null,null,null,null,null,null,null,null,null,{"$f":"\"Base \"&Options!$S7","v":"Base K1"},null,null,null,null,null,null,null,null,null,null,null,null,"Reception",null,null,null,null,null,null,null,null,null,null,null,"K1 after R#+",null,null,null,null,null,null,null,null,"K2 Transition",null,null,null,null,null,null,null,null,"Distribution"]
[null,null,null,null,null,null,null,null,null,null,null,null,null,null,null,null,null,null,null,null,null,null,null,null,null,null,null,null,null,null,null,null,null,null,null,null,null,null,null,null,null,null,null,null,null,null,null,null,null,null,null,null,null,null,null,null,null,null,null,null,null,null,null,{"$f":"Daten!B29","v":"K1"},{"$f":"Daten!F29","v":"P4"},{"$f":"Daten!G29","v":"SA"},{"$f":"Daten!H29","v":"H6"},{"$f":"Daten!I29","v":"P2"},{"$f":"Daten!J29","v":"H1"},{"$f":"Daten!K29","v":"P4-E"},{"$f":"Daten!L29","v":"SA-E"},{"$f":"Daten!M29","v":"H6-E"},{"$f":"Daten!N29","v":"P2-E"},{"$f":"Daten!O29","v":"H1-E"},null,{"$f":"Daten!B37","v":"K1"},{"$f":"Daten!F37","v":"P4"},{"$f":"Daten!G37","v":"SA"},{"$f":"Daten!H37","v":"H6"},{"$f":"Daten!I37","v":"P2"},{"$f":"Daten!J37","v":"H1"},{"$f":"Daten!K37","v":"P4-E"},{"$f":"Daten!L37","v":"SA-E"},{"$f":"Daten!M37","v":"H6-E"},{"$f":"Daten!N37","v":"P2-E"},{"$f":"Daten!O37","v":"H1-E"},null,{"$f":"Daten!B45","v":"K1"},{"$f":"Daten!F45","v":"P4"},{"$f":"Daten!G45","v":"SA"},{"$f":"Daten!H45","v":"H6"},{"$f":"Daten!I45","v":"P2"},{"$f":"Daten!J45","v":"H1"},{"$f":"Daten!K45","v":"P4-E"},{"$f":"Daten!L45","v":"SA-E"},{"$f":"Daten!M45","v":"H6-E"},{"$f":"Daten!N45","v":"P2-E"},{"$f":"Daten!O45","v":"H1-E"},null,null,null,{"$f":"'Daten SR'!AF4","v":"R 4"},{"$f":"'Daten SR'!AI4","v":"R 4/="},{"$f":"CY8&\"%\"","v":"R 4/=%"},{"$f":"'Daten SR'!AH4","v":"R 4+"},{"$f":"DA8&\"%\"","v":"R 4+%"},{"$f":"'Daten SR'!AG4","v":"R 4#"},{"$f":"DC8&\"%\"","v":"R 4#%"},{"$f":"DA8&\"#%\"","v":"R 4+#%"},{"$f":"CX8&\" Eff\"","v":"R 4 Eff"},null,null,null,{"$f":"'Daten A2'!N5","v":"A"},{"$f":"'Daten A2'!Q5","v":"A="},{"$f":"DK8&\"%\"","v":"A=%"},{"$f":"'Daten A2'!P5","v":"A#"},{"$f":"DM8&\"%\"","v":"A#%"},{"$f":"'Daten A2'!O5","v":"Eff"},null,null,null,{"$f":"'Daten A2'!J5","v":"A"},{"$f":"'Daten A2'!M5","v":"A="},{"$f":"DT8&\"%\"","v":"A=%"},{"$f":"'Daten A2'!L5","v":"A#"},{"$f":"DV8&\"%\"","v":"A#%"},{"$f":"'Daten A2'!K5","v":"Eff"},null,null,null,"alle",null,null,null,"Pos2",null,null,null,null,"Pos3",null,null,null,null,"Pos4",null,null,null,null,"Pos9",null,null,null,null,"Pos8",null,null,null,null,"Pos7",null,null,null,null,"PosS"]
[null,null,null,null,null,null,null,null,null,null,null,null,null,null,null,null,null,null,null,null,null,null,null,null,null,null,null,null,null,null,null,{"$f":"EU10","v":3},{"$f":"EV10","v":0.33333333333333331},null,{"$f":"EZ10","v":2},{"$f":"FA10","v":0.22222222222222221},null,{"$f":"FE10","v":0},{"$f":"FF10","v":"-"},null,{"$f":"EU11","v":1},{"$f":"EV11","v":0.16666666666666666},null,{"$f":"EZ11","v":1},{"$f":"FA11","v":0.16666666666666666},null,{"$f":"FE11","v":0},{"$f":"FF11","v":"-"},null,{"$f":"EU12","v":0},{"$f":"EV12","v":"-"},null,{"$f":"EZ12","v":1},{"$f":"FA12","v":0.5},null,{"$f":"FE12","v":0},{"$f":"FF12","v":"-"},null,null,null,null,null,null,{"$f":"Daten!B33","v":5},{"$f":"Daten!F33","v":2},{"$f":"Daten!G33","v":2},{"$f":"Daten!H33","v":1},{"$f":"Daten!I33","v":0},{"$f":"Daten!J33","v":0},{"$f":"Daten!K33","v":"50%"},{"$f":"Daten!L33","v":"100%"},{"$f":"Daten!M33","v":"100%"},{"$f":"Daten!N33","v":"0%"},{"$f":"Daten!O33","v":"0%"},null,{"$f":"Daten!B41","v":5},{"$f":"Daten!F41","v":2},{"$f":"Daten!G41","v":2},{"$f":"Daten!H41","v":1},{"$f":"Daten!I41","v":0},{"$f":"Daten!J41","v":0},{"$f":"Daten!K41","v":"50%"},{"$f":"Daten!L41","v":"100%"},{"$f":"Daten!M41","v":"100%"},{"$f":"Daten!N41","v":"0%"},{"$f":"Daten!O41","v":"0%"},null,{"$f":"Daten!B49","v":0},{"$f":"Daten!F49","v":0},{"$f":"Daten!G49","v":0},{"$f":"Daten!H49","v":0},{"$f":"Daten!I49","v":0},{"$f":"Daten!J49","v":0},{"$f":"Daten!K49","v":"0%"},{"$f":"Daten!L49","v":"0%"},{"$f":"Daten!M49","v":"0%"},{"$f":"Daten!N49","v":"0%"},{"$f":"Daten!O48","v":"0%"},null,null,{"$f":"'Daten SR'!A5","v":"KOREA"},{"$f":"'Daten SR'!AF5","v":10},{"$f":"'Daten SR'!AI5","v":0},{"$f":"IF($CX9=0,\"-\",CY9/$CX9)","v":0},{"$f":"'Daten SR'!AH5","v":3},{"$f":"IF($CX9=0,\"-\",DA9/$CX9)","v":0.3},{"$f":"'Daten SR'!AG5","v":3},{"$f":"IF($CX9=0,\"-\",DC9/$CX9)","v":0.3},{"$f":"IF($CX9=0,\"-\",(DA9+DC9)/$CX9)","v":0.6},{"$f":"IF(CX9=0,\"-\",(DC9+DA9-CY9)/CX9)","v":0.6},null,null,{"$f":"'Daten A2'!A6","v":"KOREA"},{"$f":"'Daten A2'!AD6","v":6},{"$f":"'Daten A2'!AG6","v":0},{"$f":"IF($DJ9=0,\"-\",DK9/$DJ9)","v":0},{"$f":"'Daten A2'!AF6","v":5},{"$f":"IF($DJ9=0,\"-\",DM9/$DJ9)","v":0.83333333333333337},{"$f":"IF($DJ9=0,\"-\",'Daten A2'!AE6)","v":"83%"},null,null,{"$f":"'Daten A2'!A6","v":"KOREA"},{"$f":"'Daten A2'!Z6","v":2},{"$f":"'Daten A2'!AC6","v":0},{"$f":"IF($DS9=0,\"-\",DT9/$DS9)","v":0},{"$f":"'Daten A2'!AB6","v":1},{"$f":"IF($DS9=0,\"-\",DV9/$DS9)","v":0.5},{"$f":"IF($DS9=0,\"-\",'Daten A2'!AA6)","v":"0%"},null,null,null,"r","Eff","#","#%","r","r%","Eff","#","#%","r","r%","Eff","#","#%","r","r%","Eff","#","#%","r","r%","Eff","#","#%","r","r%","Eff","#","#%","r","r%","Eff","#","#%","r","r%","Eff","#","#%"]
[null,null,null,null,null,null,null,null,null,null,null,null,null,null,null,null,null,null,null,null,null,null,null,null,null,null,null,null,null,null,null,{"$f":"EW10","v":"-33%"},{"$f":"EY10","v":0.33333333333333331},null,{"$f":"FB10","v":"50%"},{"$f":"FD10","v":0.5},null,{"$f":"FG10","v":"-"},{"$f":"FI10","v":"-"},null,{"$f":"EW11","v":"100%"},{"$f":"EY11","v":1},null,{"$f":"FB11","v":"100%"},{"$f":"FD11","v":1},null,{"$f":"FG11","v":"-"},{"$f":"FI11","v":"-"},null,{"$f":"EW12","v":"-"},{"$f":"EY12","v":"-"},null,{"$f":"FB12","v":"100%"},{"$f":"FD12","v":1},null,{"$f":"FG12","v":"-"},{"$f":"FI12","v":"-"},null,null,null,null,null,null,{"$f":"IF(BL9=0,0,ROUND(BL9/(BL9+BL15+BL21+BL27),2)*100)","v":83},{"$f":"IF($BL9=0,0,ROUND(BM9/$BL9,2)*100)","v":40},{"$f":"IF($BL9=0,0,ROUND(BN9/$BL9,2)*100)","v":40},{"$f":"IF($BL9=0,0,ROUND(BO9/$BL9,2)*100)","v":20},{"$f":"IF($BL9=0,0,ROUND(BP9/$BL9,2)*100)","v":0},{"$f":"IF($BL9=0,0,ROUND(BQ9/$BL9,2)*100)","v":0},{"$f":"IF(BM9=0,\"\",BR9)","v":"50%"},{"$f":"IF(BN9=0,\"\",BS9)","v":"100%"},{"$f":"IF(BO9=0,\"\",BT9)","v":"100%"},{"$f":"IF(BP9=0,\"\",BU9)","v":""},{"$f":"IF(BQ9=0,\"\",BV9)","v":""},null,{"$f":"IF(BX9=0,0,ROUND(BX9/(BX9+BX15+BX21+BX27),2)*100)","v":83},{"$f":"IF($BX9=0,0,ROUND(BY9/$BX9,2)*100)","v":40},{"$f":"IF($BX9=0,0,ROUND(BZ9/$BX9,2)*100)","v":40},{"$f":"IF($BX9=0,0,ROUND(CA9/$BX9,2)*100)","v":20},{"$f":"IF($BX9=0,0,ROUND(CB9/$BX9,2)*100)","v":0},{"$f":"IF($BX9=0,0,ROUND(CC9/$BX9,2)*100)","v":0},{"$f":"IF(BY9=0,\"\",CD9)","v":"50%"},{"$f":"IF(BZ9=0,\"\",CE9)","v":"100%"},{"$f":"IF(CA9=0,\"\",CF9)","v":"100%"},{"$f":"IF(CB9=0,\"\",CG9)","v":""},{"$f":"IF(CC9=0,\"\",CH9)","v":""},null,{"$f":"IF(CJ9=0,0,ROUND(CJ9/(CJ9+CJ15+CJ21+CJ27),2)*100)","v":0},{"$f":"IF($CJ9=0,0,ROUND(CK9/$CJ9,2)*100)","v":0},{"$f":"IF($CJ9=0,0,ROUND(CL9/$CJ9,2)*100)","v":0},{"$f":"IF($CJ9=0,0,ROUND(CM9/$CJ9,2)*100)","v":0},{"$f":"IF($CJ9=0,0,ROUND(CN9/$CJ9,2)*100)","v":0},{"$f":"IF($CJ9=0,0,ROUND(CO9/$CJ9,2)*100)","v":0},{"$f":"IF(CK9=0,\"\",CP9)","v":""},{"$f":"IF(CL9=0,\"\",CQ9)","v":""},{"$f":"IF(CM9=0,\"\",CR9)","v":""},{"$f":"IF(CN9=0,\"\",CS9)","v":""},{"$f":"IF(CO9=0,\"\",CT9)","v":""},null,null,{"$f":"'Daten SR'!A6","v":"1 SONG"},{"$f":"'Daten SR'!AF6","v":1},{"$f":"'Daten SR'!AI6","v":0},{"$f":"IF($CX10=0,\"-\",CY10/$CX10)","v":0},{"$f":"'Daten SR'!AH6","v":1},{"$f":"IF($CX10=0,\"-\",DA10/$CX10)","v":1},{"$f":"'Daten SR'!AG6","v":0},{"$f":"IF($CX10=0,\"-\",DC10/$CX10)","v":0},{"$f":"IF($CX10=0,\"-\",(DA10+DC10)/$CX10)","v":1},{"$f":"IF(CX10=0,\"-\",(DC10+DA10-CY10)/CX10)","v":1},null,null,{"$f":"'Daten A2'!A7","v":"1 SONG"},{"$f":"'Daten A2'!AD7","v":1},{"$f":"'Daten A2'!AG7","v":0},{"$f":"IF($DJ10=0,\"-\",DK10/$DJ10)","v":0},{"$f":"'Daten A2'!AF7","v":1},{"$f":"IF($DJ10=0,\"-\",DM10/$DJ10)","v":1},{"$f":"IF($DJ10=0,\"-\",'Daten A2'!AE7)","v":"100%"},null,null,{"$f":"'Daten A2'!A7","v":"1 SONG"},{"$f":"'Daten A2'!Z7","v":0},{"$f":"'Daten A2'!AC7","v":0},{"$f":"IF($DS10=0,\"-\",DT10/$DS10)","v":"-"},{"$f":"'Daten A2'!AB7","v":0},{"$f":"IF($DS10=0,\"-\",DV10/$DS10)","v":"-"},{"$f":"IF($DS10=0,\"-\",'Daten A2'!AA7)","v":"-"},null,null,"K1 all",{"$f":"Daten!B87","v":9},{"$f":"Daten!C87","v":"33%"},{"$f":"Daten!D87","v":5},{"$f":"IF(EB10=0,\"-\",ED10/EB10)","v":0.55555555555555558},{"$f":"Daten!E87","v":0},{"$f":"IF(OR($EB10=0,EF10=0),\"-\",EF10/$EB10)","v":"-"},{"$f":"IF(EF10=0,\"-\",Daten!F87)","v":"-"},{"$f":"Daten!G87","v":0},{"$f":"IF(EF10=0,\"-\",EI10/EF10)","v":"-"},{"$f":"Daten!H87","v":2},{"$f":"IF(OR($EB10=0,EK10=0),\"-\",EK10/$EB10)","v":0.22222222222222221},{"$f":"IF(EK10=0,\"-\",Daten!I87)","v":"100%"},{"$f":"Daten!J87","v":2},{"$f":"IF(EK10=0,\"-\",EN10/EK10)","v":1},{"$f":"Daten!K87","v":2},{"$f":"IF(OR($EB10=0,EP10=0),\"-\",EP10/$EB10)","v":0.22222222222222221},{"$f":"IF(EP10=0,\"-\",Daten!L87)","v":"50%"},{"$f":"Daten!M87","v":1},{"$f":"IF(EP10=0,\"-\",ES10/EP10)","v":0.5},{"$f":"Daten!N87","v":3},{"$f":"IF(OR($EB10=0,EU10=0),\"-\",EU10/$EB10)","v":0.33333333333333331},{"$f":"IF(EU10=0,\"-\",Daten!O87)","v":"-33%"},{"$f":"Daten!P87","v":1},{"$f":"IF(EU10=0,\"-\",EX10/EU10)","v":0.33333333333333331},{"$f":"Daten!Q87","v":2},{"$f":"IF(OR($EB10=0,EZ10=0),\"-\",EZ10/$EB10)","v":0.22222222222222221},{"$f":"IF(EZ10=0,\"-\",Daten!R87)","v":"50%"},{"$f":"Daten!S87","v":1},{"$f":"IF(EZ10=0,\"-\",FC10/EZ10)","v":0.5},{"$f":"Daten!T87","v":0},{"$f":"IF(OR($EB10=0,FE10=0),\"-\",FE10/$EB10)","v":"-"},{"$f":"IF(FE10=0,\"-\",Daten!U87)","v":"-"},{"$f":"Daten!V87","v":0},{"$f":"IF(FE10=0,\"-\",FH10/FE10)","v":"-"},{"$f":"Daten!W87","v":0},{"$f":"IF(OR($EB10=0,FJ10=0),\"-\",FJ10/$EB10)","v":"-"},{"$f":"IF(FJ10=0,\"-\",Daten!X87)","v":"-"},{"$f":"Daten!Y87","v":0},{"$f":"IF(FJ10=0,\"-\",FM10/FJ10)","v":"-"}]
[null,null,null,null,null,null,null,null,null,null,null,null,null,null,null,null,null,null,null,null,null,null,null,null,null,null,null,null,null,null,null,{"$f":"EF10","v":0},{"$f":"EG10","v":"-"},null,{"$f":"EK10","v":2},{"$f":"EL10","v":0.22222222222222221},null,{"$f":"EP10","v":2},{"$f":"EQ10","v":0.22222222222222221},null,{"$f":"EF11","v":0},{"$f":"EG11","v":"-"},null,{"$f":"EK11","v":2},{"$f":"EL11","v":0.33333333333333331},null,{"$f":"EP11","v":2},{"$f":"EQ11","v":0.33333333333333331},null,{"$f":"EF12","v":0},{"$f":"EG12","v":"-"},null,{"$f":"EK12","v":0},{"$f":"EL12","v":"-"},null,{"$f":"EP12","v":1},{"$f":"EQ12","v":0.5},null,null,null,null,null,null,null,null,null,null,null,null,null,null,null,null,null,null,null,null,null,null,null,null,null,null,null,null,null,null,null,null,null,null,null,null,null,null,null,null,null,null,null,{"$f":"'Daten SR'!A7","v":"4 SHIN"},{"$f":"'Daten SR'!AF7","v":0},{"$f":"'Daten SR'!AI7","v":0},"-",{"$f":"'Daten SR'!AH7","v":0},"-",{"$f":"'Daten SR'!AG7","v":0},"-","-","-",null,null,{"$f":"'Daten A2'!A8","v":"4 SHIN"},{"$f":"'Daten A2'!AD8","v":2},{"$f":"'Daten A2'!AG8","v":0},0,{"$f":"'Daten A2'!AF8","v":2},1,{"$f":"IF($DJ11=0,\"-\",'Daten A2'!AE8)","v":"100%"},null,null,{"$f":"'Daten A2'!A8","v":"4 SHIN"},{"$f":"'Daten A2'!Z8","v":0},{"$f":"'Daten A2'!AC8","v":0},"-",{"$f":"'Daten A2'!AB8","v":0},"-",{"$f":"IF($DS11=0,\"-\",'Daten A2'!AA8)","v":"-"},null,null,"K1  R#+",{"$f":"Daten!B107","v":6},{"$f":"IF(EB11=0,\"-\",Daten!C107)","v":"83%"},{"$f":"Daten!D107","v":5},{"$f":"IF(EB11=0,\"-\",ED11/EB11)","v":0.83333333333333337},{"$f":"Daten!E107","v":0},{"$f":"IF(OR($EB11=0,EF11=0),\"-\",EF11/$EB11)","v":"-"},{"$f":"IF(EF11=0,\"-\",Daten!F107)","v":"-"},{"$f":"Daten!G107","v":0},{"$f":"IF(EF11=0,\"-\",EI11/EF11)","v":"-"},{"$f":"Daten!H107","v":2},{"$f":"IF(OR($EB11=0,EK11=0),\"-\",EK11/$EB11)","v":0.33333333333333331},{"$f":"IF(EK11=0,\"-\",Daten!I107)","v":"100%"},{"$f":"Daten!J107","v":2},{"$f":"IF(EK11=0,\"-\",EN11/EK11)","v":1},{"$f":"Daten!K107","v":2},{"$f":"IF(OR($EB11=0,EP11=0),\"-\",EP11/$EB11)","v":0.33333333333333331},{"$f":"IF(EP11=0,\"-\",Daten!L107)","v":"50%"},{"$f":"Daten!M107","v":1},{"$f":"IF(EP11=0,\"-\",ES11/EP11)","v":0.5},{"$f":"Daten!N107","v":1},{"$f":"IF(OR($EB11=0,EU11=0),\"-\",EU11/$EB11)","v":0.16666666666666666},{"$f":"IF(EU11=0,\"-\",Daten!O107)","v":"100%"},{"$f":"Daten!P107","v":1},{"$f":"IF(EU11=0,\"-\",EX11/EU11)","v":1},{"$f":"Daten!Q107","v":1},{"$f":"IF(OR($EB11=0,EZ11=0),\"-\",EZ11/$EB11)","v":0.16666666666666666},{"$f":"IF(EZ11=0,\"-\",Daten!R107)","v":"100%"},{"$f":"Daten!S107","v":1},{"$f":"IF(EZ11=0,\"-\",FC11/EZ11)","v":1},{"$f":"Daten!T107","v":0},{"$f":"IF(OR($EB11=0,FE11=0),\"-\",FE11/$EB11)","v":"-"},{"$f":"IF(FE11=0,\"-\",Daten!U107)","v":"-"},{"$f":"Daten!V107","v":0},{"$f":"IF(FE11=0,\"-\",FH11/FE11)","v":"-"},{"$f":"Daten!W107","v":0},{"$f":"IF(OR($EB11=0,FJ11=0),\"-\",FJ11/$EB11)","v":"-"},{"$f":"IF(FJ11=0,\"-\",Daten!X107)","v":"-"},{"$f":"Daten!Y107","v":0},{"$f":"IF(FJ11=0,\"-\",FM11/FJ11)","v":"-"}]
[null,null,null,null,null,null,null,null,null,null,null,null,null,null,null,null,null,null,null,null,null,null,null,null,null,null,null,null,null,null,null,{"$f":"EH10","v":"-"},{"$f":"EJ10","v":"-"},null,{"$f":"EM10","v":"100%"},{"$f":"EO10","v":1},null,{"$f":"ER10","v":"50%"},{"$f":"ET10","v":0.5},null,{"$f":"EH11","v":"-"},{"$f":"EJ11","v":"-"},null,{"$f":"EM11","v":"100%"},{"$f":"EO11","v":1},null,{"$f":"ER11","v":"50%"},{"$f":"ET11","v":0.5},null,{"$f":"EH12","v":"-"},{"$f":"EJ12","v":"-"},null,{"$f":"EM12","v":"-"},{"$f":"EO12","v":"-"},null,{"$f":"ER12","v":"-100%"},{"$f":"ET12","v":0},null,null,null,null,null,null,null,null,null,null,null,null,null,null,null,null,null,null,null,null,null,null,null,null,null,null,null,null,null,null,null,null,null,null,null,null,null,null,null,null,null,null,null,{"$f":"'Daten SR'!A8","v":"6 LEE"},{"$f":"'Daten SR'!AF8","v":0},{"$f":"'Daten SR'!AI8","v":0},"-",{"$f":"'Daten SR'!AH8","v":0},"-",{"$f":"'Daten SR'!AG8","v":0},"-","-","-",null,null,{"$f":"'Daten A2'!A9","v":"6 LEE"},{"$f":"'Daten A2'!AD9","v":0},{"$f":"'Daten A2'!AG9","v":0},"-",{"$f":"'Daten A2'!AF9","v":0},"-",{"$f":"IF($DJ12=0,\"-\",'Daten A2'!AE9)","v":"-"},null,null,{"$f":"'Daten A2'!A9","v":"6 LEE"},{"$f":"'Daten A2'!Z9","v":0},{"$f":"'Daten A2'!AC9","v":0},"-",{"$f":"'Daten A2'!AB9","v":0},"-",{"$f":"IF($DS12=0,\"-\",'Daten A2'!AA9)","v":"-"},null,null,"K2",{"$f":"Daten!B97","v":2},{"$f":"Daten!C97","v":"0%"},{"$f":"Daten!D97","v":1},{"$f":"IF(EB12=0,\"-\",ED12/EB12)","v":0.5},{"$f":"Daten!E97","v":0},{"$f":"IF(OR($EB12=0,EF12=0),\"-\",EF12/$EB12)","v":"-"},{"$f":"IF(EF12=0,\"-\",Daten!F97)","v":"-"},{"$f":"Daten!G97","v":0},{"$f":"IF(EF12=0,\"-\",EI12/EF12)","v":"-"},{"$f":"Daten!H97","v":0},{"$f":"IF(OR($EB12=0,EK12=0),\"-\",EK12/$EB12)","v":"-"},{"$f":"IF(EK12=0,\"-\",Daten!I97)","v":"-"},{"$f":"Daten!J97","v":0},{"$f":"IF(EK12=0,\"-\",EN12/EK12)","v":"-"},{"$f":"Daten!K97","v":1},{"$f":"IF(OR($EB12=0,EP12=0),\"-\",EP12/$EB12)","v":0.5},{"$f":"IF(EP12=0,\"-\",Daten!L97)","v":"-100%"},{"$f":"Daten!M97","v":0},{"$f":"IF(EP12=0,\"-\",ES12/EP12)","v":0},{"$f":"Daten!N97","v":0},{"$f":"IF(OR($EB12=0,EU12=0),\"-\",EU12/$EB12)","v":"-"},{"$f":"IF(EU12=0,\"-\",Daten!O97)","v":"-"},{"$f":"Daten!P97","v":0},{"$f":"IF(EU12=0,\"-\",EX12/EU12)","v":"-"},{"$f":"Daten!Q97","v":1},{"$f":"IF(OR($EB12=0,EZ12=0),\"-\",EZ12/$EB12)","v":0.5},{"$f":"IF(EZ12=0,\"-\",Daten!R97)","v":"100%"},{"$f":"Daten!S97","v":1},{"$f":"IF(EZ12=0,\"-\",FC12/EZ12)","v":1},{"$f":"Daten!T97","v":0},{"$f":"IF(OR($EB12=0,FE12=0),\"-\",FE12/$EB12)","v":"-"},{"$f":"IF(FE12=0,\"-\",Daten!U97)","v":"-"},{"$f":"Daten!V97","v":0},{"$f":"IF(FE12=0,\"-\",FH12/FE12)","v":"-"},{"$f":"Daten!W97","v":0},{"$f":"IF(OR($EB12=0,FJ12=0),\"-\",FJ12/$EB12)","v":"-"},{"$f":"IF(FJ12=0,\"-\",Daten!X97)","v":"-"},{"$f":"Daten!Y97","v":0},{"$f":"IF(FJ12=0,\"-\",FM12/FJ12)","v":"-"}]
[null,null,null,null,null,null,null,null,null,null,null,null,null,null,null,null,null,null,null,null,null,null,null,null,null,null,null,null,null,null,null,null,null,null,null,null,null,null,null,null,null,null,null,null,null,null,null,null,null,null,null,null,null,null,null,null,null,null,null,null,null,null,null,{"$f":"\"Base \"&Options!$S8","v":"Base K2"},null,null,null,null,null,null,null,null,null,null,null,{"$f":"\"Base \"&Options!$S8","v":"Base K2"},null,null,null,null,null,null,null,null,null,null,null,{"$f":"\"Base \"&Options!$S8","v":"Base K2"},null,null,null,null,null,null,null,null,null,null,null,null,{"$f":"'Daten SR'!A9","v":"8 PARK"},{"$f":"'Daten SR'!AF9","v":0},{"$f":"'Daten SR'!AI9","v":0},"-",{"$f":"'Daten SR'!AH9","v":0},"-",{"$f":"'Daten SR'!AG9","v":0},"-","-","-",null,null,{"$f":"'Daten A2'!A10","v":"8 PARK"},{"$f":"'Daten A2'!AD10","v":0},{"$f":"'Daten A2'!AG10","v":0},"-",{"$f":"'Daten A2'!AF10","v":0},"-",{"$f":"IF($DJ13=0,\"-\",'Daten A2'!AE10)","v":"-"},null,null,{"$f":"'Daten A2'!A10","v":"8 PARK"},{"$f":"'Daten A2'!Z10","v":0},{"$f":"'Daten A2'!AC10","v":0},"-",{"$f":"'Daten A2'!AB10","v":0},"-",{"$f":"IF($DS13=0,\"-\",'Daten A2'!AA10)","v":"-"}]
[null,null,null,null,null,null,null,null,null,null,null,null,null,null,null,null,null,null,null,null,null,null,null,null,null,null,null,null,null,null,null,"Reception",null,null,null,null,null,"∑","∑ %",null,"=/","=/ %",null,"+","+ %",null,"#","# %",null,"+# %","Eff",null,null,null,null,null,null,null,null,null,null,null,null,{"$f":"Daten!C29","v":"K2"},{"$f":"Daten!P29","v":"P4"},{"$f":"Daten!Q29","v":"SA"},{"$f":"Daten!R29","v":"H6"},{"$f":"Daten!S29","v":"P2"},{"$f":"Daten!T29","v":"H1"},{"$f":"Daten!U29","v":"P4-E"},{"$f":"Daten!V29","v":"SA-E"},{"$f":"Daten!W29","v":"H6-E"},{"$f":"Daten!X29","v":"P2-E"},{"$f":"Daten!Y29","v":"H1-E"},null,{"$f":"Daten!C37","v":"K2"},{"$f":"Daten!P37","v":"P4"},{"$f":"Daten!Q37","v":"SA"},{"$f":"Daten!R37","v":"H6"},{"$f":"Daten!S37","v":"P2"},{"$f":"Daten!T37","v":"H1"},{"$f":"Daten!U37","v":"P4-E"},{"$f":"Daten!V37","v":"SA-E"},{"$f":"Daten!W37","v":"H6-E"},{"$f":"Daten!X37","v":"P2-E"},{"$f":"Daten!Y37","v":"H1-E"},null,{"$f":"Daten!C45","v":"K2"},{"$f":"Daten!P45","v":"P4"},{"$f":"Daten!Q45","v":"SA"},{"$f":"Daten!R45","v":"H6"},{"$f":"Daten!S45","v":"P2"},{"$f":"Daten!T45","v":"H1"},{"$f":"Daten!U45","v":"P4-E"},{"$f":"Daten!V45","v":"SA-E"},{"$f":"Daten!W45","v":"H6-E"},{"$f":"Daten!X45","v":"P2-E"},{"$f":"Daten!Y45","v":"H1-E"},null,null,{"$f":"'Daten SR'!A10","v":"9 KWAK"},{"$f":"'Daten SR'!AF10","v":3},{"$f":"'Daten SR'!AI10","v":0},0,{"$f":"'Daten SR'!AH10","v":1},0.33333333333333331,{"$f":"'Daten SR'!AG10","v":2},0.66666666666666663,1,1,null,null,{"$f":"'Daten A2'!A11","v":"9 KWAK"},{"$f":"'Daten A2'!AD11","v":2},{"$f":"'Daten A2'!AG11","v":0},0,{"$f":"'Daten A2'!AF11","v":1},0.5,{"$f":"IF($DJ14=0,\"-\",'Daten A2'!AE11)","v":"50%"},null,null,{"$f":"'Daten A2'!A11","v":"9 KWAK"},{"$f":"'Daten A2'!Z11","v":1},{"$f":"'Daten A2'!AC11","v":0},0,{"$f":"'Daten A2'!AB11","v":0},0,{"$f":"IF($DS14=0,\"-\",'Daten A2'!AA11)","v":"-100%"}]
[null,null,null,null,null,null,null,null,null,null,null,null,null,null,null,null,null,null,null,null,null,null,null,null,null,null,null,null,null,null,null,{"$f":"CW33","v":"KOREA"},null,null,null,null,null,{"$f":"CX33","v":10},{"$f":"AL15/$AL$15","v":1},null,{"$f":"CY33","v":0},0,null,{"$f":"DA33","v":3},0.3,null,{"$f":"DC33","v":3},0.3,null,{"$f":"DE33","v":0.6},0.6,null,null,null,null,null,null,null,null,null,null,null,null,{"$f":"Daten!C33","v":0},{"$f":"Daten!P33","v":0},{"$f":"Daten!Q33","v":0},{"$f":"Daten!R33","v":0},{"$f":"Daten!S33","v":0},{"$f":"Daten!T33","v":0},{"$f":"Daten!U33","v":"0%"},{"$f":"Daten!V33","v":"0%"},{"$f":"Daten!W33","v":"0%"},{"$f":"Daten!X33","v":"0%"},{"$f":"Daten!Y33","v":"0%"},null,{"$f":"Daten!C41","v":0},{"$f":"Daten!P41","v":0},{"$f":"Daten!Q41","v":0},{"$f":"Daten!R41","v":0},{"$f":"Daten!S41","v":0},{"$f":"Daten!T41","v":0},{"$f":"Daten!U41","v":"0%"},{"$f":"Daten!V41","v":"0%"},{"$f":"Daten!W41","v":"0%"},{"$f":"Daten!X41","v":"0%"},{"$f":"Daten!Y41","v":"0%"},null,{"$f":"Daten!C49","v":0},{"$f":"Daten!P49","v":0},{"$f":"Daten!Q49","v":0},{"$f":"Daten!R49","v":0},{"$f":"Daten!S49","v":0},{"$f":"Daten!T49","v":0},{"$f":"Daten!U49","v":"0%"},{"$f":"Daten!V49","v":"0%"},{"$f":"Daten!W49","v":"0%"},{"$f":"Daten!X49","v":"0%"},{"$f":"Daten!Y49","v":"0%"},null,null,{"$f":"'Daten SR'!A11","v":"11 CHOI"},{"$f":"'Daten SR'!AF11","v":0},{"$f":"'Daten SR'!AI11","v":0},"-",{"$f":"'Daten SR'!AH11","v":0},"-",{"$f":"'Daten SR'!AG11","v":0},"-","-","-",null,null,{"$f":"'Daten A2'!A12","v":"11 CHOI"},{"$f":"'Daten A2'!AD12","v":0},{"$f":"'Daten A2'!AG12","v":0},"-",{"$f":"'Daten A2'!AF12","v":0},"-",{"$f":"IF($DJ15=0,\"-\",'Daten A2'!AE12)","v":"-"},null,null,{"$f":"'Daten A2'!A12","v":"11 CHOI"},{"$f":"'Daten A2'!Z12","v":0},{"$f":"'Daten A2'!AC12","v":0},"-",{"$f":"'Daten A2'!AB12","v":0},"-",{"$f":"IF($DS15=0,\"-\",'Daten A2'!AA12)","v":"-"}]
[null,null,null,null,null,null,null,null,null,null,null,null,null,null,null,null,null,null,null,null,null,null,null,null,null,null,null,null,null,null,null,"19 JEONG",null,null,null,null,null,4,0.4,null,0,0,null,1,0.25,null,0,0,null,0.25,0.25,null,null,null,null,null,null,null,null,null,null,null,null,{"$f":"IF(BL15=0,0,ROUND(BL15/(BL9+BL15+BL21+BL27),2)*100)","v":0},{"$f":"IF($BL15=0,0,ROUND(BM15/$BL15,2)*100)","v":0},{"$f":"IF($BL15=0,0,ROUND(BN15/$BL15,2)*100)","v":0},{"$f":"IF($BL15=0,0,ROUND(BO15/$BL15,2)*100)","v":0},{"$f":"IF($BL15=0,0,ROUND(BP15/$BL15,2)*100)","v":0},{"$f":"IF($BL15=0,0,ROUND(BQ15/$BL15,2)*100)","v":0},{"$f":"IF(BM15=0,\"\",BR15)","v":""},{"$f":"IF(BN15=0,\"\",BS15)","v":""},{"$f":"IF(BO15=0,\"\",BT15)","v":""},{"$f":"IF(BP15=0,\"\",BU15)","v":""},{"$f":"IF(BQ15=0,\"\",BV15)","v":""},null,{"$f":"IF(BX15=0,0,ROUND(BX15/($BL9+$BL15+$BL21+$BL27),2)*100)","v":0},{"$f":"IF($BX15=0,0,ROUND(BY15/$BX15,2)*100)","v":0},{"$f":"IF($BX15=0,0,ROUND(BZ15/$BX15,2)*100)","v":0},{"$f":"IF($BX15=0,0,ROUND(CA15/$BX15,2)*100)","v":0},{"$f":"IF($BX15=0,0,ROUND(CB15/$BX15,2)*100)","v":0},{"$f":"IF($BX15=0,0,ROUND(CC15/$BX15,2)*100)","v":0},{"$f":"IF(BY15=0,\"\",CD15)","v":""},{"$f":"IF(BZ15=0,\"\",CE15)","v":""},{"$f":"IF(CA15=0,\"\",CF15)","v":""},{"$f":"IF(CB15=0,\"\",CG15)","v":""},{"$f":"IF(CC15=0,\"\",CH15)","v":""},null,{"$f":"IF(CJ15=0,0,ROUND(CJ15/(CJ9+CJ15+CJ21+CJ27),2)*100)","v":0},{"$f":"IF($CJ15=0,0,ROUND(CK15/$CJ15,2)*100)","v":0},{"$f":"IF($CJ15=0,0,ROUND(CL15/$CJ15,2)*100)","v":0},{"$f":"IF($CJ15=0,0,ROUND(CM15/$CJ15,2)*100)","v":0},{"$f":"IF($CJ15=0,0,ROUND(CN15/$CJ15,2)*100)","v":0},{"$f":"IF($CJ15=0,0,ROUND(CO15/$CJ15,2)*100)","v":0},{"$f":"IF(CK15=0,\"\",CP15)","v":""},{"$f":"IF(CL15=0,\"\",CQ15)","v":""},{"$f":"IF(CM15=0,\"\",CR15)","v":""},{"$f":"IF(CN15=0,\"\",CS15)","v":""},{"$f":"IF(CO15=0,\"\",CT15)","v":""},null,null,{"$f":"'Daten SR'!A12","v":"12 JEON"},{"$f":"'Daten SR'!AF12","v":0},{"$f":"'Daten SR'!AI12","v":0},"-",{"$f":"'Daten SR'!AH12","v":0},"-",{"$f":"'Daten SR'!AG12","v":0},"-","-","-",null,null,{"$f":"'Daten A2'!A13","v":"12 JEON"},{"$f":"'Daten A2'!AD13","v":0},{"$f":"'Daten A2'!AG13","v":0},"-",{"$f":"'Daten A2'!AF13","v":0},"-",{"$f":"IF($DJ16=0,\"-\",'Daten A2'!AE13)","v":"-"},null,null,{"$f":"'Daten A2'!A13","v":"12 JEON"},{"$f":"'Daten A2'!Z13","v":0},{"$f":"'Daten A2'!AC13","v":0},"-",{"$f":"'Daten A2'!AB13","v":0},"-",{"$f":"IF($DS16=0,\"-\",'Daten A2'!AA13)","v":"-"}]
[null,null,null,null,null,null,null,null,null,null,null,null,null,null,null,null,null,null,null,null,null,null,null,null,null,null,null,null,null,null,null,"9 KWAK",null,null,null,null,null,3,0.3,null,0,0,null,1,0.33333333333333331,null,2,0.66666666666666663,null,1,1,null,null,null,null,null,null,null,null,null,null,null,null,null,null,null,null,null,null,null,null,null,null,null,null,null,null,null,null,null,null,null,null,null,null,null,null,null,null,null,null,null,null,null,null,null,null,null,null,null,{"$f":"'Daten SR'!A13","v":"14 SONG"},{"$f":"'Daten SR'!AF13","v":2},{"$f":"'Daten SR'!AI13","v":0},0,{"$f":"'Daten SR'!AH13","v":0},0,{"$f":"'Daten SR'!AG13","v":1},0.5,0.5,0.5,null,null,{"$f":"'Daten A2'!A14","v":"14 SONG"},{"$f":"'Daten A2'!AD14","v":0},{"$f":"'Daten A2'!AG14","v":0},"-",{"$f":"'Daten A2'!AF14","v":0},"-",{"$f":"IF($DJ17=0,\"-\",'Daten A2'!AE14)","v":"-"},null,null,{"$f":"'Daten A2'!A14","v":"14 SONG"},{"$f":"'Daten A2'!Z14","v":0},{"$f":"'Daten A2'!AC14","v":0},"-",{"$f":"'Daten A2'!AB14","v":0},"-",{"$f":"IF($DS17=0,\"-\",'Daten A2'!AA14)","v":"-"}]
[null,null,null,null,null,null,null,null,null,null,null,null,null,null,null,null,null,null,null,null,null,null,null,null,null,null,null,null,null,null,null,"14 SONG",null,null,null,null,null,2,0.2,null,0,0,null,0,0,null,1,0.5,null,0.5,0.5,null,null,null,null,null,null,null,null,null,null,null,null,null,null,null,null,null,null,null,null,null,null,null,null,null,null,null,null,null,null,null,null,null,null,null,null,null,null,null,null,null,null,null,null,null,null,null,null,null,{"$f":"'Daten SR'!A14","v":"16 CHOI"},{"$f":"'Daten SR'!AF14","v":0},{"$f":"'Daten SR'!AI14","v":0},"-",{"$f":"'Daten SR'!AH14","v":0},"-",{"$f":"'Daten SR'!AG14","v":0},"-","-","-",null,null,{"$f":"'Daten A2'!A15","v":"16 CHOI"},{"$f":"'Daten A2'!AD15","v":0},{"$f":"'Daten A2'!AG15","v":0},"-",{"$f":"'Daten A2'!AF15","v":0},"-",{"$f":"IF($DJ18=0,\"-\",'Daten A2'!AE15)","v":"-"},null,null,{"$f":"'Daten A2'!A15","v":"16 CHOI"},{"$f":"'Daten A2'!Z15","v":1},{"$f":"'Daten A2'!AC15","v":0},0,{"$f":"'Daten A2'!AB15","v":1},1,{"$f":"IF($DS18=0,\"-\",'Daten A2'!AA15)","v":"100%"}]
[null,null,null,null,null,null,null,null,null,null,null,null,null,null,null,null,null,null,null,null,null,null,null,null,null,null,null,null,null,null,null,"1 SONG",null,null,null,null,null,1,0.1,null,0,0,null,1,1,null,0,0,null,1,1,null,null,null,null,null,null,null,null,null,null,null,null,{"$f":"\"Base \"&Options!$S9","v":"Base K7"},null,null,null,null,null,null,null,null,null,null,null,{"$f":"\"Base \"&Options!$S9","v":"Base K7"},null,null,null,null,null,null,null,null,null,null,null,{"$f":"\"Base \"&Options!$S9","v":"Base K7"},null,null,null,null,null,null,null,null,null,null,null,null,{"$f":"'Daten SR'!A15","v":"17 SEO"},{"$f":"'Daten SR'!AF15","v":0},{"$f":"'Daten SR'!AI15","v":0},"-",{"$f":"'Daten SR'!AH15","v":0},"-",{"$f":"'Daten SR'!AG15","v":0},"-","-","-",null,null,{"$f":"'Daten A2'!A16","v":"17 SEO"},{"$f":"'Daten A2'!AD16","v":1},{"$f":"'Daten A2'!AG16","v":0},0,{"$f":"'Daten A2'!AF16","v":1},1,{"$f":"IF($DJ19=0,\"-\",'Daten A2'!AE16)","v":"100%"},null,null,{"$f":"'Daten A2'!A16","v":"17 SEO"},{"$f":"'Daten A2'!Z16","v":0},{"$f":"'Daten A2'!AC16","v":0},"-",{"$f":"'Daten A2'!AB16","v":0},"-",{"$f":"IF($DS19=0,\"-\",'Daten A2'!AA16)","v":"-"}]
[null,null,null,null,null,null,null,null,null,null,null,null,null,null,null,null,null,null,null,null,null,null,null,null,null,null,null,null,null,null,null,"4 SHIN",null,null,null,null,null,0,0,null,0,"-",null,0,"-",null,0,"-",null,"-","-",null,null,null,null,null,null,null,null,null,null,null,null,{"$f":"Daten!D29","v":"K7"},{"$f":"Daten!Z29","v":"P4"},{"$f":"Daten!AA29","v":"SA"},{"$f":"Daten!AB29","v":"H6"},{"$f":"Daten!AC29","v":"P2"},{"$f":"Daten!AD29","v":"H1"},{"$f":"Daten!AE29","v":"P4-E"},{"$f":"Daten!AF29","v":"SA-E"},{"$f":"Daten!AG29","v":"H6-E"},{"$f":"Daten!AH29","v":"P2-E"},{"$f":"Daten!AI29","v":"H1-E"},null,{"$f":"Daten!D37","v":"K7"},{"$f":"Daten!Z37","v":"P4"},{"$f":"Daten!AA37","v":"SA"},{"$f":"Daten!AB37","v":"H6"},{"$f":"Daten!AC37","v":"P2"},{"$f":"Daten!AD37","v":"H1"},{"$f":"Daten!AE37","v":"P4-E"},{"$f":"Daten!AF37","v":"SA-E"},{"$f":"Daten!AG37","v":"H6-E"},{"$f":"Daten!AH37","v":"P2-E"},{"$f":"Daten!AI37","v":"H1-E"},null,{"$f":"Daten!D45","v":"K7"},{"$f":"Daten!Z45","v":"P4"},{"$f":"Daten!AA45","v":"SA"},{"$f":"Daten!AB45","v":"H6"},{"$f":"Daten!AC45","v":"P2"},{"$f":"Daten!AD45","v":"H1"},{"$f":"Daten!AE45","v":"P4-E"},{"$f":"Daten!AF45","v":"SA-E"},{"$f":"Daten!AG45","v":"H6-E"},{"$f":"Daten!AH45","v":"P2-E"},{"$f":"Daten!AI45","v":"H1-E"},null,null,{"$f":"'Daten SR'!A16","v":"19 JEONG"},{"$f":"'Daten SR'!AF16","v":4},{"$f":"'Daten SR'!AI16","v":0},0,{"$f":"'Daten SR'!AH16","v":1},0.25,{"$f":"'Daten SR'!AG16","v":0},0,0.25,0.25,null,null,{"$f":"'Daten A2'!A17","v":"19 JEONG"},{"$f":"'Daten A2'!AD17","v":0},{"$f":"'Daten A2'!AG17","v":0},"-",{"$f":"'Daten A2'!AF17","v":0},"-",{"$f":"IF($DJ20=0,\"-\",'Daten A2'!AE17)","v":"-"},null,null,{"$f":"'Daten A2'!A17","v":"19 JEONG"},{"$f":"'Daten A2'!Z17","v":0},{"$f":"'Daten A2'!AC17","v":0},"-",{"$f":"'Daten A2'!AB17","v":0},"-",{"$f":"IF($DS20=0,\"-\",'Daten A2'!AA17)","v":"-"}]
[null,null,null,null,null,null,null,null,null,null,null,null,null,null,null,null,null,null,null,null,null,null,null,null,null,null,null,null,null,null,null,"6 LEE",null,null,null,null,null,0,0,null,0,"-",null,0,"-",null,0,"-",null,"-","-",null,null,null,null,null,null,null,null,null,null,null,null,{"$f":"Daten!D33","v":1},{"$f":"Daten!Z33","v":0},{"$f":"Daten!AA33","v":0},{"$f":"Daten!AB33","v":0},{"$f":"Daten!AC33","v":0},{"$f":"Daten!AD33","v":1},{"$f":"Daten!AE33","v":"0%"},{"$f":"Daten!AF33","v":"0%"},{"$f":"Daten!AG33","v":"0%"},{"$f":"Daten!AH33","v":"0%"},{"$f":"Daten!AI33","v":"100%"},null,{"$f":"Daten!D41","v":1},{"$f":"Daten!Z41","v":0},{"$f":"Daten!AA41","v":0},{"$f":"Daten!AB41","v":0},{"$f":"Daten!AC41","v":0},{"$f":"Daten!AD41","v":1},{"$f":"Daten!AE41","v":"0%"},{"$f":"Daten!AF41","v":"0%"},{"$f":"Daten!AG41","v":"0%"},{"$f":"Daten!AH41","v":"0%"},{"$f":"Daten!AI41","v":"100%"},null,{"$f":"Daten!D49","v":0},{"$f":"Daten!Z49","v":0},{"$f":"Daten!AA49","v":0},{"$f":"Daten!AB49","v":0},{"$f":"Daten!AC49","v":0},{"$f":"Daten!AD49","v":0},{"$f":"Daten!AE49","v":"0%"},{"$f":"Daten!AF49","v":"0%"},{"$f":"Daten!AG49","v":"0%"},{"$f":"Daten!AH49","v":"0%"},{"$f":"Daten!AI49","v":"0%"},null,null,{"$f":"'Daten SR'!A17","v":"20 JI"},{"$f":"'Daten SR'!AF17","v":0},{"$f":"'Daten SR'!AI17","v":0},"-",{"$f":"'Daten SR'!AH17","v":0},"-",{"$f":"'Daten SR'!AG17","v":0},"-","-","-",null,null,{"$f":"'Daten A2'!A18","v":"20 JI"},{"$f":"'Daten A2'!AD18","v":0},{"$f":"'Daten A2'!AG18","v":0},"-",{"$f":"'Daten A2'!AF18","v":0},"-",{"$f":"IF($DJ21=0,\"-\",'Daten A2'!AE18)","v":"-"},null,null,{"$f":"'Daten A2'!A18","v":"20 JI"},{"$f":"'Daten A2'!Z18","v":0},{"$f":"'Daten A2'!AC18","v":0},"-",{"$f":"'Daten A2'!AB18","v":0},"-",{"$f":"IF($DS21=0,\"-\",'Daten A2'!AA18)","v":"-"}]
[null,null,null,null,null,null,null,null,null,null,null,null,null,null,null,null,null,null,null,null,null,null,null,null,null,null,null,null,null,null,null,null,null,null,null,null,null,null,null,null,null,null,null,null,null,null,null,null,null,null,null,null,null,null,null,null,null,null,null,null,null,null,null,{"$f":"IF(BL21=0,0,ROUND(BL21/(BL9+BL15+BL21+BL27),2)*100)","v":17},{"$f":"IF($BL21=0,0,ROUND(BM21/$BL21,2)*100)","v":0},{"$f":"IF($BL21=0,0,ROUND(BN21/$BL21,2)*100)","v":0},{"$f":"IF($BL21=0,0,ROUND(BO21/$BL21,2)*100)","v":0},{"$f":"IF($BL21=0,0,ROUND(BP21/$BL21,2)*100)","v":0},{"$f":"IF($BL21=0,0,ROUND(BQ21/$BL21,2)*100)","v":100},{"$f":"IF(BM21=0,\"\",BR21)","v":""},{"$f":"IF(BN21=0,\"\",BS21)","v":""},{"$f":"IF(BO21=0,\"\",BT21)","v":""},{"$f":"IF(BP21=0,\"\",BU21)","v":""},{"$f":"IF(BQ21=0,\"\",BV21)","v":"100%"},null,{"$f":"IF(BX21=0,0,ROUND(BX21/($BL9+$BL15+$BL21+$BL27),2)*100)","v":17},{"$f":"IF($BX21=0,0,ROUND(BY21/$BX21,2)*100)","v":0},{"$f":"IF($BX21=0,0,ROUND(BZ21/$BX21,2)*100)","v":0},{"$f":"IF($BX21=0,0,ROUND(CA21/$BX21,2)*100)","v":0},{"$f":"IF($BX21=0,0,ROUND(CB21/$BX21,2)*100)","v":0},{"$f":"IF($BX21=0,0,ROUND(CC21/$BX21,2)*100)","v":100},{"$f":"IF(BY21=0,\"\",CD21)","v":""},{"$f":"IF(BZ21=0,\"\",CE21)","v":""},{"$f":"IF(CA21=0,\"\",CF21)","v":""},{"$f":"IF(CB21=0,\"\",CG21)","v":""},{"$f":"IF(CC21=0,\"\",CH21)","v":"100%"},null,{"$f":"IF(CJ21=0,0,ROUND(CJ21/(CJ9+CJ15+CJ21+CJ27),2)*100)","v":0},{"$f":"IF($CJ21=0,0,ROUND(CK21/$CJ21,2)*100)","v":0},{"$f":"IF($CJ21=0,0,ROUND(CL21/$CJ21,2)*100)","v":0},{"$f":"IF($CJ21=0,0,ROUND(CM21/$CJ21,2)*100)","v":0},{"$f":"IF($CJ21=0,0,ROUND(CN21/$CJ21,2)*100)","v":0},{"$f":"IF($CJ21=0,0,ROUND(CO21/$CJ21,2)*100)","v":0},{"$f":"IF(CK21=0,\"\",CP21)","v":""},{"$f":"IF(CL21=0,\"\",CQ21)","v":""},{"$f":"IF(CM21=0,\"\",CR21)","v":""},{"$f":"IF(CN21=0,\"\",CS21)","v":""},{"$f":"IF(CO21=0,\"\",CT21)","v":""},null,null,{"$f":"'Daten SR'!A18","v":"22 YOU"},{"$f":"'Daten SR'!AF18","v":0},{"$f":"'Daten SR'!AI18","v":0},"-",{"$f":"'Daten SR'!AH18","v":0},"-",{"$f":"'Daten SR'!AG18","v":0},"-","-","-",null,null,{"$f":"'Daten A2'!A19","v":"22 YOU"},{"$f":"'Daten A2'!AD19","v":0},{"$f":"'Daten A2'!AG19","v":0},"-",{"$f":"'Daten A2'!AF19","v":0},"-",{"$f":"IF($DJ22=0,\"-\",'Daten A2'!AE19)","v":"-"},null,null,{"$f":"'Daten A2'!A19","v":"22 YOU"},{"$f":"'Daten A2'!Z19","v":0},{"$f":"'Daten A2'!AC19","v":0},"-",{"$f":"'Daten A2'!AB19","v":0},"-",{"$f":"IF($DS22=0,\"-\",'Daten A2'!AA19)","v":"-"}]
[null,null,null,null,null,null,null,null,null,null,null,null,null,null,null,null,null,null,null,null,null,null,null,null,null,null,null,null,null,null,null,"K1-Attacks after R#+",null,null,null,null,null,"∑","∑ %",null,"=","= %",null,"#","# %",null,"Eff",null,null,null,null,null,null,null,null,null,null,null,null,null,null,null,null,null,null,null,null,null,null,null,null,null,null,null,null,null,null,null,null,null,null,null,null,null,null,null,null,null,null,null,null,null,null,null,null,null,null,null,null,null,{"$f":"'Daten SR'!A19","v":"25 OH"},{"$f":"'Daten SR'!AF19","v":0},{"$f":"'Daten SR'!AI19","v":0},"-",{"$f":"'Daten SR'!AH19","v":0},"-",{"$f":"'Daten SR'!AG19","v":0},"-","-","-",null,null,{"$f":"'Daten A2'!A20","v":"25 OH"},{"$f":"'Daten A2'!AD20","v":0},{"$f":"'Daten A2'!AG20","v":0},"-",{"$f":"'Daten A2'!AF20","v":0},"-",{"$f":"IF($DJ23=0,\"-\",'Daten A2'!AE20)","v":"-"},null,null,{"$f":"'Daten A2'!A20","v":"25 OH"},{"$f":"'Daten A2'!Z20","v":0},{"$f":"'Daten A2'!AC20","v":0},"-",{"$f":"'Daten A2'!AB20","v":0},"-",{"$f":"IF($DS23=0,\"-\",'Daten A2'!AA20)","v":"-"}]
[null,null,null,null,null,null,null,null,null,null,null,null,null,null,null,null,null,null,null,null,null,null,null,null,null,null,null,null,null,null,null,{"$f":"DI33","v":"KOREA"},null,null,null,null,null,{"$f":"DJ33","v":6},{"$f":"AL24/$AL$24","v":1},null,{"$f":"DK33","v":0},{"$f":"DL33","v":0},null,{"$f":"DM33","v":5},{"$f":"DN33","v":0.83333333333333337},null,{"$f":"DO33","v":"83%"},null,null,null,null,null,null,null,null,null,null,null,null,null,null,null,null,null,null,null,null,null,null,null,null,null,null,null,null,null,null,null,null,null,null,null,null,null,null,null,null,null,null,null,null,null,null,null,null,null,null,null,null,null,{"$f":"'Daten SR'!A20","v":0},{"$f":"'Daten SR'!AF20","v":0},{"$f":"'Daten SR'!AI20","v":0},"-",{"$f":"'Daten SR'!AH20","v":0},"-",{"$f":"'Daten SR'!AG20","v":0},"-","-","-",null,null,{"$f":"'Daten A2'!A21","v":0},{"$f":"'Daten A2'!AD21","v":0},{"$f":"'Daten A2'!AG21","v":0},"-",{"$f":"'Daten A2'!AF21","v":0},"-",{"$f":"IF($DJ24=0,\"-\",'Daten A2'!AE21)","v":"-"},null,null,{"$f":"'Daten A2'!A21","v":0},{"$f":"'Daten A2'!Z21","v":0},{"$f":"'Daten A2'!AC21","v":0},"-",{"$f":"'Daten A2'!AB21","v":0},"-",{"$f":"IF($DS24=0,\"-\",'Daten A2'!AA21)","v":"-"}]
[null,null,null,null,null,null,null,null,null,null,null,null,null,null,null,null,null,null,null,null,null,null,null,null,null,null,null,null,null,null,null,{"$f":"DI34","v":"4 SHIN"},null,null,null,null,null,{"$f":"DJ34","v":2},{"$f":"AL25/$AL$24","v":0.33333333333333331},null,{"$f":"DK34","v":0},0,null,{"$f":"DM34","v":2},1,null,{"$f":"DO34","v":"100%"},null,null,null,null,null,null,null,null,null,null,null,null,null,null,null,null,{"$f":"\"Base \"&Options!$S10","v":"Base KD"},null,null,null,null,null,null,null,null,null,null,null,{"$f":"\"Base \"&Options!$S10","v":"Base KD"},null,null,null,null,null,null,null,null,null,null,null,{"$f":"\"Base \"&Options!$S10","v":"Base KD"},null,null,null,null,null,null,null,null,null,null,null,null,{"$f":"'Daten SR'!A21","v":0},{"$f":"'Daten SR'!AF21","v":0},{"$f":"'Daten SR'!AI21","v":0},"-",{"$f":"'Daten SR'!AH21","v":0},"-",{"$f":"'Daten SR'!AG21","v":0},"-","-","-",null,null,{"$f":"'Daten A2'!A22","v":0},{"$f":"'Daten A2'!AD22","v":0},{"$f":"'Daten A2'!AG22","v":0},"-",{"$f":"'Daten A2'!AF22","v":0},"-",{"$f":"IF($DJ25=0,\"-\",'Daten A2'!AE22)","v":"-"},null,null,{"$f":"'Daten A2'!A22","v":0},{"$f":"'Daten A2'!Z22","v":0},{"$f":"'Daten A2'!AC22","v":0},"-",{"$f":"'Daten A2'!AB22","v":0},"-",{"$f":"IF($DS25=0,\"-\",'Daten A2'!AA22)","v":"-"}]
[null,null,null,null,null,null,null,null,null,null,null,null,null,null,null,null,null,null,null,null,null,null,null,null,null,null,null,null,null,null,null,"9 KWAK",null,null,null,null,null,2,0.33333333333333331,null,0,0,null,1,0.5,null,"50%",null,null,null,null,null,null,null,null,null,null,null,null,null,null,null,null,{"$f":"Daten!E29","v":"KD"},{"$f":"Daten!AJ29","v":"P4"},{"$f":"Daten!AK29","v":"SA"},{"$f":"Daten!AL29","v":"H6"},{"$f":"Daten!AM29","v":"P2"},{"$f":"Daten!AN29","v":"H1"},{"$f":"Daten!AO29","v":"P4-E"},{"$f":"Daten!AP29","v":"SA-E"},{"$f":"Daten!AQ29","v":"H6-E"},{"$f":"Daten!AR29","v":"P2-E"},{"$f":"Daten!AS29","v":"H1-E"},null,{"$f":"Daten!E37","v":"KD"},{"$f":"Daten!AJ37","v":"P4"},{"$f":"Daten!AK37","v":"SA"},{"$f":"Daten!AL37","v":"H6"},{"$f":"Daten!AM37","v":"P2"},{"$f":"Daten!AN37","v":"H1"},{"$f":"Daten!AO37","v":"P4-E"},{"$f":"Daten!AP37","v":"SA-E"},{"$f":"Daten!AQ37","v":"H6-E"},{"$f":"Daten!AR37","v":"P2-E"},{"$f":"Daten!AS37","v":"H1-E"},null,{"$f":"Daten!E45","v":"KD"},{"$f":"Daten!AJ45","v":"P4"},{"$f":"Daten!AK45","v":"SA"},{"$f":"Daten!AL45","v":"H6"},{"$f":"Daten!AM45","v":"P2"},{"$f":"Daten!AN45","v":"H1"},{"$f":"Daten!AO45","v":"P4-E"},{"$f":"Daten!AP45","v":"SA-E"},{"$f":"Daten!AQ45","v":"H6-E"},{"$f":"Daten!AR45","v":"P2-E"},{"$f":"Daten!AS45","v":"H1-E"},null,null,{"$f":"'Daten SR'!A22","v":0},{"$f":"'Daten SR'!AF22","v":0},{"$f":"'Daten SR'!AI22","v":0},"-",{"$f":"'Daten SR'!AH22","v":0},"-",{"$f":"'Daten SR'!AG22","v":0},"-","-","-",null,null,{"$f":"'Daten A2'!A23","v":0},{"$f":"'Daten A2'!AD23","v":0},{"$f":"'Daten A2'!AG23","v":0},"-",{"$f":"'Daten A2'!AF23","v":0},"-",{"$f":"IF($DJ26=0,\"-\",'Daten A2'!AE23)","v":"-"},null,null,{"$f":"'Daten A2'!A23","v":0},{"$f":"'Daten A2'!Z23","v":0},{"$f":"'Daten A2'!AC23","v":0},"-",{"$f":"'Daten A2'!AB23","v":0},"-",{"$f":"IF($DS26=0,\"-\",'Daten A2'!AA23)","v":"-"}]
[null,null,null,null,null,null,null,null,null,null,null,null,null,null,null,null,null,null,null,null,null,null,null,null,null,null,null,null,null,null,null,"1 SONG",null,null,null,null,null,1,0.16666666666666666,null,0,0,null,1,1,null,"100%",null,null,null,null,null,null,null,null,null,null,null,null,null,null,null,null,{"$f":"Daten!E33","v":0},{"$f":"Daten!AJ33","v":0},{"$f":"Daten!AK33","v":0},{"$f":"Daten!AL33","v":0},{"$f":"Daten!AM33","v":0},{"$f":"Daten!AN33","v":0},{"$f":"Daten!AO33","v":"0%"},{"$f":"Daten!AP33","v":"0%"},{"$f":"Daten!AQ33","v":"0%"},{"$f":"Daten!AR33","v":"0%"},{"$f":"Daten!AS33","v":"0%"},null,{"$f":"Daten!E41","v":0},{"$f":"Daten!AJ41","v":0},{"$f":"Daten!AK41","v":0},{"$f":"Daten!AL41","v":0},{"$f":"Daten!AM41","v":0},{"$f":"Daten!AN41","v":0},{"$f":"Daten!AO41","v":"0%"},{"$f":"Daten!AP41","v":"0%"},{"$f":"Daten!AQ41","v":"0%"},{"$f":"Daten!AR41","v":"0%"},{"$f":"Daten!AS41","v":"0%"},null,{"$f":"Daten!E49","v":0},{"$f":"Daten!AJ49","v":0},{"$f":"Daten!AK49","v":0},{"$f":"Daten!AL49","v":0},{"$f":"Daten!AM49","v":0},{"$f":"Daten!AN49","v":0},{"$f":"Daten!AO49","v":"0%"},{"$f":"Daten!AP49","v":"0%"},{"$f":"Daten!AQ49","v":"0%"},{"$f":"Daten!AR49","v":"0%"},{"$f":"Daten!AS49","v":"0%"},null,null,{"$f":"'Daten SR'!A23","v":0},{"$f":"'Daten SR'!AF23","v":0},{"$f":"'Daten SR'!AI23","v":0},"-",{"$f":"'Daten SR'!AH23","v":0},"-",{"$f":"'Daten SR'!AG23","v":0},"-","-","-",null,null,{"$f":"'Daten A2'!A24","v":0},{"$f":"'Daten A2'!AD24","v":0},{"$f":"'Daten A2'!AG24","v":0},"-",{"$f":"'Daten A2'!AF24","v":0},"-",{"$f":"IF($DJ27=0,\"-\",'Daten A2'!AE24)","v":"-"},null,null,{"$f":"'Daten A2'!A24","v":0},{"$f":"'Daten A2'!Z24","v":0},{"$f":"'Daten A2'!AC24","v":0},"-",{"$f":"'Daten A2'!AB24","v":0},"-",{"$f":"IF($DS27=0,\"-\",'Daten A2'!AA24)","v":"-"}]
[null,null,null,null,null,null,null,null,null,null,null,null,null,null,null,null,null,null,null,null,null,null,null,null,null,null,null,null,null,null,null,"17 SEO",null,null,null,null,null,1,0.16666666666666666,null,0,0,null,1,1,null,"100%",null,null,null,null,null,null,null,null,null,null,null,null,null,null,null,null,{"$f":"IF(BL27=0,0,ROUND(BL27/(BL9+BL15+BL21+BL27),2)*100)","v":0},{"$f":"IF($BL27=0,0,ROUND(BM27/$BL27,2)*100)","v":0},{"$f":"IF($BL27=0,0,ROUND(BN27/$BL27,2)*100)","v":0},{"$f":"IF($BL27=0,0,ROUND(BO27/$BL27,2)*100)","v":0},{"$f":"IF($BL27=0,0,ROUND(BP27/$BL27,2)*100)","v":0},{"$f":"IF($BL27=0,0,ROUND(BQ27/$BL27,2)*100)","v":0},{"$f":"IF(BM27=0,\"\",BR27)","v":""},{"$f":"IF(BN27=0,\"\",BS27)","v":""},{"$f":"IF(BO27=0,\"\",BT27)","v":""},{"$f":"IF(BP27=0,\"\",BU27)","v":""},{"$f":"IF(BQ27=0,\"\",BV27)","v":""},null,{"$f":"IF(BX27=0,0,ROUND(BX27/($BL9+$BL15+$BL21+$BL27),2)*100)","v":0},{"$f":"IF($BX27=0,0,ROUND(BY27/$BX27,2)*100)","v":0},{"$f":"IF($BX27=0,0,ROUND(BZ27/$BX27,2)*100)","v":0},{"$f":"IF($BX27=0,0,ROUND(CA27/$BX27,2)*100)","v":0},{"$f":"IF($BX27=0,0,ROUND(CB27/$BX27,2)*100)","v":0},{"$f":"IF($BX27=0,0,ROUND(CC27/$BX27,2)*100)","v":0},{"$f":"IF(BY27=0,\"\",CD27)","v":""},{"$f":"IF(BZ27=0,\"\",CE27)","v":""},{"$f":"IF(CA27=0,\"\",CF27)","v":""},{"$f":"IF(CB27=0,\"\",CG27)","v":""},{"$f":"IF(CC27=0,\"\",CH27)","v":""},null,{"$f":"IF(CJ27=0,0,ROUND(CJ27/(CJ9+CJ15+CJ21+CJ27),2)*100)","v":0},{"$f":"IF($CJ27=0,0,ROUND(CK27/$CJ27,2)*100)","v":0},{"$f":"IF($CJ27=0,0,ROUND(CL27/$CJ27,2)*100)","v":0},{"$f":"IF($CJ27=0,0,ROUND(CM27/$CJ27,2)*100)","v":0},{"$f":"IF($CJ27=0,0,ROUND(CN27/$CJ27,2)*100)","v":0},{"$f":"IF($CJ27=0,0,ROUND(CO27/$CJ27,2)*100)","v":0},{"$f":"IF(CK27=0,\"\",CP27)","v":""},{"$f":"IF(CL27=0,\"\",CQ27)","v":""},{"$f":"IF(CM27=0,\"\",CR27)","v":""},{"$f":"IF(CN27=0,\"\",CS27)","v":""},{"$f":"IF(CO27=0,\"\",CT27)","v":""},null,null,{"$f":"'Daten SR'!A24","v":0},{"$f":"'Daten SR'!AF24","v":0},{"$f":"'Daten SR'!AI24","v":0},"-",{"$f":"'Daten SR'!AH24","v":0},"-",{"$f":"'Daten SR'!AG24","v":0},"-","-","-",null,null,{"$f":"'Daten A2'!A25","v":0},{"$f":"'Daten A2'!AD25","v":0},{"$f":"'Daten A2'!AG25","v":0},"-",{"$f":"'Daten A2'!AF25","v":0},"-",{"$f":"IF($DJ28=0,\"-\",'Daten A2'!AE25)","v":"-"},null,null,{"$f":"'Daten A2'!A25","v":0},{"$f":"'Daten A2'!Z25","v":0},{"$f":"'Daten A2'!AC25","v":0},"-",{"$f":"'Daten A2'!AB25","v":0},"-",{"$f":"IF($DS28=0,\"-\",'Daten A2'!AA25)","v":"-"}]
[null,null,null,null,null,null,null,null,null,null,null,null,null,null,null,null,null,null,null,null,null,null,null,null,null,null,null,null,null,null,null,"6 LEE",null,null,null,null,null,0,0,null,0,"-",null,0,"-",null,"-"]
[null,null,null,null,null,null,null,null,null,null,null,null,null,null,null,null,null,null,null,null,null,null,null,null,null,null,null,null,null,null,null,"8 PARK",null,null,null,null,null,0,0,null,0,"-",null,0,"-",null,"-"]
[null,null,null,null,null,null,null,null,null,null,null,null,null,null,null,null,null,null,null,null,null,null,null,null,null,null,null,null,null,null,null,"11 CHOI",null,null,null,null,null,0,0,null,0,"-",null,0,"-",null,"-"]
[]
[null,null,"Rec in Pos 1",null,null,null,null,{"$f":"CI35&\" % (\"&BL35&\")\"","v":"0 % (0)"},null,null,null,"Rec in Pos 6",null,null,null,null,{"$f":"CI36&\" % (\"&BL36&\")\"","v":"83 % (5)"},null,null,null,"Rec in Pos 5",null,null,null,null,{"$f":"CI37&\" % (\"&BL37&\")\"","v":"17 % (1)"},null,null,null,null,null,"K2-Attacks - Transition",null,null,null,null,null,"∑","∑ %",null,"=","= %",null,"#","# %",null,"Eff",null,null,null,null,null,null,null,null,null,null,null,null,null,null,null,"Attack depending on R Position",null,null,null,null,null,null,null,null,null,null,null,null,null,null,null,null,null,null,null,null,null,null,null,null,null,null,null,null,null,null,null,null,null,null,null,null,null,"KOREA",10,0,0,3,0.3,3,0.3,0.6,0.6,null,null,"KOREA",6,0,0,5,0.83333333333333337,"83%",null,null,"KOREA",2,0,0,1,0.5,"0%"]
[null,null,null,null,null,null,null,null,null,null,null,null,null,null,null,null,null,null,null,null,null,null,null,null,null,null,null,null,null,null,null,{"$f":"DR33","v":"KOREA"},null,null,null,null,null,{"$f":"DS33","v":2},{"$f":"AL34/$AL$34","v":1},null,{"$f":"DT33","v":0},{"$f":"DU33","v":0},null,{"$f":"DV33","v":1},{"$f":"DW33","v":0.5},null,{"$f":"DX33","v":"0%"},null,null,null,null,null,null,null,null,null,null,null,null,null,null,null,null,{"$f":"Daten!B55","v":"alle"},{"$f":"Daten!C55","v":"P4"},{"$f":"Daten!D55","v":"X"},{"$f":"Daten!E55","v":4},{"$f":"Daten!F55","v":1},{"$f":"Daten!G55","v":"Set"},{"$f":"Daten!H55","v":3},{"$f":"Daten!I55","v":"OF"},{"$f":"Daten!J55","v":"P2"},{"$f":"Daten!K55","v":"HF6"},{"$f":"Daten!L55","v":"HF1"},null,null,{"$f":"Daten!C55","v":"P4"},{"$f":"Daten!D55","v":"X"},{"$f":"Daten!E55","v":4},{"$f":"Daten!F55","v":1},{"$f":"Daten!G55","v":"Set"},{"$f":"Daten!H55","v":3},{"$f":"Daten!I55","v":"OF"},{"$f":"Daten!J55","v":"P2"},{"$f":"Daten!K55","v":"HF6"},{"$f":"Daten!L55","v":"HF1"},null,null,null,null,null,null,null,null,null,null,null,null,null,null,"19 JEONG",4,0,0,1,0.25,0,0,0.25,0.25,null,null,"4 SHIN",2,0,0,2,1,"100%",null,null,"9 KWAK",1,0,0,0,0,"-100%"]
[null,null,null,null,null,null,null,null,null,null,null,null,null,null,null,null,null,null,null,null,null,null,null,null,null,null,null,null,null,null,null,{"$f":"DR34","v":"9 KWAK"},null,null,null,null,null,{"$f":"DS34","v":1},{"$f":"AL35/$AL$34","v":0.5},null,{"$f":"DT34","v":0},0,null,{"$f":"DV34","v":0},0,null,{"$f":"DX34","v":"-100%"},null,null,null,null,null," ",null,null,null,null,null,null,null,null,null,"R1",{"$f":"Daten!B59","v":0},{"$f":"Daten!C59","v":0},{"$f":"Daten!D59","v":0},{"$f":"Daten!E59","v":0},{"$f":"Daten!F59","v":0},{"$f":"Daten!G59","v":0},{"$f":"Daten!H59","v":0},{"$f":"Daten!I59","v":0},{"$f":"Daten!J59","v":0},{"$f":"Daten!K59","v":0},{"$f":"Daten!L59","v":0},null,"R1",{"$f":"IF($BL35=0,0,ROUND(BM35/$BL35,2)*100)","v":0},0,0,0,0,0,0,0,0,0,{"$f":"IF(BL35=0,0,ROUND(BL35/$BL$41,2)*100)","v":0},null,null,null,null,null,null,null,null,null,null,null,null,null,"9 KWAK",3,0,0,1,0.33333333333333331,2,0.66666666666666663,1,1,null,null,"9 KWAK",2,0,0,1,0.5,"50%",null,null,"16 CHOI",1,0,0,1,1,"100%"]
[null,null,null,null,null,null,null,null,null,null,null,null,null,null,null,null,null,null,null,null,null,null,null,null,null,null,null,null,null,null,null,{"$f":"DR35","v":"16 CHOI"},null,null,null,null,null,1,0.5,null,0,0,null,1,1,null,"100%",null,null,null,null,null,null,null,null,null,null,null,null,null,null,null,"R6",{"$f":"Daten!M59","v":5},{"$f":"Daten!N59","v":2},{"$f":"Daten!O59","v":0},{"$f":"Daten!P59","v":0},{"$f":"Daten!Q59","v":1},{"$f":"Daten!R59","v":0},{"$f":"Daten!S59","v":0},{"$f":"Daten!T59","v":0},{"$f":"Daten!U59","v":0},{"$f":"Daten!V59","v":1},{"$f":"Daten!W59","v":1},null,"R6",40,0,0,20,0,0,0,0,20,20,83,null,null,null,null,null,null,null,null,null,null,null,null,null,"14 SONG",2,0,0,0,0,1,0.5,0.5,0.5,null,null,"1 SONG",1,0,0,1,1,"100%",null,null,"1 SONG",0,0,"-",0,"-","-"]
[null,null,null,null,null,null,null,null,null,null,null,null,null,null,null,null,null,null,null,null,null,null,null,null,null,null,null,null,null,null,null,"1 SONG",null,null,null,null,null,0,0,null,0,"-",null,0,"-",null,"-",null,null,null,null,null,null,null,null,null,null,null,null,null,null,null,"R5",{"$f":"Daten!X59","v":1},{"$f":"Daten!Y59","v":0},{"$f":"Daten!Z59","v":0},{"$f":"Daten!AA59","v":0},{"$f":"Daten!AB59","v":1},{"$f":"Daten!AC59","v":0},{"$f":"Daten!AD59","v":0},{"$f":"Daten!AE59","v":0},{"$f":"Daten!AF59","v":0},{"$f":"Daten!AG59","v":0},{"$f":"Daten!AH59","v":0},null,"R5",0,0,0,100,0,0,0,0,0,0,17,null,null,null,null,null,null,null,null,null,null,null,null,null,"1 SONG",1,0,0,1,1,0,0,1,1,null,null,"17 SEO",1,0,0,1,1,"100%",null,null,"4 SHIN",0,0,"-",0,"-","-"]
[null,null,null,null,null,null,null,null,null,null,null,null,null,null,null,null,null,null,null,null,null,null,null,null,null,null,null,null,null,null,null,"4 SHIN",null,null,null,null,null,0,0,null,0,"-",null,0,"-",null,"-",null,null,null,null,null,null,null,null,null,null,null,null,null,null,null,"R4",{"$f":"Daten!X66","v":0},{"$f":"Daten!Y66","v":0},{"$f":"Daten!Z66","v":0},{"$f":"Daten!AA66","v":0},{"$f":"Daten!AB66","v":0},{"$f":"Daten!AC66","v":0},{"$f":"Daten!AD66","v":0},{"$f":"Daten!AE66","v":0},{"$f":"Daten!AF66","v":0},{"$f":"Daten!AG66","v":0},{"$f":"Daten!AH66","v":0},null,"R4",0,0,0,0,0,0,0,0,0,0,0,null,null,null,null,null,null,null,null,null,null,null,null,null,"4 SHIN",0,0,"-",0,"-",0,"-","-","-",null,null,"6 LEE",0,0,"-",0,"-","-",null,null,"6 LEE",0,0,"-",0,"-","-"]
[null,null,"Rec in Pos 2",null,null,null,null,{"$f":"CI40&\" % (\"&BL40&\")\"","v":"0 % (0)"},null,null,null,"Rec in Pos 3",null,null,null,null,null,{"$f":"CI39&\" % (\"&BL39&\")\"","v":"0 % (0)"},null,null,"Rec in Pos 4",null,null,null,null,{"$f":"CI38&\" % (\"&BL38&\")\"","v":"0 % (0)"},null,null,null,null,null,"6 LEE",null,null,null,null,null,0,0,null,0,"-",null,0,"-",null,"-",null,null,null,null,null,null,null,null,null,null,null,null,null,null,null,"R3",{"$f":"Daten!M66","v":0},{"$f":"Daten!N66","v":0},{"$f":"Daten!O66","v":0},{"$f":"Daten!P66","v":0},{"$f":"Daten!Q66","v":0},{"$f":"Daten!R66","v":0},{"$f":"Daten!S66","v":0},{"$f":"Daten!T66","v":0},{"$f":"Daten!U66","v":0},{"$f":"Daten!V66","v":0},{"$f":"Daten!W66","v":0},null,"R3",0,0,0,0,0,0,0,0,0,0,0,null,null,null,null,null,null,null,null,null,null,null,null,null,"6 LEE",0,0,"-",0,"-",0,"-","-","-",null,null,"8 PARK",0,0,"-",0,"-","-",null,null,"8 PARK",0,0,"-",0,"-","-"]
[null,null,null,null,null,null,null,null,null,null,null,null,null,null,null,null,null,null,null,null,null,null,null,null,null,null,null,null,null,null,null,"8 PARK",null,null,null,null,null,0,0,null,0,"-",null,0,"-",null,"-",null,null,null,null,null,null,null,null,null,null,null,null,null,null,null,"R2",{"$f":"Daten!B66","v":0},{"$f":"Daten!C66","v":0},{"$f":"Daten!D66","v":0},{"$f":"Daten!E66","v":0},{"$f":"Daten!F66","v":0},{"$f":"Daten!G66","v":0},{"$f":"Daten!H66","v":0},{"$f":"Daten!I66","v":0},{"$f":"Daten!J66","v":0},{"$f":"Daten!K66","v":0},{"$f":"Daten!L66","v":0},null,"R2",0,0,0,0,0,0,0,0,0,0,0,null,null,null,null,null,null,null,null,null,null,null,null,null,"8 PARK",0,0,"-",0,"-",0,"-","-","-",null,null,"11 CHOI",0,0,"-",0,"-","-",null,null,"11 CHOI",0,0,"-",0,"-","-"]
[null,null,null,null,null,null,null,null,null,null,null,null,null,null,null,null,null,null,null,null,null,null,null,null,null,null,null,null,null,null,null,"11 CHOI",null,null,null,null,null,0,0,null,0,"-",null,0,"-",null,"-",null,null,null,null,null,null,null,null,null,null,null,null,null,null,null,null,{"$f":"SUM(BL35:BL40)","v":6},null,null,null,null,null,null,null,null,null,null,null,null,null,null,null,null,null,null,null,null,null,null,null,null,null,null,null,null,null,null,null,null,null,null,null,null,"11 CHOI",0,0,"-",0,"-",0,"-","-","-",null,null,"12 JEON",0,0,"-",0,"-","-",null,null,"12 JEON",0,0,"-",0,"-","-"]
[null,null,null,null,null,null,null,null,null,null,null,null,null,null,null,null,null,null,null,null,null,null,null,null,null,null,null,null,null,null,null,null,null,null,null,null,null,null,null,null,null,null,null,null,null,null,null,null,null,null,null,null,null,null,null,null,null,null,null,null,null,null,null,null,null,null,null,null,null,null,null,null,null,null,null,null,null,null,null,null,null,null,null,null,null,null,null,null,null,null,null,null,null,null,null,null,null,null,null,null,"12 JEON",0,0,"-",0,"-",0,"-","-","-",null,null,"14 SONG",0,0,"-",0,"-","-",null,null,"14 SONG",0,0,"-",0,"-","-"]
[null,null,null,null,null,null,null,null,null,null,null,null,null,null,null,null,null,null,null,null,null,null,null,null,null,null,null,null,null,null,null,null,null,null,null,null,null,null,null,null,null,null,null,null,null,null,null,null,null,null,null,null,null,null,null,null,null,null,null,null,null,null,null,null,null,null,null,null,null,null,null,null,null,null,null,null,null,null,null,null,null,null,null,null,null,null,null,null,null,null,null,null,null,null,null,null,null,null,null,null,"16 CHOI",0,0,"-",0,"-",0,"-","-","-",null,null,"16 CHOI",0,0,"-",0,"-","-",null,null,"17 SEO",0,0,"-",0,"-","-"]
[null,null,null,null,null,null,null,null,null,null,null,null,null,null,null,null,null,null,null,null,null,null,null,null,null,null,null,null,null,null,null,null,null,null,null,null,null,null,null,null,null,null,null,null,null,null,null,null,null,null,null,null,null,null,null,null,null,null,null,null,null,null,null,null,null,null,null,null,null,null,null,null,null,null,null,null,null,null,null,null,null,null,null,null,null,null,null,null,null,null,null,null,null,null,null,null,null,null,null,null,"17 SEO",0,0,"-",0,"-",0,"-","-","-",null,null,"19 JEONG",0,0,"-",0,"-","-",null,null,"19 JEONG",0,0,"-",0,"-","-"]
[null,null,null,null,null,null,null,null,null,null,null,null,null,null,null,null,null,null,null,null,null,null,null,null,null,null,null,null,null,null,null,null,null,null,null,null,null,null,null,null,null,null,null,null,null,null,null,null,null,null,null,null,null,null,null,null,null,null,null,null,null,null,null,null,null,null,null,null,null,null,null,null,null,null,null,null,null,null,null,null,null,null,null,null,null,null,null,null,null,null,null,null,null,null,null,null,null,null,null,null,"20 JI",0,0,"-",0,"-",0,"-","-","-",null,null,"20 JI",0,0,"-",0,"-","-",null,null,"20 JI",0,0,"-",0,"-","-"]
[null,null,"Settermovement to 4",null,null,null,null,null,null,{"$f":"BL48","v":0},null,"Settermovement to 3",null,null,null,null,null,{"$f":"BL49","v":6},null,null,"Settermovement to 2",null,null,null,null,null,{"$f":"BL50","v":0},null,null,null,null,null,null,null,null,null,null,null,null,null,null,null,null,null,null,null,null,null,null,null,null,null,null,null,null,null,null,null,null,null,null,null,"Settermovement",null,null,null,null,null,null,null,null,null,null,null,null,null,null,null,null,null,null,null,null,null,null,null,null,null,null,null,null,null,null,null,null,null,null,null,null,null,"22 YOU",0,0,"-",0,"-",0,"-","-","-",null,null,"22 YOU",0,0,"-",0,"-","-",null,null,"22 YOU",0,0,"-",0,"-","-"]
[null,null,null,null,null,null,null,null,null,null,null,null,null,null,null,null,null,null,null,null,null,null,null,null,null,null,null,null,null,null,null,null,null,null,null,null,null,null,null,null,null,null,null,null,null,null,null,null,null,null,null,null,null,null,null,null,null,null,null,null,null,null,null,{"$f":"Daten!X73","v":"alle"},{"$f":"Daten!Y73","v":"P4"},{"$f":"Daten!Z73","v":"X"},{"$f":"Daten!AA73","v":4},{"$f":"Daten!AB73","v":1},{"$f":"Daten!AC73","v":"Set"},{"$f":"Daten!AD73","v":3},{"$f":"Daten!AE73","v":"OF"},{"$f":"Daten!AF73","v":"P2"},{"$f":"Daten!AG73","v":"HF6"},{"$f":"Daten!AH73","v":"HF1"},null,null,{"$f":"Daten!Y73","v":"P4"},{"$f":"Daten!Z73","v":"X"},{"$f":"Daten!AA73","v":4},{"$f":"Daten!AB73","v":1},{"$f":"Daten!AC73","v":"Set"},{"$f":"Daten!AD73","v":3},{"$f":"Daten!AE73","v":"OF"},{"$f":"Daten!AF73","v":"P2"},{"$f":"Daten!AG73","v":"HF6"},{"$f":"Daten!AH73","v":"HF1"},null,null,null,null,null,null,null,null,null,null,null,null,null,null,"25 OH",0,0,"-",0,"-",0,"-","-","-",null,null,"25 OH",0,0,"-",0,"-","-",null,null,"25 OH",0,0,"-",0,"-","-"]
[null,null,null,null,null,null,null,null,null,null,null,null,null,null,null,null,null,null,null,null,null,null,null,null,null,null,null,null,null,null,null,null,null,null,null,null,null,null,null,null,null,null,null,null,null,null,null,null,null,null,null,null,null,null,null,null,null,null,null,null,null,null,"P4",{"$f":"Daten!X77","v":0},{"$f":"Daten!Y77","v":0},{"$f":"Daten!Z77","v":0},{"$f":"Daten!AA77","v":0},{"$f":"Daten!AB77","v":0},{"$f":"Daten!AC77","v":0},{"$f":"Daten!AD77","v":0},{"$f":"Daten!AE77","v":0},{"$f":"Daten!AF77","v":0},{"$f":"Daten!AG77","v":0},{"$f":"Daten!AH77","v":0},null,"P4",{"$f":"IF($BL48=0,0,ROUND(BM48/$BL48,2)*100)","v":0},0,0,0,0,0,0,0,0,0,null,null,null,null,null,null,null,null,null,null,null,null,null,null,0,0,0,"-",0,"-",0,"-","-","-",null,null,0,0,0,"-",0,"-","-",null,null,0,0,0,"-",0,"-","-"]
[null,null,null,null,null,null,null,null,null,null,null,null,null,null,null,null,null,null,null,null,null,null,null,null,null,null,null,null,null,null,null,null,null,null,null,null,null,null,null,null,null,null,null,null,null,null,null,null,null,null,null,null,null,null,null,null,null,null,null,null,null,null,"P3",{"$f":"Daten!M77","v":6},{"$f":"Daten!N77","v":2},{"$f":"Daten!O77","v":0},{"$f":"Daten!P77","v":0},{"$f":"Daten!Q77","v":2},{"$f":"Daten!R77","v":0},{"$f":"Daten!S77","v":0},{"$f":"Daten!T77","v":0},{"$f":"Daten!U77","v":0},{"$f":"Daten!V77","v":1},{"$f":"Daten!W77","v":1},null,"P3",33,0,0,33,0,0,0,0,17,17,null,null,null,null,null,null,null,null,null,null,null,null,null,null,0,0,0,"-",0,"-",0,"-","-","-",null,null,0,0,0,"-",0,"-","-",null,null,0,0,0,"-",0,"-","-"]
[null,null,null,null,null,null,null,null,null,null,null,null,null,null,null,null,null,null,null,null,null,null,null,null,null,null,null,null,null,null,null,null,null,null,null,null,null,null,null,null,null,null,null,null,null,null,null,null,null,null,null,null,null,null,null,null,null,null,null,null,null,null,"P2",{"$f":"Daten!B77","v":0},{"$f":"Daten!C77","v":0},{"$f":"Daten!D77","v":0},{"$f":"Daten!E77","v":0},{"$f":"Daten!F77","v":0},{"$f":"Daten!G77","v":0},{"$f":"Daten!H77","v":0},{"$f":"Daten!I77","v":0},{"$f":"Daten!J77","v":0},{"$f":"Daten!K77","v":0},{"$f":"Daten!L77","v":0},null,"P2",0,0,0,0,0,0,0,0,0,0,null,null,null,null,null,null,null,null,null,null,null,null,null,null,0,0,0,"-",0,"-",0,"-","-","-",null,null,0,0,0,"-",0,"-","-",null,null,0,0,0,"-",0,"-","-"]
[null,null,null,null,null,null,null,null,null,null,null,null,null,null,null,null,null,null,null,null,null,null,null,null,null,null,null,null,null,null,null,null,null,null,null,null,null,null,null,null,null,null,null,null,null,null,null,null,null,null,null,null,null,null,null,null,null,null,null,null,null,null,null,null,null,null,null,null,null,null,null,null,null,null,null,null,null,null,null,null,null,null,null,null,null,null,null,null,null,null,null,null,null,null,null,null,null,null,null,null,0,0,0,"-",0,"-",0,"-","-","-",null,null,0,0,0,"-",0,"-","-",null,null,0,0,0,"-",0,"-","-"]
[null,null,null,null,null,null,null,null,null,null,null,null,null,null,null,null,null,null,null,null,null,null,null,null,null,null,null,null,null,null,null,null,null,null,null,null,null,null,null,null,null,null,null,null,null,null,null,null,null,null,null,null,null,null,null,null,null,null,null,null,null,null,null,null,null,null,null,null,null,null,null,null,null,null,null,null,null,null,null,null,null,null,null,null,null,null,null,null,null,null,null,null,null,null,null,null,null,null,null,null,0,0,0,"-",0,"-",0,"-","-","-",null,null,0,0,0,"-",0,"-","-",null,null,0,0,0,"-",0,"-","-"]

{"sheet":"R 3","index":13,"n_rows":52,"n_cols":170,"rows_kept":52,"cut":false,"hidden":false,"merged":[[7,165,7,169],[7,160,7,164],[7,131,7,134],[7,135,7,139],[7,140,7,144],[7,145,7,149],[7,150,7,154],[7,155,7,159],[1,31,1,38],[4,31,4,34],[4,40,4,43],[4,49,4,52],[13,31,13,35],[45,62,45,73],[45,2,45,7],[45,9,45,10],[45,11,45,16],[45,17,45,19],[45,20,45,25],[45,26,45,28],[38,25,38,28],[32,2,32,5],[22,31,22,35],[32,7,32,10],[32,11,32,14],[32,31,32,35],[38,2,38,5],[38,7,38,10],[38,11,38,14],[38,17,38,19],[38,20,38,24],[12,63,12,73],[12,75,12,85],[12,87,12,97],[32,16,32,19],[32,20,32,24],[32,25,32,28],[18,63,18,73],[18,75,18,85],[18,87,18,97],[24,63,24,73],[24,75,24,85],[24,87,24,97],[32,62,32,73],[1,9,1,28],[6,63,6,73],[6,75,6,85],[6,87,6,97],[1,2,1,6],[4,2,4,4],[4,5,4,7],[4,9,4,11],[4,12,4,14],[4,16,4,18],[4,19,4,21],[4,23,4,25],[4,26,4,28],[4,63,4,73],[4,75,4,85],[4,87,4,97]]}
[]
[null,null,"Rotation 3",null,null,null,null,null,null,{"$f":"Daten!A3","v":"KOREA"},null,null,null,null,null,null,null,null,null,null,null,null,null,null,null,null,null,null,null,null,null,"Distribution"]
[]
[]
[null,null,{"$f":"\"Base \"&Options!S7","v":"Base K1"},null,null,{"$f":"BL10&\" % (\"&BL9&\")\"","v":"29 % (2)"},null,null,null,{"$f":"\"Base \"&Options!S8","v":"Base K2"},null,null,{"$f":"BL16&\" % (\"&BL15&\")\"","v":"71 % (5)"},null,null,null,{"$f":"\"Base \"&Options!S9","v":"Base K7"},null,null,{"$f":"BL22&\" % (\"&BL21&\")\"","v":"0 % (0)"},null,null,null,{"$f":"\"Base \"&Options!S10","v":"Base KD"},null,null,{"$f":"BL28&\" % (\"&BL27&\")\"","v":"0 % (0)"},null,null,null,null,"K1 after all R",null,null,null,{"$f":"EB10","v":8},null,{"$f":"EC10","v":"38%"},{"$f":"EE10","v":0.625},null,"K1 after R#+",null,null,null,{"$f":"EB11","v":6},null,{"$f":"EC11","v":"50%"},{"$f":"EE11","v":0.66666666666666663},null,"K2 Transition",null,null,null,{"$f":"EB12","v":1},null,{"$f":"EC12","v":"-100%"},{"$f":"EE12","v":0},null,null,null,null,null,null,"alle Punkte",null,null,null,null,null,null,null,null,null,null,null,"0-20",null,null,null,null,null,null,null,null,null,null,null,"20-x"]
[]
[null,null,null,null,null,null,null,null,null,null,null,null,null,null,null,null,null,null,null,null,null,null,null,null,null,null,null,null,null,null,null,null,null,null,null,null,null,null,null,null,null,null,null,null,null,null,null,null,null,null,null,null,null,null,null,null,null,null,null,null,null,null,null,{"$f":"\"Base \"&Options!$S7","v":"Base K1"},null,null,null,null,null,null,null,null,null,null,null,{"$f":"\"Base \"&Options!$S7","v":"Base K1"},null,null,null,null,null,null,null,null,null,null,null,{"$f":"\"Base \"&Options!$S7","v":"Base K1"},null,null,null,null,null,null,null,null,null,null,null,null,"Reception",null,null,null,null,null,null,null,null,null,null,null,"K1 after R#+",null,null,null,null,null,null,null,null,"K2 Transition",null,null,null,null,null,null,null,null,"Distribution"]
[null,null,null,null,null,null,null,null,null,null,null,null,null,null,null,null,null,null,null,null,null,null,null,null,null,null,null,null,null,null,null,null,null,null,null,null,null,null,null,null,null,null,null,null,null,null,null,null,null,null,null,null,null,null,null,null,null,null,null,null,null,null,null,{"$f":"Daten!B29","v":"K1"},{"$f":"Daten!F29","v":"P4"},{"$f":"Daten!G29","v":"SA"},{"$f":"Daten!H29","v":"H6"},{"$f":"Daten!I29","v":"P2"},{"$f":"Daten!J29","v":"H1"},{"$f":"Daten!K29","v":"P4-E"},{"$f":"Daten!L29","v":"SA-E"},{"$f":"Daten!M29","v":"H6-E"},{"$f":"Daten!N29","v":"P2-E"},{"$f":"Daten!O29","v":"H1-E"},null,{"$f":"Daten!B37","v":"K1"},{"$f":"Daten!F37","v":"P4"},{"$f":"Daten!G37","v":"SA"},{"$f":"Daten!H37","v":"H6"},{"$f":"Daten!I37","v":"P2"},{"$f":"Daten!J37","v":"H1"},{"$f":"Daten!K37","v":"P4-E"},{"$f":"Daten!L37","v":"SA-E"},{"$f":"Daten!M37","v":"H6-E"},{"$f":"Daten!N37","v":"P2-E"},{"$f":"Daten!O37","v":"H1-E"},null,{"$f":"Daten!B45","v":"K1"},{"$f":"Daten!F45","v":"P4"},{"$f":"Daten!G45","v":"SA"},{"$f":"Daten!H45","v":"H6"},{"$f":"Daten!I45","v":"P2"},{"$f":"Daten!J45","v":"H1"},{"$f":"Daten!K45","v":"P4-E"},{"$f":"Daten!L45","v":"SA-E"},{"$f":"Daten!M45","v":"H6-E"},{"$f":"Daten!N45","v":"P2-E"},{"$f":"Daten!O45","v":"H1-E"},null,null,null,{"$f":"'Daten SR'!AJ4","v":"R 3"},{"$f":"'Daten SR'!AM4","v":"R 3/="},{"$f":"CY8&\"%\"","v":"R 3/=%"},{"$f":"'Daten SR'!AL4","v":"R 3+"},{"$f":"DA8&\"%\"","v":"R 3+%"},{"$f":"'Daten SR'!AK4","v":"R 3#"},{"$f":"DC8&\"%\"","v":"R 3#%"},{"$f":"DA8&\"#%\"","v":"R 3+#%"},{"$f":"CX8&\" Eff\"","v":"R 3 Eff"},null,null,null,{"$f":"'Daten A2'!N5","v":"A"},{"$f":"'Daten A2'!Q5","v":"A="},{"$f":"DK8&\"%\"","v":"A=%"},{"$f":"'Daten A2'!P5","v":"A#"},{"$f":"DM8&\"%\"","v":"A#%"},{"$f":"'Daten A2'!O5","v":"Eff"},null,null,null,{"$f":"'Daten A2'!J5","v":"A"},{"$f":"'Daten A2'!M5","v":"A="},{"$f":"DT8&\"%\"","v":"A=%"},{"$f":"'Daten A2'!L5","v":"A#"},{"$f":"DV8&\"%\"","v":"A#%"},{"$f":"'Daten A2'!K5","v":"Eff"},null,null,null,"alle",null,null,null,"Pos2",null,null,null,null,"Pos3",null,null,null,null,"Pos4",null,null,null,null,"Pos9",null,null,null,null,"Pos8",null,null,null,null,"Pos7",null,null,null,null,"PosS"]
[null,null,null,null,null,null,null,null,null,null,null,null,null,null,null,null,null,null,null,null,null,null,null,null,null,null,null,null,null,null,null,{"$f":"EU10","v":3},{"$f":"EV10","v":0.375},null,{"$f":"EZ10","v":0},{"$f":"FA10","v":"-"},null,{"$f":"FE10","v":0},{"$f":"FF10","v":"-"},null,{"$f":"EU11","v":1},{"$f":"EV11","v":0.16666666666666666},null,{"$f":"EZ11","v":0},{"$f":"FA11","v":"-"},null,{"$f":"FE11","v":0},{"$f":"FF11","v":"-"},null,{"$f":"EU12","v":0},{"$f":"EV12","v":"-"},null,{"$f":"EZ12","v":1},{"$f":"FA12","v":1},null,{"$f":"FE12","v":0},{"$f":"FF12","v":"-"},null,null,null,null,null,null,{"$f":"Daten!B34","v":2},{"$f":"Daten!F34","v":0},{"$f":"Daten!G34","v":2},{"$f":"Daten!H34","v":0},{"$f":"Daten!I34","v":0},{"$f":"Daten!J34","v":0},{"$f":"Daten!K34","v":"0%"},{"$f":"Daten!L34","v":"100%"},{"$f":"Daten!M34","v":"0%"},{"$f":"Daten!N34","v":"0%"},{"$f":"Daten!O34","v":"0%"},null,{"$f":"Daten!B42","v":2},{"$f":"Daten!F42","v":0},{"$f":"Daten!G42","v":2},{"$f":"Daten!H42","v":0},{"$f":"Daten!I42","v":0},{"$f":"Daten!J42","v":0},{"$f":"Daten!K42","v":"0%"},{"$f":"Daten!L42","v":"100%"},{"$f":"Daten!M42","v":"0%"},{"$f":"Daten!N42","v":"0%"},{"$f":"Daten!O42","v":"0%"},null,{"$f":"Daten!B50","v":0},{"$f":"Daten!F50","v":0},{"$f":"Daten!G50","v":0},{"$f":"Daten!H50","v":0},{"$f":"Daten!I50","v":0},{"$f":"Daten!J50","v":0},{"$f":"Daten!K50","v":"0%"},{"$f":"Daten!L50","v":"0%"},{"$f":"Daten!M50","v":"0%"},{"$f":"Daten!N50","v":"0%"},{"$f":"Daten!O50","v":"0%"},null,null,{"$f":"'Daten SR'!A5","v":"KOREA"},{"$f":"'Daten SR'!AJ5","v":9},{"$f":"'Daten SR'!AM5","v":0},{"$f":"IF($CX9=0,\"-\",CY9/$CX9)","v":0},{"$f":"'Daten SR'!AL5","v":7},{"$f":"IF($CX9=0,\"-\",DA9/$CX9)","v":0.77777777777777779},{"$f":"'Daten SR'!AK5","v":0},{"$f":"IF($CX9=0,\"-\",DC9/$CX9)","v":0},{"$f":"IF($CX9=0,\"-\",(DA9+DC9)/$CX9)","v":0.77777777777777779},{"$f":"IF(CX9=0,\"-\",(DC9+DA9-CY9)/CX9)","v":0.77777777777777779},null,null,{"$f":"'Daten A2'!A6","v":"KOREA"},{"$f":"'Daten A2'!AL6","v":6},{"$f":"'Daten A2'!AO6","v":1},{"$f":"IF($DJ9=0,\"-\",DK9/$DJ9)","v":0.16666666666666666},{"$f":"'Daten A2'!AN6","v":4},{"$f":"IF($DJ9=0,\"-\",DM9/$DJ9)","v":0.66666666666666663},{"$f":"IF($DJ9=0,\"-\",'Daten A2'!AM6)","v":"50%"},null,null,{"$f":"'Daten A2'!A6","v":"KOREA"},{"$f":"'Daten A2'!AH6","v":1},{"$f":"'Daten A2'!AK6","v":1},{"$f":"IF($DS9=0,\"-\",DT9/$DS9)","v":1},{"$f":"'Daten A2'!AJ6","v":0},{"$f":"IF($DS9=0,\"-\",DV9/$DS9)","v":0},{"$f":"IF($DS9=0,\"-\",'Daten A2'!AI6)","v":"-100%"},null,null,null,"r","Eff","#","#%","r","r%","Eff","#","#%","r","r%","Eff","#","#%","r","r%","Eff","#","#%","r","r%","Eff","#","#%","r","r%","Eff","#","#%","r","r%","Eff","#","#%","r","r%","Eff","#","#%"]
[null,null,null,null,null,null,null,null,null,null,null,null,null,null,null,null,null,null,null,null,null,null,null,null,null,null,null,null,null,null,null,{"$f":"EW10","v":"33%"},{"$f":"EY10","v":0.66666666666666663},null,{"$f":"FB10","v":"-"},{"$f":"FD10","v":"-"},null,{"$f":"FG10","v":"-"},{"$f":"FI10","v":"-"},null,{"$f":"EW11","v":"100%"},{"$f":"EY11","v":1},null,{"$f":"FB11","v":"-"},{"$f":"FD11","v":"-"},null,{"$f":"FG11","v":"-"},{"$f":"FI11","v":"-"},null,{"$f":"EW12","v":"-"},{"$f":"EY12","v":"-"},null,{"$f":"FB12","v":"-100%"},{"$f":"FD12","v":0},null,{"$f":"FG12","v":"-"},{"$f":"FI12","v":"-"},null,null,null,null,null,null,{"$f":"IF(BL9=0,0,ROUND(BL9/(BL9+BL15+BL21+BL27),2)*100)","v":28.999999999999996},{"$f":"IF($BL9=0,0,ROUND(BM9/$BL9,2)*100)","v":0},{"$f":"IF($BL9=0,0,ROUND(BN9/$BL9,2)*100)","v":100},{"$f":"IF($BL9=0,0,ROUND(BO9/$BL9,2)*100)","v":0},{"$f":"IF($BL9=0,0,ROUND(BP9/$BL9,2)*100)","v":0},{"$f":"IF($BL9=0,0,ROUND(BQ9/$BL9,2)*100)","v":0},{"$f":"IF(BM9=0,\"\",BR9)","v":""},{"$f":"IF(BN9=0,\"\",BS9)","v":"100%"},{"$f":"IF(BO9=0,\"\",BT9)","v":""},{"$f":"IF(BP9=0,\"\",BU9)","v":""},{"$f":"IF(BQ9=0,\"\",BV9)","v":""},null,{"$f":"IF(BX9=0,0,ROUND(BX9/(BX9+BX15+BX21+BX27),2)*100)","v":28.999999999999996},{"$f":"IF($BX9=0,0,ROUND(BY9/$BX9,2)*100)","v":0},{"$f":"IF($BX9=0,0,ROUND(BZ9/$BX9,2)*100)","v":100},{"$f":"IF($BX9=0,0,ROUND(CA9/$BX9,2)*100)","v":0},{"$f":"IF($BX9=0,0,ROUND(CB9/$BX9,2)*100)","v":0},{"$f":"IF($BX9=0,0,ROUND(CC9/$BX9,2)*100)","v":0},{"$f":"IF(BY9=0,\"\",CD9)","v":""},{"$f":"IF(BZ9=0,\"\",CE9)","v":"100%"},{"$f":"IF(CA9=0,\"\",CF9)","v":""},{"$f":"IF(CB9=0,\"\",CG9)","v":""},{"$f":"IF(CC9=0,\"\",CH9)","v":""},null,{"$f":"IF(CJ9=0,0,ROUND(CJ9/(CJ9+CJ15+CJ21+CJ27),2)*100)","v":0},{"$f":"IF($CJ9=0,0,ROUND(CK9/$CJ9,2)*100)","v":0},{"$f":"IF($CJ9=0,0,ROUND(CL9/$CJ9,2)*100)","v":0},{"$f":"IF($CJ9=0,0,ROUND(CM9/$CJ9,2)*100)","v":0},{"$f":"IF($CJ9=0,0,ROUND(CN9/$CJ9,2)*100)","v":0},{"$f":"IF($CJ9=0,0,ROUND(CO9/$CJ9,2)*100)","v":0},{"$f":"IF(CK9=0,\"\",CP9)","v":""},{"$f":"IF(CL9=0,\"\",CQ9)","v":""},{"$f":"IF(CM9=0,\"\",CR9)","v":""},{"$f":"IF(CN9=0,\"\",CS9)","v":""},{"$f":"IF(CO9=0,\"\",CT9)","v":""},null,null,{"$f":"'Daten SR'!A6","v":"1 SONG"},{"$f":"'Daten SR'!AJ6","v":0},{"$f":"'Daten SR'!AM6","v":0},{"$f":"IF($CX10=0,\"-\",CY10/$CX10)","v":"-"},{"$f":"'Daten SR'!AL6","v":0},{"$f":"IF($CX10=0,\"-\",DA10/$CX10)","v":"-"},{"$f":"'Daten SR'!AK6","v":0},{"$f":"IF($CX10=0,\"-\",DC10/$CX10)","v":"-"},{"$f":"IF($CX10=0,\"-\",(DA10+DC10)/$CX10)","v":"-"},{"$f":"IF(CX10=0,\"-\",(DC10+DA10-CY10)/CX10)","v":"-"},null,null,{"$f":"'Daten A2'!A7","v":"1 SONG"},{"$f":"'Daten A2'!AL7","v":1},{"$f":"'Daten A2'!AO7","v":1},{"$f":"IF($DJ10=0,\"-\",DK10/$DJ10)","v":1},{"$f":"'Daten A2'!AN7","v":0},{"$f":"IF($DJ10=0,\"-\",DM10/$DJ10)","v":0},{"$f":"IF($DJ10=0,\"-\",'Daten A2'!AM7)","v":"-100%"},null,null,{"$f":"'Daten A2'!A7","v":"1 SONG"},{"$f":"'Daten A2'!AH7","v":0},{"$f":"'Daten A2'!AK7","v":0},{"$f":"IF($DS10=0,\"-\",DT10/$DS10)","v":"-"},{"$f":"'Daten A2'!AJ7","v":0},{"$f":"IF($DS10=0,\"-\",DV10/$DS10)","v":"-"},{"$f":"IF($DS10=0,\"-\",'Daten A2'!AI7)","v":"-"},null,null,"K1 all",{"$f":"Daten!B88","v":8},{"$f":"Daten!C88","v":"38%"},{"$f":"Daten!D88","v":5},{"$f":"IF(EB10=0,\"-\",ED10/EB10)","v":0.625},{"$f":"Daten!E88","v":0},{"$f":"IF(OR($EB10=0,EF10=0),\"-\",EF10/$EB10)","v":"-"},{"$f":"IF(EF10=0,\"-\",Daten!F88)","v":"-"},{"$f":"Daten!G88","v":0},{"$f":"IF(EF10=0,\"-\",EI10/EF10)","v":"-"},{"$f":"Daten!H88","v":4},{"$f":"IF(OR($EB10=0,EK10=0),\"-\",EK10/$EB10)","v":0.5},{"$f":"IF(EK10=0,\"-\",Daten!I88)","v":"75%"},{"$f":"Daten!J88","v":3},{"$f":"IF(EK10=0,\"-\",EN10/EK10)","v":0.75},{"$f":"Daten!K88","v":1},{"$f":"IF(OR($EB10=0,EP10=0),\"-\",EP10/$EB10)","v":0.125},{"$f":"IF(EP10=0,\"-\",Daten!L88)","v":"-100%"},{"$f":"Daten!M88","v":0},{"$f":"IF(EP10=0,\"-\",ES10/EP10)","v":0},{"$f":"Daten!N88","v":3},{"$f":"IF(OR($EB10=0,EU10=0),\"-\",EU10/$EB10)","v":0.375},{"$f":"IF(EU10=0,\"-\",Daten!O88)","v":"33%"},{"$f":"Daten!P88","v":2},{"$f":"IF(EU10=0,\"-\",EX10/EU10)","v":0.66666666666666663},{"$f":"Daten!Q88","v":0},{"$f":"IF(OR($EB10=0,EZ10=0),\"-\",EZ10/$EB10)","v":"-"},{"$f":"IF(EZ10=0,\"-\",Daten!R88)","v":"-"},{"$f":"Daten!S88","v":0},{"$f":"IF(EZ10=0,\"-\",FC10/EZ10)","v":"-"},{"$f":"Daten!T88","v":0},{"$f":"IF(OR($EB10=0,FE10=0),\"-\",FE10/$EB10)","v":"-"},{"$f":"IF(FE10=0,\"-\",Daten!U88)","v":"-"},{"$f":"Daten!V88","v":0},{"$f":"IF(FE10=0,\"-\",FH10/FE10)","v":"-"},{"$f":"Daten!W88","v":0},{"$f":"IF(OR($EB10=0,FJ10=0),\"-\",FJ10/$EB10)","v":"-"},{"$f":"IF(FJ10=0,\"-\",Daten!X88)","v":"-"},{"$f":"Daten!Y88","v":0},{"$f":"IF(FJ10=0,\"-\",FM10/FJ10)","v":"-"}]
[null,null,null,null,null,null,null,null,null,null,null,null,null,null,null,null,null,null,null,null,null,null,null,null,null,null,null,null,null,null,null,{"$f":"EF10","v":0},{"$f":"EG10","v":"-"},null,{"$f":"EK10","v":4},{"$f":"EL10","v":0.5},null,{"$f":"EP10","v":1},{"$f":"EQ10","v":0.125},null,{"$f":"EF11","v":0},{"$f":"EG11","v":"-"},null,{"$f":"EK11","v":4},{"$f":"EL11","v":0.66666666666666663},null,{"$f":"EP11","v":1},{"$f":"EQ11","v":0.16666666666666666},null,{"$f":"EF12","v":0},{"$f":"EG12","v":"-"},null,{"$f":"EK12","v":0},{"$f":"EL12","v":"-"},null,{"$f":"EP12","v":0},{"$f":"EQ12","v":"-"},null,null,null,null,null,null,null,null,null,null,null,null,null,null,null,null,null,null,null,null,null,null,null,null,null,null,null,null,null,null,null,null,null,null,null,null,null,null,null,null,null,null,null,{"$f":"'Daten SR'!A7","v":"4 SHIN"},{"$f":"'Daten SR'!AJ7","v":0},{"$f":"'Daten SR'!AM7","v":0},"-",{"$f":"'Daten SR'!AL7","v":0},"-",{"$f":"'Daten SR'!AK7","v":0},"-","-","-",null,null,{"$f":"'Daten A2'!A8","v":"4 SHIN"},{"$f":"'Daten A2'!AL8","v":4},{"$f":"'Daten A2'!AO8","v":0},0,{"$f":"'Daten A2'!AN8","v":3},0.75,{"$f":"IF($DJ11=0,\"-\",'Daten A2'!AM8)","v":"75%"},null,null,{"$f":"'Daten A2'!A8","v":"4 SHIN"},{"$f":"'Daten A2'!AH8","v":0},{"$f":"'Daten A2'!AK8","v":0},"-",{"$f":"'Daten A2'!AJ8","v":0},"-",{"$f":"IF($DS11=0,\"-\",'Daten A2'!AI8)","v":"-"},null,null,"K1  R#+",{"$f":"Daten!B108","v":6},{"$f":"IF(EB11=0,\"-\",Daten!C108)","v":"50%"},{"$f":"Daten!D108","v":4},{"$f":"IF(EB11=0,\"-\",ED11/EB11)","v":0.66666666666666663},{"$f":"Daten!E108","v":0},{"$f":"IF(OR($EB11=0,EF11=0),\"-\",EF11/$EB11)","v":"-"},{"$f":"IF(EF11=0,\"-\",Daten!F108)","v":"-"},{"$f":"Daten!G108","v":0},{"$f":"IF(EF11=0,\"-\",EI11/EF11)","v":"-"},{"$f":"Daten!H108","v":4},{"$f":"IF(OR($EB11=0,EK11=0),\"-\",EK11/$EB11)","v":0.66666666666666663},{"$f":"IF(EK11=0,\"-\",Daten!I108)","v":"75%"},{"$f":"Daten!J108","v":3},{"$f":"IF(EK11=0,\"-\",EN11/EK11)","v":0.75},{"$f":"Daten!K108","v":1},{"$f":"IF(OR($EB11=0,EP11=0),\"-\",EP11/$EB11)","v":0.16666666666666666},{"$f":"IF(EP11=0,\"-\",Daten!L108)","v":"-100%"},{"$f":"Daten!M108","v":0},{"$f":"IF(EP11=0,\"-\",ES11/EP11)","v":0},{"$f":"Daten!N108","v":1},{"$f":"IF(OR($EB11=0,EU11=0),\"-\",EU11/$EB11)","v":0.16666666666666666},{"$f":"IF(EU11=0,\"-\",Daten!O108)","v":"100%"},{"$f":"Daten!P108","v":1},{"$f":"IF(EU11=0,\"-\",EX11/EU11)","v":1},{"$f":"Daten!Q108","v":0},{"$f":"IF(OR($EB11=0,EZ11=0),\"-\",EZ11/$EB11)","v":"-"},{"$f":"IF(EZ11=0,\"-\",Daten!R108)","v":"-"},{"$f":"Daten!S108","v":0},{"$f":"IF(EZ11=0,\"-\",FC11/EZ11)","v":"-"},{"$f":"Daten!T108","v":0},{"$f":"IF(OR($EB11=0,FE11=0),\"-\",FE11/$EB11)","v":"-"},{"$f":"IF(FE11=0,\"-\",Daten!U108)","v":"-"},{"$f":"Daten!V108","v":0},{"$f":"IF(FE11=0,\"-\",FH11/FE11)","v":"-"},{"$f":"Daten!W108","v":0},{"$f":"IF(OR($EB11=0,FJ11=0),\"-\",FJ11/$EB11)","v":"-"},{"$f":"IF(FJ11=0,\"-\",Daten!X108)","v":"-"},{"$f":"Daten!Y108","v":0},{"$f":"IF(FJ11=0,\"-\",FM11/FJ11)","v":"-"}]
[null,null,null,null,null,null,null,null,null,null,null,null,null,null,null,null,null,null,null,null,null,null,null,null,null,null,null,null,null,null,null,{"$f":"EH10","v":"-"},{"$f":"EJ10","v":"-"},null,{"$f":"EM10","v":"75%"},{"$f":"EO10","v":0.75},null,{"$f":"ER10","v":"-100%"},{"$f":"ET10","v":0},null,{"$f":"EH11","v":"-"},{"$f":"EJ11","v":"-"},null,{"$f":"EM11","v":"75%"},{"$f":"EO11","v":0.75},null,{"$f":"ER11","v":"-100%"},{"$f":"ET11","v":0},null,{"$f":"EH12","v":"-"},{"$f":"EJ12","v":"-"},null,{"$f":"EM12","v":"-"},{"$f":"EO12","v":"-"},null,{"$f":"ER12","v":"-"},{"$f":"ET12","v":"-"},null,null,null,null,null,null,null,null,null,null,null,null,null,null,null,null,null,null,null,null,null,null,null,null,null,null,null,null,null,null,null,null,null,null,null,null,null,null,null,null,null,null,null,{"$f":"'Daten SR'!A8","v":"6 LEE"},{"$f":"'Daten SR'!AJ8","v":0},{"$f":"'Daten SR'!AM8","v":0},"-",{"$f":"'Daten SR'!AL8","v":0},"-",{"$f":"'Daten SR'!AK8","v":0},"-","-","-",null,null,{"$f":"'Daten A2'!A9","v":"6 LEE"},{"$f":"'Daten A2'!AL9","v":0},{"$f":"'Daten A2'!AO9","v":0},"-",{"$f":"'Daten A2'!AN9","v":0},"-",{"$f":"IF($DJ12=0,\"-\",'Daten A2'!AM9)","v":"-"},null,null,{"$f":"'Daten A2'!A9","v":"6 LEE"},{"$f":"'Daten A2'!AH9","v":0},{"$f":"'Daten A2'!AK9","v":0},"-",{"$f":"'Daten A2'!AJ9","v":0},"-",{"$f":"IF($DS12=0,\"-\",'Daten A2'!AI9)","v":"-"},null,null,"K2",{"$f":"Daten!B98","v":1},{"$f":"Daten!C98","v":"-100%"},{"$f":"Daten!D98","v":0},{"$f":"IF(EB12=0,\"-\",ED12/EB12)","v":0},{"$f":"Daten!E98","v":0},{"$f":"IF(OR($EB12=0,EF12=0),\"-\",EF12/$EB12)","v":"-"},{"$f":"IF(EF12=0,\"-\",Daten!F98)","v":"-"},{"$f":"Daten!G98","v":0},{"$f":"IF(EF12=0,\"-\",EI12/EF12)","v":"-"},{"$f":"Daten!H98","v":0},{"$f":"IF(OR($EB12=0,EK12=0),\"-\",EK12/$EB12)","v":"-"},{"$f":"IF(EK12=0,\"-\",Daten!I98)","v":"-"},{"$f":"Daten!J98","v":0},{"$f":"IF(EK12=0,\"-\",EN12/EK12)","v":"-"},{"$f":"Daten!K98","v":0},{"$f":"IF(OR($EB12=0,EP12=0),\"-\",EP12/$EB12)","v":"-"},{"$f":"IF(EP12=0,\"-\",Daten!L98)","v":"-"},{"$f":"Daten!M98","v":0},{"$f":"IF(EP12=0,\"-\",ES12/EP12)","v":"-"},{"$f":"Daten!N98","v":0},{"$f":"IF(OR($EB12=0,EU12=0),\"-\",EU12/$EB12)","v":"-"},{"$f":"IF(EU12=0,\"-\",Daten!O98)","v":"-"},{"$f":"Daten!P98","v":0},{"$f":"IF(EU12=0,\"-\",EX12/EU12)","v":"-"},{"$f":"Daten!Q98","v":1},{"$f":"IF(OR($EB12=0,EZ12=0),\"-\",EZ12/$EB12)","v":1},{"$f":"IF(EZ12=0,\"-\",Daten!R98)","v":"-100%"},{"$f":"Daten!S98","v":0},{"$f":"IF(EZ12=0,\"-\",FC12/EZ12)","v":0},{"$f":"Daten!T98","v":0},{"$f":"IF(OR($EB12=0,FE12=0),\"-\",FE12/$EB12)","v":"-"},{"$f":"IF(FE12=0,\"-\",Daten!U98)","v":"-"},{"$f":"Daten!V98","v":0},{"$f":"IF(FE12=0,\"-\",FH12/FE12)","v":"-"},{"$f":"Daten!W98","v":0},{"$f":"IF(OR($EB12=0,FJ12=0),\"-\",FJ12/$EB12)","v":"-"},{"$f":"IF(FJ12=0,\"-\",Daten!X98)","v":"-"},{"$f":"Daten!Y98","v":0},{"$f":"IF(FJ12=0,\"-\",FM12/FJ12)","v":"-"}]
[null,null,null,null,null,null,null,null,null,null,null,null,null,null,null,null,null,null,null,null,null,null,null,null,null,null,null,null,null,null,null,null,null,null,null,null,null,null,null,null,null,null,null,null,null,null,null,null,null,null,null,null,null,null,null,null,null,null,null,null,null,null,null,{"$f":"\"Base \"&Options!$S8","v":"Base K2"},null,null,null,null,null,null,null,null,null,null,null,{"$f":"\"Base \"&Options!$S8","v":"Base K2"},null,null,null,null,null,null,null,null,null,null,null,{"$f":"\"Base \"&Options!$S8","v":"Base K2"},null,null,null,null,null,null,null,null,null,null,null,null,{"$f":"'Daten SR'!A9","v":"8 PARK"},{"$f":"'Daten SR'!AJ9","v":0},{"$f":"'Daten SR'!AM9","v":0},"-",{"$f":"'Daten SR'!AL9","v":0},"-",{"$f":"'Daten SR'!AK9","v":0},"-","-","-",null,null,{"$f":"'Daten A2'!A10","v":"8 PARK"},{"$f":"'Daten A2'!AL10","v":0},{"$f":"'Daten A2'!AO10","v":0},"-",{"$f":"'Daten A2'!AN10","v":0},"-",{"$f":"IF($DJ13=0,\"-\",'Daten A2'!AM10)","v":"-"},null,null,{"$f":"'Daten A2'!A10","v":"8 PARK"},{"$f":"'Daten A2'!AH10","v":0},{"$f":"'Daten A2'!AK10","v":0},"-",{"$f":"'Daten A2'!AJ10","v":0},"-",{"$f":"IF($DS13=0,\"-\",'Daten A2'!AI10)","v":"-"}]
[null,null,null,null,null,null,null,null,null,null,null,null,null,null,null,null,null,null,null,null,null,null,null,null,null,null,null,null,null,null,null,"Reception",null,null,null,null,null,"∑","∑ %",null,"=/","=/ %",null,"+","+ %",null,"#","# %",null,"+# %","Eff",null,null,null,null,null,null,null,null,null,null,null,null,{"$f":"Daten!C29","v":"K2"},{"$f":"Daten!P29","v":"P4"},{"$f":"Daten!Q29","v":"SA"},{"$f":"Daten!R29","v":"H6"},{"$f":"Daten!S29","v":"P2"},{"$f":"Daten!T29","v":"H1"},{"$f":"Daten!U29","v":"P4-E"},{"$f":"Daten!V29","v":"SA-E"},{"$f":"Daten!W29","v":"H6-E"},{"$f":"Daten!X29","v":"P2-E"},{"$f":"Daten!Y29","v":"H1-E"},null,{"$f":"Daten!C37","v":"K2"},{"$f":"Daten!P37","v":"P4"},{"$f":"Daten!Q37","v":"SA"},{"$f":"Daten!R37","v":"H6"},{"$f":"Daten!S37","v":"P2"},{"$f":"Daten!T37","v":"H1"},{"$f":"Daten!U37","v":"P4-E"},{"$f":"Daten!V37","v":"SA-E"},{"$f":"Daten!W37","v":"H6-E"},{"$f":"Daten!X37","v":"P2-E"},{"$f":"Daten!Y37","v":"H1-E"},null,{"$f":"Daten!C45","v":"K2"},{"$f":"Daten!P45","v":"P4"},{"$f":"Daten!Q45","v":"SA"},{"$f":"Daten!R45","v":"H6"},{"$f":"Daten!S45","v":"P2"},{"$f":"Daten!T45","v":"H1"},{"$f":"Daten!U45","v":"P4-E"},{"$f":"Daten!V45","v":"SA-E"},{"$f":"Daten!W45","v":"H6-E"},{"$f":"Daten!X45","v":"P2-E"},{"$f":"Daten!Y45","v":"H1-E"},null,null,{"$f":"'Daten SR'!A10","v":"9 KWAK"},{"$f":"'Daten SR'!AJ10","v":4},{"$f":"'Daten SR'!AM10","v":0},0,{"$f":"'Daten SR'!AL10","v":2},0.5,{"$f":"'Daten SR'!AK10","v":0},0,0.5,0.5,null,null,{"$f":"'Daten A2'!A11","v":"9 KWAK"},{"$f":"'Daten A2'!AL11","v":0},{"$f":"'Daten A2'!AO11","v":0},"-",{"$f":"'Daten A2'!AN11","v":0},"-",{"$f":"IF($DJ14=0,\"-\",'Daten A2'!AM11)","v":"-"},null,null,{"$f":"'Daten A2'!A11","v":"9 KWAK"},{"$f":"'Daten A2'!AH11","v":0},{"$f":"'Daten A2'!AK11","v":0},"-",{"$f":"'Daten A2'!AJ11","v":0},"-",{"$f":"IF($DS14=0,\"-\",'Daten A2'!AI11)","v":"-"}]
[null,null,null,null,null,null,null,null,null,null,null,null,null,null,null,null,null,null,null,null,null,null,null,null,null,null,null,null,null,null,null,{"$f":"CW33","v":"KOREA"},null,null,null,null,null,{"$f":"CX33","v":9},{"$f":"AL15/$AL$15","v":1},null,{"$f":"CY33","v":0},0,null,{"$f":"DA33","v":7},0.77777777777777779,null,{"$f":"DC33","v":0},0,null,{"$f":"DE33","v":0.77777777777777779},0.77777777777777779,null,null,null,null,null,null,null,null,null,null,null,null,{"$f":"Daten!C34","v":5},{"$f":"Daten!P34","v":1},{"$f":"Daten!Q34","v":2},{"$f":"Daten!R34","v":0},{"$f":"Daten!S34","v":0},{"$f":"Daten!T34","v":1},{"$f":"Daten!U34","v":"-100%"},{"$f":"Daten!V34","v":"50%"},{"$f":"Daten!W34","v":"0%"},{"$f":"Daten!X34","v":"0%"},{"$f":"Daten!Y34","v":"100%"},null,{"$f":"Daten!C42","v":5},{"$f":"Daten!P42","v":1},{"$f":"Daten!Q42","v":2},{"$f":"Daten!R42","v":0},{"$f":"Daten!S42","v":0},{"$f":"Daten!T42","v":1},{"$f":"Daten!U42","v":"-100%"},{"$f":"Daten!V42","v":"50%"},{"$f":"Daten!W42","v":"0%"},{"$f":"Daten!X42","v":"0%"},{"$f":"Daten!Y42","v":"100%"},null,{"$f":"Daten!C50","v":0},{"$f":"Daten!P50","v":0},{"$f":"Daten!Q50","v":0},{"$f":"Daten!R50","v":0},{"$f":"Daten!S50","v":0},{"$f":"Daten!T50","v":0},{"$f":"Daten!U50","v":"0%"},{"$f":"Daten!V50","v":"0%"},{"$f":"Daten!W50","v":"0%"},{"$f":"Daten!X50","v":"0%"},{"$f":"Daten!Y50","v":"0%"},null,null,{"$f":"'Daten SR'!A11","v":"11 CHOI"},{"$f":"'Daten SR'!AJ11","v":0},{"$f":"'Daten SR'!AM11","v":0},"-",{"$f":"'Daten SR'!AL11","v":0},"-",{"$f":"'Daten SR'!AK11","v":0},"-","-","-",null,null,{"$f":"'Daten A2'!A12","v":"11 CHOI"},{"$f":"'Daten A2'!AL12","v":0},{"$f":"'Daten A2'!AO12","v":0},"-",{"$f":"'Daten A2'!AN12","v":0},"-",{"$f":"IF($DJ15=0,\"-\",'Daten A2'!AM12)","v":"-"},null,null,{"$f":"'Daten A2'!A12","v":"11 CHOI"},{"$f":"'Daten A2'!AH12","v":0},{"$f":"'Daten A2'!AK12","v":0},"-",{"$f":"'Daten A2'!AJ12","v":0},"-",{"$f":"IF($DS15=0,\"-\",'Daten A2'!AI12)","v":"-"}]
[null,null,null,null,null,null,null,null,null,null,null,null,null,null,null,null,null,null,null,null,null,null,null,null,null,null,null,null,null,null,null,"19 JEONG",null,null,null,null,null,5,0.55555555555555558,null,0,0,null,5,1,null,0,0,null,1,1,null,null,null,null,null,null,null,null,null,null,null,null,{"$f":"IF(BL15=0,0,ROUND(BL15/(BL9+BL15+BL21+BL27),2)*100)","v":71},{"$f":"IF($BL15=0,0,ROUND(BM15/$BL15,2)*100)","v":20},{"$f":"IF($BL15=0,0,ROUND(BN15/$BL15,2)*100)","v":40},{"$f":"IF($BL15=0,0,ROUND(BO15/$BL15,2)*100)","v":0},{"$f":"IF($BL15=0,0,ROUND(BP15/$BL15,2)*100)","v":0},{"$f":"IF($BL15=0,0,ROUND(BQ15/$BL15,2)*100)","v":20},{"$f":"IF(BM15=0,\"\",BR15)","v":"-100%"},{"$f":"IF(BN15=0,\"\",BS15)","v":"50%"},{"$f":"IF(BO15=0,\"\",BT15)","v":""},{"$f":"IF(BP15=0,\"\",BU15)","v":""},{"$f":"IF(BQ15=0,\"\",BV15)","v":"100%"},null,{"$f":"IF(BX15=0,0,ROUND(BX15/($BL9+$BL15+$BL21+$BL27),2)*100)","v":71},{"$f":"IF($BX15=0,0,ROUND(BY15/$BX15,2)*100)","v":20},{"$f":"IF($BX15=0,0,ROUND(BZ15/$BX15,2)*100)","v":40},{"$f":"IF($BX15=0,0,ROUND(CA15/$BX15,2)*100)","v":0},{"$f":"IF($BX15=0,0,ROUND(CB15/$BX15,2)*100)","v":0},{"$f":"IF($BX15=0,0,ROUND(CC15/$BX15,2)*100)","v":20},{"$f":"IF(BY15=0,\"\",CD15)","v":"-100%"},{"$f":"IF(BZ15=0,\"\",CE15)","v":"50%"},{"$f":"IF(CA15=0,\"\",CF15)","v":""},{"$f":"IF(CB15=0,\"\",CG15)","v":""},{"$f":"IF(CC15=0,\"\",CH15)","v":"100%"},null,{"$f":"IF(CJ15=0,0,ROUND(CJ15/(CJ9+CJ15+CJ21+CJ27),2)*100)","v":0},{"$f":"IF($CJ15=0,0,ROUND(CK15/$CJ15,2)*100)","v":0},{"$f":"IF($CJ15=0,0,ROUND(CL15/$CJ15,2)*100)","v":0},{"$f":"IF($CJ15=0,0,ROUND(CM15/$CJ15,2)*100)","v":0},{"$f":"IF($CJ15=0,0,ROUND(CN15/$CJ15,2)*100)","v":0},{"$f":"IF($CJ15=0,0,ROUND(CO15/$CJ15,2)*100)","v":0},{"$f":"IF(CK15=0,\"\",CP15)","v":""},{"$f":"IF(CL15=0,\"\",CQ15)","v":""},{"$f":"IF(CM15=0,\"\",CR15)","v":""},{"$f":"IF(CN15=0,\"\",CS15)","v":""},{"$f":"IF(CO15=0,\"\",CT15)","v":""},null,null,{"$f":"'Daten SR'!A12","v":"12 JEON"},{"$f":"'Daten SR'!AJ12","v":0},{"$f":"'Daten SR'!AM12","v":0},"-",{"$f":"'Daten SR'!AL12","v":0},"-",{"$f":"'Daten SR'!AK12","v":0},"-","-","-",null,null,{"$f":"'Daten A2'!A13","v":"12 JEON"},{"$f":"'Daten A2'!AL13","v":0},{"$f":"'Daten A2'!AO13","v":0},"-",{"$f":"'Daten A2'!AN13","v":0},"-",{"$f":"IF($DJ16=0,\"-\",'Daten A2'!AM13)","v":"-"},null,null,{"$f":"'Daten A2'!A13","v":"12 JEON"},{"$f":"'Daten A2'!AH13","v":0},{"$f":"'Daten A2'!AK13","v":0},"-",{"$f":"'Daten A2'!AJ13","v":0},"-",{"$f":"IF($DS16=0,\"-\",'Daten A2'!AI13)","v":"-"}]
[null,null,null,null,null,null,null,null,null,null,null,null,null,null,null,null,null,null,null,null,null,null,null,null,null,null,null,null,null,null,null,"9 KWAK",null,null,null,null,null,4,0.44444444444444442,null,0,0,null,2,0.5,null,0,0,null,0.5,0.5,null,null,null,null,null,null,null,null,null,null,null,null,null,null,null,null,null,null,null,null,null,null,null,null,null,null,null,null,null,null,null,null,null,null,null,null,null,null,null,null,null,null,null,null,null,null,null,null,null,{"$f":"'Daten SR'!A13","v":"14 SONG"},{"$f":"'Daten SR'!AJ13","v":0},{"$f":"'Daten SR'!AM13","v":0},"-",{"$f":"'Daten SR'!AL13","v":0},"-",{"$f":"'Daten SR'!AK13","v":0},"-","-","-",null,null,{"$f":"'Daten A2'!A14","v":"14 SONG"},{"$f":"'Daten A2'!AL14","v":0},{"$f":"'Daten A2'!AO14","v":0},"-",{"$f":"'Daten A2'!AN14","v":0},"-",{"$f":"IF($DJ17=0,\"-\",'Daten A2'!AM14)","v":"-"},null,null,{"$f":"'Daten A2'!A14","v":"14 SONG"},{"$f":"'Daten A2'!AH14","v":0},{"$f":"'Daten A2'!AK14","v":0},"-",{"$f":"'Daten A2'!AJ14","v":0},"-",{"$f":"IF($DS17=0,\"-\",'Daten A2'!AI14)","v":"-"}]
[null,null,null,null,null,null,null,null,null,null,null,null,null,null,null,null,null,null,null,null,null,null,null,null,null,null,null,null,null,null,null,"1 SONG",null,null,null,null,null,0,0,null,0,"-",null,0,"-",null,0,"-",null,"-","-",null,null,null,null,null,null,null,null,null,null,null,null,null,null,null,null,null,null,null,null,null,null,null,null,null,null,null,null,null,null,null,null,null,null,null,null,null,null,null,null,null,null,null,null,null,null,null,null,null,{"$f":"'Daten SR'!A14","v":"16 CHOI"},{"$f":"'Daten SR'!AJ14","v":0},{"$f":"'Daten SR'!AM14","v":0},"-",{"$f":"'Daten SR'!AL14","v":0},"-",{"$f":"'Daten SR'!AK14","v":0},"-","-","-",null,null,{"$f":"'Daten A2'!A15","v":"16 CHOI"},{"$f":"'Daten A2'!AL15","v":0},{"$f":"'Daten A2'!AO15","v":0},"-",{"$f":"'Daten A2'!AN15","v":0},"-",{"$f":"IF($DJ18=0,\"-\",'Daten A2'!AM15)","v":"-"},null,null,{"$f":"'Daten A2'!A15","v":"16 CHOI"},{"$f":"'Daten A2'!AH15","v":1},{"$f":"'Daten A2'!AK15","v":1},1,{"$f":"'Daten A2'!AJ15","v":0},0,{"$f":"IF($DS18=0,\"-\",'Daten A2'!AI15)","v":"-100%"}]
[null,null,null,null,null,null,null,null,null,null,null,null,null,null,null,null,null,null,null,null,null,null,null,null,null,null,null,null,null,null,null,"4 SHIN",null,null,null,null,null,0,0,null,0,"-",null,0,"-",null,0,"-",null,"-","-",null,null,null,null,null,null,null,null,null,null,null,null,{"$f":"\"Base \"&Options!$S9","v":"Base K7"},null,null,null,null,null,null,null,null,null,null,null,{"$f":"\"Base \"&Options!$S9","v":"Base K7"},null,null,null,null,null,null,null,null,null,null,null,{"$f":"\"Base \"&Options!$S9","v":"Base K7"},null,null,null,null,null,null,null,null,null,null,null,null,{"$f":"'Daten SR'!A15","v":"17 SEO"},{"$f":"'Daten SR'!AJ15","v":0},{"$f":"'Daten SR'!AM15","v":0},"-",{"$f":"'Daten SR'!AL15","v":0},"-",{"$f":"'Daten SR'!AK15","v":0},"-","-","-",null,null,{"$f":"'Daten A2'!A16","v":"17 SEO"},{"$f":"'Daten A2'!AL16","v":1},{"$f":"'Daten A2'!AO16","v":0},0,{"$f":"'Daten A2'!AN16","v":1},1,{"$f":"IF($DJ19=0,\"-\",'Daten A2'!AM16)","v":"100%"},null,null,{"$f":"'Daten A2'!A16","v":"17 SEO"},{"$f":"'Daten A2'!AH16","v":0},{"$f":"'Daten A2'!AK16","v":0},"-",{"$f":"'Daten A2'!AJ16","v":0},"-",{"$f":"IF($DS19=0,\"-\",'Daten A2'!AI16)","v":"-"}]
[null,null,null,null,null,null,null,null,null,null,null,null,null,null,null,null,null,null,null,null,null,null,null,null,null,null,null,null,null,null,null,"6 LEE",null,null,null,null,null,0,0,null,0,"-",null,0,"-",null,0,"-",null,"-","-",null,null,null,null,null,null,null,null,null,null,null,null,{"$f":"Daten!D29","v":"K7"},{"$f":"Daten!Z29","v":"P4"},{"$f":"Daten!AA29","v":"SA"},{"$f":"Daten!AB29","v":"H6"},{"$f":"Daten!AC29","v":"P2"},{"$f":"Daten!AD29","v":"H1"},{"$f":"Daten!AE29","v":"P4-E"},{"$f":"Daten!AF29","v":"SA-E"},{"$f":"Daten!AG29","v":"H6-E"},{"$f":"Daten!AH29","v":"P2-E"},{"$f":"Daten!AI29","v":"H1-E"},null,{"$f":"Daten!D37","v":"K7"},{"$f":"Daten!Z37","v":"P4"},{"$f":"Daten!AA37","v":"SA"},{"$f":"Daten!AB37","v":"H6"},{"$f":"Daten!AC37","v":"P2"},{"$f":"Daten!AD37","v":"H1"},{"$f":"Daten!AE37","v":"P4-E"},{"$f":"Daten!AF37","v":"SA-E"},{"$f":"Daten!AG37","v":"H6-E"},{"$f":"Daten!AH37","v":"P2-E"},{"$f":"Daten!AI37","v":"H1-E"},null,{"$f":"Daten!D45","v":"K7"},{"$f":"Daten!Z45","v":"P4"},{"$f":"Daten!AA45","v":"SA"},{"$f":"Daten!AB45","v":"H6"},{"$f":"Daten!AC45","v":"P2"},{"$f":"Daten!AD45","v":"H1"},{"$f":"Daten!AE45","v":"P4-E"},{"$f":"Daten!AF45","v":"SA-E"},{"$f":"Daten!AG45","v":"H6-E"},{"$f":"Daten!AH45","v":"P2-E"},{"$f":"Daten!AI45","v":"H1-E"},null,null,{"$f":"'Daten SR'!A16","v":"19 JEONG"},{"$f":"'Daten SR'!AJ16","v":5},{"$f":"'Daten SR'!AM16","v":0},0,{"$f":"'Daten SR'!AL16","v":5},1,{"$f":"'Daten SR'!AK16","v":0},0,1,1,null,null,{"$f":"'Daten A2'!A17","v":"19 JEONG"},{"$f":"'Daten A2'!AL17","v":0},{"$f":"'Daten A2'!AO17","v":0},"-",{"$f":"'Daten A2'!AN17","v":0},"-",{"$f":"IF($DJ20=0,\"-\",'Daten A2'!AM17)","v":"-"},null,null,{"$f":"'Daten A2'!A17","v":"19 JEONG"},{"$f":"'Daten A2'!AH17","v":0},{"$f":"'Daten A2'!AK17","v":0},"-",{"$f":"'Daten A2'!AJ17","v":0},"-",{"$f":"IF($DS20=0,\"-\",'Daten A2'!AI17)","v":"-"}]
[null,null,null,null,null,null,null,null,null,null,null,null,null,null,null,null,null,null,null,null,null,null,null,null,null,null,null,null,null,null,null,"8 PARK",null,null,null,null,null,0,0,null,0,"-",null,0,"-",null,0,"-",null,"-","-",null,null,null,null,null,null,null,null,null,null,null,null,{"$f":"Daten!D34","v":0},{"$f":"Daten!Z34","v":0},{"$f":"Daten!AA34","v":0},{"$f":"Daten!AB34","v":0},{"$f":"Daten!AC34","v":0},{"$f":"Daten!AD34","v":0},{"$f":"Daten!AE34","v":"0%"},{"$f":"Daten!AF34","v":"0%"},{"$f":"Daten!AG34","v":"0%"},{"$f":"Daten!AH34","v":"0%"},{"$f":"Daten!AI34","v":"0%"},null,{"$f":"Daten!D42","v":0},{"$f":"Daten!Z42","v":0},{"$f":"Daten!AA42","v":0},{"$f":"Daten!AB42","v":0},{"$f":"Daten!AC42","v":0},{"$f":"Daten!AD42","v":0},{"$f":"Daten!AE42","v":"0%"},{"$f":"Daten!AF42","v":"0%"},{"$f":"Daten!AG42","v":"0%"},{"$f":"Daten!AH42","v":"0%"},{"$f":"Daten!AI42","v":"0%"},null,{"$f":"Daten!D50","v":0},{"$f":"Daten!Z50","v":0},{"$f":"Daten!AA50","v":0},{"$f":"Daten!AB50","v":0},{"$f":"Daten!AC50","v":0},{"$f":"Daten!AD50","v":0},{"$f":"Daten!AE50","v":"0%"},{"$f":"Daten!AF50","v":"0%"},{"$f":"Daten!AG50","v":"0%"},{"$f":"Daten!AH50","v":"0%"},{"$f":"Daten!AI50","v":"0%"},null,null,{"$f":"'Daten SR'!A17","v":"20 JI"},{"$f":"'Daten SR'!AJ17","v":0},{"$f":"'Daten SR'!AM17","v":0},"-",{"$f":"'Daten SR'!AL17","v":0},"-",{"$f":"'Daten SR'!AK17","v":0},"-","-","-",null,null,{"$f":"'Daten A2'!A18","v":"20 JI"},{"$f":"'Daten A2'!AL18","v":0},{"$f":"'Daten A2'!AO18","v":0},"-",{"$f":"'Daten A2'!AN18","v":0},"-",{"$f":"IF($DJ21=0,\"-\",'Daten A2'!AM18)","v":"-"},null,null,{"$f":"'Daten A2'!A18","v":"20 JI"},{"$f":"'Daten A2'!AH18","v":0},{"$f":"'Daten A2'!AK18","v":0},"-",{"$f":"'Daten A2'!AJ18","v":0},"-",{"$f":"IF($DS21=0,\"-\",'Daten A2'!AI18)","v":"-"}]
[null,null,null,null,null,null,null,null,null,null,null,null,null,null,null,null,null,null,null,null,null,null,null,null,null,null,null,null,null,null,null,null,null,null,null,null,null,null,null,null,null,null,null,null,null,null,null,null,null,null,null,null,null,null,null,null,null,null,null,null,null,null,null,{"$f":"IF(BL21=0,0,ROUND(BL21/(BL9+BL15+BL21+BL27),2)*100)","v":0},{"$f":"IF($BL21=0,0,ROUND(BM21/$BL21,2)*100)","v":0},{"$f":"IF($BL21=0,0,ROUND(BN21/$BL21,2)*100)","v":0},{"$f":"IF($BL21=0,0,ROUND(BO21/$BL21,2)*100)","v":0},{"$f":"IF($BL21=0,0,ROUND(BP21/$BL21,2)*100)","v":0},{"$f":"IF($BL21=0,0,ROUND(BQ21/$BL21,2)*100)","v":0},{"$f":"IF(BM21=0,\"\",BR21)","v":""},{"$f":"IF(BN21=0,\"\",BS21)","v":""},{"$f":"IF(BO21=0,\"\",BT21)","v":""},{"$f":"IF(BP21=0,\"\",BU21)","v":""},{"$f":"IF(BQ21=0,\"\",BV21)","v":""},null,{"$f":"IF(BX21=0,0,ROUND(BX21/($BL9+$BL15+$BL21+$BL27),2)*100)","v":0},{"$f":"IF($BX21=0,0,ROUND(BY21/$BX21,2)*100)","v":0},{"$f":"IF($BX21=0,0,ROUND(BZ21/$BX21,2)*100)","v":0},{"$f":"IF($BX21=0,0,ROUND(CA21/$BX21,2)*100)","v":0},{"$f":"IF($BX21=0,0,ROUND(CB21/$BX21,2)*100)","v":0},{"$f":"IF($BX21=0,0,ROUND(CC21/$BX21,2)*100)","v":0},{"$f":"IF(BY21=0,\"\",CD21)","v":""},{"$f":"IF(BZ21=0,\"\",CE21)","v":""},{"$f":"IF(CA21=0,\"\",CF21)","v":""},{"$f":"IF(CB21=0,\"\",CG21)","v":""},{"$f":"IF(CC21=0,\"\",CH21)","v":""},null,{"$f":"IF(CJ21=0,0,ROUND(CJ21/(CJ9+CJ15+CJ21+CJ27),2)*100)","v":0},{"$f":"IF($CJ21=0,0,ROUND(CK21/$CJ21,2)*100)","v":0},{"$f":"IF($CJ21=0,0,ROUND(CL21/$CJ21,2)*100)","v":0},{"$f":"IF($CJ21=0,0,ROUND(CM21/$CJ21,2)*100)","v":0},{"$f":"IF($CJ21=0,0,ROUND(CN21/$CJ21,2)*100)","v":0},{"$f":"IF($CJ21=0,0,ROUND(CO21/$CJ21,2)*100)","v":0},{"$f":"IF(CK21=0,\"\",CP21)","v":""},{"$f":"IF(CL21=0,\"\",CQ21)","v":""},{"$f":"IF(CM21=0,\"\",CR21)","v":""},{"$f":"IF(CN21=0,\"\",CS21)","v":""},{"$f":"IF(CO21=0,\"\",CT21)","v":""},null,null,{"$f":"'Daten SR'!A18","v":"22 YOU"},{"$f":"'Daten SR'!AJ18","v":0},{"$f":"'Daten SR'!AM18","v":0},"-",{"$f":"'Daten SR'!AL18","v":0},"-",{"$f":"'Daten SR'!AK18","v":0},"-","-","-",null,null,{"$f":"'Daten A2'!A19","v":"22 YOU"},{"$f":"'Daten A2'!AL19","v":0},{"$f":"'Daten A2'!AO19","v":0},"-",{"$f":"'Daten A2'!AN19","v":0},"-",{"$f":"IF($DJ22=0,\"-\",'Daten A2'!AM19)","v":"-"},null,null,{"$f":"'Daten A2'!A19","v":"22 YOU"},{"$f":"'Daten A2'!AH19","v":0},{"$f":"'Daten A2'!AK19","v":0},"-",{"$f":"'Daten A2'!AJ19","v":0},"-",{"$f":"IF($DS22=0,\"-\",'Daten A2'!AI19)","v":"-"}]
[null,null,null,null,null,null,null,null,null,null,null,null,null,null,null,null,null,null,null,null,null,null,null,null,null,null,null,null,null,null,null,"K1-Attacks after R#+",null,null,null,null,null,"∑","∑ %",null,"=","= %",null,"#","# %",null,"Eff",null,null,null,null,null,null,null,null,null,null,null,null,null,null,null,null,null,null,null,null,null,null,null,null,null,null,null,null,null,null,null,null,null,null,null,null,null,null,null,null,null,null,null,null,null,null,null,null,null,null,null,null,null,{"$f":"'Daten SR'!A19","v":"25 OH"},{"$f":"'Daten SR'!AJ19","v":0},{"$f":"'Daten SR'!AM19","v":0},"-",{"$f":"'Daten SR'!AL19","v":0},"-",{"$f":"'Daten SR'!AK19","v":0},"-","-","-",null,null,{"$f":"'Daten A2'!A20","v":"25 OH"},{"$f":"'Daten A2'!AL20","v":0},{"$f":"'Daten A2'!AO20","v":0},"-",{"$f":"'Daten A2'!AN20","v":0},"-",{"$f":"IF($DJ23=0,\"-\",'Daten A2'!AM20)","v":"-"},null,null,{"$f":"'Daten A2'!A20","v":"25 OH"},{"$f":"'Daten A2'!AH20","v":0},{"$f":"'Daten A2'!AK20","v":0},"-",{"$f":"'Daten A2'!AJ20","v":0},"-",{"$f":"IF($DS23=0,\"-\",'Daten A2'!AI20)","v":"-"}]
[null,null,null,null,null,null,null,null,null,null,null,null,null,null,null,null,null,null,null,null,null,null,null,null,null,null,null,null,null,null,null,{"$f":"DI33","v":"KOREA"},null,null,null,null,null,{"$f":"DJ33","v":6},{"$f":"AL24/$AL$24","v":1},null,{"$f":"DK33","v":1},{"$f":"DL33","v":0.16666666666666666},null,{"$f":"DM33","v":4},{"$f":"DN33","v":0.66666666666666663},null,{"$f":"DO33","v":"50%"},null,null,null,null,null,null,null,null,null,null,null,null,null,null,null,null,null,null,null,null,null,null,null,null,null,null,null,null,null,null,null,null,null,null,null,null,null,null,null,null,null,null,null,null,null,null,null,null,null,null,null,null,null,{"$f":"'Daten SR'!A20","v":0},{"$f":"'Daten SR'!AJ20","v":0},{"$f":"'Daten SR'!AM20","v":0},"-",{"$f":"'Daten SR'!AL20","v":0},"-",{"$f":"'Daten SR'!AK20","v":0},"-","-","-",null,null,{"$f":"'Daten A2'!A21","v":0},{"$f":"'Daten A2'!AL21","v":0},{"$f":"'Daten A2'!AO21","v":0},"-",{"$f":"'Daten A2'!AN21","v":0},"-",{"$f":"IF($DJ24=0,\"-\",'Daten A2'!AM21)","v":"-"},null,null,{"$f":"'Daten A2'!A21","v":0},{"$f":"'Daten A2'!AH21","v":0},{"$f":"'Daten A2'!AK21","v":0},"-",{"$f":"'Daten A2'!AJ21","v":0},"-",{"$f":"IF($DS24=0,\"-\",'Daten A2'!AI21)","v":"-"}]
[null,null,null,null,null,null,null,null,null,null,null,null,null,null,null,null,null,null,null,null,null,null,null,null,null,null,null,null,null,null,null,{"$f":"DI34","v":"4 SHIN"},null,null,null,null,null,{"$f":"DJ34","v":4},{"$f":"AL25/$AL$24","v":0.66666666666666663},null,{"$f":"DK34","v":0},0,null,{"$f":"DM34","v":3},0.75,null,{"$f":"DO34","v":"75%"},null,null,null,null,null,null,null,null,null,null,null,null,null,null,null,null,{"$f":"\"Base \"&Options!$S10","v":"Base KD"},null,null,null,null,null,null,null,null,null,null,null,{"$f":"\"Base \"&Options!$S10","v":"Base KD"},null,null,null,null,null,null,null,null,null,null,null,{"$f":"\"Base \"&Options!$S10","v":"Base KD"},null,null,null,null,null,null,null,null,null,null,null,null,{"$f":"'Daten SR'!A21","v":0},{"$f":"'Daten SR'!AJ21","v":0},{"$f":"'Daten SR'!AM21","v":0},"-",{"$f":"'Daten SR'!AL21","v":0},"-",{"$f":"'Daten SR'!AK21","v":0},"-","-","-",null,null,{"$f":"'Daten A2'!A22","v":0},{"$f":"'Daten A2'!AL22","v":0},{"$f":"'Daten A2'!AO22","v":0},"-",{"$f":"'Daten A2'!AN22","v":0},"-",{"$f":"IF($DJ25=0,\"-\",'Daten A2'!AM22)","v":"-"},null,null,{"$f":"'Daten A2'!A22","v":0},{"$f":"'Daten A2'!AH22","v":0},{"$f":"'Daten A2'!AK22","v":0},"-",{"$f":"'Daten A2'!AJ22","v":0},"-",{"$f":"IF($DS25=0,\"-\",'Daten A2'!AI22)","v":"-"}]
[null,null,null,null,null,null,null,null,null,null,null,null,null,null,null,null,null,null,null,null,null,null,null,null,null,null,null,null,null,null,null,"1 SONG",null,null,null,null,null,1,0.16666666666666666,null,1,1,null,0,0,null,"-100%",null,null,null,null,null,null,null,null,null,null,null,null,null,null,null,null,{"$f":"Daten!E29","v":"KD"},{"$f":"Daten!AJ29","v":"P4"},{"$f":"Daten!AK29","v":"SA"},{"$f":"Daten!AL29","v":"H6"},{"$f":"Daten!AM29","v":"P2"},{"$f":"Daten!AN29","v":"H1"},{"$f":"Daten!AO29","v":"P4-E"},{"$f":"Daten!AP29","v":"SA-E"},{"$f":"Daten!AQ29","v":"H6-E"},{"$f":"Daten!AR29","v":"P2-E"},{"$f":"Daten!AS29","v":"H1-E"},null,{"$f":"Daten!E37","v":"KD"},{"$f":"Daten!AJ37","v":"P4"},{"$f":"Daten!AK37","v":"SA"},{"$f":"Daten!AL37","v":"H6"},{"$f":"Daten!AM37","v":"P2"},{"$f":"Daten!AN37","v":"H1"},{"$f":"Daten!AO37","v":"P4-E"},{"$f":"Daten!AP37","v":"SA-E"},{"$f":"Daten!AQ37","v":"H6-E"},{"$f":"Daten!AR37","v":"P2-E"},{"$f":"Daten!AS37","v":"H1-E"},null,{"$f":"Daten!E45","v":"KD"},{"$f":"Daten!AJ45","v":"P4"},{"$f":"Daten!AK45","v":"SA"},{"$f":"Daten!AL45","v":"H6"},{"$f":"Daten!AM45","v":"P2"},{"$f":"Daten!AN45","v":"H1"},{"$f":"Daten!AO45","v":"P4-E"},{"$f":"Daten!AP45","v":"SA-E"},{"$f":"Daten!AQ45","v":"H6-E"},{"$f":"Daten!AR45","v":"P2-E"},{"$f":"Daten!AS45","v":"H1-E"},null,null,{"$f":"'Daten SR'!A22","v":0},{"$f":"'Daten SR'!AJ22","v":0},{"$f":"'Daten SR'!AM22","v":0},"-",{"$f":"'Daten SR'!AL22","v":0},"-",{"$f":"'Daten SR'!AK22","v":0},"-","-","-",null,null,{"$f":"'Daten A2'!A23","v":0},{"$f":"'Daten A2'!AL23","v":0},{"$f":"'Daten A2'!AO23","v":0},"-",{"$f":"'Daten A2'!AN23","v":0},"-",{"$f":"IF($DJ26=0,\"-\",'Daten A2'!AM23)","v":"-"},null,null,{"$f":"'Daten A2'!A23","v":0},{"$f":"'Daten A2'!AH23","v":0},{"$f":"'Daten A2'!AK23","v":0},"-",{"$f":"'Daten A2'!AJ23","v":0},"-",{"$f":"IF($DS26=0,\"-\",'Daten A2'!AI23)","v":"-"}]
[null,null,null,null,null,null,null,null,null,null,null,null,null,null,null,null,null,null,null,null,null,null,null,null,null,null,null,null,null,null,null,"17 SEO",null,null,null,null,null,1,0.16666666666666666,null,0,0,null,1,1,null,"100%",null,null,null,null,null,null,null,null,null,null,null,null,null,null,null,null,{"$f":"Daten!E34","v":0},{"$f":"Daten!AJ34","v":0},{"$f":"Daten!AK34","v":0},{"$f":"Daten!AL34","v":0},{"$f":"Daten!AM34","v":0},{"$f":"Daten!AN34","v":0},{"$f":"Daten!AO34","v":"0%"},{"$f":"Daten!AP34","v":"0%"},{"$f":"Daten!AQ34","v":"0%"},{"$f":"Daten!AR34","v":"0%"},{"$f":"Daten!AS34","v":"0%"},null,{"$f":"Daten!E42","v":0},{"$f":"Daten!AJ42","v":0},{"$f":"Daten!AK42","v":0},{"$f":"Daten!AL42","v":0},{"$f":"Daten!AM42","v":0},{"$f":"Daten!AN42","v":0},{"$f":"Daten!AO42","v":"0%"},{"$f":"Daten!AP42","v":"0%"},{"$f":"Daten!AQ42","v":"0%"},{"$f":"Daten!AR42","v":"0%"},{"$f":"Daten!AS42","v":"0%"},null,{"$f":"Daten!E50","v":0},{"$f":"Daten!AJ50","v":0},{"$f":"Daten!AK50","v":0},{"$f":"Daten!AL50","v":0},{"$f":"Daten!AM50","v":0},{"$f":"Daten!AN50","v":0},{"$f":"Daten!AO50","v":"0%"},{"$f":"Daten!AP50","v":"0%"},{"$f":"Daten!AQ50","v":"0%"},{"$f":"Daten!AR50","v":"0%"},{"$f":"Daten!AS50","v":"0%"},null,null,{"$f":"'Daten SR'!A23","v":0},{"$f":"'Daten SR'!AJ23","v":0},{"$f":"'Daten SR'!AM23","v":0},"-",{"$f":"'Daten SR'!AL23","v":0},"-",{"$f":"'Daten SR'!AK23","v":0},"-","-","-",null,null,{"$f":"'Daten A2'!A24","v":0},{"$f":"'Daten A2'!AL24","v":0},{"$f":"'Daten A2'!AO24","v":0},"-",{"$f":"'Daten A2'!AN24","v":0},"-",{"$f":"IF($DJ27=0,\"-\",'Daten A2'!AM24)","v":"-"},null,null,{"$f":"'Daten A2'!A24","v":0},{"$f":"'Daten A2'!AH24","v":0},{"$f":"'Daten A2'!AK24","v":0},"-",{"$f":"'Daten A2'!AJ24","v":0},"-",{"$f":"IF($DS27=0,\"-\",'Daten A2'!AI24)","v":"-"}]
[null,null,null,null,null,null,null,null,null,null,null,null,null,null,null,null,null,null,null,null,null,null,null,null,null,null,null,null,null,null,null,"6 LEE",null,null,null,null,null,0,0,null,0,"-",null,0,"-",null,"-",null,null,null,null,null,null,null,null,null,null,null,null,null,null,null,null,{"$f":"IF(BL27=0,0,ROUND(BL27/(BL9+BL15+BL21+BL27),2)*100)","v":0},{"$f":"IF($BL27=0,0,ROUND(BM27/$BL27,2)*100)","v":0},{"$f":"IF($BL27=0,0,ROUND(BN27/$BL27,2)*100)","v":0},{"$f":"IF($BL27=0,0,ROUND(BO27/$BL27,2)*100)","v":0},{"$f":"IF($BL27=0,0,ROUND(BP27/$BL27,2)*100)","v":0},{"$f":"IF($BL27=0,0,ROUND(BQ27/$BL27,2)*100)","v":0},{"$f":"IF(BM27=0,\"\",BR27)","v":""},{"$f":"IF(BN27=0,\"\",BS27)","v":""},{"$f":"IF(BO27=0,\"\",BT27)","v":""},{"$f":"IF(BP27=0,\"\",BU27)","v":""},{"$f":"IF(BQ27=0,\"\",BV27)","v":""},null,{"$f":"IF(BX27=0,0,ROUND(BX27/($BL9+$BL15+$BL21+$BL27),2)*100)","v":0},{"$f":"IF($BX27=0,0,ROUND(BY27/$BX27,2)*100)","v":0},{"$f":"IF($BX27=0,0,ROUND(BZ27/$BX27,2)*100)","v":0},{"$f":"IF($BX27=0,0,ROUND(CA27/$BX27,2)*100)","v":0},{"$f":"IF($BX27=0,0,ROUND(CB27/$BX27,2)*100)","v":0},{"$f":"IF($BX27=0,0,ROUND(CC27/$BX27,2)*100)","v":0},{"$f":"IF(BY27=0,\"\",CD27)","v":""},{"$f":"IF(BZ27=0,\"\",CE27)","v":""},{"$f":"IF(CA27=0,\"\",CF27)","v":""},{"$f":"IF(CB27=0,\"\",CG27)","v":""},{"$f":"IF(CC27=0,\"\",CH27)","v":""},null,{"$f":"IF(CJ27=0,0,ROUND(CJ27/(CJ9+CJ15+CJ21+CJ27),2)*100)","v":0},{"$f":"IF($CJ27=0,0,ROUND(CK27/$CJ27,2)*100)","v":0},{"$f":"IF($CJ27=0,0,ROUND(CL27/$CJ27,2)*100)","v":0},{"$f":"IF($CJ27=0,0,ROUND(CM27/$CJ27,2)*100)","v":0},{"$f":"IF($CJ27=0,0,ROUND(CN27/$CJ27,2)*100)","v":0},{"$f":"IF($CJ27=0,0,ROUND(CO27/$CJ27,2)*100)","v":0},{"$f":"IF(CK27=0,\"\",CP27)","v":""},{"$f":"IF(CL27=0,\"\",CQ27)","v":""},{"$f":"IF(CM27=0,\"\",CR27)","v":""},{"$f":"IF(CN27=0,\"\",CS27)","v":""},{"$f":"IF(CO27=0,\"\",CT27)","v":""},null,null,{"$f":"'Daten SR'!A24","v":0},{"$f":"'Daten SR'!AJ24","v":0},{"$f":"'Daten SR'!AM24","v":0},"-",{"$f":"'Daten SR'!AL24","v":0},"-",{"$f":"'Daten SR'!AK24","v":0},"-","-","-",null,null,{"$f":"'Daten A2'!A25","v":0},{"$f":"'Daten A2'!AL25","v":0},{"$f":"'Daten A2'!AO25","v":0},"-",{"$f":"'Daten A2'!AN25","v":0},"-",{"$f":"IF($DJ28=0,\"-\",'Daten A2'!AM25)","v":"-"},null,null,{"$f":"'Daten A2'!A25","v":0},{"$f":"'Daten A2'!AH25","v":0},{"$f":"'Daten A2'!AK25","v":0},"-",{"$f":"'Daten A2'!AJ25","v":0},"-",{"$f":"IF($DS28=0,\"-\",'Daten A2'!AI25)","v":"-"}]
[null,null,null,null,null,null,null,null,null,null,null,null,null,null,null,null,null,null,null,null,null,null,null,null,null,null,null,null,null,null,null,"8 PARK",null,null,null,null,null,0,0,null,0,"-",null,0,"-",null,"-"]
[null,null,null,null,null,null,null,null,null,null,null,null,null,null,null,null,null,null,null,null,null,null,null,null,null,null,null,null,null,null,null,"9 KWAK",null,null,null,null,null,0,0,null,0,"-",null,0,"-",null,"-"]
[null,null,null,null,null,null,null,null,null,null,null,null,null,null,null,null,null,null,null,null,null,null,null,null,null,null,null,null,null,null,null,"11 CHOI",null,null,null,null,null,0,0,null,0,"-",null,0,"-",null,"-"]
[]
[null,null,"Rec in Pos 1",null,null,null,null,{"$f":"CI35&\" % (\"&BL35&\")\"","v":"29 % (2)"},null,null,null,"Rec in Pos 6",null,null,null,null,{"$f":"CI36&\" % (\"&BL36&\")\"","v":"57 % (4)"},null,null,null,"Rec in Pos 5",null,null,null,null,{"$f":"CI37&\" % (\"&BL37&\")\"","v":"14 % (1)"},null,null,null,null,null,"K2-Attacks - Transition",null,null,null,null,null,"∑","∑ %",null,"=","= %",null,"#","# %",null,"Eff",null,null,null,null,null,null,null,null,null,null,null,null,null,null,null,"Attack depending on R Position",null,null,null,null,null,null,null,null,null,null,null,null,null,null,null,null,null,null,null,null,null,null,null,null,null,null,null,null,null,null,null,null,null,null,null,null,null,"KOREA",9,0,0,7,0.77777777777777779,0,0,0.77777777777777779,0.77777777777777779,null,null,"KOREA",6,1,0.16666666666666666,4,0.66666666666666663,"50%",null,null,"KOREA",1,1,1,0,0,"-100%"]
[null,null,null,null,null,null,null,null,null,null,null,null,null,null,null,null,null,null,null,null,null,null,null,null,null,null,null,null,null,null,null,{"$f":"DR33","v":"KOREA"},null,null,null,null,null,{"$f":"DS33","v":1},{"$f":"AL34/$AL$34","v":1},null,{"$f":"DT33","v":1},{"$f":"DU33","v":1},null,{"$f":"DV33","v":0},{"$f":"DW33","v":0},null,{"$f":"DX33","v":"-100%"},null,null,null,null,null,null,null,null,null,null,null,null,null,null,null,null,{"$f":"Daten!B55","v":"alle"},{"$f":"Daten!C55","v":"P4"},{"$f":"Daten!D55","v":"X"},{"$f":"Daten!E55","v":4},{"$f":"Daten!F55","v":1},{"$f":"Daten!G55","v":"Set"},{"$f":"Daten!H55","v":3},{"$f":"Daten!I55","v":"OF"},{"$f":"Daten!J55","v":"P2"},{"$f":"Daten!K55","v":"HF6"},{"$f":"Daten!L55","v":"HF1"},null,null,{"$f":"Daten!C55","v":"P4"},{"$f":"Daten!D55","v":"X"},{"$f":"Daten!E55","v":4},{"$f":"Daten!F55","v":1},{"$f":"Daten!G55","v":"Set"},{"$f":"Daten!H55","v":3},{"$f":"Daten!I55","v":"OF"},{"$f":"Daten!J55","v":"P2"},{"$f":"Daten!K55","v":"HF6"},{"$f":"Daten!L55","v":"HF1"},null,null,null,null,null,null,null,null,null,null,null,null,null,null,"19 JEONG",5,0,0,5,1,0,0,1,1,null,null,"4 SHIN",4,0,0,3,0.75,"75%",null,null,"16 CHOI",1,1,1,0,0,"-100%"]
[null,null,null,null,null,null,null,null,null,null,null,null,null,null,null,null,null,null,null,null,null,null,null,null,null,null,null,null,null,null,null,{"$f":"DR34","v":"16 CHOI"},null,null,null,null,null,{"$f":"DS34","v":1},{"$f":"AL35/$AL$34","v":1},null,{"$f":"DT34","v":1},1,null,{"$f":"DV34","v":0},0,null,{"$f":"DX34","v":"-100%"},null,null,null,null,null,null,null,null,null,null,null,null,null,null,null,"R1",{"$f":"Daten!B60","v":2},{"$f":"Daten!C60","v":0},{"$f":"Daten!D60","v":0},{"$f":"Daten!E60","v":0},{"$f":"Daten!F60","v":0},{"$f":"Daten!G60","v":0},{"$f":"Daten!H60","v":0},{"$f":"Daten!I60","v":0},{"$f":"Daten!J60","v":0},{"$f":"Daten!K60","v":0},{"$f":"Daten!L60","v":0},null,"R1",{"$f":"IF($BL35=0,0,ROUND(BM35/$BL35,2)*100)","v":0},0,0,0,0,0,0,0,0,0,{"$f":"IF(BL35=0,0,ROUND(BL35/$BL$41,2)*100)","v":28.999999999999996},null,null,null,null,null,null,null,null,null,null,null,null,null,"9 KWAK",4,0,0,2,0.5,0,0,0.5,0.5,null,null,"1 SONG",1,1,1,0,0,"-100%",null,null,"1 SONG",0,0,"-",0,"-","-"]
[null,null,null,null,null,null,null,null,null,null,null,null,null,null,null,null,null,null,null,null,null,null,null,null,null,null,null,null,null,null,null,{"$f":"DR35","v":"1 SONG"},null,null,null,null,null,0,0,null,0,"-",null,0,"-",null,"-",null,null,null,null,null,null,null,null,null,null,null,null,null,null,null,"R6",{"$f":"Daten!M60","v":4},{"$f":"Daten!N60","v":1},{"$f":"Daten!O60","v":0},{"$f":"Daten!P60","v":0},{"$f":"Daten!Q60","v":1},{"$f":"Daten!R60","v":1},{"$f":"Daten!S60","v":0},{"$f":"Daten!T60","v":0},{"$f":"Daten!U60","v":0},{"$f":"Daten!V60","v":0},{"$f":"Daten!W60","v":1},null,"R6",25,0,0,25,25,0,0,0,0,25,56.999999999999993,null,null,null,null,null,null,null,null,null,null,null,null,null,"1 SONG",0,0,"-",0,"-",0,"-","-","-",null,null,"17 SEO",1,0,0,1,1,"100%",null,null,"4 SHIN",0,0,"-",0,"-","-"]
[null,null,null,null,null,null,null,null,null,null,null,null,null,null,null,null,null,null,null,null,null,null,null,null,null,null,null,null,null,null,null,"4 SHIN",null,null,null,null,null,0,0,null,0,"-",null,0,"-",null,"-",null,null,null,null,null,null,null,null,null,null,null,null,null,null,null,"R5",{"$f":"Daten!X60","v":1},{"$f":"Daten!Y60","v":0},{"$f":"Daten!Z60","v":0},{"$f":"Daten!AA60","v":0},{"$f":"Daten!AB60","v":1},{"$f":"Daten!AC60","v":0},{"$f":"Daten!AD60","v":0},{"$f":"Daten!AE60","v":0},{"$f":"Daten!AF60","v":0},{"$f":"Daten!AG60","v":0},{"$f":"Daten!AH60","v":0},null,"R5",0,0,0,100,0,0,0,0,0,0,14.000000000000002,null,null,null,null,null,null,null,null,null,null,null,null,null,"4 SHIN",0,0,"-",0,"-",0,"-","-","-",null,null,"6 LEE",0,0,"-",0,"-","-",null,null,"6 LEE",0,0,"-",0,"-","-"]
[null,null,null,null,null,null,null,null,null,null,null,null,null,null,null,null,null,null,null,null,null,null,null,null,null,null,null,null,null,null,null,"6 LEE",null,null,null,null,null,0,0,null,0,"-",null,0,"-",null,"-",null,null,null,null,null,null,null,null,null,null,null,null,null,null,null,"R4",{"$f":"Daten!X67","v":0},{"$f":"Daten!Y67","v":0},{"$f":"Daten!Z67","v":0},{"$f":"Daten!AA67","v":0},{"$f":"Daten!AB67","v":0},{"$f":"Daten!AC67","v":0},{"$f":"Daten!AD67","v":0},{"$f":"Daten!AE67","v":0},{"$f":"Daten!AF67","v":0},{"$f":"Daten!AG67","v":0},{"$f":"Daten!AH67","v":0},null,"R4",0,0,0,0,0,0,0,0,0,0,0,null,null,null,null,null,null,null,null,null,null,null,null,null,"6 LEE",0,0,"-",0,"-",0,"-","-","-",null,null,"8 PARK",0,0,"-",0,"-","-",null,null,"8 PARK",0,0,"-",0,"-","-"]
[null,null,"Rec in Pos 2",null,null,null,null,{"$f":"CI40&\" % (\"&BL40&\")\"","v":"0 % (0)"},null,null,null,"Rec in Pos 3",null,null,null,null,null,{"$f":"CI39&\" % (\"&BL39&\")\"","v":"0 % (0)"},null,null,"Rec in Pos 4",null,null,null,null,{"$f":"CI38&\" % (\"&BL38&\")\"","v":"0 % (0)"},null,null,null,null,null,"8 PARK",null,null,null,null,null,0,0,null,0,"-",null,0,"-",null,"-",null,null,null,null,null,null,null,null,null,null,null,null,null,null,null,"R3",{"$f":"Daten!M67","v":0},{"$f":"Daten!N67","v":0},{"$f":"Daten!O67","v":0},{"$f":"Daten!P67","v":0},{"$f":"Daten!Q67","v":0},{"$f":"Daten!R67","v":0},{"$f":"Daten!S67","v":0},{"$f":"Daten!T67","v":0},{"$f":"Daten!U67","v":0},{"$f":"Daten!V67","v":0},{"$f":"Daten!W67","v":0},null,"R3",0,0,0,0,0,0,0,0,0,0,0,null,null,null,null,null,null,null,null,null,null,null,null,null,"8 PARK",0,0,"-",0,"-",0,"-","-","-",null,null,"9 KWAK",0,0,"-",0,"-","-",null,null,"9 KWAK",0,0,"-",0,"-","-"]
[null,null,null,null,null,null,null,null,null,null,null,null,null,null,null,null,null,null,null,null,null,null,null,null,null,null,null,null,null,null,null,"9 KWAK",null,null,null,null,null,0,0,null,0,"-",null,0,"-",null,"-",null,null,null,null,null,null,null,null,null,null,null,null,null,null,null,"R2",{"$f":"Daten!B67","v":0},{"$f":"Daten!C67","v":0},{"$f":"Daten!D67","v":0},{"$f":"Daten!E67","v":0},{"$f":"Daten!F67","v":0},{"$f":"Daten!G67","v":0},{"$f":"Daten!H67","v":0},{"$f":"Daten!I67","v":0},{"$f":"Daten!J67","v":0},{"$f":"Daten!K67","v":0},{"$f":"Daten!L67","v":0},null,"R2",0,0,0,0,0,0,0,0,0,0,0,null,null,null,null,null,null,null,null,null,null,null,null,null,"11 CHOI",0,0,"-",0,"-",0,"-","-","-",null,null,"11 CHOI",0,0,"-",0,"-","-",null,null,"11 CHOI",0,0,"-",0,"-","-"]
[null,null,null,null,null,null,null,null,null,null,null,null,null,null,null,null,null,null,null,null,null,null,null,null,null,null,null,null,null,null,null,"11 CHOI",null,null,null,null,null,0,0,null,0,"-",null,0,"-",null,"-",null,null,null,null,null,null,null,null,null,null,null,null,null,null,null,null,{"$f":"SUM(BL35:BL40)","v":7},null,null,null,null,null,null,null,null,null,null,null,null,null,null,null,null,null,null,null,null,null,null,null,null,null,null,null,null,null,null,null,null,null,null,null,null,"12 JEON",0,0,"-",0,"-",0,"-","-","-",null,null,"12 JEON",0,0,"-",0,"-","-",null,null,"12 JEON",0,0,"-",0,"-","-"]
[null,null,null,null,null,null,null,null,null,null,null,null,null,null,null,null,null,null,null,null,null,null,null,null,null,null,null,null,null,null,null,null,null,null,null,null,null,null,null,null,null,null,null,null,null,null,null,null,null,null,null,null,null,null,null,null,null,null,null,null,null,null,null,null,null,null,null,null,null,null,null,null,null,null,null,null,null,null,null,null,null,null,null,null,null,null,null,null,null,null,null,null,null,null,null,null,null,null,null,null,"14 SONG",0,0,"-",0,"-",0,"-","-","-",null,null,"14 SONG",0,0,"-",0,"-","-",null,null,"14 SONG",0,0,"-",0,"-","-"]
[null,null,null,null,null,null,null,null,null,null,null,null,null,null,null,null,null,null,null,null,null,null,null,null,null,null,null,null,null,null,null,null,null,null,null,null,null,null,null,null,null,null,null,null,null,null,null,null,null,null,null,null,null,null,null,null,null,null,null,null,null,null,null,null,null,null,null,null,null,null,null,null,null,null,null,null,null,null,null,null,null,null,null,null,null,null,null,null,null,null,null,null,null,null,null,null,null,null,null,null,"16 CHOI",0,0,"-",0,"-",0,"-","-","-",null,null,"16 CHOI",0,0,"-",0,"-","-",null,null,"17 SEO",0,0,"-",0,"-","-"]
[null,null,null,null,null,null,null,null,null,null,null,null,null,null,null,null,null,null,null,null,null,null,null,null,null,null,null,null,null,null,null,null,null,null,null,null,null,null,null,null,null,null,null,null,null,null,null,null,null,null,null,null,null,null,null,null,null,null,null,null,null,null,null,null,null,null,null,null,null,null,null,null,null,null,null,null,null,null,null,null,null,null,null,null,null,null,null,null,null,null,null,null,null,null,null,null,null,null,null,null,"17 SEO",0,0,"-",0,"-",0,"-","-","-",null,null,"19 JEONG",0,0,"-",0,"-","-",null,null,"19 JEONG",0,0,"-",0,"-","-"]
[null,null,null,null,null,null,null,null,null,null,null,null,null,null,null,null,null,null,null,null,null,null,null,null,null,null,null,null,null,null,null,null,null,null,null,null,null,null,null,null,null,null,null,null,null,null,null,null,null,null,null,null,null,null,null,null,null,null,null,null,null,null,null,null,null,null,null,null,null,null,null,null,null,null,null,null,null,null,null,null,null,null,null,null,null,null,null,null,null,null,null,null,null,null,null,null,null,null,null,null,"20 JI",0,0,"-",0,"-",0,"-","-","-",null,null,"20 JI",0,0,"-",0,"-","-",null,null,"20 JI",0,0,"-",0,"-","-"]
[null,null,"Settermovement to 4",null,null,null,null,null,null,{"$f":"BL48","v":0},null,"Settermovement to 3",null,null,null,null,null,{"$f":"BL49","v":6},null,null,"Settermovement to 2",null,null,null,null,null,{"$f":"BL50","v":1},null,null,null,null,null,null,null,null,null,null,null,null,null,null,null,null,null,null,null,null,null,null,null,null,null,null,null,null,null,null,null,null,null,null,null,"Settermovement",null,null,null,null,null,null,null,null,null,null,null,null,null,null,null,null,null,null,null,null,null,null,null,null,null,null,null,null,null,null,null,null,null,null,null,null,null,"22 YOU",0,0,"-",0,"-",0,"-","-","-",null,null,"22 YOU",0,0,"-",0,"-","-",null,null,"22 YOU",0,0,"-",0,"-","-"]
[null,null,null,null,null,null,null,null,null,null,null,null,null,null,null,null,null,null,null,null,null,null,null,null,null,null,null,null,null,null,null,null,null,null,null,null,null,null,null,null,null,null,null,null,null,null,null,null,null,null,null,null,null,null,null,null,null,null,null,null,null,null,null,{"$f":"Daten!X73","v":"alle"},{"$f":"Daten!Y73","v":"P4"},{"$f":"Daten!Z73","v":"X"},{"$f":"Daten!AA73","v":4},{"$f":"Daten!AB73","v":1},{"$f":"Daten!AC73","v":"Set"},{"$f":"Daten!AD73","v":3},{"$f":"Daten!AE73","v":"OF"},{"$f":"Daten!AF73","v":"P2"},{"$f":"Daten!AG73","v":"HF6"},{"$f":"Daten!AH73","v":"HF1"},null,null,{"$f":"Daten!Y73","v":"P4"},{"$f":"Daten!Z73","v":"X"},{"$f":"Daten!AA73","v":4},{"$f":"Daten!AB73","v":1},{"$f":"Daten!AC73","v":"Set"},{"$f":"Daten!AD73","v":3},{"$f":"Daten!AE73","v":"OF"},{"$f":"Daten!AF73","v":"P2"},{"$f":"Daten!AG73","v":"HF6"},{"$f":"Daten!AH73","v":"HF1"},null,null,null,null,null,null,null,null,null,null,null,null,null,null,"25 OH",0,0,"-",0,"-",0,"-","-","-",null,null,"25 OH",0,0,"-",0,"-","-",null,null,"25 OH",0,0,"-",0,"-","-"]
[null,null,null,null,null,null,null,null,null,null,null,null,null,null,null,null,null,null,null,null,null,null,null,null,null,null,null,null,null,null,null,null,null,null,null,null,null,null,null,null,null,null,null,null,null,null,null,null,null,null,null,null,null,null,null,null,null,null,null,null,null,null,"P4",{"$f":"Daten!X78","v":0},{"$f":"Daten!Y78","v":0},{"$f":"Daten!Z78","v":0},{"$f":"Daten!AA78","v":0},{"$f":"Daten!AB78","v":0},{"$f":"Daten!AC78","v":0},{"$f":"Daten!AD78","v":0},{"$f":"Daten!AE78","v":0},{"$f":"Daten!AF78","v":0},{"$f":"Daten!AG78","v":0},{"$f":"Daten!AH78","v":0},null,"P4",{"$f":"IF($BL48=0,0,ROUND(BM48/$BL48,2)*100)","v":0},0,0,0,0,0,0,0,0,0,null,null,null,null,null,null,null,null,null,null,null,null,null,null,0,0,0,"-",0,"-",0,"-","-","-",null,null,0,0,0,"-",0,"-","-",null,null,0,0,0,"-",0,"-","-"]
[null,null,null,null,null,null,null,null,null,null,null,null,null,null,null,null,null,null,null,null,null,null,null,null,null,null,null,null,null,null,null,null,null,null,null,null,null,null,null,null,null,null,null,null,null,null,null,null,null,null,null,null,null,null,null,null,null,null,null,null,null,null,"P3",{"$f":"Daten!M78","v":6},{"$f":"Daten!N78","v":1},{"$f":"Daten!O78","v":0},{"$f":"Daten!P78","v":0},{"$f":"Daten!Q78","v":2},{"$f":"Daten!R78","v":0},{"$f":"Daten!S78","v":2},{"$f":"Daten!T78","v":0},{"$f":"Daten!U78","v":0},{"$f":"Daten!V78","v":0},{"$f":"Daten!W78","v":1},null,"P3",17,0,0,33,0,33,0,0,0,17,null,null,null,null,null,null,null,null,null,null,null,null,null,null,0,0,0,"-",0,"-",0,"-","-","-",null,null,0,0,0,"-",0,"-","-",null,null,0,0,0,"-",0,"-","-"]
[null,null,null,null,null,null,null,null,null,null,null,null,null,null,null,null,null,null,null,null,null,null,null,null,null,null,null,null,null,null,null,null,null,null,null,null,null,null,null,null,null,null,null,null,null,null,null,null,null,null,null,null,null,null,null,null,null,null,null,null,null,null,"P2",{"$f":"Daten!B78","v":1},{"$f":"Daten!C78","v":0},{"$f":"Daten!D78","v":0},{"$f":"Daten!E78","v":0},{"$f":"Daten!F78","v":0},{"$f":"Daten!G78","v":1},{"$f":"Daten!H78","v":0},{"$f":"Daten!I78","v":0},{"$f":"Daten!J78","v":0},{"$f":"Daten!K78","v":0},{"$f":"Daten!L78","v":0},null,"P2",0,0,0,0,100,0,0,0,0,0,null,null,null,null,null,null,null,null,null,null,null,null,null,null,0,0,0,"-",0,"-",0,"-","-","-",null,null,0,0,0,"-",0,"-","-",null,null,0,0,0,"-",0,"-","-"]
[null,null,null,null,null,null,null,null,null,null,null,null,null,null,null,null,null,null,null,null,null,null,null,null,null,null,null,null,null,null,null,null,null,null,null,null,null,null,null,null,null,null,null,null,null,null,null,null,null,null,null,null,null,null,null,null,null,null,null,null,null,null,null,null,null,null,null,null,null,null,null,null,null,null,null,null,null,null,null,null,null,null,null,null,null,null,null,null,null,null,null,null,null,null,null,null,null,null,null,null,0,0,0,"-",0,"-",0,"-","-","-",null,null,0,0,0,"-",0,"-","-",null,null,0,0,0,"-",0,"-","-"]
[null,null,null,null,null,null,null,null,null,null,null,null,null,null,null,null,null,null,null,null,null,null,null,null,null,null,null,null,null,null,null,null,null,null,null,null,null,null,null,null,null,null,null,null,null,null,null,null,null,null,null,null,null,null,null,null,null,null,null,null,null,null,null,null,null,null,null,null,null,null,null,null,null,null,null,null,null,null,null,null,null,null,null,null,null,null,null,null,null,null,null,null,null,null,null,null,null,null,null,null,0,0,0,"-",0,"-",0,"-","-","-",null,null,0,0,0,"-",0,"-","-",null,null,0,0,0,"-",0,"-","-"]

{"sheet":"R 2","index":14,"n_rows":52,"n_cols":170,"rows_kept":52,"cut":false,"hidden":false,"merged":[[7,165,7,169],[7,160,7,164],[7,131,7,134],[7,135,7,139],[7,140,7,144],[7,145,7,149],[7,150,7,154],[7,155,7,159],[1,31,1,38],[4,31,4,34],[4,40,4,43],[4,49,4,52],[13,31,13,35],[45,62,45,73],[45,2,45,7],[45,9,45,10],[45,11,45,16],[45,17,45,19],[45,20,45,25],[45,26,45,28],[38,25,38,28],[32,2,32,5],[22,31,22,35],[32,7,32,10],[32,11,32,14],[32,31,32,35],[38,2,38,5],[38,7,38,10],[38,11,38,14],[38,17,38,19],[38,20,38,24],[12,63,12,73],[12,75,12,85],[12,87,12,97],[32,16,32,19],[32,20,32,24],[32,25,32,28],[18,63,18,73],[18,75,18,85],[18,87,18,97],[24,63,24,73],[24,75,24,85],[24,87,24,97],[32,62,32,73],[1,9,1,28],[6,63,6,73],[6,75,6,85],[6,87,6,97],[1,2,1,6],[4,2,4,4],[4,5,4,7],[4,9,4,11],[4,12,4,14],[4,16,4,18],[4,19,4,21],[4,23,4,25],[4,26,4,28],[4,63,4,73],[4,75,4,85],[4,87,4,97]]}
[]
[null,null,"Rotation 2",null,null,null,null,null,null,{"$f":"Daten!A3","v":"KOREA"},null,null,null,null,null,null,null,null,null,null,null,null,null,null,null,null,null,null,null,null,null,"Distribution"]
[]
[]
[null,null,{"$f":"\"Base \"&Options!S7","v":"Base K1"},null,null,{"$f":"BL10&\" % (\"&BL9&\")\"","v":"91 % (10)"},null,null,null,{"$f":"\"Base \"&Options!S8","v":"Base K2"},null,null,{"$f":"BL16&\" % (\"&BL15&\")\"","v":"0 % (0)"},null,null,null,{"$f":"\"Base \"&Options!S9","v":"Base K7"},null,null,{"$f":"BL22&\" % (\"&BL21&\")\"","v":"9 % (1)"},null,null,null,{"$f":"\"Base \"&Options!S10","v":"Base KD"},null,null,{"$f":"BL28&\" % (\"&BL27&\")\"","v":"0 % (0)"},null,null,null,null,"K1 after all R",null,null,null,{"$f":"EB10","v":16},null,{"$f":"EC10","v":"6%"},{"$f":"EE10","v":0.5},null,"K1 after R#+",null,null,null,{"$f":"EB11","v":11},null,{"$f":"EC11","v":"9%"},{"$f":"EE11","v":0.54545454545454541},null,"K2 Transition",null,null,null,{"$f":"EB12","v":4},null,{"$f":"EC12","v":"50%"},{"$f":"EE12","v":0.5},null,null,null,null,null,null,"alle Punkte",null,null,null,null,null,null,null,null,null,null,null,"0-20",null,null,null,null,null,null,null,null,null,null,null,"20-x"]
[]
[null,null,null,null,null,null,null,null,null,null,null,null,null,null,null,null,null,null,null,null,null,null,null,null,null,null,null,null,null,null,null,null,null,null,null,null,null,null,null,null,null,null,null,null,null,null,null,null,null,null,null,null,null,null,null,null,null,null,null,null,null,null,null,{"$f":"\"Base \"&Options!$S7","v":"Base K1"},null,null,null,null,null,null,null,null,null,null,null,{"$f":"\"Base \"&Options!$S7","v":"Base K1"},null,null,null,null,null,null,null,null,null,null,null,{"$f":"\"Base \"&Options!$S7","v":"Base K1"},null,null,null,null,null,null,null,null,null,null,null,null,"Reception",null,null,null,null,null,null,null,null,null,null,null,"K1 after R#+",null,null,null,null,null,null,null,null,"K2 Transition",null,null,null,null,null,null,null,null,"Distribution"]
[null,null,null,null,null,null,null,null,null,null,null,null,null,null,null,null,null,null,null,null,null,null,null,null,null,null,null,null,null,null,null,null,null,null,null,null,null,null,null,null,null,null,null,null,null,null,null,null,null,null,null,null,null,null,null,null,null,null,null,null,null,null,null,{"$f":"Daten!B29","v":"K1"},{"$f":"Daten!F29","v":"P4"},{"$f":"Daten!G29","v":"SA"},{"$f":"Daten!H29","v":"H6"},{"$f":"Daten!I29","v":"P2"},{"$f":"Daten!J29","v":"H1"},{"$f":"Daten!K29","v":"P4-E"},{"$f":"Daten!L29","v":"SA-E"},{"$f":"Daten!M29","v":"H6-E"},{"$f":"Daten!N29","v":"P2-E"},{"$f":"Daten!O29","v":"H1-E"},null,{"$f":"Daten!B37","v":"K1"},{"$f":"Daten!F37","v":"P4"},{"$f":"Daten!G37","v":"SA"},{"$f":"Daten!H37","v":"H6"},{"$f":"Daten!I37","v":"P2"},{"$f":"Daten!J37","v":"H1"},{"$f":"Daten!K37","v":"P4-E"},{"$f":"Daten!L37","v":"SA-E"},{"$f":"Daten!M37","v":"H6-E"},{"$f":"Daten!N37","v":"P2-E"},{"$f":"Daten!O37","v":"H1-E"},null,{"$f":"Daten!B45","v":"K1"},{"$f":"Daten!F45","v":"P4"},{"$f":"Daten!G45","v":"SA"},{"$f":"Daten!H45","v":"H6"},{"$f":"Daten!I45","v":"P2"},{"$f":"Daten!J45","v":"H1"},{"$f":"Daten!K45","v":"P4-E"},{"$f":"Daten!L45","v":"SA-E"},{"$f":"Daten!M45","v":"H6-E"},{"$f":"Daten!N45","v":"P2-E"},{"$f":"Daten!O45","v":"H1-E"},null,null,null,{"$f":"'Daten SR'!AN4","v":"R 2"},{"$f":"'Daten SR'!AQ4","v":"R 2/="},{"$f":"CY8&\"%\"","v":"R 2/=%"},{"$f":"'Daten SR'!AP4","v":"R 2+"},{"$f":"DA8&\"%\"","v":"R 2+%"},{"$f":"'Daten SR'!AO4","v":"R 2#"},{"$f":"DC8&\"%\"","v":"R 2#%"},{"$f":"DA8&\"#%\"","v":"R 2+#%"},{"$f":"CX8&\" Eff\"","v":"R 2 Eff"},null,null,null,{"$f":"'Daten A2'!N5","v":"A"},{"$f":"'Daten A2'!Q5","v":"A="},{"$f":"DK8&\"%\"","v":"A=%"},{"$f":"'Daten A2'!P5","v":"A#"},{"$f":"DM8&\"%\"","v":"A#%"},{"$f":"'Daten A2'!O5","v":"Eff"},null,null,null,{"$f":"'Daten A2'!J5","v":"A"},{"$f":"'Daten A2'!M5","v":"A="},{"$f":"DT8&\"%\"","v":"A=%"},{"$f":"'Daten A2'!L5","v":"A#"},{"$f":"DV8&\"%\"","v":"A#%"},{"$f":"'Daten A2'!K5","v":"Eff"},null,null,null,"alle",null,null,null,"Pos2",null,null,null,null,"Pos3",null,null,null,null,"Pos4",null,null,null,null,"Pos9",null,null,null,null,"Pos8",null,null,null,null,"Pos7",null,null,null,null,"PosS"]
[null,null,null,null,null,null,null,null,null,null,null,null,null,null,null,null,null,null,null,null,null,null,null,null,null,null,null,null,null,null,null,{"$f":"EU10","v":5},{"$f":"EV10","v":0.3125},null,{"$f":"EZ10","v":0},{"$f":"FA10","v":"-"},null,{"$f":"FE10","v":0},{"$f":"FF10","v":"-"},null,{"$f":"EU11","v":4},{"$f":"EV11","v":0.36363636363636365},null,{"$f":"EZ11","v":0},{"$f":"FA11","v":"-"},null,{"$f":"FE11","v":0},{"$f":"FF11","v":"-"},null,{"$f":"EU12","v":0},{"$f":"EV12","v":"-"},null,{"$f":"EZ12","v":0},{"$f":"FA12","v":"-"},null,{"$f":"FE12","v":0},{"$f":"FF12","v":"-"},null,null,null,null,null,null,{"$f":"Daten!B35","v":10},{"$f":"Daten!F35","v":3},{"$f":"Daten!G35","v":3},{"$f":"Daten!H35","v":0},{"$f":"Daten!I35","v":0},{"$f":"Daten!J35","v":4},{"$f":"Daten!K35","v":"-33%"},{"$f":"Daten!L35","v":"33%"},{"$f":"Daten!M35","v":"0%"},{"$f":"Daten!N35","v":"0%"},{"$f":"Daten!O35","v":"0%"},null,{"$f":"Daten!B43","v":10},{"$f":"Daten!F43","v":3},{"$f":"Daten!G43","v":3},{"$f":"Daten!H43","v":0},{"$f":"Daten!I43","v":0},{"$f":"Daten!J43","v":4},{"$f":"Daten!K43","v":"-33%"},{"$f":"Daten!L43","v":"33%"},{"$f":"Daten!M43","v":"0%"},{"$f":"Daten!N43","v":"0%"},{"$f":"Daten!O43","v":"0%"},null,{"$f":"Daten!B51","v":0},{"$f":"Daten!F51","v":0},{"$f":"Daten!G51","v":0},{"$f":"Daten!H51","v":0},{"$f":"Daten!I51","v":0},{"$f":"Daten!J51","v":0},{"$f":"Daten!K51","v":"0%"},{"$f":"Daten!L51","v":"0%"},{"$f":"Daten!M51","v":"0%"},{"$f":"Daten!N51","v":"0%"},{"$f":"Daten!O51","v":"0%"},null,null,{"$f":"'Daten SR'!A5","v":"KOREA"},{"$f":"'Daten SR'!AN5","v":16},{"$f":"'Daten SR'!AQ5","v":0},{"$f":"IF($CX9=0,\"-\",CY9/$CX9)","v":0},{"$f":"'Daten SR'!AP5","v":5},{"$f":"IF($CX9=0,\"-\",DA9/$CX9)","v":0.3125},{"$f":"'Daten SR'!AO5","v":6},{"$f":"IF($CX9=0,\"-\",DC9/$CX9)","v":0.375},{"$f":"IF($CX9=0,\"-\",(DA9+DC9)/$CX9)","v":0.6875},{"$f":"IF(CX9=0,\"-\",(DC9+DA9-CY9)/CX9)","v":0.6875},null,null,{"$f":"'Daten A2'!A6","v":"KOREA"},{"$f":"'Daten A2'!AT6","v":11},{"$f":"'Daten A2'!AW6","v":2},{"$f":"IF($DJ9=0,\"-\",DK9/$DJ9)","v":0.18181818181818182},{"$f":"'Daten A2'!AV6","v":6},{"$f":"IF($DJ9=0,\"-\",DM9/$DJ9)","v":0.54545454545454541},{"$f":"IF($DJ9=0,\"-\",'Daten A2'!AU6)","v":"9%"},null,null,{"$f":"'Daten A2'!A6","v":"KOREA"},{"$f":"'Daten A2'!AP6","v":4},{"$f":"'Daten A2'!AS6","v":0},{"$f":"IF($DS9=0,\"-\",DT9/$DS9)","v":0},{"$f":"'Daten A2'!AR6","v":2},{"$f":"IF($DS9=0,\"-\",DV9/$DS9)","v":0.5},{"$f":"IF($DS9=0,\"-\",'Daten A2'!AQ6)","v":"50%"},null,null,null,"r","Eff","#","#%","r","r%","Eff","#","#%","r","r%","Eff","#","#%","r","r%","Eff","#","#%","r","r%","Eff","#","#%","r","r%","Eff","#","#%","r","r%","Eff","#","#%","r","r%","Eff","#","#%"]
[null,null,null,null,null,null,null,null,null,null,null,null,null,null,null,null,null,null,null,null,null,null,null,null,null,null,null,null,null,null,null,{"$f":"EW10","v":"0%"},{"$f":"EY10","v":0.4},null,{"$f":"FB10","v":"-"},{"$f":"FD10","v":"-"},null,{"$f":"FG10","v":"-"},{"$f":"FI10","v":"-"},null,{"$f":"EW11","v":"0%"},{"$f":"EY11","v":0.5},null,{"$f":"FB11","v":"-"},{"$f":"FD11","v":"-"},null,{"$f":"FG11","v":"-"},{"$f":"FI11","v":"-"},null,{"$f":"EW12","v":"-"},{"$f":"EY12","v":"-"},null,{"$f":"FB12","v":"-"},{"$f":"FD12","v":"-"},null,{"$f":"FG12","v":"-"},{"$f":"FI12","v":"-"},null,null,null,null,null,null,{"$f":"IF(BL9=0,0,ROUND(BL9/(BL9+BL15+BL21+BL27),2)*100)","v":91},{"$f":"IF($BL9=0,0,ROUND(BM9/$BL9,2)*100)","v":30},{"$f":"IF($BL9=0,0,ROUND(BN9/$BL9,2)*100)","v":30},{"$f":"IF($BL9=0,0,ROUND(BO9/$BL9,2)*100)","v":0},{"$f":"IF($BL9=0,0,ROUND(BP9/$BL9,2)*100)","v":0},{"$f":"IF($BL9=0,0,ROUND(BQ9/$BL9,2)*100)","v":40},{"$f":"IF(BM9=0,\"\",BR9)","v":"-33%"},{"$f":"IF(BN9=0,\"\",BS9)","v":"33%"},{"$f":"IF(BO9=0,\"\",BT9)","v":""},{"$f":"IF(BP9=0,\"\",BU9)","v":""},{"$f":"IF(BQ9=0,\"\",BV9)","v":"0%"},null,{"$f":"IF(BX9=0,0,ROUND(BX9/(BX9+BX15+BX21+BX27),2)*100)","v":100},{"$f":"IF($BX9=0,0,ROUND(BY9/$BX9,2)*100)","v":30},{"$f":"IF($BX9=0,0,ROUND(BZ9/$BX9,2)*100)","v":30},{"$f":"IF($BX9=0,0,ROUND(CA9/$BX9,2)*100)","v":0},{"$f":"IF($BX9=0,0,ROUND(CB9/$BX9,2)*100)","v":0},{"$f":"IF($BX9=0,0,ROUND(CC9/$BX9,2)*100)","v":40},{"$f":"IF(BY9=0,\"\",CD9)","v":"-33%"},{"$f":"IF(BZ9=0,\"\",CE9)","v":"33%"},{"$f":"IF(CA9=0,\"\",CF9)","v":""},{"$f":"IF(CB9=0,\"\",CG9)","v":""},{"$f":"IF(CC9=0,\"\",CH9)","v":"0%"},null,{"$f":"IF(CJ9=0,0,ROUND(CJ9/(CJ9+CJ15+CJ21+CJ27),2)*100)","v":0},{"$f":"IF($CJ9=0,0,ROUND(CK9/$CJ9,2)*100)","v":0},{"$f":"IF($CJ9=0,0,ROUND(CL9/$CJ9,2)*100)","v":0},{"$f":"IF($CJ9=0,0,ROUND(CM9/$CJ9,2)*100)","v":0},{"$f":"IF($CJ9=0,0,ROUND(CN9/$CJ9,2)*100)","v":0},{"$f":"IF($CJ9=0,0,ROUND(CO9/$CJ9,2)*100)","v":0},{"$f":"IF(CK9=0,\"\",CP9)","v":""},{"$f":"IF(CL9=0,\"\",CQ9)","v":""},{"$f":"IF(CM9=0,\"\",CR9)","v":""},{"$f":"IF(CN9=0,\"\",CS9)","v":""},{"$f":"IF(CO9=0,\"\",CT9)","v":""},null,null,{"$f":"'Daten SR'!A6","v":"1 SONG"},{"$f":"'Daten SR'!AN6","v":0},{"$f":"'Daten SR'!AQ6","v":0},{"$f":"IF($CX10=0,\"-\",CY10/$CX10)","v":"-"},{"$f":"'Daten SR'!AP6","v":0},{"$f":"IF($CX10=0,\"-\",DA10/$CX10)","v":"-"},{"$f":"'Daten SR'!AO6","v":0},{"$f":"IF($CX10=0,\"-\",DC10/$CX10)","v":"-"},{"$f":"IF($CX10=0,\"-\",(DA10+DC10)/$CX10)","v":"-"},{"$f":"IF(CX10=0,\"-\",(DC10+DA10-CY10)/CX10)","v":"-"},null,null,{"$f":"'Daten A2'!A7","v":"1 SONG"},{"$f":"'Daten A2'!AT7","v":4},{"$f":"'Daten A2'!AW7","v":1},{"$f":"IF($DJ10=0,\"-\",DK10/$DJ10)","v":0.25},{"$f":"'Daten A2'!AV7","v":2},{"$f":"IF($DJ10=0,\"-\",DM10/$DJ10)","v":0.5},{"$f":"IF($DJ10=0,\"-\",'Daten A2'!AU7)","v":"0%"},null,null,{"$f":"'Daten A2'!A7","v":"1 SONG"},{"$f":"'Daten A2'!AP7","v":3},{"$f":"'Daten A2'!AS7","v":0},{"$f":"IF($DS10=0,\"-\",DT10/$DS10)","v":0},{"$f":"'Daten A2'!AR7","v":2},{"$f":"IF($DS10=0,\"-\",DV10/$DS10)","v":0.66666666666666663},{"$f":"IF($DS10=0,\"-\",'Daten A2'!AQ7)","v":"67%"},null,null,"K1 all",{"$f":"Daten!B89","v":16},{"$f":"Daten!C89","v":"6%"},{"$f":"Daten!D89","v":8},{"$f":"IF(EB10=0,\"-\",ED10/EB10)","v":0.5},{"$f":"Daten!E89","v":0},{"$f":"IF(OR($EB10=0,EF10=0),\"-\",EF10/$EB10)","v":"-"},{"$f":"IF(EF10=0,\"-\",Daten!F89)","v":"-"},{"$f":"Daten!G89","v":0},{"$f":"IF(EF10=0,\"-\",EI10/EF10)","v":"-"},{"$f":"Daten!H89","v":4},{"$f":"IF(OR($EB10=0,EK10=0),\"-\",EK10/$EB10)","v":0.25},{"$f":"IF(EK10=0,\"-\",Daten!I89)","v":"50%"},{"$f":"Daten!J89","v":3},{"$f":"IF(EK10=0,\"-\",EN10/EK10)","v":0.75},{"$f":"Daten!K89","v":7},{"$f":"IF(OR($EB10=0,EP10=0),\"-\",EP10/$EB10)","v":0.4375},{"$f":"IF(EP10=0,\"-\",Daten!L89)","v":"-14%"},{"$f":"Daten!M89","v":3},{"$f":"IF(EP10=0,\"-\",ES10/EP10)","v":0.42857142857142855},{"$f":"Daten!N89","v":5},{"$f":"IF(OR($EB10=0,EU10=0),\"-\",EU10/$EB10)","v":0.3125},{"$f":"IF(EU10=0,\"-\",Daten!O89)","v":"0%"},{"$f":"Daten!P89","v":2},{"$f":"IF(EU10=0,\"-\",EX10/EU10)","v":0.4},{"$f":"Daten!Q89","v":0},{"$f":"IF(OR($EB10=0,EZ10=0),\"-\",EZ10/$EB10)","v":"-"},{"$f":"IF(EZ10=0,\"-\",Daten!R89)","v":"-"},{"$f":"Daten!S89","v":0},{"$f":"IF(EZ10=0,\"-\",FC10/EZ10)","v":"-"},{"$f":"Daten!T89","v":0},{"$f":"IF(OR($EB10=0,FE10=0),\"-\",FE10/$EB10)","v":"-"},{"$f":"IF(FE10=0,\"-\",Daten!U89)","v":"-"},{"$f":"Daten!V89","v":0},{"$f":"IF(FE10=0,\"-\",FH10/FE10)","v":"-"},{"$f":"Daten!W89","v":0},{"$f":"IF(OR($EB10=0,FJ10=0),\"-\",FJ10/$EB10)","v":"-"},{"$f":"IF(FJ10=0,\"-\",Daten!X89)","v":"-"},{"$f":"Daten!Y89","v":0},{"$f":"IF(FJ10=0,\"-\",FM10/FJ10)","v":"-"}]
[null,null,null,null,null,null,null,null,null,null,null,null,null,null,null,null,null,null,null,null,null,null,null,null,null,null,null,null,null,null,null,{"$f":"EF10","v":0},{"$f":"EG10","v":"-"},null,{"$f":"EK10","v":4},{"$f":"EL10","v":0.25},null,{"$f":"EP10","v":7},{"$f":"EQ10","v":0.4375},null,{"$f":"EF11","v":0},{"$f":"EG11","v":"-"},null,{"$f":"EK11","v":4},{"$f":"EL11","v":0.36363636363636365},null,{"$f":"EP11","v":3},{"$f":"EQ11","v":0.27272727272727271},null,{"$f":"EF12","v":0},{"$f":"EG12","v":"-"},null,{"$f":"EK12","v":1},{"$f":"EL12","v":0.25},null,{"$f":"EP12","v":3},{"$f":"EQ12","v":0.75},null,null,null,null,null,null,null,null,null,null,null,null,null,null,null,null,null,null,null,null,null,null,null,null,null,null,null,null,null,null,null,null,null,null,null,null,null,null,null,null,null,null,null,{"$f":"'Daten SR'!A7","v":"4 SHIN"},{"$f":"'Daten SR'!AN7","v":0},{"$f":"'Daten SR'!AQ7","v":0},"-",{"$f":"'Daten SR'!AP7","v":0},"-",{"$f":"'Daten SR'!AO7","v":0},"-","-","-",null,null,{"$f":"'Daten A2'!A8","v":"4 SHIN"},{"$f":"'Daten A2'!AT8","v":0},{"$f":"'Daten A2'!AW8","v":0},"-",{"$f":"'Daten A2'!AV8","v":0},"-",{"$f":"IF($DJ11=0,\"-\",'Daten A2'!AU8)","v":"-"},null,null,{"$f":"'Daten A2'!A8","v":"4 SHIN"},{"$f":"'Daten A2'!AP8","v":0},{"$f":"'Daten A2'!AS8","v":0},"-",{"$f":"'Daten A2'!AR8","v":0},"-",{"$f":"IF($DS11=0,\"-\",'Daten A2'!AQ8)","v":"-"},null,null,"K1  R#+",{"$f":"Daten!B109","v":11},{"$f":"IF(EB11=0,\"-\",Daten!C109)","v":"9%"},{"$f":"Daten!D109","v":6},{"$f":"IF(EB11=0,\"-\",ED11/EB11)","v":0.54545454545454541},{"$f":"Daten!E109","v":0},{"$f":"IF(OR($EB11=0,EF11=0),\"-\",EF11/$EB11)","v":"-"},{"$f":"IF(EF11=0,\"-\",Daten!F109)","v":"-"},{"$f":"Daten!G109","v":0},{"$f":"IF(EF11=0,\"-\",EI11/EF11)","v":"-"},{"$f":"Daten!H109","v":4},{"$f":"IF(OR($EB11=0,EK11=0),\"-\",EK11/$EB11)","v":0.36363636363636365},{"$f":"IF(EK11=0,\"-\",Daten!I109)","v":"50%"},{"$f":"Daten!J109","v":3},{"$f":"IF(EK11=0,\"-\",EN11/EK11)","v":0.75},{"$f":"Daten!K109","v":3},{"$f":"IF(OR($EB11=0,EP11=0),\"-\",EP11/$EB11)","v":0.27272727272727271},{"$f":"IF(EP11=0,\"-\",Daten!L109)","v":"-33%"},{"$f":"Daten!M109","v":1},{"$f":"IF(EP11=0,\"-\",ES11/EP11)","v":0.33333333333333331},{"$f":"Daten!N109","v":4},{"$f":"IF(OR($EB11=0,EU11=0),\"-\",EU11/$EB11)","v":0.36363636363636365},{"$f":"IF(EU11=0,\"-\",Daten!O109)","v":"0%"},{"$f":"Daten!P109","v":2},{"$f":"IF(EU11=0,\"-\",EX11/EU11)","v":0.5},{"$f":"Daten!Q109","v":0},{"$f":"IF(OR($EB11=0,EZ11=0),\"-\",EZ11/$EB11)","v":"-"},{"$f":"IF(EZ11=0,\"-\",Daten!R109)","v":"-"},{"$f":"Daten!S109","v":0},{"$f":"IF(EZ11=0,\"-\",FC11/EZ11)","v":"-"},{"$f":"Daten!T109","v":0},{"$f":"IF(OR($EB11=0,FE11=0),\"-\",FE11/$EB11)","v":"-"},{"$f":"IF(FE11=0,\"-\",Daten!U109)","v":"-"},{"$f":"Daten!V109","v":0},{"$f":"IF(FE11=0,\"-\",FH11/FE11)","v":"-"},{"$f":"Daten!W109","v":0},{"$f":"IF(OR($EB11=0,FJ11=0),\"-\",FJ11/$EB11)","v":"-"},{"$f":"IF(FJ11=0,\"-\",Daten!X109)","v":"-"},{"$f":"Daten!Y109","v":0},{"$f":"IF(FJ11=0,\"-\",FM11/FJ11)","v":"-"}]
[null,null,null,null,null,null,null,null,null,null,null,null,null,null,null,null,null,null,null,null,null,null,null,null,null,null,null,null,null,null,null,{"$f":"EH10","v":"-"},{"$f":"EJ10","v":"-"},null,{"$f":"EM10","v":"50%"},{"$f":"EO10","v":0.75},null,{"$f":"ER10","v":"-14%"},{"$f":"ET10","v":0.42857142857142855},null,{"$f":"EH11","v":"-"},{"$f":"EJ11","v":"-"},null,{"$f":"EM11","v":"50%"},{"$f":"EO11","v":0.75},null,{"$f":"ER11","v":"-33%"},{"$f":"ET11","v":0.33333333333333331},null,{"$f":"EH12","v":"-"},{"$f":"EJ12","v":"-"},null,{"$f":"EM12","v":"0%"},{"$f":"EO12","v":0},null,{"$f":"ER12","v":"67%"},{"$f":"ET12","v":0.66666666666666663},null,null,null,null,null,null,null,null,null,null,null,null,null,null,null,null,null,null,null,null,null,null,null,null,null,null,null,null,null,null,null,null,null,null,null,null,null,null,null,null,null,null,null,{"$f":"'Daten SR'!A8","v":"6 LEE"},{"$f":"'Daten SR'!AN8","v":0},{"$f":"'Daten SR'!AQ8","v":0},"-",{"$f":"'Daten SR'!AP8","v":0},"-",{"$f":"'Daten SR'!AO8","v":0},"-","-","-",null,null,{"$f":"'Daten A2'!A9","v":"6 LEE"},{"$f":"'Daten A2'!AT9","v":0},{"$f":"'Daten A2'!AW9","v":0},"-",{"$f":"'Daten A2'!AV9","v":0},"-",{"$f":"IF($DJ12=0,\"-\",'Daten A2'!AU9)","v":"-"},null,null,{"$f":"'Daten A2'!A9","v":"6 LEE"},{"$f":"'Daten A2'!AP9","v":0},{"$f":"'Daten A2'!AS9","v":0},"-",{"$f":"'Daten A2'!AR9","v":0},"-",{"$f":"IF($DS12=0,\"-\",'Daten A2'!AQ9)","v":"-"},null,null,"K2",{"$f":"Daten!B99","v":4},{"$f":"Daten!C99","v":"50%"},{"$f":"Daten!D99","v":2},{"$f":"IF(EB12=0,\"-\",ED12/EB12)","v":0.5},{"$f":"Daten!E99","v":0},{"$f":"IF(OR($EB12=0,EF12=0),\"-\",EF12/$EB12)","v":"-"},{"$f":"IF(EF12=0,\"-\",Daten!F99)","v":"-"},{"$f":"Daten!G99","v":0},{"$f":"IF(EF12=0,\"-\",EI12/EF12)","v":"-"},{"$f":"Daten!H99","v":1},{"$f":"IF(OR($EB12=0,EK12=0),\"-\",EK12/$EB12)","v":0.25},{"$f":"IF(EK12=0,\"-\",Daten!I99)","v":"0%"},{"$f":"Daten!J99","v":0},{"$f":"IF(EK12=0,\"-\",EN12/EK12)","v":0},{"$f":"Daten!K99","v":3},{"$f":"IF(OR($EB12=0,EP12=0),\"-\",EP12/$EB12)","v":0.75},{"$f":"IF(EP12=0,\"-\",Daten!L99)","v":"67%"},{"$f":"Daten!M99","v":2},{"$f":"IF(EP12=0,\"-\",ES12/EP12)","v":0.66666666666666663},{"$f":"Daten!N99","v":0},{"$f":"IF(OR($EB12=0,EU12=0),\"-\",EU12/$EB12)","v":"-"},{"$f":"IF(EU12=0,\"-\",Daten!O99)","v":"-"},{"$f":"Daten!P99","v":0},{"$f":"IF(EU12=0,\"-\",EX12/EU12)","v":"-"},{"$f":"Daten!Q99","v":0},{"$f":"IF(OR($EB12=0,EZ12=0),\"-\",EZ12/$EB12)","v":"-"},{"$f":"IF(EZ12=0,\"-\",Daten!R99)","v":"-"},{"$f":"Daten!S99","v":0},{"$f":"IF(EZ12=0,\"-\",FC12/EZ12)","v":"-"},{"$f":"Daten!T99","v":0},{"$f":"IF(OR($EB12=0,FE12=0),\"-\",FE12/$EB12)","v":"-"},{"$f":"IF(FE12=0,\"-\",Daten!U99)","v":"-"},{"$f":"Daten!V99","v":0},{"$f":"IF(FE12=0,\"-\",FH12/FE12)","v":"-"},{"$f":"Daten!W99","v":0},{"$f":"IF(OR($EB12=0,FJ12=0),\"-\",FJ12/$EB12)","v":"-"},{"$f":"IF(FJ12=0,\"-\",Daten!X99)","v":"-"},{"$f":"Daten!Y99","v":0},{"$f":"IF(FJ12=0,\"-\",FM12/FJ12)","v":"-"}]
[null,null,null,null,null,null,null,null,null,null,null,null,null,null,null,null,null,null,null,null,null,null,null,null,null,null,null,null,null,null,null,null,null,null,null,null,null,null,null,null,null,null,null,null,null,null,null,null,null,null,null,null,null,null,null,null,null,null,null,null,null,null,null,{"$f":"\"Base \"&Options!$S8","v":"Base K2"},null,null,null,null,null,null,null,null,null,null,null,{"$f":"\"Base \"&Options!$S8","v":"Base K2"},null,null,null,null,null,null,null,null,null,null,null,{"$f":"\"Base \"&Options!$S8","v":"Base K2"},null,null,null,null,null,null,null,null,null,null,null,null,{"$f":"'Daten SR'!A9","v":"8 PARK"},{"$f":"'Daten SR'!AN9","v":0},{"$f":"'Daten SR'!AQ9","v":0},"-",{"$f":"'Daten SR'!AP9","v":0},"-",{"$f":"'Daten SR'!AO9","v":0},"-","-","-",null,null,{"$f":"'Daten A2'!A10","v":"8 PARK"},{"$f":"'Daten A2'!AT10","v":1},{"$f":"'Daten A2'!AW10","v":0},0,{"$f":"'Daten A2'!AV10","v":0},0,{"$f":"IF($DJ13=0,\"-\",'Daten A2'!AU10)","v":"-100%"},null,null,{"$f":"'Daten A2'!A10","v":"8 PARK"},{"$f":"'Daten A2'!AP10","v":0},{"$f":"'Daten A2'!AS10","v":0},"-",{"$f":"'Daten A2'!AR10","v":0},"-",{"$f":"IF($DS13=0,\"-\",'Daten A2'!AQ10)","v":"-"}]
[null,null,null,null,null,null,null,null,null,null,null,null,null,null,null,null,null,null,null,null,null,null,null,null,null,null,null,null,null,null,null,"Reception",null,null,null,null,null,"∑","∑ %",null,"=/","=/ %",null,"+","+ %",null,"#","# %",null,"+# %","Eff",null,null,null,null,null,null,null,null,null,null,null,null,{"$f":"Daten!C29","v":"K2"},{"$f":"Daten!P29","v":"P4"},{"$f":"Daten!Q29","v":"SA"},{"$f":"Daten!R29","v":"H6"},{"$f":"Daten!S29","v":"P2"},{"$f":"Daten!T29","v":"H1"},{"$f":"Daten!U29","v":"P4-E"},{"$f":"Daten!V29","v":"SA-E"},{"$f":"Daten!W29","v":"H6-E"},{"$f":"Daten!X29","v":"P2-E"},{"$f":"Daten!Y29","v":"H1-E"},null,{"$f":"Daten!C37","v":"K2"},{"$f":"Daten!P37","v":"P4"},{"$f":"Daten!Q37","v":"SA"},{"$f":"Daten!R37","v":"H6"},{"$f":"Daten!S37","v":"P2"},{"$f":"Daten!T37","v":"H1"},{"$f":"Daten!U37","v":"P4-E"},{"$f":"Daten!V37","v":"SA-E"},{"$f":"Daten!W37","v":"H6-E"},{"$f":"Daten!X37","v":"P2-E"},{"$f":"Daten!Y37","v":"H1-E"},null,{"$f":"Daten!C45","v":"K2"},{"$f":"Daten!P45","v":"P4"},{"$f":"Daten!Q45","v":"SA"},{"$f":"Daten!R45","v":"H6"},{"$f":"Daten!S45","v":"P2"},{"$f":"Daten!T45","v":"H1"},{"$f":"Daten!U45","v":"P4-E"},{"$f":"Daten!V45","v":"SA-E"},{"$f":"Daten!W45","v":"H6-E"},{"$f":"Daten!X45","v":"P2-E"},{"$f":"Daten!Y45","v":"H1-E"},null,null,{"$f":"'Daten SR'!A10","v":"9 KWAK"},{"$f":"'Daten SR'!AN10","v":9},{"$f":"'Daten SR'!AQ10","v":0},0,{"$f":"'Daten SR'!AP10","v":4},0.44444444444444442,{"$f":"'Daten SR'!AO10","v":1},0.1111111111111111,0.55555555555555558,0.55555555555555558,null,null,{"$f":"'Daten A2'!A11","v":"9 KWAK"},{"$f":"'Daten A2'!AT11","v":0},{"$f":"'Daten A2'!AW11","v":0},"-",{"$f":"'Daten A2'!AV11","v":0},"-",{"$f":"IF($DJ14=0,\"-\",'Daten A2'!AU11)","v":"-"},null,null,{"$f":"'Daten A2'!A11","v":"9 KWAK"},{"$f":"'Daten A2'!AP11","v":0},{"$f":"'Daten A2'!AS11","v":0},"-",{"$f":"'Daten A2'!AR11","v":0},"-",{"$f":"IF($DS14=0,\"-\",'Daten A2'!AQ11)","v":"-"}]
[null,null,null,null,null,null,null,null,null,null,null,null,null,null,null,null,null,null,null,null,null,null,null,null,null,null,null,null,null,null,null,{"$f":"CW33","v":"KOREA"},null,null,null,null,null,{"$f":"CX33","v":16},{"$f":"AL15/$AL$15","v":1},null,{"$f":"CY33","v":0},0,null,{"$f":"DA33","v":5},0.3125,null,{"$f":"DC33","v":6},0.375,null,{"$f":"DE33","v":0.6875},0.6875,null,null,null,null,null,null,null,null,null,null,null,null,{"$f":"Daten!C35","v":0},{"$f":"Daten!P35","v":0},{"$f":"Daten!Q35","v":0},{"$f":"Daten!R35","v":0},{"$f":"Daten!S35","v":0},{"$f":"Daten!T35","v":0},{"$f":"Daten!U35","v":"0%"},{"$f":"Daten!V35","v":"0%"},{"$f":"Daten!W35","v":"0%"},{"$f":"Daten!X35","v":"0%"},{"$f":"Daten!Y35","v":"0%"},null,{"$f":"Daten!C43","v":0},{"$f":"Daten!P43","v":0},{"$f":"Daten!Q43","v":0},{"$f":"Daten!R43","v":0},{"$f":"Daten!S43","v":0},{"$f":"Daten!T43","v":0},{"$f":"Daten!U43","v":"0%"},{"$f":"Daten!V43","v":"0%"},{"$f":"Daten!W43","v":"0%"},{"$f":"Daten!X43","v":"0%"},{"$f":"Daten!Y43","v":"0%"},null,{"$f":"Daten!C51","v":0},{"$f":"Daten!P51","v":0},{"$f":"Daten!Q51","v":0},{"$f":"Daten!R51","v":0},{"$f":"Daten!S51","v":0},{"$f":"Daten!T51","v":0},{"$f":"Daten!U51","v":"0%"},{"$f":"Daten!V51","v":"0%"},{"$f":"Daten!W51","v":"0%"},{"$f":"Daten!X51","v":"0%"},{"$f":"Daten!Y51","v":"0%"},null,null,{"$f":"'Daten SR'!A11","v":"11 CHOI"},{"$f":"'Daten SR'!AN11","v":0},{"$f":"'Daten SR'!AQ11","v":0},"-",{"$f":"'Daten SR'!AP11","v":0},"-",{"$f":"'Daten SR'!AO11","v":0},"-","-","-",null,null,{"$f":"'Daten A2'!A12","v":"11 CHOI"},{"$f":"'Daten A2'!AT12","v":2},{"$f":"'Daten A2'!AW12","v":0},0,{"$f":"'Daten A2'!AV12","v":2},1,{"$f":"IF($DJ15=0,\"-\",'Daten A2'!AU12)","v":"100%"},null,null,{"$f":"'Daten A2'!A12","v":"11 CHOI"},{"$f":"'Daten A2'!AP12","v":1},{"$f":"'Daten A2'!AS12","v":0},0,{"$f":"'Daten A2'!AR12","v":0},0,{"$f":"IF($DS15=0,\"-\",'Daten A2'!AQ12)","v":"0%"}]
[null,null,null,null,null,null,null,null,null,null,null,null,null,null,null,null,null,null,null,null,null,null,null,null,null,null,null,null,null,null,null,"9 KWAK",null,null,null,null,null,9,0.5625,null,0,0,null,4,0.44444444444444442,null,1,0.1111111111111111,null,0.55555555555555558,0.55555555555555558,null,null,null,null,null,null,null,null,null,null,null,null,{"$f":"IF(BL15=0,0,ROUND(BL15/(BL9+BL15+BL21+BL27),2)*100)","v":0},{"$f":"IF($BL15=0,0,ROUND(BM15/$BL15,2)*100)","v":0},{"$f":"IF($BL15=0,0,ROUND(BN15/$BL15,2)*100)","v":0},{"$f":"IF($BL15=0,0,ROUND(BO15/$BL15,2)*100)","v":0},{"$f":"IF($BL15=0,0,ROUND(BP15/$BL15,2)*100)","v":0},{"$f":"IF($BL15=0,0,ROUND(BQ15/$BL15,2)*100)","v":0},{"$f":"IF(BM15=0,\"\",BR15)","v":""},{"$f":"IF(BN15=0,\"\",BS15)","v":""},{"$f":"IF(BO15=0,\"\",BT15)","v":""},{"$f":"IF(BP15=0,\"\",BU15)","v":""},{"$f":"IF(BQ15=0,\"\",BV15)","v":""},null,{"$f":"IF(BX15=0,0,ROUND(BX15/($BL9+$BL15+$BL21+$BL27),2)*100)","v":0},{"$f":"IF($BX15=0,0,ROUND(BY15/$BX15,2)*100)","v":0},{"$f":"IF($BX15=0,0,ROUND(BZ15/$BX15,2)*100)","v":0},{"$f":"IF($BX15=0,0,ROUND(CA15/$BX15,2)*100)","v":0},{"$f":"IF($BX15=0,0,ROUND(CB15/$BX15,2)*100)","v":0},{"$f":"IF($BX15=0,0,ROUND(CC15/$BX15,2)*100)","v":0},{"$f":"IF(BY15=0,\"\",CD15)","v":""},{"$f":"IF(BZ15=0,\"\",CE15)","v":""},{"$f":"IF(CA15=0,\"\",CF15)","v":""},{"$f":"IF(CB15=0,\"\",CG15)","v":""},{"$f":"IF(CC15=0,\"\",CH15)","v":""},null,{"$f":"IF(CJ15=0,0,ROUND(CJ15/(CJ9+CJ15+CJ21+CJ27),2)*100)","v":0},{"$f":"IF($CJ15=0,0,ROUND(CK15/$CJ15,2)*100)","v":0},{"$f":"IF($CJ15=0,0,ROUND(CL15/$CJ15,2)*100)","v":0},{"$f":"IF($CJ15=0,0,ROUND(CM15/$CJ15,2)*100)","v":0},{"$f":"IF($CJ15=0,0,ROUND(CN15/$CJ15,2)*100)","v":0},{"$f":"IF($CJ15=0,0,ROUND(CO15/$CJ15,2)*100)","v":0},{"$f":"IF(CK15=0,\"\",CP15)","v":""},{"$f":"IF(CL15=0,\"\",CQ15)","v":""},{"$f":"IF(CM15=0,\"\",CR15)","v":""},{"$f":"IF(CN15=0,\"\",CS15)","v":""},{"$f":"IF(CO15=0,\"\",CT15)","v":""},null,null,{"$f":"'Daten SR'!A12","v":"12 JEON"},{"$f":"'Daten SR'!AN12","v":0},{"$f":"'Daten SR'!AQ12","v":0},"-",{"$f":"'Daten SR'!AP12","v":0},"-",{"$f":"'Daten SR'!AO12","v":0},"-","-","-",null,null,{"$f":"'Daten A2'!A13","v":"12 JEON"},{"$f":"'Daten A2'!AT13","v":0},{"$f":"'Daten A2'!AW13","v":0},"-",{"$f":"'Daten A2'!AV13","v":0},"-",{"$f":"IF($DJ16=0,\"-\",'Daten A2'!AU13)","v":"-"},null,null,{"$f":"'Daten A2'!A13","v":"12 JEON"},{"$f":"'Daten A2'!AP13","v":0},{"$f":"'Daten A2'!AS13","v":0},"-",{"$f":"'Daten A2'!AR13","v":0},"-",{"$f":"IF($DS16=0,\"-\",'Daten A2'!AQ13)","v":"-"}]
[null,null,null,null,null,null,null,null,null,null,null,null,null,null,null,null,null,null,null,null,null,null,null,null,null,null,null,null,null,null,null,"14 SONG",null,null,null,null,null,4,0.25,null,0,0,null,0,0,null,3,0.75,null,0.75,0.75,null,null,null,null,null,null,null,null,null,null,null,null,null,null,null,null,null,null,null,null,null,null,null,null,null,null,null,null,null,null,null,null,null,null,null,null,null,null,null,null,null,null,null,null,null,null,null,null,null,{"$f":"'Daten SR'!A13","v":"14 SONG"},{"$f":"'Daten SR'!AN13","v":4},{"$f":"'Daten SR'!AQ13","v":0},0,{"$f":"'Daten SR'!AP13","v":0},0,{"$f":"'Daten SR'!AO13","v":3},0.75,0.75,0.75,null,null,{"$f":"'Daten A2'!A14","v":"14 SONG"},{"$f":"'Daten A2'!AT14","v":0},{"$f":"'Daten A2'!AW14","v":0},"-",{"$f":"'Daten A2'!AV14","v":0},"-",{"$f":"IF($DJ17=0,\"-\",'Daten A2'!AU14)","v":"-"},null,null,{"$f":"'Daten A2'!A14","v":"14 SONG"},{"$f":"'Daten A2'!AP14","v":0},{"$f":"'Daten A2'!AS14","v":0},"-",{"$f":"'Daten A2'!AR14","v":0},"-",{"$f":"IF($DS17=0,\"-\",'Daten A2'!AQ14)","v":"-"}]
[null,null,null,null,null,null,null,null,null,null,null,null,null,null,null,null,null,null,null,null,null,null,null,null,null,null,null,null,null,null,null,"19 JEONG",null,null,null,null,null,3,0.1875,null,0,0,null,1,0.33333333333333331,null,2,0.66666666666666663,null,1,1,null,null,null,null,null,null,null,null,null,null,null,null,null,null,null,null,null,null,null,null,null,null,null,null,null,null,null,null,null,null,null,null,null,null,null,null,null,null,null,null,null,null,null,null,null,null,null,null,null,{"$f":"'Daten SR'!A14","v":"16 CHOI"},{"$f":"'Daten SR'!AN14","v":0},{"$f":"'Daten SR'!AQ14","v":0},"-",{"$f":"'Daten SR'!AP14","v":0},"-",{"$f":"'Daten SR'!AO14","v":0},"-","-","-",null,null,{"$f":"'Daten A2'!A15","v":"16 CHOI"},{"$f":"'Daten A2'!AT15","v":1},{"$f":"'Daten A2'!AW15","v":0},0,{"$f":"'Daten A2'!AV15","v":1},1,{"$f":"IF($DJ18=0,\"-\",'Daten A2'!AU15)","v":"100%"},null,null,{"$f":"'Daten A2'!A15","v":"16 CHOI"},{"$f":"'Daten A2'!AP15","v":0},{"$f":"'Daten A2'!AS15","v":0},"-",{"$f":"'Daten A2'!AR15","v":0},"-",{"$f":"IF($DS18=0,\"-\",'Daten A2'!AQ15)","v":"-"}]
[null,null,null,null,null,null,null,null,null,null,null,null,null,null,null,null,null,null,null,null,null,null,null,null,null,null,null,null,null,null,null,"1 SONG",null,null,null,null,null,0,0,null,0,"-",null,0,"-",null,0,"-",null,"-","-",null,null,null,null,null,null,null,null,null,null,null,null,{"$f":"\"Base \"&Options!$S9","v":"Base K7"},null,null,null,null,null,null,null,null,null,null,null,{"$f":"\"Base \"&Options!$S9","v":"Base K7"},null,null,null,null,null,null,null,null,null,null,null,{"$f":"\"Base \"&Options!$S9","v":"Base K7"},null,null,null,null,null,null,null,null,null,null,null,null,{"$f":"'Daten SR'!A15","v":"17 SEO"},{"$f":"'Daten SR'!AN15","v":0},{"$f":"'Daten SR'!AQ15","v":0},"-",{"$f":"'Daten SR'!AP15","v":0},"-",{"$f":"'Daten SR'!AO15","v":0},"-","-","-",null,null,{"$f":"'Daten A2'!A16","v":"17 SEO"},{"$f":"'Daten A2'!AT16","v":3},{"$f":"'Daten A2'!AW16","v":1},0.33333333333333331,{"$f":"'Daten A2'!AV16","v":1},0.33333333333333331,{"$f":"IF($DJ19=0,\"-\",'Daten A2'!AU16)","v":"-33%"},null,null,{"$f":"'Daten A2'!A16","v":"17 SEO"},{"$f":"'Daten A2'!AP16","v":0},{"$f":"'Daten A2'!AS16","v":0},"-",{"$f":"'Daten A2'!AR16","v":0},"-",{"$f":"IF($DS19=0,\"-\",'Daten A2'!AQ16)","v":"-"}]
[null,null,null,null,null,null,null,null,null,null,null,null,null,null,null,null,null,null,null,null,null,null,null,null,null,null,null,null,null,null,null,"4 SHIN",null,null,null,null,null,0,0,null,0,"-",null,0,"-",null,0,"-",null,"-","-",null,null,null,null,null,null,null,null,null,null,null,null,{"$f":"Daten!D29","v":"K7"},{"$f":"Daten!Z29","v":"P4"},{"$f":"Daten!AA29","v":"SA"},{"$f":"Daten!AB29","v":"H6"},{"$f":"Daten!AC29","v":"P2"},{"$f":"Daten!AD29","v":"H1"},{"$f":"Daten!AE29","v":"P4-E"},{"$f":"Daten!AF29","v":"SA-E"},{"$f":"Daten!AG29","v":"H6-E"},{"$f":"Daten!AH29","v":"P2-E"},{"$f":"Daten!AI29","v":"H1-E"},null,{"$f":"Daten!D37","v":"K7"},{"$f":"Daten!Z37","v":"P4"},{"$f":"Daten!AA37","v":"SA"},{"$f":"Daten!AB37","v":"H6"},{"$f":"Daten!AC37","v":"P2"},{"$f":"Daten!AD37","v":"H1"},{"$f":"Daten!AE37","v":"P4-E"},{"$f":"Daten!AF37","v":"SA-E"},{"$f":"Daten!AG37","v":"H6-E"},{"$f":"Daten!AH37","v":"P2-E"},{"$f":"Daten!AI37","v":"H1-E"},null,{"$f":"Daten!D45","v":"K7"},{"$f":"Daten!Z45","v":"P4"},{"$f":"Daten!AA45","v":"SA"},{"$f":"Daten!AB45","v":"H6"},{"$f":"Daten!AC45","v":"P2"},{"$f":"Daten!AD45","v":"H1"},{"$f":"Daten!AE45","v":"P4-E"},{"$f":"Daten!AF45","v":"SA-E"},{"$f":"Daten!AG45","v":"H6-E"},{"$f":"Daten!AH45","v":"P2-E"},{"$f":"Daten!AI45","v":"H1-E"},null,null,{"$f":"'Daten SR'!A16","v":"19 JEONG"},{"$f":"'Daten SR'!AN16","v":3},{"$f":"'Daten SR'!AQ16","v":0},0,{"$f":"'Daten SR'!AP16","v":1},0.33333333333333331,{"$f":"'Daten SR'!AO16","v":2},0.66666666666666663,1,1,null,null,{"$f":"'Daten A2'!A17","v":"19 JEONG"},{"$f":"'Daten A2'!AT17","v":0},{"$f":"'Daten A2'!AW17","v":0},"-",{"$f":"'Daten A2'!AV17","v":0},"-",{"$f":"IF($DJ20=0,\"-\",'Daten A2'!AU17)","v":"-"},null,null,{"$f":"'Daten A2'!A17","v":"19 JEONG"},{"$f":"'Daten A2'!AP17","v":0},{"$f":"'Daten A2'!AS17","v":0},"-",{"$f":"'Daten A2'!AR17","v":0},"-",{"$f":"IF($DS20=0,\"-\",'Daten A2'!AQ17)","v":"-"}]
[null,null,null,null,null,null,null,null,null,null,null,null,null,null,null,null,null,null,null,null,null,null,null,null,null,null,null,null,null,null,null,"6 LEE",null,null,null,null,null,0,0,null,0,"-",null,0,"-",null,0,"-",null,"-","-",null,null,null,null,null,null,null,null,null,null,null,null,{"$f":"Daten!D35","v":1},{"$f":"Daten!Z35","v":0},{"$f":"Daten!AA35","v":0},{"$f":"Daten!AB35","v":0},{"$f":"Daten!AC35","v":0},{"$f":"Daten!AD35","v":0},{"$f":"Daten!AE35","v":"0%"},{"$f":"Daten!AF35","v":"0%"},{"$f":"Daten!AG35","v":"0%"},{"$f":"Daten!AH35","v":"0%"},{"$f":"Daten!AI35","v":"0%"},null,{"$f":"Daten!D43","v":0},{"$f":"Daten!Z43","v":0},{"$f":"Daten!AA43","v":0},{"$f":"Daten!AB43","v":0},{"$f":"Daten!AC43","v":0},{"$f":"Daten!AD43","v":0},{"$f":"Daten!AE43","v":"0%"},{"$f":"Daten!AF43","v":"0%"},{"$f":"Daten!AG43","v":"0%"},{"$f":"Daten!AH43","v":"0%"},{"$f":"Daten!AI43","v":"0%"},null,{"$f":"Daten!D51","v":1},{"$f":"Daten!Z51","v":0},{"$f":"Daten!AA51","v":0},{"$f":"Daten!AB51","v":0},{"$f":"Daten!AC51","v":0},{"$f":"Daten!AD51","v":0},{"$f":"Daten!AE51","v":"0%"},{"$f":"Daten!AF51","v":"0%"},{"$f":"Daten!AG51","v":"0%"},{"$f":"Daten!AH51","v":"0%"},{"$f":"Daten!AI51","v":"0%"},null,null,{"$f":"'Daten SR'!A17","v":"20 JI"},{"$f":"'Daten SR'!AN17","v":0},{"$f":"'Daten SR'!AQ17","v":0},"-",{"$f":"'Daten SR'!AP17","v":0},"-",{"$f":"'Daten SR'!AO17","v":0},"-","-","-",null,null,{"$f":"'Daten A2'!A18","v":"20 JI"},{"$f":"'Daten A2'!AT18","v":0},{"$f":"'Daten A2'!AW18","v":0},"-",{"$f":"'Daten A2'!AV18","v":0},"-",{"$f":"IF($DJ21=0,\"-\",'Daten A2'!AU18)","v":"-"},null,null,{"$f":"'Daten A2'!A18","v":"20 JI"},{"$f":"'Daten A2'!AP18","v":0},{"$f":"'Daten A2'!AS18","v":0},"-",{"$f":"'Daten A2'!AR18","v":0},"-",{"$f":"IF($DS21=0,\"-\",'Daten A2'!AQ18)","v":"-"}]
[null,null,null,null,null,null,null,null,null,null,null,null,null,null,null,null,null,null,null,null,null,null,null,null,null,null,null,null,null,null,null,null,null,null,null,null,null,null,null,null,null,null,null,null,null,null,null,null,null,null,null,null,null,null,null,null,null,null,null,null,null,null,null,{"$f":"IF(BL21=0,0,ROUND(BL21/(BL9+BL15+BL21+BL27),2)*100)","v":9},{"$f":"IF($BL21=0,0,ROUND(BM21/$BL21,2)*100)","v":0},{"$f":"IF($BL21=0,0,ROUND(BN21/$BL21,2)*100)","v":0},{"$f":"IF($BL21=0,0,ROUND(BO21/$BL21,2)*100)","v":0},{"$f":"IF($BL21=0,0,ROUND(BP21/$BL21,2)*100)","v":0},{"$f":"IF($BL21=0,0,ROUND(BQ21/$BL21,2)*100)","v":0},{"$f":"IF(BM21=0,\"\",BR21)","v":""},{"$f":"IF(BN21=0,\"\",BS21)","v":""},{"$f":"IF(BO21=0,\"\",BT21)","v":""},{"$f":"IF(BP21=0,\"\",BU21)","v":""},{"$f":"IF(BQ21=0,\"\",BV21)","v":""},null,{"$f":"IF(BX21=0,0,ROUND(BX21/($BL9+$BL15+$BL21+$BL27),2)*100)","v":0},{"$f":"IF($BX21=0,0,ROUND(BY21/$BX21,2)*100)","v":0},{"$f":"IF($BX21=0,0,ROUND(BZ21/$BX21,2)*100)","v":0},{"$f":"IF($BX21=0,0,ROUND(CA21/$BX21,2)*100)","v":0},{"$f":"IF($BX21=0,0,ROUND(CB21/$BX21,2)*100)","v":0},{"$f":"IF($BX21=0,0,ROUND(CC21/$BX21,2)*100)","v":0},{"$f":"IF(BY21=0,\"\",CD21)","v":""},{"$f":"IF(BZ21=0,\"\",CE21)","v":""},{"$f":"IF(CA21=0,\"\",CF21)","v":""},{"$f":"IF(CB21=0,\"\",CG21)","v":""},{"$f":"IF(CC21=0,\"\",CH21)","v":""},null,{"$f":"IF(CJ21=0,0,ROUND(CJ21/(CJ9+CJ15+CJ21+CJ27),2)*100)","v":100},{"$f":"IF($CJ21=0,0,ROUND(CK21/$CJ21,2)*100)","v":0},{"$f":"IF($CJ21=0,0,ROUND(CL21/$CJ21,2)*100)","v":0},{"$f":"IF($CJ21=0,0,ROUND(CM21/$CJ21,2)*100)","v":0},{"$f":"IF($CJ21=0,0,ROUND(CN21/$CJ21,2)*100)","v":0},{"$f":"IF($CJ21=0,0,ROUND(CO21/$CJ21,2)*100)","v":0},{"$f":"IF(CK21=0,\"\",CP21)","v":""},{"$f":"IF(CL21=0,\"\",CQ21)","v":""},{"$f":"IF(CM21=0,\"\",CR21)","v":""},{"$f":"IF(CN21=0,\"\",CS21)","v":""},{"$f":"IF(CO21=0,\"\",CT21)","v":""},null,null,{"$f":"'Daten SR'!A18","v":"22 YOU"},{"$f":"'Daten SR'!AN18","v":0},{"$f":"'Daten SR'!AQ18","v":0},"-",{"$f":"'Daten SR'!AP18","v":0},"-",{"$f":"'Daten SR'!AO18","v":0},"-","-","-",null,null,{"$f":"'Daten A2'!A19","v":"22 YOU"},{"$f":"'Daten A2'!AT19","v":0},{"$f":"'Daten A2'!AW19","v":0},"-",{"$f":"'Daten A2'!AV19","v":0},"-",{"$f":"IF($DJ22=0,\"-\",'Daten A2'!AU19)","v":"-"},null,null,{"$f":"'Daten A2'!A19","v":"22 YOU"},{"$f":"'Daten A2'!AP19","v":0},{"$f":"'Daten A2'!AS19","v":0},"-",{"$f":"'Daten A2'!AR19","v":0},"-",{"$f":"IF($DS22=0,\"-\",'Daten A2'!AQ19)","v":"-"}]
[null,null,null,null,null,null,null,null,null,null,null,null,null,null,null,null,null,null,null,null,null,null,null,null,null,null,null,null,null,null,null,"K1-Attacks after R#+",null,null,null,null,null,"∑","∑ %",null,"=","= %",null,"#","# %",null,"Eff",null,null,null,null,null,null,null,null,null,null,null,null,null,null,null,null,null,null,null,null,null,null,null,null,null,null,null,null,null,null,null,null,null,null,null,null,null,null,null,null,null,null,null,null,null,null,null,null,null,null,null,null,null,{"$f":"'Daten SR'!A19","v":"25 OH"},{"$f":"'Daten SR'!AN19","v":0},{"$f":"'Daten SR'!AQ19","v":0},"-",{"$f":"'Daten SR'!AP19","v":0},"-",{"$f":"'Daten SR'!AO19","v":0},"-","-","-",null,null,{"$f":"'Daten A2'!A20","v":"25 OH"},{"$f":"'Daten A2'!AT20","v":0},{"$f":"'Daten A2'!AW20","v":0},"-",{"$f":"'Daten A2'!AV20","v":0},"-",{"$f":"IF($DJ23=0,\"-\",'Daten A2'!AU20)","v":"-"},null,null,{"$f":"'Daten A2'!A20","v":"25 OH"},{"$f":"'Daten A2'!AP20","v":0},{"$f":"'Daten A2'!AS20","v":0},"-",{"$f":"'Daten A2'!AR20","v":0},"-",{"$f":"IF($DS23=0,\"-\",'Daten A2'!AQ20)","v":"-"}]
[null,null,null,null,null,null,null,null,null,null,null,null,null,null,null,null,null,null,null,null,null,null,null,null,null,null,null,null,null,null,null,{"$f":"DI33","v":"KOREA"},null,null,null,null,null,{"$f":"DJ33","v":11},{"$f":"AL24/$AL$24","v":1},null,{"$f":"DK33","v":2},{"$f":"DL33","v":0.18181818181818182},null,{"$f":"DM33","v":6},{"$f":"DN33","v":0.54545454545454541},null,{"$f":"DO33","v":"9%"},null,null,null,null,null,null,null,null,null,null,null,null,null,null,null,null,null,null,null,null,null,null,null,null,null,null,null,null,null,null,null,null,null,null,null,null,null,null,null,null,null,null,null,null,null,null,null,null,null,null,null,null,null,{"$f":"'Daten SR'!A20","v":0},{"$f":"'Daten SR'!AN20","v":0},{"$f":"'Daten SR'!AQ20","v":0},"-",{"$f":"'Daten SR'!AP20","v":0},"-",{"$f":"'Daten SR'!AO20","v":0},"-","-","-",null,null,{"$f":"'Daten A2'!A21","v":0},{"$f":"'Daten A2'!AT21","v":0},{"$f":"'Daten A2'!AW21","v":0},"-",{"$f":"'Daten A2'!AV21","v":0},"-",{"$f":"IF($DJ24=0,\"-\",'Daten A2'!AU21)","v":"-"},null,null,{"$f":"'Daten A2'!A21","v":0},{"$f":"'Daten A2'!AP21","v":0},{"$f":"'Daten A2'!AS21","v":0},"-",{"$f":"'Daten A2'!AR21","v":0},"-",{"$f":"IF($DS24=0,\"-\",'Daten A2'!AQ21)","v":"-"}]
[null,null,null,null,null,null,null,null,null,null,null,null,null,null,null,null,null,null,null,null,null,null,null,null,null,null,null,null,null,null,null,{"$f":"DI34","v":"1 SONG"},null,null,null,null,null,{"$f":"DJ34","v":4},{"$f":"AL25/$AL$24","v":0.36363636363636365},null,{"$f":"DK34","v":1},0.25,null,{"$f":"DM34","v":2},0.5,null,{"$f":"DO34","v":"0%"},null,null,null,null,null,null,null,null,null,null,null,null,null,null,null,null,{"$f":"\"Base \"&Options!$S10","v":"Base KD"},null,null,null,null,null,null,null,null,null,null,null,{"$f":"\"Base \"&Options!$S10","v":"Base KD"},null,null,null,null,null,null,null,null,null,null,null,{"$f":"\"Base \"&Options!$S10","v":"Base KD"},null,null,null,null,null,null,null,null,null,null,null,null,{"$f":"'Daten SR'!A21","v":0},{"$f":"'Daten SR'!AN21","v":0},{"$f":"'Daten SR'!AQ21","v":0},"-",{"$f":"'Daten SR'!AP21","v":0},"-",{"$f":"'Daten SR'!AO21","v":0},"-","-","-",null,null,{"$f":"'Daten A2'!A22","v":0},{"$f":"'Daten A2'!AT22","v":0},{"$f":"'Daten A2'!AW22","v":0},"-",{"$f":"'Daten A2'!AV22","v":0},"-",{"$f":"IF($DJ25=0,\"-\",'Daten A2'!AU22)","v":"-"},null,null,{"$f":"'Daten A2'!A22","v":0},{"$f":"'Daten A2'!AP22","v":0},{"$f":"'Daten A2'!AS22","v":0},"-",{"$f":"'Daten A2'!AR22","v":0},"-",{"$f":"IF($DS25=0,\"-\",'Daten A2'!AQ22)","v":"-"}]
[null,null,null,null,null,null,null,null,null,null,null,null,null,null,null,null,null,null,null,null,null,null,null,null,null,null,null,null,null,null,null,"17 SEO",null,null,null,null,null,3,0.27272727272727271,null,1,0.33333333333333331,null,1,0.33333333333333331,null,"-33%",null,null,null,null,null,null,null,null,null,null,null,null,null,null,null,null,{"$f":"Daten!E29","v":"KD"},{"$f":"Daten!AJ29","v":"P4"},{"$f":"Daten!AK29","v":"SA"},{"$f":"Daten!AL29","v":"H6"},{"$f":"Daten!AM29","v":"P2"},{"$f":"Daten!AN29","v":"H1"},{"$f":"Daten!AO29","v":"P4-E"},{"$f":"Daten!AP29","v":"SA-E"},{"$f":"Daten!AQ29","v":"H6-E"},{"$f":"Daten!AR29","v":"P2-E"},{"$f":"Daten!AS29","v":"H1-E"},null,{"$f":"Daten!E37","v":"KD"},{"$f":"Daten!AJ37","v":"P4"},{"$f":"Daten!AK37","v":"SA"},{"$f":"Daten!AL37","v":"H6"},{"$f":"Daten!AM37","v":"P2"},{"$f":"Daten!AN37","v":"H1"},{"$f":"Daten!AO37","v":"P4-E"},{"$f":"Daten!AP37","v":"SA-E"},{"$f":"Daten!AQ37","v":"H6-E"},{"$f":"Daten!AR37","v":"P2-E"},{"$f":"Daten!AS37","v":"H1-E"},null,{"$f":"Daten!E45","v":"KD"},{"$f":"Daten!AJ45","v":"P4"},{"$f":"Daten!AK45","v":"SA"},{"$f":"Daten!AL45","v":"H6"},{"$f":"Daten!AM45","v":"P2"},{"$f":"Daten!AN45","v":"H1"},{"$f":"Daten!AO45","v":"P4-E"},{"$f":"Daten!AP45","v":"SA-E"},{"$f":"Daten!AQ45","v":"H6-E"},{"$f":"Daten!AR45","v":"P2-E"},{"$f":"Daten!AS45","v":"H1-E"},null,null,{"$f":"'Daten SR'!A22","v":0},{"$f":"'Daten SR'!AN22","v":0},{"$f":"'Daten SR'!AQ22","v":0},"-",{"$f":"'Daten SR'!AP22","v":0},"-",{"$f":"'Daten SR'!AO22","v":0},"-","-","-",null,null,{"$f":"'Daten A2'!A23","v":0},{"$f":"'Daten A2'!AT23","v":0},{"$f":"'Daten A2'!AW23","v":0},"-",{"$f":"'Daten A2'!AV23","v":0},"-",{"$f":"IF($DJ26=0,\"-\",'Daten A2'!AU23)","v":"-"},null,null,{"$f":"'Daten A2'!A23","v":0},{"$f":"'Daten A2'!AP23","v":0},{"$f":"'Daten A2'!AS23","v":0},"-",{"$f":"'Daten A2'!AR23","v":0},"-",{"$f":"IF($DS26=0,\"-\",'Daten A2'!AQ23)","v":"-"}]
[null,null,null,null,null,null,null,null,null,null,null,null,null,null,null,null,null,null,null,null,null,null,null,null,null,null,null,null,null,null,null,"11 CHOI",null,null,null,null,null,2,0.18181818181818182,null,0,0,null,2,1,null,"100%",null,null,null,null,null,null,null,null,null,null,null,null,null,null,null,null,{"$f":"Daten!E35","v":0},{"$f":"Daten!AJ35","v":0},{"$f":"Daten!AK35","v":0},{"$f":"Daten!AL35","v":0},{"$f":"Daten!AM35","v":0},{"$f":"Daten!AN35","v":0},{"$f":"Daten!AO35","v":"0%"},{"$f":"Daten!AP35","v":"0%"},{"$f":"Daten!AQ35","v":"0%"},{"$f":"Daten!AR35","v":"0%"},{"$f":"Daten!AS35","v":"0%"},null,{"$f":"Daten!E43","v":0},{"$f":"Daten!AJ43","v":0},{"$f":"Daten!AK43","v":0},{"$f":"Daten!AL43","v":0},{"$f":"Daten!AM43","v":0},{"$f":"Daten!AN43","v":0},{"$f":"Daten!AO43","v":"0%"},{"$f":"Daten!AP43","v":"0%"},{"$f":"Daten!AQ43","v":"0%"},{"$f":"Daten!AR43","v":"0%"},{"$f":"Daten!AS43","v":"0%"},null,{"$f":"Daten!E51","v":0},{"$f":"Daten!AJ51","v":0},{"$f":"Daten!AK51","v":0},{"$f":"Daten!AL51","v":0},{"$f":"Daten!AM51","v":0},{"$f":"Daten!AN51","v":0},{"$f":"Daten!AO51","v":"0%"},{"$f":"Daten!AP51","v":"0%"},{"$f":"Daten!AQ51","v":"0%"},{"$f":"Daten!AR51","v":"0%"},{"$f":"Daten!AS51","v":"0%"},null,null,{"$f":"'Daten SR'!A23","v":0},{"$f":"'Daten SR'!AN23","v":0},{"$f":"'Daten SR'!AQ23","v":0},"-",{"$f":"'Daten SR'!AP23","v":0},"-",{"$f":"'Daten SR'!AO23","v":0},"-","-","-",null,null,{"$f":"'Daten A2'!A24","v":0},{"$f":"'Daten A2'!AT24","v":0},{"$f":"'Daten A2'!AW24","v":0},"-",{"$f":"'Daten A2'!AV24","v":0},"-",{"$f":"IF($DJ27=0,\"-\",'Daten A2'!AU24)","v":"-"},null,null,{"$f":"'Daten A2'!A24","v":0},{"$f":"'Daten A2'!AP24","v":0},{"$f":"'Daten A2'!AS24","v":0},"-",{"$f":"'Daten A2'!AR24","v":0},"-",{"$f":"IF($DS27=0,\"-\",'Daten A2'!AQ24)","v":"-"}]
[null,null,null,null,null,null,null,null,null,null,null,null,null,null,null,null,null,null,null,null,null,null,null,null,null,null,null,null,null,null,null,"8 PARK",null,null,null,null,null,1,9.0909090909090912E-2,null,0,0,null,0,0,null,"-100%",null,null,null,null,null,null,null,null,null,null,null,null,null,null,null,null,{"$f":"IF(BL27=0,0,ROUND(BL27/(BL9+BL15+BL21+BL27),2)*100)","v":0},{"$f":"IF($BL27=0,0,ROUND(BM27/$BL27,2)*100)","v":0},{"$f":"IF($BL27=0,0,ROUND(BN27/$BL27,2)*100)","v":0},{"$f":"IF($BL27=0,0,ROUND(BO27/$BL27,2)*100)","v":0},{"$f":"IF($BL27=0,0,ROUND(BP27/$BL27,2)*100)","v":0},{"$f":"IF($BL27=0,0,ROUND(BQ27/$BL27,2)*100)","v":0},{"$f":"IF(BM27=0,\"\",BR27)","v":""},{"$f":"IF(BN27=0,\"\",BS27)","v":""},{"$f":"IF(BO27=0,\"\",BT27)","v":""},{"$f":"IF(BP27=0,\"\",BU27)","v":""},{"$f":"IF(BQ27=0,\"\",BV27)","v":""},null,{"$f":"IF(BX27=0,0,ROUND(BX27/($BL9+$BL15+$BL21+$BL27),2)*100)","v":0},{"$f":"IF($BX27=0,0,ROUND(BY27/$BX27,2)*100)","v":0},{"$f":"IF($BX27=0,0,ROUND(BZ27/$BX27,2)*100)","v":0},{"$f":"IF($BX27=0,0,ROUND(CA27/$BX27,2)*100)","v":0},{"$f":"IF($BX27=0,0,ROUND(CB27/$BX27,2)*100)","v":0},{"$f":"IF($BX27=0,0,ROUND(CC27/$BX27,2)*100)","v":0},{"$f":"IF(BY27=0,\"\",CD27)","v":""},{"$f":"IF(BZ27=0,\"\",CE27)","v":""},{"$f":"IF(CA27=0,\"\",CF27)","v":""},{"$f":"IF(CB27=0,\"\",CG27)","v":""},{"$f":"IF(CC27=0,\"\",CH27)","v":""},null,{"$f":"IF(CJ27=0,0,ROUND(CJ27/(CJ9+CJ15+CJ21+CJ27),2)*100)","v":0},{"$f":"IF($CJ27=0,0,ROUND(CK27/$CJ27,2)*100)","v":0},{"$f":"IF($CJ27=0,0,ROUND(CL27/$CJ27,2)*100)","v":0},{"$f":"IF($CJ27=0,0,ROUND(CM27/$CJ27,2)*100)","v":0},{"$f":"IF($CJ27=0,0,ROUND(CN27/$CJ27,2)*100)","v":0},{"$f":"IF($CJ27=0,0,ROUND(CO27/$CJ27,2)*100)","v":0},{"$f":"IF(CK27=0,\"\",CP27)","v":""},{"$f":"IF(CL27=0,\"\",CQ27)","v":""},{"$f":"IF(CM27=0,\"\",CR27)","v":""},{"$f":"IF(CN27=0,\"\",CS27)","v":""},{"$f":"IF(CO27=0,\"\",CT27)","v":""},null,null,{"$f":"'Daten SR'!A24","v":0},{"$f":"'Daten SR'!AN24","v":0},{"$f":"'Daten SR'!AQ24","v":0},"-",{"$f":"'Daten SR'!AP24","v":0},"-",{"$f":"'Daten SR'!AO24","v":0},"-","-","-",null,null,{"$f":"'Daten A2'!A25","v":0},{"$f":"'Daten A2'!AT25","v":0},{"$f":"'Daten A2'!AW25","v":0},"-",{"$f":"'Daten A2'!AV25","v":0},"-",{"$f":"IF($DJ28=0,\"-\",'Daten A2'!AU25)","v":"-"},null,null,{"$f":"'Daten A2'!A25","v":0},{"$f":"'Daten A2'!AP25","v":0},{"$f":"'Daten A2'!AS25","v":0},"-",{"$f":"'Daten A2'!AR25","v":0},"-",{"$f":"IF($DS28=0,\"-\",'Daten A2'!AQ25)","v":"-"}]
[null,null,null,null,null,null,null,null,null,null,null,null,null,null,null,null,null,null,null,null,null,null,null,null,null,null,null,null,null,null,null,"16 CHOI",null,null,null,null,null,1,9.0909090909090912E-2,null,0,0,null,1,1,null,"100%"]
[null,null,null,null,null,null,null,null,null,null,null,null,null,null,null,null,null,null,null,null,null,null,null,null,null,null,null,null,null,null,null,"4 SHIN",null,null,null,null,null,0,0,null,0,"-",null,0,"-",null,"-"]
[null,null,null,null,null,null,null,null,null,null,null,null,null,null,null,null,null,null,null,null,null,null,null,null,null,null,null,null,null,null,null,"6 LEE",null,null,null,null,null,0,0,null,0,"-",null,0,"-",null,"-"]
[]
[null,null,"Rec in Pos 1",null,null,null,null,{"$f":"CI35&\" % (\"&BL35&\")\"","v":"0 % (0)"},null,null,null,"Rec in Pos 6",null,null,null,null,{"$f":"CI36&\" % (\"&BL36&\")\"","v":"36 % (4)"},null,null,null,"Rec in Pos 5",null,null,null,null,{"$f":"CI37&\" % (\"&BL37&\")\"","v":"55 % (6)"},null,null,null,null,null,"K2-Attacks - Transition",null,null,null,null,null,"∑","∑ %",null,"=","= %",null,"#","# %",null,"Eff",null,null,null,null,null,null,null,null,null,null,null,null,null,null,null,"Attack depending on R Position",null,null,null,null,null,null,null,null,null,null,null,null,null,null,null,null,null,null,null,null,null,null,null,null,null,null,null,null,null,null,null,null,null,null,null,null,null,"KOREA",16,0,0,5,0.3125,6,0.375,0.6875,0.6875,null,null,"KOREA",11,2,0.18181818181818182,6,0.54545454545454541,"9%",null,null,"KOREA",4,0,0,2,0.5,"50%"]
[null,null,null,null,null,null,null,null,null,null,null,null,null,null,null,null,null,null,null,null,null,null,null,null,null,null,null,null,null,null,null,{"$f":"DR33","v":"KOREA"},null,null,null,null,null,{"$f":"DS33","v":4},{"$f":"AL34/$AL$34","v":1},null,{"$f":"DT33","v":0},{"$f":"DU33","v":0},null,{"$f":"DV33","v":2},{"$f":"DW33","v":0.5},null,{"$f":"DX33","v":"50%"},null,null,null,null,null,null,null,null,null,null,null,null,null,null,null,null,{"$f":"Daten!B55","v":"alle"},{"$f":"Daten!C55","v":"P4"},{"$f":"Daten!D55","v":"X"},{"$f":"Daten!E55","v":4},{"$f":"Daten!F55","v":1},{"$f":"Daten!G55","v":"Set"},{"$f":"Daten!H55","v":3},{"$f":"Daten!I55","v":"OF"},{"$f":"Daten!J55","v":"P2"},{"$f":"Daten!K55","v":"HF6"},{"$f":"Daten!L55","v":"HF1"},null,null,{"$f":"Daten!C55","v":"P4"},{"$f":"Daten!D55","v":"X"},{"$f":"Daten!E55","v":4},{"$f":"Daten!F55","v":1},{"$f":"Daten!G55","v":"Set"},{"$f":"Daten!H55","v":3},{"$f":"Daten!I55","v":"OF"},{"$f":"Daten!J55","v":"P2"},{"$f":"Daten!K55","v":"HF6"},{"$f":"Daten!L55","v":"HF1"},null,null,null,null,null,null,null,null,null,null,null,null,null,null,"9 KWAK",9,0,0,4,0.44444444444444442,1,0.1111111111111111,0.55555555555555558,0.55555555555555558,null,null,"1 SONG",4,1,0.25,2,0.5,"0%",null,null,"1 SONG",3,0,0,2,0.66666666666666663,"67%"]
[null,null,null,null,null,null,null,null,null,null,null,null,null,null,null,null,null,null,null,null,null,null,null,null,null,null,null,null,null,null,null,{"$f":"DR34","v":"1 SONG"},null,null,null,null,null,{"$f":"DS34","v":3},{"$f":"AL35/$AL$34","v":0.75},null,{"$f":"DT34","v":0},0,null,{"$f":"DV34","v":2},0.66666666666666663,null,{"$f":"DX34","v":"67%"},null,null,null,null,null,null,null,null,null,null,null,null,null,null,null,"R1",{"$f":"Daten!B61","v":0},{"$f":"Daten!C61","v":0},{"$f":"Daten!D61","v":0},{"$f":"Daten!E61","v":0},{"$f":"Daten!F61","v":0},{"$f":"Daten!G61","v":0},{"$f":"Daten!H61","v":0},{"$f":"Daten!I61","v":0},{"$f":"Daten!J61","v":0},{"$f":"Daten!K61","v":0},{"$f":"Daten!L61","v":0},null,"R1",{"$f":"IF($BL35=0,0,ROUND(BM35/$BL35,2)*100)","v":0},0,0,0,0,0,0,0,0,0,{"$f":"IF(BL35=0,0,ROUND(BL35/$BL$41,2)*100)","v":0},null,null,null,null,null,null,null,null,null,null,null,null,null,"14 SONG",4,0,0,0,0,3,0.75,0.75,0.75,null,null,"17 SEO",3,1,0.33333333333333331,1,0.33333333333333331,"-33%",null,null,"11 CHOI",1,0,0,0,0,"0%"]
[null,null,null,null,null,null,null,null,null,null,null,null,null,null,null,null,null,null,null,null,null,null,null,null,null,null,null,null,null,null,null,{"$f":"DR35","v":"11 CHOI"},null,null,null,null,null,1,0.25,null,0,0,null,0,0,null,"0%",null,null,null,null,null,null,null,null,null,null,null,null,null,null,null,"R6",{"$f":"Daten!M61","v":4},{"$f":"Daten!N61","v":1},{"$f":"Daten!O61","v":1},{"$f":"Daten!P61","v":0},{"$f":"Daten!Q61","v":1},{"$f":"Daten!R61","v":0},{"$f":"Daten!S61","v":0},{"$f":"Daten!T61","v":0},{"$f":"Daten!U61","v":0},{"$f":"Daten!V61","v":0},{"$f":"Daten!W61","v":1},null,"R6",25,25,0,25,0,0,0,0,0,25,36,null,null,null,null,null,null,null,null,null,null,null,null,null,"19 JEONG",3,0,0,1,0.33333333333333331,2,0.66666666666666663,1,1,null,null,"11 CHOI",2,0,0,2,1,"100%",null,null,"4 SHIN",0,0,"-",0,"-","-"]
[null,null,null,null,null,null,null,null,null,null,null,null,null,null,null,null,null,null,null,null,null,null,null,null,null,null,null,null,null,null,null,"4 SHIN",null,null,null,null,null,0,0,null,0,"-",null,0,"-",null,"-",null,null,null,null,null,null,null,null,null,null,null,null,null,null,null,"R5",{"$f":"Daten!X61","v":6},{"$f":"Daten!Y61","v":2},{"$f":"Daten!Z61","v":0},{"$f":"Daten!AA61","v":0},{"$f":"Daten!AB61","v":1},{"$f":"Daten!AC61","v":0},{"$f":"Daten!AD61","v":0},{"$f":"Daten!AE61","v":0},{"$f":"Daten!AF61","v":0},{"$f":"Daten!AG61","v":0},{"$f":"Daten!AH61","v":3},null,"R5",33,0,0,17,0,0,0,0,0,50,55.000000000000007,null,null,null,null,null,null,null,null,null,null,null,null,null,"1 SONG",0,0,"-",0,"-",0,"-","-","-",null,null,"8 PARK",1,0,0,0,0,"-100%",null,null,"6 LEE",0,0,"-",0,"-","-"]
[null,null,null,null,null,null,null,null,null,null,null,null,null,null,null,null,null,null,null,null,null,null,null,null,null,null,null,null,null,null,null,"6 LEE",null,null,null,null,null,0,0,null,0,"-",null,0,"-",null,"-",null,null,null,null,null,null,null,null,null,null,null,null,null,null,null,"R4",{"$f":"Daten!X68","v":0},{"$f":"Daten!Y68","v":0},{"$f":"Daten!Z68","v":0},{"$f":"Daten!AA68","v":0},{"$f":"Daten!AB68","v":0},{"$f":"Daten!AC68","v":0},{"$f":"Daten!AD68","v":0},{"$f":"Daten!AE68","v":0},{"$f":"Daten!AF68","v":0},{"$f":"Daten!AG68","v":0},{"$f":"Daten!AH68","v":0},null,"R4",0,0,0,0,0,0,0,0,0,0,0,null,null,null,null,null,null,null,null,null,null,null,null,null,"4 SHIN",0,0,"-",0,"-",0,"-","-","-",null,null,"16 CHOI",1,0,0,1,1,"100%",null,null,"8 PARK",0,0,"-",0,"-","-"]
[null,null,"Rec in Pos 2",null,null,null,null,{"$f":"CI40&\" % (\"&BL40&\")\"","v":"0 % (0)"},null,null,null,"Rec in Pos 3",null,null,null,null,null,{"$f":"CI39&\" % (\"&BL39&\")\"","v":"9 % (1)"},null,null,"Rec in Pos 4",null,null,null,null,{"$f":"CI38&\" % (\"&BL38&\")\"","v":"0 % (0)"},null,null,null,null,null,"8 PARK",null,null,null,null,null,0,0,null,0,"-",null,0,"-",null,"-",null,null,null,null,null,null,null,null,null,null,null,null,null,null,null,"R3",{"$f":"Daten!M68","v":1},{"$f":"Daten!N68","v":0},{"$f":"Daten!O68","v":0},{"$f":"Daten!P68","v":0},{"$f":"Daten!Q68","v":1},{"$f":"Daten!R68","v":0},{"$f":"Daten!S68","v":0},{"$f":"Daten!T68","v":0},{"$f":"Daten!U68","v":0},{"$f":"Daten!V68","v":0},{"$f":"Daten!W68","v":0},null,"R3",0,0,0,100,0,0,0,0,0,0,9,null,null,null,null,null,null,null,null,null,null,null,null,null,"6 LEE",0,0,"-",0,"-",0,"-","-","-",null,null,"4 SHIN",0,0,"-",0,"-","-",null,null,"9 KWAK",0,0,"-",0,"-","-"]
[null,null,null,null,null,null,null,null,null,null,null,null,null,null,null,null,null,null,null,null,null,null,null,null,null,null,null,null,null,null,null,"9 KWAK",null,null,null,null,null,0,0,null,0,"-",null,0,"-",null,"-",null,null,null,null,null,null,null,null,null,null,null,null,null,null,null,"R2",{"$f":"Daten!B68","v":0},{"$f":"Daten!C68","v":0},{"$f":"Daten!D68","v":0},{"$f":"Daten!E68","v":0},{"$f":"Daten!F68","v":0},{"$f":"Daten!G68","v":0},{"$f":"Daten!H68","v":0},{"$f":"Daten!I68","v":0},{"$f":"Daten!J68","v":0},{"$f":"Daten!K68","v":0},{"$f":"Daten!L68","v":0},null,"R2",0,0,0,0,0,0,0,0,0,0,0,null,null,null,null,null,null,null,null,null,null,null,null,null,"8 PARK",0,0,"-",0,"-",0,"-","-","-",null,null,"6 LEE",0,0,"-",0,"-","-",null,null,"12 JEON",0,0,"-",0,"-","-"]
[null,null,null,null,null,null,null,null,null,null,null,null,null,null,null,null,null,null,null,null,null,null,null,null,null,null,null,null,null,null,null,"12 JEON",null,null,null,null,null,0,0,null,0,"-",null,0,"-",null,"-",null,null,null,null,null,null,null,null,null,null,null,null,null,null,null,null,{"$f":"SUM(BL35:BL40)","v":11},null,null,null,null,null,null,null,null,null,null,null,null,null,null,null,null,null,null,null,null,null,null,null,null,null,null,null,null,null,null,null,null,null,null,null,null,"11 CHOI",0,0,"-",0,"-",0,"-","-","-",null,null,"9 KWAK",0,0,"-",0,"-","-",null,null,"14 SONG",0,0,"-",0,"-","-"]
[null,null,null,null,null,null,null,null,null,null,null,null,null,null,null,null,null,null,null,null,null,null,null,null,null,null,null,null,null,null,null,null,null,null,null,null,null,null,null,null,null,null,null,null,null,null,null,null,null,null,null,null,null,null,null,null,null,null,null,null,null,null,null,null,null,null,null,null,null,null,null,null,null,null,null,null,null,null,null,null,null,null,null,null,null,null,null,null,null,null,null,null,null,null,null,null,null,null,null,null,"12 JEON",0,0,"-",0,"-",0,"-","-","-",null,null,"12 JEON",0,0,"-",0,"-","-",null,null,"16 CHOI",0,0,"-",0,"-","-"]
[null,null,null,null,null,null,null,null,null,null,null,null,null,null,null,null,null,null,null,null,null,null,null,null,null,null,null,null,null,null,null,null,null,null,null,null,null,null,null,null,null,null,null,null,null,null,null,null,null,null,null,null,null,null,null,null,null,null,null,null,null,null,null,null,null,null,null,null,null,null,null,null,null,null,null,null,null,null,null,null,null,null,null,null,null,null,null,null,null,null,null,null,null,null,null,null,null,null,null,null,"16 CHOI",0,0,"-",0,"-",0,"-","-","-",null,null,"14 SONG",0,0,"-",0,"-","-",null,null,"17 SEO",0,0,"-",0,"-","-"]
[null,null,null,null,null,null,null,null,null,null,null,null,null,null,null,null,null,null,null,null,null,null,null,null,null,null,null,null,null,null,null,null,null,null,null,null,null,null,null,null,null,null,null,null,null,null,null,null,null,null,null,null,null,null,null,null,null,null,null,null,null,null,null,null,null,null,null,null,null,null,null,null,null,null,null,null,null,null,null,null,null,null,null,null,null,null,null,null,null,null,null,null,null,null,null,null,null,null,null,null,"17 SEO",0,0,"-",0,"-",0,"-","-","-",null,null,"19 JEONG",0,0,"-",0,"-","-",null,null,"19 JEONG",0,0,"-",0,"-","-"]
[null,null,null,null,null,null,null,null,null,null,null,null,null,null,null,null,null,null,null,null,null,null,null,null,null,null,null,null,null,null,null,null,null,null,null,null,null,null,null,null,null,null,null,null,null,null,null,null,null,null,null,null,null,null,null,null,null,null,null,null,null,null,null,null,null,null,null,null,null,null,null,null,null,null,null,null,null,null,null,null,null,null,null,null,null,null,null,null,null,null,null,null,null,null,null,null,null,null,null,null,"20 JI",0,0,"-",0,"-",0,"-","-","-",null,null,"20 JI",0,0,"-",0,"-","-",null,null,"20 JI",0,0,"-",0,"-","-"]
[null,null,"Settermovement to 4",null,null,null,null,null,null,{"$f":"BL48","v":0},null,"Settermovement to 3",null,null,null,null,null,{"$f":"BL49","v":11},null,null,"Settermovement to 2",null,null,null,null,null,{"$f":"BL50","v":0},null,null,null,null,null,null,null,null,null,null,null,null,null,null,null,null,null,null,null,null,null,null,null,null,null,null,null,null,null,null,null,null,null,null,null,"Settermovement",null,null,null,null,null,null,null,null,null,null,null,null,null,null,null,null,null,null,null,null,null,null,null,null,null,null,null,null,null,null,null,null,null,null,null,null,null,"22 YOU",0,0,"-",0,"-",0,"-","-","-",null,null,"22 YOU",0,0,"-",0,"-","-",null,null,"22 YOU",0,0,"-",0,"-","-"]
[null,null,null,null,null,null,null,null,null,null,null,null,null,null,null,null,null,null,null,null,null,null,null,null,null,null,null,null,null,null,null,null,null,null,null,null,null,null,null,null,null,null,null,null,null,null,null,null,null,null,null,null,null,null,null,null,null,null,null,null,null,null,null,{"$f":"Daten!X73","v":"alle"},{"$f":"Daten!Y73","v":"P4"},{"$f":"Daten!Z73","v":"X"},{"$f":"Daten!AA73","v":4},{"$f":"Daten!AB73","v":1},{"$f":"Daten!AC73","v":"Set"},{"$f":"Daten!AD73","v":3},{"$f":"Daten!AE73","v":"OF"},{"$f":"Daten!AF73","v":"P2"},{"$f":"Daten!AG73","v":"HF6"},{"$f":"Daten!AH73","v":"HF1"},null,null,{"$f":"Daten!Y73","v":"P4"},{"$f":"Daten!Z73","v":"X"},{"$f":"Daten!AA73","v":4},{"$f":"Daten!AB73","v":1},{"$f":"Daten!AC73","v":"Set"},{"$f":"Daten!AD73","v":3},{"$f":"Daten!AE73","v":"OF"},{"$f":"Daten!AF73","v":"P2"},{"$f":"Daten!AG73","v":"HF6"},{"$f":"Daten!AH73","v":"HF1"},null,null,null,null,null,null,null,null,null,null,null,null,null,null,"25 OH",0,0,"-",0,"-",0,"-","-","-",null,null,"25 OH",0,0,"-",0,"-","-",null,null,"25 OH",0,0,"-",0,"-","-"]
[null,null,null,null,null,null,null,null,null,null,null,null,null,null,null,null,null,null,null,null,null,null,null,null,null,null,null,null,null,null,null,null,null,null,null,null,null,null,null,null,null,null,null,null,null,null,null,null,null,null,null,null,null,null,null,null,null,null,null,null,null,null,"P4",{"$f":"Daten!X79","v":0},{"$f":"Daten!Y79","v":0},{"$f":"Daten!Z79","v":0},{"$f":"Daten!AA79","v":0},{"$f":"Daten!AB79","v":0},{"$f":"Daten!AC79","v":0},{"$f":"Daten!AD79","v":0},{"$f":"Daten!AE79","v":0},{"$f":"Daten!AF79","v":0},{"$f":"Daten!AG79","v":0},{"$f":"Daten!AH79","v":0},null,"P4",{"$f":"IF($BL48=0,0,ROUND(BM48/$BL48,2)*100)","v":0},0,0,0,0,0,0,0,0,0,null,null,null,null,null,null,null,null,null,null,null,null,null,null,0,0,0,"-",0,"-",0,"-","-","-",null,null,0,0,0,"-",0,"-","-",null,null,0,0,0,"-",0,"-","-"]
[null,null,null,null,null,null,null,null,null,null,null,null,null,null,null,null,null,null,null,null,null,null,null,null,null,null,null,null,null,null,null,null,null,null,null,null,null,null,null,null,null,null,null,null,null,null,null,null,null,null,null,null,null,null,null,null,null,null,null,null,null,null,"P3",{"$f":"Daten!M79","v":11},{"$f":"Daten!N79","v":3},{"$f":"Daten!O79","v":1},{"$f":"Daten!P79","v":0},{"$f":"Daten!Q79","v":3},{"$f":"Daten!R79","v":0},{"$f":"Daten!S79","v":0},{"$f":"Daten!T79","v":0},{"$f":"Daten!U79","v":0},{"$f":"Daten!V79","v":0},{"$f":"Daten!W79","v":4},null,"P3",27,9,0,27,0,0,0,0,0,36,null,null,null,null,null,null,null,null,null,null,null,null,null,null,0,0,0,"-",0,"-",0,"-","-","-",null,null,0,0,0,"-",0,"-","-",null,null,0,0,0,"-",0,"-","-"]
[null,null,null,null,null,null,null,null,null,null,null,null,null,null,null,null,null,null,null,null,null,null,null,null,null,null,null,null,null,null,null,null,null,null,null,null,null,null,null,null,null,null,null,null,null,null,null,null,null,null,null,null,null,null,null,null,null,null,null,null,null,null,"P2",{"$f":"Daten!B79","v":0},{"$f":"Daten!C79","v":0},{"$f":"Daten!D79","v":0},{"$f":"Daten!E79","v":0},{"$f":"Daten!F79","v":0},{"$f":"Daten!G79","v":0},{"$f":"Daten!H79","v":0},{"$f":"Daten!I79","v":0},{"$f":"Daten!J79","v":0},{"$f":"Daten!K79","v":0},{"$f":"Daten!L79","v":0},null,"P2",0,0,0,0,0,0,0,0,0,0,null,null,null,null,null,null,null,null,null,null,null,null,null,null,0,0,0,"-",0,"-",0,"-","-","-",null,null,0,0,0,"-",0,"-","-",null,null,0,0,0,"-",0,"-","-"]
[null,null,null,null,null,null,null,null,null,null,null,null,null,null,null,null,null,null,null,null,null,null,null,null,null,null,null,null,null,null,null,null,null,null,null,null,null,null,null,null,null,null,null,null,null,null,null,null,null,null,null,null,null,null,null,null,null,null,null,null,null,null,null,null,null,null,null,null,null,null,null,null,null,null,null,null,null,null,null,null,null,null,null,null,null,null,null,null,null,null,null,null,null,null,null,null,null,null,null,null,0,0,0,"-",0,"-",0,"-","-","-",null,null,0,0,0,"-",0,"-","-",null,null,0,0,0,"-",0,"-","-"]
[null,null,null,null,null,null,null,null,null,null,null,null,null,null,null,null,null,null,null,null,null,null,null,null,null,null,null,null,null,null,null,null,null,null,null,null,null,null,null,null,null,null,null,null,null,null,null,null,null,null,null,null,null,null,null,null,null,null,null,null,null,null,null,null,null,null,null,null,null,null,null,null,null,null,null,null,null,null,null,null,null,null,null,null,null,null,null,null,null,null,null,null,null,null,null,null,null,null,null,null,0,0,0,"-",0,"-",0,"-","-","-",null,null,0,0,0,"-",0,"-","-",null,null,0,0,0,"-",0,"-","-"]

{"sheet":"Settercalls","index":15,"n_rows":54,"n_cols":114,"rows_kept":54,"cut":false,"hidden":false,"merged":[[0,2,0,58],[3,2,3,4],[3,5,3,7],[3,9,3,11],[3,12,3,14],[3,16,3,18],[3,19,3,21],[3,23,3,25],[3,26,3,28],[3,32,3,34],[3,35,3,37],[3,39,3,41],[3,42,3,44],[3,49,3,51],[3,56,3,58],[20,56,20,58],[3,46,3,48],[20,46,20,48],[3,53,3,55],[20,53,20,55],[20,2,20,4],[20,5,20,7],[20,9,20,11],[20,12,20,14],[20,16,20,18],[20,19,20,21],[20,23,20,25],[20,26,20,28],[20,32,20,34],[20,35,20,37],[20,39,20,41],[20,42,20,44],[37,46,37,48],[20,49,20,51],[37,53,37,55],[37,42,37,44],[37,49,37,51],[37,2,37,4],[37,5,37,7],[37,9,37,11],[37,12,37,14],[37,16,37,18],[37,19,37,21],[37,23,37,25],[37,26,37,28],[37,32,37,34],[37,56,37,58],[37,35,37,37],[37,39,37,41]]}
[null,null,{"$f":"\"Attackdistribution depending on Settercalls -  \"&Daten!A3","v":"Attackdistribution depending on Settercalls -  KOREA"}]
[]
[null,"S1",null,null,null,null,null,null,null,null,null,null,null,null,null,null,null,null,null,null,null,null,null,null,null,null,null,null,null,null,null,"S4"]
[null,null,{"$f":"\"Base \"&Options!$S$7","v":"Base K1"},null,null,{"$f":"'R 1'!$BL$10&\" % (\"&'R 1'!$BL$9&\")\"","v":"67 % (6)"},null,null,null,{"$f":"\"Base \"&Options!$S$8","v":"Base K2"},null,null,{"$f":"'R 1'!$BL$16&\" % (\"&'R 1'!$BL$15&\")\"","v":"11 % (1)"},null,null,null,{"$f":"\"Base \"&Options!$S$9","v":"Base K7"},null,null,{"$f":"'R 1'!$BL$22&\" % (\"&'R 1'!$BL$21&\")\"","v":"22 % (2)"},null,null,null,{"$f":"\"Base \"&Options!$S$10","v":"Base KD"},null,null,{"$f":"'R 1'!$BL$28&\" % (\"&'R 1'!$BL$27&\")\"","v":"0 % (0)"},null,null,null,null,null,{"$f":"\"Base \"&Options!$S$7","v":"Base K1"},null,null,{"$f":"'R 4'!$BL$10&\" % (\"&'R 4'!$BL$9&\")\"","v":"83 % (5)"},null,null,null,{"$f":"\"Base \"&Options!$S$8","v":"Base K2"},null,null,{"$f":"'R 4'!$BL$16&\" % (\"&'R 4'!$BL$15&\")\"","v":"0 % (0)"},null,null,null,{"$f":"\"Base \"&Options!$S$9","v":"Base K7"},null,null,{"$f":"'R 4'!$BL$22&\" % (\"&'R 4'!$BL$21&\")\"","v":"17 % (1)"},null,null,null,{"$f":"\"Base \"&Options!$S$10","v":"Base KD"},null,null,{"$f":"'R 4'!$BL$28&\" % (\"&'R 4'!$BL$27&\")\"","v":"0 % (0)"}]
[]
[null,null,null,null,null,null,null,null,null,null,null,null,null,null,null,null,null,null,null,null,null,null,null,null,null,null,null,null,null,null,null,null,null,null,null,null,null,null,null,null,null,null,null,null,null,null,null,null,null,null,null,null,null,null,null,null,null,null,null,null,null,null,null,null,null,{"$f":"Options!B11","v":"6/22"},{"$f":"Options!G11","v":4},{"$f":"Options!F11","v":"9/14"}]
[null,null,null,null,null,null,null,null,null,null,null,null,null,null,null,null,null,null,null,null,null,null,null,null,null,null,null,null,null,null,null,null,null,null,null,null,null,null,null,null,null,null,null,null,null,null,null,null,null,null,null,null,null,null,null,null,null,null,null,null,null,null,null,null,null,null,{"$f":"Options!H11","v":"19/25"}]
[null,null,null,null,null,null,null,null,null,null,null,null,null,null,null,null,null,null,null,null,null,null,null,null,null,null,null,null,null,null,null,null,null,null,null,null,null,null,null,null,null,null,null,null,null,null,null,null,null,null,null,null,null,null,null,null,null,null,null,null,null,null,null,null,null,{"$f":"Options!C11","v":1},{"$f":"Options!D11","v":"11/8"},{"$f":"Options!E11","v":17}]
[]
[]
[]
[null,null,null,null,null,null,null,null,null,null,null,null,null,null,null,null,null,null,null,null,null,null,null,null,null,null,null,null,null,null,null,null,null,null,null,null,null,null,null,null,null,null,null,null,null,null,null,null,null,null,null,null,null,null,null,null,null,null,null,null,null,null,null,null,{"$f":"Daten!B19","v":"all"},{"$f":"Daten!C19","v":"K1"},{"$f":"Daten!D19","v":"K2"},{"$f":"Daten!E19","v":"K7"},{"$f":"Daten!F19","v":"KD"},{"$f":"Daten!I19","v":"K1B"},{"$f":"Daten!H19","v":"K1C"},{"$f":"Daten!G19","v":"K1F"},{"$f":"Daten!J19","v":"K1P"},{"$f":"Daten!K19","v":"K1S"},{"$f":"Daten!N19","v":"K2B"},{"$f":"Daten!M19","v":"K2C"},{"$f":"Daten!L19","v":"K2F"},{"$f":"Daten!O19","v":"K2P"},{"$f":"Daten!P19","v":"K2S"},{"$f":"Daten!S19","v":"K7B"},{"$f":"Daten!R19","v":"K7C"},{"$f":"Daten!Q19","v":"K7F"},{"$f":"Daten!T19","v":"K7P"},{"$f":"Daten!U19","v":"K7S"},{"$f":"Daten!X19","v":"KDB"},{"$f":"Daten!W19","v":"KDC"},{"$f":"Daten!V19","v":"KDF"},{"$f":"Daten!Y19","v":"KDP"},{"$f":"Daten!Z19","v":"KDS"},{"$f":"Daten!AA19","v":"all-E"},{"$f":"Daten!AB19","v":"K1-E"},{"$f":"Daten!AC19","v":"K2-E"},{"$f":"Daten!AD19","v":"K7-E"},{"$f":"Daten!AE19","v":"KD-E"},{"$f":"Daten!AH19","v":"K1B-E"},{"$f":"Daten!AG19","v":"K1C-E"},{"$f":"Daten!AF19","v":"K1F-E"},{"$f":"Daten!AI19","v":"K1P-E"},{"$f":"Daten!AJ19","v":"K1S-E"},{"$f":"Daten!AM19","v":"K2B-E"},{"$f":"Daten!AL19","v":"K2C-E"},{"$f":"Daten!AK19","v":"K2F-E"},{"$f":"Daten!AN19","v":"K2P-E"},{"$f":"Daten!AO19","v":"K2S-E"},{"$f":"Daten!AR19","v":"K7B-E"},{"$f":"Daten!AQ19","v":"K7C-E"},{"$f":"Daten!AP19","v":"K7F-E"},{"$f":"Daten!AS19","v":"K7P-E"},{"$f":"Daten!AT19","v":"K7S-E"},{"$f":"Daten!AW19","v":"KDB-E"},{"$f":"Daten!AV19","v":"KDC-E"},{"$f":"Daten!AU19","v":"KDF-E"},{"$f":"Daten!AX19","v":"KDP-E"},{"$f":"Daten!AY19","v":"KDS-E"}]
[null,null,null,null,null,null,null,null,null,null,null,null,null,null,null,null,null,null,null,null,null,null,null,null,null,null,null,null,null,null,null,null,null,null,null,null,null,null,null,null,null,null,null,null,null,null,null,null,null,null,null,null,null,null,null,null,null,null,null,null,null,null,null,{"$f":"Daten!A20","v":"S in 1"},{"$f":"Daten!B20","v":9},{"$f":"Daten!C20","v":6},{"$f":"Daten!D20","v":1},{"$f":"Daten!E20","v":2},{"$f":"Daten!F20","v":0},{"$f":"Daten!I20","v":1},{"$f":"Daten!H20","v":0},{"$f":"Daten!G20","v":4},{"$f":"Daten!J20","v":1},{"$f":"Daten!K20","v":0},{"$f":"Daten!N20","v":0},{"$f":"Daten!M20","v":1},{"$f":"Daten!L20","v":0},{"$f":"Daten!O20","v":0},{"$f":"Daten!P20","v":0},{"$f":"Daten!S20","v":0},{"$f":"Daten!R20","v":1},{"$f":"Daten!Q20","v":0},{"$f":"Daten!T20","v":1},{"$f":"Daten!U20","v":0},{"$f":"Daten!X20","v":0},{"$f":"Daten!W20","v":0},{"$f":"Daten!V20","v":0},{"$f":"Daten!Y20","v":0},{"$f":"Daten!Z20","v":0},{"$f":"Daten!AA20","v":"22%"},{"$f":"Daten!AB20","v":"17%"},{"$f":"Daten!AC20","v":"0%"},{"$f":"Daten!AD20","v":"50%"},{"$f":"Daten!AE20","v":"0%"},{"$f":"Daten!AH20","v":"-100%"},{"$f":"Daten!AG20","v":"0%"},{"$f":"Daten!AF20","v":"75%"},{"$f":"Daten!AI20","v":"-100%"},{"$f":"Daten!AJ20","v":"0%"},{"$f":"Daten!AM20","v":"0%"},{"$f":"Daten!AL20","v":"0%"},{"$f":"Daten!AK20","v":"0%"},{"$f":"Daten!AN20","v":"0%"},{"$f":"Daten!AO20","v":"0%"},{"$f":"Daten!AR20","v":"0%"},{"$f":"Daten!AQ20","v":"0%"},{"$f":"Daten!AP20","v":"0%"},{"$f":"Daten!AS20","v":"100%"},{"$f":"Daten!AT20","v":"0%"},{"$f":"Daten!AW20","v":"0%"},{"$f":"Daten!AV20","v":"0%"},{"$f":"Daten!AU20","v":"0%"},{"$f":"Daten!AX20","v":"0%"},{"$f":"Daten!AY20","v":"0%"}]
[null,null,null,null,null,null,null,null,null,null,null,null,null,null,null,null,null,null,null,null,null,null,null,null,null,null,null,null,null,null,null,null,null,null,null,null,null,null,null,null,null,null,null,null,null,null,null,null,null,null,null,null,null,null,null,null,null,null,null,null,null,null,null,{"$f":"Daten!A21","v":"S in 6"},{"$f":"Daten!B21","v":8},{"$f":"Daten!C21","v":4},{"$f":"Daten!D21","v":4},{"$f":"Daten!E21","v":0},{"$f":"Daten!F21","v":0},{"$f":"Daten!I21","v":1},{"$f":"Daten!H21","v":2},{"$f":"Daten!G21","v":0},{"$f":"Daten!J21","v":1},{"$f":"Daten!K21","v":0},{"$f":"Daten!N21","v":1},{"$f":"Daten!M21","v":1},{"$f":"Daten!L21","v":1},{"$f":"Daten!O21","v":1},{"$f":"Daten!P21","v":0},{"$f":"Daten!S21","v":0},{"$f":"Daten!R21","v":0},{"$f":"Daten!Q21","v":0},{"$f":"Daten!T21","v":0},{"$f":"Daten!U21","v":0},{"$f":"Daten!X21","v":0},{"$f":"Daten!W21","v":0},{"$f":"Daten!V21","v":0},{"$f":"Daten!Y21","v":0},{"$f":"Daten!Z21","v":0},{"$f":"Daten!AA21","v":"38%"},{"$f":"Daten!AB21","v":"75%"},{"$f":"Daten!AC21","v":"0%"},{"$f":"Daten!AD21","v":"0%"},{"$f":"Daten!AE21","v":"0%"},{"$f":"Daten!AH21","v":"100%"},{"$f":"Daten!AG21","v":"100%"},{"$f":"Daten!AF21","v":"0%"},{"$f":"Daten!AI21","v":"0%"},{"$f":"Daten!AJ21","v":"0%"},{"$f":"Daten!AM21","v":"0%"},{"$f":"Daten!AL21","v":"0%"},{"$f":"Daten!AK21","v":"-100%"},{"$f":"Daten!AN21","v":"100%"},{"$f":"Daten!AO21","v":"0%"},{"$f":"Daten!AR21","v":"0%"},{"$f":"Daten!AQ21","v":"0%"},{"$f":"Daten!AP21","v":"0%"},{"$f":"Daten!AS21","v":"0%"},{"$f":"Daten!AT21","v":"0%"},{"$f":"Daten!AW21","v":"0%"},{"$f":"Daten!AV21","v":"0%"},{"$f":"Daten!AU21","v":"0%"},{"$f":"Daten!AX21","v":"0%"},{"$f":"Daten!AY21","v":"0%"}]
[null,null,null,null,null,null,null,null,null,null,null,null,null,null,null,null,null,null,null,null,null,null,null,null,null,null,null,null,null,null,null,null,null,null,null,null,null,null,null,null,null,null,null,null,null,null,null,null,null,null,null,null,null,null,null,null,null,null,null,null,null,null,null,{"$f":"Daten!A22","v":"S in 5"},{"$f":"Daten!B22","v":10},{"$f":"Daten!C22","v":5},{"$f":"Daten!D22","v":0},{"$f":"Daten!E22","v":5},{"$f":"Daten!F22","v":0},{"$f":"Daten!I22","v":0},{"$f":"Daten!H22","v":1},{"$f":"Daten!G22","v":0},{"$f":"Daten!J22","v":4},{"$f":"Daten!K22","v":0},{"$f":"Daten!N22","v":0},{"$f":"Daten!M22","v":0},{"$f":"Daten!L22","v":0},{"$f":"Daten!O22","v":0},{"$f":"Daten!P22","v":0},{"$f":"Daten!S22","v":2},{"$f":"Daten!R22","v":2},{"$f":"Daten!Q22","v":0},{"$f":"Daten!T22","v":1},{"$f":"Daten!U22","v":0},{"$f":"Daten!X22","v":0},{"$f":"Daten!W22","v":0},{"$f":"Daten!V22","v":0},{"$f":"Daten!Y22","v":0},{"$f":"Daten!Z22","v":0},{"$f":"Daten!AA22","v":"50%"},{"$f":"Daten!AB22","v":"40%"},{"$f":"Daten!AC22","v":"0%"},{"$f":"Daten!AD22","v":"60%"},{"$f":"Daten!AE22","v":"0%"},{"$f":"Daten!AH22","v":"0%"},{"$f":"Daten!AG22","v":"0%"},{"$f":"Daten!AF22","v":"0%"},{"$f":"Daten!AI22","v":"50%"},{"$f":"Daten!AJ22","v":"0%"},{"$f":"Daten!AM22","v":"0%"},{"$f":"Daten!AL22","v":"0%"},{"$f":"Daten!AK22","v":"0%"},{"$f":"Daten!AN22","v":"0%"},{"$f":"Daten!AO22","v":"0%"},{"$f":"Daten!AR22","v":"100%"},{"$f":"Daten!AQ22","v":"50%"},{"$f":"Daten!AP22","v":"0%"},{"$f":"Daten!AS22","v":"0%"},{"$f":"Daten!AT22","v":"0%"},{"$f":"Daten!AW22","v":"0%"},{"$f":"Daten!AV22","v":"0%"},{"$f":"Daten!AU22","v":"0%"},{"$f":"Daten!AX22","v":"0%"},{"$f":"Daten!AY22","v":"0%"}]
[null,null,null,null,null,null,null,null,null,null,null,null,null,null,null,null,null,null,null,null,null,null,null,null,null,null,null,null,null,null,null,null,null,null,null,null,null,null,null,null,null,null,null,null,null,null,null,null,null,null,null,null,null,null,null,null,null,null,null,null,null,null,null,{"$f":"Daten!A23","v":"S in 4"},{"$f":"Daten!B23","v":6},{"$f":"Daten!C23","v":5},{"$f":"Daten!D23","v":0},{"$f":"Daten!E23","v":1},{"$f":"Daten!F23","v":0},{"$f":"Daten!I23","v":0},{"$f":"Daten!H23","v":2},{"$f":"Daten!G23","v":2},{"$f":"Daten!J23","v":1},{"$f":"Daten!K23","v":0},{"$f":"Daten!N23","v":0},{"$f":"Daten!M23","v":0},{"$f":"Daten!L23","v":0},{"$f":"Daten!O23","v":0},{"$f":"Daten!P23","v":0},{"$f":"Daten!S23","v":1},{"$f":"Daten!R23","v":0},{"$f":"Daten!Q23","v":0},{"$f":"Daten!T23","v":0},{"$f":"Daten!U23","v":0},{"$f":"Daten!X23","v":0},{"$f":"Daten!W23","v":0},{"$f":"Daten!V23","v":0},{"$f":"Daten!Y23","v":0},{"$f":"Daten!Z23","v":0},{"$f":"Daten!AA23","v":"83%"},{"$f":"Daten!AB23","v":"80%"},{"$f":"Daten!AC23","v":"0%"},{"$f":"Daten!AD23","v":"100%"},{"$f":"Daten!AE23","v":"0%"},{"$f":"Daten!AH23","v":"0%"},{"$f":"Daten!AG23","v":"100%"},{"$f":"Daten!AF23","v":"50%"},{"$f":"Daten!AI23","v":"100%"},{"$f":"Daten!AJ23","v":"0%"},{"$f":"Daten!AM23","v":"0%"},{"$f":"Daten!AL23","v":"0%"},{"$f":"Daten!AK23","v":"0%"},{"$f":"Daten!AN23","v":"0%"},{"$f":"Daten!AO23","v":"0%"},{"$f":"Daten!AR23","v":"100%"},{"$f":"Daten!AQ23","v":"0%"},{"$f":"Daten!AP23","v":"0%"},{"$f":"Daten!AS23","v":"0%"},{"$f":"Daten!AT23","v":"0%"},{"$f":"Daten!AW23","v":"0%"},{"$f":"Daten!AV23","v":"0%"},{"$f":"Daten!AU23","v":"0%"},{"$f":"Daten!AX23","v":"0%"},{"$f":"Daten!AY23","v":"0%"}]
[null,null,null,null,null,null,null,null,null,null,null,null,null,null,null,null,null,null,null,null,null,null,null,null,null,null,null,null,null,null,null,null,null,null,null,null,null,null,null,null,null,null,null,null,null,null,null,null,null,null,null,null,null,null,null,null,null,null,null,null,null,null,null,{"$f":"Daten!A24","v":"S in 3"},{"$f":"Daten!B24","v":7},{"$f":"Daten!C24","v":2},{"$f":"Daten!D24","v":5},{"$f":"Daten!E24","v":0},{"$f":"Daten!F24","v":0},{"$f":"Daten!I24","v":0},{"$f":"Daten!H24","v":2},{"$f":"Daten!G24","v":0},{"$f":"Daten!J24","v":0},{"$f":"Daten!K24","v":0},{"$f":"Daten!N24","v":1},{"$f":"Daten!M24","v":2},{"$f":"Daten!L24","v":1},{"$f":"Daten!O24","v":0},{"$f":"Daten!P24","v":1},{"$f":"Daten!S24","v":0},{"$f":"Daten!R24","v":0},{"$f":"Daten!Q24","v":0},{"$f":"Daten!T24","v":0},{"$f":"Daten!U24","v":0},{"$f":"Daten!X24","v":0},{"$f":"Daten!W24","v":0},{"$f":"Daten!V24","v":0},{"$f":"Daten!Y24","v":0},{"$f":"Daten!Z24","v":0},{"$f":"Daten!AA24","v":"57%"},{"$f":"Daten!AB24","v":"100%"},{"$f":"Daten!AC24","v":"40%"},{"$f":"Daten!AD24","v":"0%"},{"$f":"Daten!AE24","v":"0%"},{"$f":"Daten!AH24","v":"0%"},{"$f":"Daten!AG24","v":"100%"},{"$f":"Daten!AF24","v":"0%"},{"$f":"Daten!AI24","v":"0%"},{"$f":"Daten!AJ24","v":"0%"},{"$f":"Daten!AM24","v":"100%"},{"$f":"Daten!AL24","v":"50%"},{"$f":"Daten!AK24","v":"-100%"},{"$f":"Daten!AN24","v":"0%"},{"$f":"Daten!AO24","v":"100%"},{"$f":"Daten!AR24","v":"0%"},{"$f":"Daten!AQ24","v":"0%"},{"$f":"Daten!AP24","v":"0%"},{"$f":"Daten!AS24","v":"0%"},{"$f":"Daten!AT24","v":"0%"},{"$f":"Daten!AW24","v":"0%"},{"$f":"Daten!AV24","v":"0%"},{"$f":"Daten!AU24","v":"0%"},{"$f":"Daten!AX24","v":"0%"},{"$f":"Daten!AY24","v":"0%"}]
[null,null,null,null,null,null,null,null,null,null,null,null,null,null,null,null,null,null,null,null,null,null,null,null,null,null,null,null,null,null,null,null,null,null,null,null,null,null,null,null,null,null,null,null,null,null,null,null,null,null,null,null,null,null,null,null,null,null,null,null,null,null,null,{"$f":"Daten!A25","v":"S in 2"},{"$f":"Daten!B25","v":11},{"$f":"Daten!C25","v":10},{"$f":"Daten!D25","v":0},{"$f":"Daten!E25","v":1},{"$f":"Daten!F25","v":0},{"$f":"Daten!I25","v":4},{"$f":"Daten!H25","v":3},{"$f":"Daten!G25","v":3},{"$f":"Daten!J25","v":0},{"$f":"Daten!K25","v":0},{"$f":"Daten!N25","v":0},{"$f":"Daten!M25","v":0},{"$f":"Daten!L25","v":0},{"$f":"Daten!O25","v":0},{"$f":"Daten!P25","v":0},{"$f":"Daten!S25","v":0},{"$f":"Daten!R25","v":0},{"$f":"Daten!Q25","v":0},{"$f":"Daten!T25","v":0},{"$f":"Daten!U25","v":0},{"$f":"Daten!X25","v":0},{"$f":"Daten!W25","v":0},{"$f":"Daten!V25","v":0},{"$f":"Daten!Y25","v":0},{"$f":"Daten!Z25","v":0},{"$f":"Daten!AA25","v":"9%"},{"$f":"Daten!AB25","v":"0%"},{"$f":"Daten!AC25","v":"0%"},{"$f":"Daten!AD25","v":"100%"},{"$f":"Daten!AE25","v":"0%"},{"$f":"Daten!AH25","v":"0%"},{"$f":"Daten!AG25","v":"33%"},{"$f":"Daten!AF25","v":"-33%"},{"$f":"Daten!AI25","v":"0%"},{"$f":"Daten!AJ25","v":"0%"},{"$f":"Daten!AM25","v":"0%"},{"$f":"Daten!AL25","v":"0%"},{"$f":"Daten!AK25","v":"0%"},{"$f":"Daten!AN25","v":"0%"},{"$f":"Daten!AO25","v":"0%"},{"$f":"Daten!AR25","v":"0%"},{"$f":"Daten!AQ25","v":"0%"},{"$f":"Daten!AP25","v":"0%"},{"$f":"Daten!AS25","v":"0%"},{"$f":"Daten!AT25","v":"0%"},{"$f":"Daten!AW25","v":"0%"},{"$f":"Daten!AV25","v":"0%"},{"$f":"Daten!AU25","v":"0%"},{"$f":"Daten!AX25","v":"0%"},{"$f":"Daten!AY25","v":"0%"}]
[]
[null,"S6",null,null,null,null,null,null,null,null,null,null,null,null,null,null,null,null,null,null,null,null,null,null,null,null,null,null,null,null,null,"S3"]
[null,null,{"$f":"\"Base \"&Options!$S$7","v":"Base K1"},null,null,{"$f":"'R 6'!$BL$10&\" % (\"&'R 6'!$BL$9&\")\"","v":"50 % (4)"},null,null,null,{"$f":"\"Base \"&Options!$S$8","v":"Base K2"},null,null,{"$f":"'R 6'!$BL$16&\" % (\"&'R 6'!$BL$15&\")\"","v":"50 % (4)"},null,null,null,{"$f":"\"Base \"&Options!$S$9","v":"Base K7"},null,null,{"$f":"'R 6'!$BL$22&\" % (\"&'R 6'!$BL$21&\")\"","v":"0 % (0)"},null,null,null,{"$f":"\"Base \"&Options!$S$10","v":"Base KD"},null,null,{"$f":"'R 6'!$BL$28&\" % (\"&'R 6'!$BL$27&\")\"","v":"0 % (0)"},null,null,null,null,null,{"$f":"\"Base \"&Options!$S$7","v":"Base K1"},null,null,{"$f":"'R 3'!$BL$10&\" % (\"&'R 3'!$BL$9&\")\"","v":"29 % (2)"},null,null,null,{"$f":"\"Base \"&Options!$S$8","v":"Base K2"},null,null,{"$f":"'R 3'!$BL$16&\" % (\"&'R 3'!$BL$15&\")\"","v":"71 % (5)"},null,null,null,{"$f":"\"Base \"&Options!$S$9","v":"Base K7"},null,null,{"$f":"'R 3'!$BL$22&\" % (\"&'R 3'!$BL$21&\")\"","v":"0 % (0)"},null,null,null,{"$f":"\"Base \"&Options!$S$10","v":"Base KD"},null,null,{"$f":"'R 3'!$BL$28&\" % (\"&'R 3'!$BL$27&\")\"","v":"0 % (0)"}]
[]
[]
[]
[]
[]
[]
[null,null,null,null,null,null,null,null,null,null,null,null,null,null,null,null,null,null,null,null,null,null,null,null,null,null,null,null,null,null,null,null,null,null,null,null,null,null,null,null,null,null,null,null,null,null,null,null,null,null,null,null,null,null,null,null,null,null,null,null,null,null,null,null,null,null,null,null,null,{"$f":"Daten!I19","v":"K1B"},{"$f":"Daten!H19","v":"K1C"},{"$f":"Daten!G19","v":"K1F"},{"$f":"Daten!J19","v":"K1P"},{"$f":"Daten!K19","v":"K1S"},{"$f":"Daten!N19","v":"K2B"},{"$f":"Daten!M19","v":"K2C"},{"$f":"Daten!L19","v":"K2F"},{"$f":"Daten!O19","v":"K2P"},{"$f":"Daten!P19","v":"K2S"},{"$f":"Daten!S19","v":"K7B"},{"$f":"Daten!R19","v":"K7C"},{"$f":"Daten!Q19","v":"K7F"},{"$f":"Daten!T19","v":"K7P"},{"$f":"Daten!U19","v":"K7S"},{"$f":"Daten!X19","v":"KDB"},{"$f":"Daten!W19","v":"KDC"},{"$f":"Daten!V19","v":"KDF"},{"$f":"Daten!Y19","v":"KDP"},{"$f":"Daten!Z19","v":"KDS"}]
[null,null,null,null,null,null,null,null,null,null,null,null,null,null,null,null,null,null,null,null,null,null,null,null,null,null,null,null,null,null,null,null,null,null,null,null,null,null,null,null,null,null,null,null,null,null,null,null,null,null,null,null,null,null,null,null,null,null,null,null,null,null,null,null,null,{"$f":"Daten!C19","v":"K1"},{"$f":"Daten!D19","v":"K2"},{"$f":"Daten!E19","v":"K7"},{"$f":"Daten!F19","v":"KD"},2,3,4,"B","S",2,3,4,"B","S",2,3,4,"B","S",2,3,4,"B","S",null,{"$f":"Daten!AB19","v":"K1-E"},{"$f":"Daten!AC19","v":"K2-E"},{"$f":"Daten!AD19","v":"K7-E"},{"$f":"Daten!AE19","v":"KD-E"},{"$f":"Daten!AF19","v":"K1F-E"},{"$f":"Daten!AG19","v":"K1C-E"},{"$f":"Daten!AH19","v":"K1B-E"},{"$f":"Daten!AI19","v":"K1P-E"},{"$f":"Daten!AJ19","v":"K1S-E"},{"$f":"Daten!AK19","v":"K2F-E"},{"$f":"Daten!AL19","v":"K2C-E"},{"$f":"Daten!AM19","v":"K2B-E"},{"$f":"Daten!AN19","v":"K2P-E"},{"$f":"Daten!AO19","v":"K2S-E"},{"$f":"Daten!AP19","v":"K7F-E"},{"$f":"Daten!AQ19","v":"K7C-E"},{"$f":"Daten!AR19","v":"K7B-E"},{"$f":"Daten!AS19","v":"K7P-E"},{"$f":"Daten!AT19","v":"K7S-E"},{"$f":"Daten!AU19","v":"KDF-E"},{"$f":"Daten!AV19","v":"KDC-E"},{"$f":"Daten!AW19","v":"KDB-E"},{"$f":"Daten!AX19","v":"KDP-E"},{"$f":"Daten!AY19","v":"KDS-E"}]
[null,null,null,null,null,null,null,null,null,null,null,null,null,null,null,null,null,null,null,null,null,null,null,null,null,null,null,null,null,null,null,null,null,null,null,null,null,null,null,null,null,null,null,null,null,null,null,null,null,null,null,null,null,null,null,null,null,null,null,null,null,null,null,{"$f":"Daten!A20","v":"S in 1"},null,{"$f":"IF(BN13=0,0,ROUND(BN13/$BM13,2)*100)","v":67},11,22,0,{"$f":"IF(BR13=0,0,ROUND(BR13/$BN13,2)*100)","v":17},0,67,17,0,{"$f":"IF(BW13=0,0,ROUND(BW13/$BO13,2)*100)","v":0},100,0,0,0,{"$f":"IF(CB13=0,0,ROUND(CB13/$BP13,2)*100)","v":0},50,0,50,0,{"$f":"IF(CG13=0,0,ROUND(CG13/$BQ13,2)*100)","v":0},0,0,0,0,null,null,null,null,null,{"$f":"IF(BR13=0,\"\",CQ13)","v":"-100%"},"","75%","-100%","","","0%","","","","","0%","","100%","","","","","",""]
[null,null,null,null,null,null,null,null,null,null,null,null,null,null,null,null,null,null,null,null,null,null,null,null,null,null,null,null,null,null,null,null,null,null,null,null,null,null,null,null,null,null,null,null,null,null,null,null,null,null,null,null,null,null,null,null,null,null,null,null,null,null,null,{"$f":"Daten!A21","v":"S in 6"},null,50,50,0,0,25,50,0,25,0,25,25,25,25,0,0,0,0,0,0,0,0,0,0,0,null,null,null,null,null,"100%","100%","","0%","","0%","0%","-100%","100%","","","","","","","","","","",""]
[null,null,null,null,null,null,null,null,null,null,null,null,null,null,null,null,null,null,null,null,null,null,null,null,null,null,null,null,null,null,null,null,null,null,null,null,null,null,null,null,null,null,null,null,null,null,null,null,null,null,null,null,null,null,null,null,null,null,null,null,null,null,null,{"$f":"Daten!A22","v":"S in 5"},null,50,0,50,0,0,20,0,80,0,0,0,0,0,0,40,40,0,20,0,0,0,0,0,0,null,null,null,null,null,"","0%","","50%","","","","","","","100%","50%","","0%","","","","","",""]
[null,null,null,null,null,null,null,null,null,null,null,null,null,null,null,null,null,null,null,null,null,null,null,null,null,null,null,null,null,null,null,null,null,null,null,null,null,null,null,null,null,null,null,null,null,null,null,null,null,null,null,null,null,null,null,null,null,null,null,null,null,null,null,{"$f":"Daten!A23","v":"S in 4"},null,83,0,17,0,0,40,40,20,0,0,0,0,0,0,100,0,0,0,0,0,0,0,0,0,null,null,null,null,null,"","100%","50%","100%","","","","","","","100%","","","","","","","","",""]
[null,null,null,null,null,null,null,null,null,null,null,null,null,null,null,null,null,null,null,null,null,null,null,null,null,null,null,null,null,null,null,null,null,null,null,null,null,null,null,null,null,null,null,null,null,null,null,null,null,null,null,null,null,null,null,null,null,null,null,null,null,null,null,{"$f":"Daten!A24","v":"S in 3"},null,28.999999999999996,71,0,0,0,100,0,0,0,20,40,20,0,20,0,0,0,0,0,0,0,0,0,0,null,null,null,null,null,"","100%","","","","100%","50%","-100%","","100%","","","","","","","","","",""]
[null,null,null,null,null,null,null,null,null,null,null,null,null,null,null,null,null,null,null,null,null,null,null,null,null,null,null,null,null,null,null,null,null,null,null,null,null,null,null,null,null,null,null,null,null,null,null,null,null,null,null,null,null,null,null,null,null,null,null,null,null,null,null,{"$f":"Daten!A25","v":"S in 2"},null,91,0,9,0,40,30,30,0,0,0,0,0,0,0,0,0,0,0,0,0,0,0,0,0,null,null,null,null,null,"0%","33%","-33%","","","","","","","","","","","","","","","","",""]
[]
[null,"S5",null,null,null,null,null,null,null,null,null,null,null,null,null,null,null,null,null,null,null,null,null,null,null,null,null,null,null,null,null,"S2"]
[null,null,{"$f":"\"Base \"&Options!$S$7","v":"Base K1"},null,null,{"$f":"'R 5'!$BL$10&\" % (\"&'R 5'!$BL$9&\")\"","v":"50 % (5)"},null,null,null,{"$f":"\"Base \"&Options!$S$8","v":"Base K2"},null,null,{"$f":"'R 5'!$BL$16&\" % (\"&'R 5'!$BL$15&\")\"","v":"0 % (0)"},null,null,null,{"$f":"\"Base \"&Options!$S$9","v":"Base K7"},null,null,{"$f":"'R 5'!$BL$22&\" % (\"&'R 5'!$BL$21&\")\"","v":"50 % (5)"},null,null,null,{"$f":"\"Base \"&Options!$S$10","v":"Base KD"},null,null,{"$f":"'R 5'!$BL$28&\" % (\"&'R 5'!$BL$27&\")\"","v":"0 % (0)"},null,null,null,null,null,{"$f":"\"Base \"&Options!$S$7","v":"Base K1"},null,null,{"$f":"'R 2'!$BL$10&\" % (\"&'R 2'!$BL$9&\")\"","v":"91 % (10)"},null,null,null,{"$f":"\"Base \"&Options!$S$8","v":"Base K2"},null,null,{"$f":"'R 2'!$BL$16&\" % (\"&'R 2'!$BL$15&\")\"","v":"0 % (0)"},null,null,null,{"$f":"\"Base \"&Options!$S$9","v":"Base K7"},null,null,{"$f":"'R 2'!$BL$22&\" % (\"&'R 2'!$BL$21&\")\"","v":"9 % (1)"},null,null,null,{"$f":"\"Base \"&Options!$S$10","v":"Base KD"},null,null,{"$f":"'R 2'!$BL$28&\" % (\"&'R 2'!$BL$27&\")\"","v":"0 % (0)"}]
[]
[]
[]
[]
[]
[]
[]
[]
[]
[]
[]
[]
[]
[]
[]
[null,null,"2: Attack of Opposite",null,null,null,null,null,null,"3: Attack of Middleblocker",null,null,null,null,null,null,null,"4: Attack of Outside",null,null,null,null,null,null,"B: Attack of Backrow",null,null,null,null,null,null,"S: Attack of Setter",null,null,null,null,null,null,null,"xx%: Efficiency of Attacks (-100% to +100%)"]

{"sheet":"A RecPos","index":16,"n_rows":44,"n_cols":68,"rows_kept":44,"cut":false,"hidden":false,"merged":[[1,1,1,18],[26,11,26,18],[3,1,3,8],[26,1,26,8],[3,11,3,18],[3,53,3,62],[3,64,3,67],[26,23,26,32],[26,33,26,42],[26,44,26,45],[3,23,3,32],[3,33,3,42],[3,43,3,52]]}
[]
[null,{"$f":"\"Attacks depending on Reception Position - \"&Options!B1","v":"Attacks depending on Reception Position - KOREA"}]
[]
[null,"Setter back (S1, S6, S5) - R#+",null,null,null,null,null,null,null,null,null,"Setter back (S1, S6, S5) - all Receptions",null,null,null,null,null,null,null,null,null,null,null,"K1 after R#+ depending on R-Pos (S1,S6,S5)",null,null,null,null,null,null,null,null,null,"K1 after R#+ depending on R-Pos (S4,S3,S2)",null,null,null,null,null,null,null,null,null,"K1 after R!-/ depending on R-Pos (S1,S6,S5)",null,null,null,null,null,null,null,null,null,"K1 after R!-/ depending on R-Pos (S4,S3,S2)",null,null,null,null,null,null,null,null,null,null,"Sums"]
[null,"R in Pos 1",{"$f":"ROUND(AT28,2)*100 &\"% (\"&AS28&\")\"","v":"10% (3)"},null,"R in Pos 6",{"$f":"ROUND(AT33,2)*100 &\"% (\"&AS33&\")\"","v":"45% (14)"},null,"R in Pos 5",{"$f":"ROUND(AT32,2)*100 &\"% (\"&AS32&\")\"","v":"26% (8)"},null,null,"R in Pos 1",{"$f":"ROUND(AT28,2)*100 &\"% (\"&AS28&\")\"","v":"10% (3)"},null,"R in Pos 6",{"$f":"ROUND(AT33,2)*100 &\"% (\"&AS33&\")\"","v":"45% (14)"},null,"R in Pos 5",{"$f":"ROUND(AT32,2)*100 &\"% (\"&AS32&\")\"","v":"26% (8)"},null,null,null,"R-Ort","P4","X",3,1,"Set","Kopf","EiB","P2","HF6","HF1","P4","X",3,1,"Set","Kopf","EiB","P2","HF6","HF1","P4","X",3,1,"Set","Kopf","EiB","P2","HF6","HF1","P4","X",3,1,"Set","Kopf","EiB","P2","HF6","HF1"]
[null,null,null,null,null,null,null,null,null,null,null,null,null,null,null,null,null,null,null,null,null,null,"Pos 1",{"$f":"IF(SUM(Daten!$B6:$K6)=0,0,Daten!B6/SUM(Daten!$B6:$K6))","v":0},{"$f":"IF(SUM(Daten!$B6:$K6)=0,0,Daten!C6/SUM(Daten!$B6:$K6))","v":0},{"$f":"IF(SUM(Daten!$B6:$K6)=0,0,Daten!D6/SUM(Daten!$B6:$K6))","v":1},{"$f":"IF(SUM(Daten!$B6:$K6)=0,0,Daten!E6/SUM(Daten!$B6:$K6))","v":0},{"$f":"IF(SUM(Daten!$B6:$K6)=0,0,Daten!F6/SUM(Daten!$B6:$K6))","v":0},{"$f":"IF(SUM(Daten!$B6:$K6)=0,0,Daten!G6/SUM(Daten!$B6:$K6))","v":0},{"$f":"IF(SUM(Daten!$B6:$K6)=0,0,Daten!H6/SUM(Daten!$B6:$K6))","v":0},{"$f":"IF(SUM(Daten!$B6:$K6)=0,0,Daten!I6/SUM(Daten!$B6:$K6))","v":0},{"$f":"IF(SUM(Daten!$B6:$K6)=0,0,Daten!J6/SUM(Daten!$B6:$K6))","v":0},{"$f":"IF(SUM(Daten!$B6:$K6)=0,0,Daten!K6/SUM(Daten!$B6:$K6))","v":0},{"$f":"IF(SUM(Daten!$L6:$U6)=0,0,Daten!L6/SUM(Daten!$L6:$U6))","v":0},{"$f":"IF(SUM(Daten!$L6:$U6)=0,0,Daten!M6/SUM(Daten!$L6:$U6))","v":0},{"$f":"IF(SUM(Daten!$L6:$U6)=0,0,Daten!N6/SUM(Daten!$L6:$U6))","v":0},{"$f":"IF(SUM(Daten!$L6:$U6)=0,0,Daten!O6/SUM(Daten!$L6:$U6))","v":0},{"$f":"IF(SUM(Daten!$L6:$U6)=0,0,Daten!P6/SUM(Daten!$L6:$U6))","v":0},{"$f":"IF(SUM(Daten!$L6:$U6)=0,0,Daten!Q6/SUM(Daten!$L6:$U6))","v":0},{"$f":"IF(SUM(Daten!$L6:$U6)=0,0,Daten!R6/SUM(Daten!$L6:$U6))","v":0},{"$f":"IF(SUM(Daten!$L6:$U6)=0,0,Daten!S6/SUM(Daten!$L6:$U6))","v":0},{"$f":"IF(SUM(Daten!$L6:$U6)=0,0,Daten!T6/SUM(Daten!$L6:$U6))","v":0},{"$f":"IF(SUM(Daten!$L6:$U6)=0,0,Daten!U6/SUM(Daten!$L6:$U6))","v":0},{"$f":"IF(SUM(Daten!V6:AE6)=0,0,Daten!V6/SUM(Daten!V6:AE6))","v":0},{"$f":"IF(SUM(Daten!W6:AF6)=0,0,Daten!W6/SUM(Daten!W6:AF6))","v":0},{"$f":"IF(SUM(Daten!X6:AG6)=0,0,Daten!X6/SUM(Daten!X6:AG6))","v":0},{"$f":"IF(SUM(Daten!Y6:AH6)=0,0,Daten!Y6/SUM(Daten!Y6:AH6))","v":0},{"$f":"IF(SUM(Daten!Z6:AI6)=0,0,Daten!Z6/SUM(Daten!Z6:AI6))","v":0},{"$f":"IF(SUM(Daten!AA6:AJ6)=0,0,Daten!AA6/SUM(Daten!AA6:AJ6))","v":0},{"$f":"IF(SUM(Daten!AB6:AK6)=0,0,Daten!AB6/SUM(Daten!AB6:AK6))","v":0},{"$f":"IF(SUM(Daten!AC6:AL6)=0,0,Daten!AC6/SUM(Daten!AC6:AL6))","v":1},{"$f":"IF(SUM(Daten!AD6:AM6)=0,0,Daten!AD6/SUM(Daten!AD6:AM6))","v":0},{"$f":"IF(SUM(Daten!AE6:AN6)=0,0,Daten!AE6/SUM(Daten!AE6:AN6))","v":0},{"$f":"IF(SUM(Daten!AF6:AO6)=0,0,Daten!AF6/SUM(Daten!AF6:AO6))","v":0},{"$f":"IF(SUM(Daten!AG6:AP6)=0,0,Daten!AG6/SUM(Daten!AG6:AP6))","v":0},{"$f":"IF(SUM(Daten!AH6:AQ6)=0,0,Daten!AH6/SUM(Daten!AH6:AQ6))","v":0},{"$f":"IF(SUM(Daten!AI6:AR6)=0,0,Daten!AI6/SUM(Daten!AI6:AR6))","v":0},{"$f":"IF(SUM(Daten!AJ6:AS6)=0,0,Daten!AJ6/SUM(Daten!AJ6:AS6))","v":0},{"$f":"IF(SUM(Daten!AK6:AT6)=0,0,Daten!AK6/SUM(Daten!AK6:AT6))","v":0},{"$f":"IF(SUM(Daten!AL6:AU6)=0,0,Daten!AL6/SUM(Daten!AL6:AU6))","v":0},{"$f":"IF(SUM(Daten!AM6:AV6)=0,0,Daten!AM6/SUM(Daten!AM6:AV6))","v":0},{"$f":"IF(SUM(Daten!AN6:AW6)=0,0,Daten!AN6/SUM(Daten!AN6:AW6))","v":0},{"$f":"IF(SUM(Daten!AO6:AX6)=0,0,Daten!AO6/SUM(Daten!AO6:AX6))","v":1},"Pos 1",{"$f":"SUM(Daten!B6:K6)","v":2},{"$f":"SUM(Daten!L6:U6)","v":0},{"$f":"SUM(Daten!V6:AE6)","v":1},{"$f":"SUM(Daten!AF6:AO6)","v":1}]
[null,null,null,null,null,null,null,null,null,null,null,null,null,null,null,null,null,null,null,null,null,null,"Pos 2",{"$f":"IF(SUM(Daten!$B7:$K7)=0,0,Daten!B7/SUM(Daten!$B7:$K7))","v":0},{"$f":"IF(SUM(Daten!$B7:$K7)=0,0,Daten!C7/SUM(Daten!$B7:$K7))","v":0},{"$f":"IF(SUM(Daten!$B7:$K7)=0,0,Daten!D7/SUM(Daten!$B7:$K7))","v":0},{"$f":"IF(SUM(Daten!$B7:$K7)=0,0,Daten!E7/SUM(Daten!$B7:$K7))","v":0},{"$f":"IF(SUM(Daten!$B7:$K7)=0,0,Daten!F7/SUM(Daten!$B7:$K7))","v":0},{"$f":"IF(SUM(Daten!$B7:$K7)=0,0,Daten!G7/SUM(Daten!$B7:$K7))","v":0},{"$f":"IF(SUM(Daten!$B7:$K7)=0,0,Daten!H7/SUM(Daten!$B7:$K7))","v":0},{"$f":"IF(SUM(Daten!$B7:$K7)=0,0,Daten!I7/SUM(Daten!$B7:$K7))","v":0},{"$f":"IF(SUM(Daten!$B7:$K7)=0,0,Daten!J7/SUM(Daten!$B7:$K7))","v":0},{"$f":"IF(SUM(Daten!$B7:$K7)=0,0,Daten!K7/SUM(Daten!$B7:$K7))","v":0},{"$f":"IF(SUM(Daten!$L7:$U7)=0,0,Daten!L7/SUM(Daten!$L7:$U7))","v":0},{"$f":"IF(SUM(Daten!$L7:$U7)=0,0,Daten!M7/SUM(Daten!$L7:$U7))","v":0},{"$f":"IF(SUM(Daten!$L7:$U7)=0,0,Daten!N7/SUM(Daten!$L7:$U7))","v":0},{"$f":"IF(SUM(Daten!$L7:$U7)=0,0,Daten!O7/SUM(Daten!$L7:$U7))","v":0},{"$f":"IF(SUM(Daten!$L7:$U7)=0,0,Daten!P7/SUM(Daten!$L7:$U7))","v":0},{"$f":"IF(SUM(Daten!$L7:$U7)=0,0,Daten!Q7/SUM(Daten!$L7:$U7))","v":0},{"$f":"IF(SUM(Daten!$L7:$U7)=0,0,Daten!R7/SUM(Daten!$L7:$U7))","v":0},{"$f":"IF(SUM(Daten!$L7:$U7)=0,0,Daten!S7/SUM(Daten!$L7:$U7))","v":0},{"$f":"IF(SUM(Daten!$L7:$U7)=0,0,Daten!T7/SUM(Daten!$L7:$U7))","v":0},{"$f":"IF(SUM(Daten!$L7:$U7)=0,0,Daten!U7/SUM(Daten!$L7:$U7))","v":0},{"$f":"IF(SUM(Daten!V7:AE7)=0,0,Daten!V7/SUM(Daten!V7:AE7))","v":0},{"$f":"IF(SUM(Daten!W7:AF7)=0,0,Daten!W7/SUM(Daten!W7:AF7))","v":0},{"$f":"IF(SUM(Daten!X7:AG7)=0,0,Daten!X7/SUM(Daten!X7:AG7))","v":0},{"$f":"IF(SUM(Daten!Y7:AH7)=0,0,Daten!Y7/SUM(Daten!Y7:AH7))","v":0},{"$f":"IF(SUM(Daten!Z7:AI7)=0,0,Daten!Z7/SUM(Daten!Z7:AI7))","v":0},{"$f":"IF(SUM(Daten!AA7:AJ7)=0,0,Daten!AA7/SUM(Daten!AA7:AJ7))","v":0},{"$f":"IF(SUM(Daten!AB7:AK7)=0,0,Daten!AB7/SUM(Daten!AB7:AK7))","v":0},{"$f":"IF(SUM(Daten!AC7:AL7)=0,0,Daten!AC7/SUM(Daten!AC7:AL7))","v":0},{"$f":"IF(SUM(Daten!AD7:AM7)=0,0,Daten!AD7/SUM(Daten!AD7:AM7))","v":0},{"$f":"IF(SUM(Daten!AE7:AN7)=0,0,Daten!AE7/SUM(Daten!AE7:AN7))","v":0},{"$f":"IF(SUM(Daten!AF7:AO7)=0,0,Daten!AF7/SUM(Daten!AF7:AO7))","v":0},{"$f":"IF(SUM(Daten!AG7:AP7)=0,0,Daten!AG7/SUM(Daten!AG7:AP7))","v":0},{"$f":"IF(SUM(Daten!AH7:AQ7)=0,0,Daten!AH7/SUM(Daten!AH7:AQ7))","v":0},{"$f":"IF(SUM(Daten!AI7:AR7)=0,0,Daten!AI7/SUM(Daten!AI7:AR7))","v":0},{"$f":"IF(SUM(Daten!AJ7:AS7)=0,0,Daten!AJ7/SUM(Daten!AJ7:AS7))","v":0},{"$f":"IF(SUM(Daten!AK7:AT7)=0,0,Daten!AK7/SUM(Daten!AK7:AT7))","v":0},{"$f":"IF(SUM(Daten!AL7:AU7)=0,0,Daten!AL7/SUM(Daten!AL7:AU7))","v":0},{"$f":"IF(SUM(Daten!AM7:AV7)=0,0,Daten!AM7/SUM(Daten!AM7:AV7))","v":0},{"$f":"IF(SUM(Daten!AN7:AW7)=0,0,Daten!AN7/SUM(Daten!AN7:AW7))","v":0},{"$f":"IF(SUM(Daten!AO7:AX7)=0,0,Daten!AO7/SUM(Daten!AO7:AX7))","v":0},"Pos 2",{"$f":"SUM(Daten!B7:K7)","v":0},{"$f":"SUM(Daten!L7:U7)","v":0},{"$f":"SUM(Daten!V7:AE7)","v":0},{"$f":"SUM(Daten!AF7:AO7)","v":0}]
[null,null,null,null,null,null,null,null,null,null,null,null,null,null,null,null,null,null,null,null,null,null,"Pos 3",{"$f":"IF(SUM(Daten!$B8:$K8)=0,0,Daten!B8/SUM(Daten!$B8:$K8))","v":0},{"$f":"IF(SUM(Daten!$B8:$K8)=0,0,Daten!C8/SUM(Daten!$B8:$K8))","v":0},{"$f":"IF(SUM(Daten!$B8:$K8)=0,0,Daten!D8/SUM(Daten!$B8:$K8))","v":0},{"$f":"IF(SUM(Daten!$B8:$K8)=0,0,Daten!E8/SUM(Daten!$B8:$K8))","v":0},{"$f":"IF(SUM(Daten!$B8:$K8)=0,0,Daten!F8/SUM(Daten!$B8:$K8))","v":0},{"$f":"IF(SUM(Daten!$B8:$K8)=0,0,Daten!G8/SUM(Daten!$B8:$K8))","v":0},{"$f":"IF(SUM(Daten!$B8:$K8)=0,0,Daten!H8/SUM(Daten!$B8:$K8))","v":0},{"$f":"IF(SUM(Daten!$B8:$K8)=0,0,Daten!I8/SUM(Daten!$B8:$K8))","v":0},{"$f":"IF(SUM(Daten!$B8:$K8)=0,0,Daten!J8/SUM(Daten!$B8:$K8))","v":0},{"$f":"IF(SUM(Daten!$B8:$K8)=0,0,Daten!K8/SUM(Daten!$B8:$K8))","v":0},{"$f":"IF(SUM(Daten!$L8:$U8)=0,0,Daten!L8/SUM(Daten!$L8:$U8))","v":0},{"$f":"IF(SUM(Daten!$L8:$U8)=0,0,Daten!M8/SUM(Daten!$L8:$U8))","v":0},{"$f":"IF(SUM(Daten!$L8:$U8)=0,0,Daten!N8/SUM(Daten!$L8:$U8))","v":0},{"$f":"IF(SUM(Daten!$L8:$U8)=0,0,Daten!O8/SUM(Daten!$L8:$U8))","v":1},{"$f":"IF(SUM(Daten!$L8:$U8)=0,0,Daten!P8/SUM(Daten!$L8:$U8))","v":0},{"$f":"IF(SUM(Daten!$L8:$U8)=0,0,Daten!Q8/SUM(Daten!$L8:$U8))","v":0},{"$f":"IF(SUM(Daten!$L8:$U8)=0,0,Daten!R8/SUM(Daten!$L8:$U8))","v":0},{"$f":"IF(SUM(Daten!$L8:$U8)=0,0,Daten!S8/SUM(Daten!$L8:$U8))","v":0},{"$f":"IF(SUM(Daten!$L8:$U8)=0,0,Daten!T8/SUM(Daten!$L8:$U8))","v":0},{"$f":"IF(SUM(Daten!$L8:$U8)=0,0,Daten!U8/SUM(Daten!$L8:$U8))","v":0},{"$f":"IF(SUM(Daten!V8:AE8)=0,0,Daten!V8/SUM(Daten!V8:AE8))","v":0},{"$f":"IF(SUM(Daten!W8:AF8)=0,0,Daten!W8/SUM(Daten!W8:AF8))","v":0},{"$f":"IF(SUM(Daten!X8:AG8)=0,0,Daten!X8/SUM(Daten!X8:AG8))","v":0},{"$f":"IF(SUM(Daten!Y8:AH8)=0,0,Daten!Y8/SUM(Daten!Y8:AH8))","v":0},{"$f":"IF(SUM(Daten!Z8:AI8)=0,0,Daten!Z8/SUM(Daten!Z8:AI8))","v":0},{"$f":"IF(SUM(Daten!AA8:AJ8)=0,0,Daten!AA8/SUM(Daten!AA8:AJ8))","v":0},{"$f":"IF(SUM(Daten!AB8:AK8)=0,0,Daten!AB8/SUM(Daten!AB8:AK8))","v":0},{"$f":"IF(SUM(Daten!AC8:AL8)=0,0,Daten!AC8/SUM(Daten!AC8:AL8))","v":0},{"$f":"IF(SUM(Daten!AD8:AM8)=0,0,Daten!AD8/SUM(Daten!AD8:AM8))","v":0},{"$f":"IF(SUM(Daten!AE8:AN8)=0,0,Daten!AE8/SUM(Daten!AE8:AN8))","v":0},{"$f":"IF(SUM(Daten!AF8:AO8)=0,0,Daten!AF8/SUM(Daten!AF8:AO8))","v":0},{"$f":"IF(SUM(Daten!AG8:AP8)=0,0,Daten!AG8/SUM(Daten!AG8:AP8))","v":0},{"$f":"IF(SUM(Daten!AH8:AQ8)=0,0,Daten!AH8/SUM(Daten!AH8:AQ8))","v":0},{"$f":"IF(SUM(Daten!AI8:AR8)=0,0,Daten!AI8/SUM(Daten!AI8:AR8))","v":0},{"$f":"IF(SUM(Daten!AJ8:AS8)=0,0,Daten!AJ8/SUM(Daten!AJ8:AS8))","v":0},{"$f":"IF(SUM(Daten!AK8:AT8)=0,0,Daten!AK8/SUM(Daten!AK8:AT8))","v":0},{"$f":"IF(SUM(Daten!AL8:AU8)=0,0,Daten!AL8/SUM(Daten!AL8:AU8))","v":0},{"$f":"IF(SUM(Daten!AM8:AV8)=0,0,Daten!AM8/SUM(Daten!AM8:AV8))","v":0},{"$f":"IF(SUM(Daten!AN8:AW8)=0,0,Daten!AN8/SUM(Daten!AN8:AW8))","v":0},{"$f":"IF(SUM(Daten!AO8:AX8)=0,0,Daten!AO8/SUM(Daten!AO8:AX8))","v":0},"Pos 3",{"$f":"SUM(Daten!B8:K8)","v":0},{"$f":"SUM(Daten!L8:U8)","v":1},{"$f":"SUM(Daten!V8:AE8)","v":0},{"$f":"SUM(Daten!AF8:AO8)","v":0}]
[null,null,null,null,null,null,null,null,null,null,null,null,null,null,null,null,null,null,null,null,null,null,"Pos 4",{"$f":"IF(SUM(Daten!$B9:$K9)=0,0,Daten!B9/SUM(Daten!$B9:$K9))","v":0},{"$f":"IF(SUM(Daten!$B9:$K9)=0,0,Daten!C9/SUM(Daten!$B9:$K9))","v":0},{"$f":"IF(SUM(Daten!$B9:$K9)=0,0,Daten!D9/SUM(Daten!$B9:$K9))","v":0},{"$f":"IF(SUM(Daten!$B9:$K9)=0,0,Daten!E9/SUM(Daten!$B9:$K9))","v":0},{"$f":"IF(SUM(Daten!$B9:$K9)=0,0,Daten!F9/SUM(Daten!$B9:$K9))","v":0},{"$f":"IF(SUM(Daten!$B9:$K9)=0,0,Daten!G9/SUM(Daten!$B9:$K9))","v":0},{"$f":"IF(SUM(Daten!$B9:$K9)=0,0,Daten!H9/SUM(Daten!$B9:$K9))","v":0},{"$f":"IF(SUM(Daten!$B9:$K9)=0,0,Daten!I9/SUM(Daten!$B9:$K9))","v":0},{"$f":"IF(SUM(Daten!$B9:$K9)=0,0,Daten!J9/SUM(Daten!$B9:$K9))","v":0},{"$f":"IF(SUM(Daten!$B9:$K9)=0,0,Daten!K9/SUM(Daten!$B9:$K9))","v":0},{"$f":"IF(SUM(Daten!$L9:$U9)=0,0,Daten!L9/SUM(Daten!$L9:$U9))","v":0},{"$f":"IF(SUM(Daten!$L9:$U9)=0,0,Daten!M9/SUM(Daten!$L9:$U9))","v":0},{"$f":"IF(SUM(Daten!$L9:$U9)=0,0,Daten!N9/SUM(Daten!$L9:$U9))","v":0},{"$f":"IF(SUM(Daten!$L9:$U9)=0,0,Daten!O9/SUM(Daten!$L9:$U9))","v":0},{"$f":"IF(SUM(Daten!$L9:$U9)=0,0,Daten!P9/SUM(Daten!$L9:$U9))","v":0},{"$f":"IF(SUM(Daten!$L9:$U9)=0,0,Daten!Q9/SUM(Daten!$L9:$U9))","v":0},{"$f":"IF(SUM(Daten!$L9:$U9)=0,0,Daten!R9/SUM(Daten!$L9:$U9))","v":0},{"$f":"IF(SUM(Daten!$L9:$U9)=0,0,Daten!S9/SUM(Daten!$L9:$U9))","v":0},{"$f":"IF(SUM(Daten!$L9:$U9)=0,0,Daten!T9/SUM(Daten!$L9:$U9))","v":0},{"$f":"IF(SUM(Daten!$L9:$U9)=0,0,Daten!U9/SUM(Daten!$L9:$U9))","v":0},{"$f":"IF(SUM(Daten!V9:AE9)=0,0,Daten!V9/SUM(Daten!V9:AE9))","v":0},{"$f":"IF(SUM(Daten!W9:AF9)=0,0,Daten!W9/SUM(Daten!W9:AF9))","v":0},{"$f":"IF(SUM(Daten!X9:AG9)=0,0,Daten!X9/SUM(Daten!X9:AG9))","v":0},{"$f":"IF(SUM(Daten!Y9:AH9)=0,0,Daten!Y9/SUM(Daten!Y9:AH9))","v":0},{"$f":"IF(SUM(Daten!Z9:AI9)=0,0,Daten!Z9/SUM(Daten!Z9:AI9))","v":0},{"$f":"IF(SUM(Daten!AA9:AJ9)=0,0,Daten!AA9/SUM(Daten!AA9:AJ9))","v":0},{"$f":"IF(SUM(Daten!AB9:AK9)=0,0,Daten!AB9/SUM(Daten!AB9:AK9))","v":0},{"$f":"IF(SUM(Daten!AC9:AL9)=0,0,Daten!AC9/SUM(Daten!AC9:AL9))","v":0},{"$f":"IF(SUM(Daten!AD9:AM9)=0,0,Daten!AD9/SUM(Daten!AD9:AM9))","v":0},{"$f":"IF(SUM(Daten!AE9:AN9)=0,0,Daten!AE9/SUM(Daten!AE9:AN9))","v":0},{"$f":"IF(SUM(Daten!AF9:AO9)=0,0,Daten!AF9/SUM(Daten!AF9:AO9))","v":0},{"$f":"IF(SUM(Daten!AG9:AP9)=0,0,Daten!AG9/SUM(Daten!AG9:AP9))","v":0},{"$f":"IF(SUM(Daten!AH9:AQ9)=0,0,Daten!AH9/SUM(Daten!AH9:AQ9))","v":0},{"$f":"IF(SUM(Daten!AI9:AR9)=0,0,Daten!AI9/SUM(Daten!AI9:AR9))","v":0},{"$f":"IF(SUM(Daten!AJ9:AS9)=0,0,Daten!AJ9/SUM(Daten!AJ9:AS9))","v":0},{"$f":"IF(SUM(Daten!AK9:AT9)=0,0,Daten!AK9/SUM(Daten!AK9:AT9))","v":0},{"$f":"IF(SUM(Daten!AL9:AU9)=0,0,Daten!AL9/SUM(Daten!AL9:AU9))","v":0},{"$f":"IF(SUM(Daten!AM9:AV9)=0,0,Daten!AM9/SUM(Daten!AM9:AV9))","v":0},{"$f":"IF(SUM(Daten!AN9:AW9)=0,0,Daten!AN9/SUM(Daten!AN9:AW9))","v":0},{"$f":"IF(SUM(Daten!AO9:AX9)=0,0,Daten!AO9/SUM(Daten!AO9:AX9))","v":0},"Pos 4",{"$f":"SUM(Daten!B9:K9)","v":0},{"$f":"SUM(Daten!L9:U9)","v":0},{"$f":"SUM(Daten!V9:AE9)","v":0},{"$f":"SUM(Daten!AF9:AO9)","v":0}]
[null,"R in Pos 9",{"$f":"ROUND(AT36,2)*100 &\"% (\"&AS36&\")\"","v":"3% (1)"},null,"R in Pos 8",{"$f":"ROUND(AT35,2)*100 &\"% (\"&AS35&\")\"","v":"3% (1)"},null,"R in Pos 7",{"$f":"ROUND(AT34,2)*100 &\"% (\"&AS34&\")\"","v":"19% (6)"},null,null,"R in Pos 9",{"$f":"ROUND(AT36,2)*100 &\"% (\"&AS36&\")\"","v":"3% (1)"},null,"R in Pos 8",{"$f":"ROUND(AT35,2)*100 &\"% (\"&AS35&\")\"","v":"3% (1)"},null,"R in Pos 7",{"$f":"ROUND(AT34,2)*100 &\"% (\"&AS34&\")\"","v":"19% (6)"},null,null,null,"Pos 5",{"$f":"IF(SUM(Daten!$B10:$K10)=0,0,Daten!B10/SUM(Daten!$B10:$K10))","v":0.16666666666666666},{"$f":"IF(SUM(Daten!$B10:$K10)=0,0,Daten!C10/SUM(Daten!$B10:$K10))","v":0},{"$f":"IF(SUM(Daten!$B10:$K10)=0,0,Daten!D10/SUM(Daten!$B10:$K10))","v":0},{"$f":"IF(SUM(Daten!$B10:$K10)=0,0,Daten!E10/SUM(Daten!$B10:$K10))","v":0.16666666666666666},{"$f":"IF(SUM(Daten!$B10:$K10)=0,0,Daten!F10/SUM(Daten!$B10:$K10))","v":0},{"$f":"IF(SUM(Daten!$B10:$K10)=0,0,Daten!G10/SUM(Daten!$B10:$K10))","v":0},{"$f":"IF(SUM(Daten!$B10:$K10)=0,0,Daten!H10/SUM(Daten!$B10:$K10))","v":0},{"$f":"IF(SUM(Daten!$B10:$K10)=0,0,Daten!I10/SUM(Daten!$B10:$K10))","v":0.33333333333333331},{"$f":"IF(SUM(Daten!$B10:$K10)=0,0,Daten!J10/SUM(Daten!$B10:$K10))","v":0.33333333333333331},{"$f":"IF(SUM(Daten!$B10:$K10)=0,0,Daten!K10/SUM(Daten!$B10:$K10))","v":0},{"$f":"IF(SUM(Daten!$L10:$U10)=0,0,Daten!L10/SUM(Daten!$L10:$U10))","v":0.14285714285714285},{"$f":"IF(SUM(Daten!$L10:$U10)=0,0,Daten!M10/SUM(Daten!$L10:$U10))","v":0},{"$f":"IF(SUM(Daten!$L10:$U10)=0,0,Daten!N10/SUM(Daten!$L10:$U10))","v":0},{"$f":"IF(SUM(Daten!$L10:$U10)=0,0,Daten!O10/SUM(Daten!$L10:$U10))","v":0.42857142857142855},{"$f":"IF(SUM(Daten!$L10:$U10)=0,0,Daten!P10/SUM(Daten!$L10:$U10))","v":0},{"$f":"IF(SUM(Daten!$L10:$U10)=0,0,Daten!Q10/SUM(Daten!$L10:$U10))","v":0},{"$f":"IF(SUM(Daten!$L10:$U10)=0,0,Daten!R10/SUM(Daten!$L10:$U10))","v":0},{"$f":"IF(SUM(Daten!$L10:$U10)=0,0,Daten!S10/SUM(Daten!$L10:$U10))","v":0},{"$f":"IF(SUM(Daten!$L10:$U10)=0,0,Daten!T10/SUM(Daten!$L10:$U10))","v":0},{"$f":"IF(SUM(Daten!$L10:$U10)=0,0,Daten!U10/SUM(Daten!$L10:$U10))","v":0.42857142857142855},{"$f":"IF(SUM(Daten!V10:AE10)=0,0,Daten!V10/SUM(Daten!V10:AE10))","v":0},{"$f":"IF(SUM(Daten!W10:AF10)=0,0,Daten!W10/SUM(Daten!W10:AF10))","v":0},{"$f":"IF(SUM(Daten!X10:AG10)=0,0,Daten!X10/SUM(Daten!X10:AG10))","v":0},{"$f":"IF(SUM(Daten!Y10:AH10)=0,0,Daten!Y10/SUM(Daten!Y10:AH10))","v":0},{"$f":"IF(SUM(Daten!Z10:AI10)=0,0,Daten!Z10/SUM(Daten!Z10:AI10))","v":0},{"$f":"IF(SUM(Daten!AA10:AJ10)=0,0,Daten!AA10/SUM(Daten!AA10:AJ10))","v":0},{"$f":"IF(SUM(Daten!AB10:AK10)=0,0,Daten!AB10/SUM(Daten!AB10:AK10))","v":0},{"$f":"IF(SUM(Daten!AC10:AL10)=0,0,Daten!AC10/SUM(Daten!AC10:AL10))","v":1},{"$f":"IF(SUM(Daten!AD10:AM10)=0,0,Daten!AD10/SUM(Daten!AD10:AM10))","v":0},{"$f":"IF(SUM(Daten!AE10:AN10)=0,0,Daten!AE10/SUM(Daten!AE10:AN10))","v":0},{"$f":"IF(SUM(Daten!AF10:AO10)=0,0,Daten!AF10/SUM(Daten!AF10:AO10))","v":0},{"$f":"IF(SUM(Daten!AG10:AP10)=0,0,Daten!AG10/SUM(Daten!AG10:AP10))","v":0},{"$f":"IF(SUM(Daten!AH10:AQ10)=0,0,Daten!AH10/SUM(Daten!AH10:AQ10))","v":0},{"$f":"IF(SUM(Daten!AI10:AR10)=0,0,Daten!AI10/SUM(Daten!AI10:AR10))","v":0},{"$f":"IF(SUM(Daten!AJ10:AS10)=0,0,Daten!AJ10/SUM(Daten!AJ10:AS10))","v":0},{"$f":"IF(SUM(Daten!AK10:AT10)=0,0,Daten!AK10/SUM(Daten!AK10:AT10))","v":0},{"$f":"IF(SUM(Daten!AL10:AU10)=0,0,Daten!AL10/SUM(Daten!AL10:AU10))","v":0},{"$f":"IF(SUM(Daten!AM10:AV10)=0,0,Daten!AM10/SUM(Daten!AM10:AV10))","v":0},{"$f":"IF(SUM(Daten!AN10:AW10)=0,0,Daten!AN10/SUM(Daten!AN10:AW10))","v":0},{"$f":"IF(SUM(Daten!AO10:AX10)=0,0,Daten!AO10/SUM(Daten!AO10:AX10))","v":0},"Pos 5",{"$f":"SUM(Daten!B10:K10)","v":6},{"$f":"SUM(Daten!L10:U10)","v":7},{"$f":"SUM(Daten!V10:AE10)","v":2},{"$f":"SUM(Daten!AF10:AO10)","v":0}]
[null,null,null,null,null,null,null,null,null,null,null,null,null,null,null,null,null,null,null,null,null,null,"Pos 6",{"$f":"IF(SUM(Daten!$B11:$K11)=0,0,Daten!B11/SUM(Daten!$B11:$K11))","v":8.3333333333333329E-2},{"$f":"IF(SUM(Daten!$B11:$K11)=0,0,Daten!C11/SUM(Daten!$B11:$K11))","v":0},{"$f":"IF(SUM(Daten!$B11:$K11)=0,0,Daten!D11/SUM(Daten!$B11:$K11))","v":8.3333333333333329E-2},{"$f":"IF(SUM(Daten!$B11:$K11)=0,0,Daten!E11/SUM(Daten!$B11:$K11))","v":0.16666666666666666},{"$f":"IF(SUM(Daten!$B11:$K11)=0,0,Daten!F11/SUM(Daten!$B11:$K11))","v":0},{"$f":"IF(SUM(Daten!$B11:$K11)=0,0,Daten!G11/SUM(Daten!$B11:$K11))","v":0},{"$f":"IF(SUM(Daten!$B11:$K11)=0,0,Daten!H11/SUM(Daten!$B11:$K11))","v":0},{"$f":"IF(SUM(Daten!$B11:$K11)=0,0,Daten!I11/SUM(Daten!$B11:$K11))","v":0.16666666666666666},{"$f":"IF(SUM(Daten!$B11:$K11)=0,0,Daten!J11/SUM(Daten!$B11:$K11))","v":0.5},{"$f":"IF(SUM(Daten!$B11:$K11)=0,0,Daten!K11/SUM(Daten!$B11:$K11))","v":0},{"$f":"IF(SUM(Daten!$L11:$U11)=0,0,Daten!L11/SUM(Daten!$L11:$U11))","v":0},{"$f":"IF(SUM(Daten!$L11:$U11)=0,0,Daten!M11/SUM(Daten!$L11:$U11))","v":0.14285714285714285},{"$f":"IF(SUM(Daten!$L11:$U11)=0,0,Daten!N11/SUM(Daten!$L11:$U11))","v":0},{"$f":"IF(SUM(Daten!$L11:$U11)=0,0,Daten!O11/SUM(Daten!$L11:$U11))","v":0.42857142857142855},{"$f":"IF(SUM(Daten!$L11:$U11)=0,0,Daten!P11/SUM(Daten!$L11:$U11))","v":0.14285714285714285},{"$f":"IF(SUM(Daten!$L11:$U11)=0,0,Daten!Q11/SUM(Daten!$L11:$U11))","v":0},{"$f":"IF(SUM(Daten!$L11:$U11)=0,0,Daten!R11/SUM(Daten!$L11:$U11))","v":0},{"$f":"IF(SUM(Daten!$L11:$U11)=0,0,Daten!S11/SUM(Daten!$L11:$U11))","v":0},{"$f":"IF(SUM(Daten!$L11:$U11)=0,0,Daten!T11/SUM(Daten!$L11:$U11))","v":0},{"$f":"IF(SUM(Daten!$L11:$U11)=0,0,Daten!U11/SUM(Daten!$L11:$U11))","v":0.2857142857142857},{"$f":"IF(SUM(Daten!V11:AE11)=0,0,Daten!V11/SUM(Daten!V11:AE11))","v":0},{"$f":"IF(SUM(Daten!W11:AF11)=0,0,Daten!W11/SUM(Daten!W11:AF11))","v":0},{"$f":"IF(SUM(Daten!X11:AG11)=0,0,Daten!X11/SUM(Daten!X11:AG11))","v":0.33333333333333331},{"$f":"IF(SUM(Daten!Y11:AH11)=0,0,Daten!Y11/SUM(Daten!Y11:AH11))","v":0},{"$f":"IF(SUM(Daten!Z11:AI11)=0,0,Daten!Z11/SUM(Daten!Z11:AI11))","v":0},{"$f":"IF(SUM(Daten!AA11:AJ11)=0,0,Daten!AA11/SUM(Daten!AA11:AJ11))","v":0},{"$f":"IF(SUM(Daten!AB11:AK11)=0,0,Daten!AB11/SUM(Daten!AB11:AK11))","v":0},{"$f":"IF(SUM(Daten!AC11:AL11)=0,0,Daten!AC11/SUM(Daten!AC11:AL11))","v":0.33333333333333331},{"$f":"IF(SUM(Daten!AD11:AM11)=0,0,Daten!AD11/SUM(Daten!AD11:AM11))","v":0},{"$f":"IF(SUM(Daten!AE11:AN11)=0,0,Daten!AE11/SUM(Daten!AE11:AN11))","v":0},{"$f":"IF(SUM(Daten!AF11:AO11)=0,0,Daten!AF11/SUM(Daten!AF11:AO11))","v":0.25},{"$f":"IF(SUM(Daten!AG11:AP11)=0,0,Daten!AG11/SUM(Daten!AG11:AP11))","v":0},{"$f":"IF(SUM(Daten!AH11:AQ11)=0,0,Daten!AH11/SUM(Daten!AH11:AQ11))","v":0},{"$f":"IF(SUM(Daten!AI11:AR11)=0,0,Daten!AI11/SUM(Daten!AI11:AR11))","v":0},{"$f":"IF(SUM(Daten!AJ11:AS11)=0,0,Daten!AJ11/SUM(Daten!AJ11:AS11))","v":0.33333333333333331},{"$f":"IF(SUM(Daten!AK11:AT11)=0,0,Daten!AK11/SUM(Daten!AK11:AT11))","v":0},{"$f":"IF(SUM(Daten!AL11:AU11)=0,0,Daten!AL11/SUM(Daten!AL11:AU11))","v":0},{"$f":"IF(SUM(Daten!AM11:AV11)=0,0,Daten!AM11/SUM(Daten!AM11:AV11))","v":0},{"$f":"IF(SUM(Daten!AN11:AW11)=0,0,Daten!AN11/SUM(Daten!AN11:AW11))","v":0},{"$f":"IF(SUM(Daten!AO11:AX11)=0,0,Daten!AO11/SUM(Daten!AO11:AX11))","v":1},"Pos 6",{"$f":"SUM(Daten!B11:K11)","v":12},{"$f":"SUM(Daten!L11:U11)","v":7},{"$f":"SUM(Daten!V11:AE11)","v":2},{"$f":"SUM(Daten!AF11:AO11)","v":4}]
[null,null,null,null,null,null,null,null,null,null,null,null,null,null,null,null,null,null,null,null,null,null,"Pos 7",{"$f":"IF(SUM(Daten!$B12:$K12)=0,0,Daten!B12/SUM(Daten!$B12:$K12))","v":0},{"$f":"IF(SUM(Daten!$B12:$K12)=0,0,Daten!C12/SUM(Daten!$B12:$K12))","v":0},{"$f":"IF(SUM(Daten!$B12:$K12)=0,0,Daten!D12/SUM(Daten!$B12:$K12))","v":0},{"$f":"IF(SUM(Daten!$B12:$K12)=0,0,Daten!E12/SUM(Daten!$B12:$K12))","v":0},{"$f":"IF(SUM(Daten!$B12:$K12)=0,0,Daten!F12/SUM(Daten!$B12:$K12))","v":0},{"$f":"IF(SUM(Daten!$B12:$K12)=0,0,Daten!G12/SUM(Daten!$B12:$K12))","v":0},{"$f":"IF(SUM(Daten!$B12:$K12)=0,0,Daten!H12/SUM(Daten!$B12:$K12))","v":0},{"$f":"IF(SUM(Daten!$B12:$K12)=0,0,Daten!I12/SUM(Daten!$B12:$K12))","v":0},{"$f":"IF(SUM(Daten!$B12:$K12)=0,0,Daten!J12/SUM(Daten!$B12:$K12))","v":1},{"$f":"IF(SUM(Daten!$B12:$K12)=0,0,Daten!K12/SUM(Daten!$B12:$K12))","v":0},{"$f":"IF(SUM(Daten!$L12:$U12)=0,0,Daten!L12/SUM(Daten!$L12:$U12))","v":0},{"$f":"IF(SUM(Daten!$L12:$U12)=0,0,Daten!M12/SUM(Daten!$L12:$U12))","v":0},{"$f":"IF(SUM(Daten!$L12:$U12)=0,0,Daten!N12/SUM(Daten!$L12:$U12))","v":0},{"$f":"IF(SUM(Daten!$L12:$U12)=0,0,Daten!O12/SUM(Daten!$L12:$U12))","v":0},{"$f":"IF(SUM(Daten!$L12:$U12)=0,0,Daten!P12/SUM(Daten!$L12:$U12))","v":0},{"$f":"IF(SUM(Daten!$L12:$U12)=0,0,Daten!Q12/SUM(Daten!$L12:$U12))","v":0},{"$f":"IF(SUM(Daten!$L12:$U12)=0,0,Daten!R12/SUM(Daten!$L12:$U12))","v":0},{"$f":"IF(SUM(Daten!$L12:$U12)=0,0,Daten!S12/SUM(Daten!$L12:$U12))","v":0},{"$f":"IF(SUM(Daten!$L12:$U12)=0,0,Daten!T12/SUM(Daten!$L12:$U12))","v":0},{"$f":"IF(SUM(Daten!$L12:$U12)=0,0,Daten!U12/SUM(Daten!$L12:$U12))","v":0},{"$f":"IF(SUM(Daten!V12:AE12)=0,0,Daten!V12/SUM(Daten!V12:AE12))","v":0.2},{"$f":"IF(SUM(Daten!W12:AF12)=0,0,Daten!W12/SUM(Daten!W12:AF12))","v":0},{"$f":"IF(SUM(Daten!X12:AG12)=0,0,Daten!X12/SUM(Daten!X12:AG12))","v":0.2},{"$f":"IF(SUM(Daten!Y12:AH12)=0,0,Daten!Y12/SUM(Daten!Y12:AH12))","v":0},{"$f":"IF(SUM(Daten!Z12:AI12)=0,0,Daten!Z12/SUM(Daten!Z12:AI12))","v":0},{"$f":"IF(SUM(Daten!AA12:AJ12)=0,0,Daten!AA12/SUM(Daten!AA12:AJ12))","v":0},{"$f":"IF(SUM(Daten!AB12:AK12)=0,0,Daten!AB12/SUM(Daten!AB12:AK12))","v":0},{"$f":"IF(SUM(Daten!AC12:AL12)=0,0,Daten!AC12/SUM(Daten!AC12:AL12))","v":0.5},{"$f":"IF(SUM(Daten!AD12:AM12)=0,0,Daten!AD12/SUM(Daten!AD12:AM12))","v":0.5},{"$f":"IF(SUM(Daten!AE12:AN12)=0,0,Daten!AE12/SUM(Daten!AE12:AN12))","v":0},{"$f":"IF(SUM(Daten!AF12:AO12)=0,0,Daten!AF12/SUM(Daten!AF12:AO12))","v":0.5},{"$f":"IF(SUM(Daten!AG12:AP12)=0,0,Daten!AG12/SUM(Daten!AG12:AP12))","v":0},{"$f":"IF(SUM(Daten!AH12:AQ12)=0,0,Daten!AH12/SUM(Daten!AH12:AQ12))","v":0},{"$f":"IF(SUM(Daten!AI12:AR12)=0,0,Daten!AI12/SUM(Daten!AI12:AR12))","v":0},{"$f":"IF(SUM(Daten!AJ12:AS12)=0,0,Daten!AJ12/SUM(Daten!AJ12:AS12))","v":0},{"$f":"IF(SUM(Daten!AK12:AT12)=0,0,Daten!AK12/SUM(Daten!AK12:AT12))","v":0},{"$f":"IF(SUM(Daten!AL12:AU12)=0,0,Daten!AL12/SUM(Daten!AL12:AU12))","v":0},{"$f":"IF(SUM(Daten!AM12:AV12)=0,0,Daten!AM12/SUM(Daten!AM12:AV12))","v":0},{"$f":"IF(SUM(Daten!AN12:AW12)=0,0,Daten!AN12/SUM(Daten!AN12:AW12))","v":0},{"$f":"IF(SUM(Daten!AO12:AX12)=0,0,Daten!AO12/SUM(Daten!AO12:AX12))","v":1},"Pos 7",{"$f":"SUM(Daten!B12:K12)","v":1},{"$f":"SUM(Daten!L12:U12)","v":0},{"$f":"SUM(Daten!V12:AE12)","v":5},{"$f":"SUM(Daten!AF12:AO12)","v":2}]
[null,null,null,null,null,null,null,null,null,null,null,null,null,null,null,null,null,null,null,null,null,null,"Pos 8",{"$f":"IF(SUM(Daten!$B13:$K13)=0,0,Daten!B13/SUM(Daten!$B13:$K13))","v":1},{"$f":"IF(SUM(Daten!$B13:$K13)=0,0,Daten!C13/SUM(Daten!$B13:$K13))","v":0},{"$f":"IF(SUM(Daten!$B13:$K13)=0,0,Daten!D13/SUM(Daten!$B13:$K13))","v":0},{"$f":"IF(SUM(Daten!$B13:$K13)=0,0,Daten!E13/SUM(Daten!$B13:$K13))","v":0},{"$f":"IF(SUM(Daten!$B13:$K13)=0,0,Daten!F13/SUM(Daten!$B13:$K13))","v":0},{"$f":"IF(SUM(Daten!$B13:$K13)=0,0,Daten!G13/SUM(Daten!$B13:$K13))","v":0},{"$f":"IF(SUM(Daten!$B13:$K13)=0,0,Daten!H13/SUM(Daten!$B13:$K13))","v":0},{"$f":"IF(SUM(Daten!$B13:$K13)=0,0,Daten!I13/SUM(Daten!$B13:$K13))","v":0},{"$f":"IF(SUM(Daten!$B13:$K13)=0,0,Daten!J13/SUM(Daten!$B13:$K13))","v":0},{"$f":"IF(SUM(Daten!$B13:$K13)=0,0,Daten!K13/SUM(Daten!$B13:$K13))","v":0},{"$f":"IF(SUM(Daten!$L13:$U13)=0,0,Daten!L13/SUM(Daten!$L13:$U13))","v":0},{"$f":"IF(SUM(Daten!$L13:$U13)=0,0,Daten!M13/SUM(Daten!$L13:$U13))","v":0},{"$f":"IF(SUM(Daten!$L13:$U13)=0,0,Daten!N13/SUM(Daten!$L13:$U13))","v":0},{"$f":"IF(SUM(Daten!$L13:$U13)=0,0,Daten!O13/SUM(Daten!$L13:$U13))","v":0},{"$f":"IF(SUM(Daten!$L13:$U13)=0,0,Daten!P13/SUM(Daten!$L13:$U13))","v":0},{"$f":"IF(SUM(Daten!$L13:$U13)=0,0,Daten!Q13/SUM(Daten!$L13:$U13))","v":0},{"$f":"IF(SUM(Daten!$L13:$U13)=0,0,Daten!R13/SUM(Daten!$L13:$U13))","v":0},{"$f":"IF(SUM(Daten!$L13:$U13)=0,0,Daten!S13/SUM(Daten!$L13:$U13))","v":0},{"$f":"IF(SUM(Daten!$L13:$U13)=0,0,Daten!T13/SUM(Daten!$L13:$U13))","v":0.5},{"$f":"IF(SUM(Daten!$L13:$U13)=0,0,Daten!U13/SUM(Daten!$L13:$U13))","v":0.5},{"$f":"IF(SUM(Daten!V13:AE13)=0,0,Daten!V13/SUM(Daten!V13:AE13))","v":0},{"$f":"IF(SUM(Daten!W13:AF13)=0,0,Daten!W13/SUM(Daten!W13:AF13))","v":0},{"$f":"IF(SUM(Daten!X13:AG13)=0,0,Daten!X13/SUM(Daten!X13:AG13))","v":0},{"$f":"IF(SUM(Daten!Y13:AH13)=0,0,Daten!Y13/SUM(Daten!Y13:AH13))","v":0},{"$f":"IF(SUM(Daten!Z13:AI13)=0,0,Daten!Z13/SUM(Daten!Z13:AI13))","v":0},{"$f":"IF(SUM(Daten!AA13:AJ13)=0,0,Daten!AA13/SUM(Daten!AA13:AJ13))","v":0},{"$f":"IF(SUM(Daten!AB13:AK13)=0,0,Daten!AB13/SUM(Daten!AB13:AK13))","v":0},{"$f":"IF(SUM(Daten!AC13:AL13)=0,0,Daten!AC13/SUM(Daten!AC13:AL13))","v":0},{"$f":"IF(SUM(Daten!AD13:AM13)=0,0,Daten!AD13/SUM(Daten!AD13:AM13))","v":0},{"$f":"IF(SUM(Daten!AE13:AN13)=0,0,Daten!AE13/SUM(Daten!AE13:AN13))","v":0},{"$f":"IF(SUM(Daten!AF13:AO13)=0,0,Daten!AF13/SUM(Daten!AF13:AO13))","v":0.5},{"$f":"IF(SUM(Daten!AG13:AP13)=0,0,Daten!AG13/SUM(Daten!AG13:AP13))","v":0},{"$f":"IF(SUM(Daten!AH13:AQ13)=0,0,Daten!AH13/SUM(Daten!AH13:AQ13))","v":0},{"$f":"IF(SUM(Daten!AI13:AR13)=0,0,Daten!AI13/SUM(Daten!AI13:AR13))","v":0},{"$f":"IF(SUM(Daten!AJ13:AS13)=0,0,Daten!AJ13/SUM(Daten!AJ13:AS13))","v":0},{"$f":"IF(SUM(Daten!AK13:AT13)=0,0,Daten!AK13/SUM(Daten!AK13:AT13))","v":0},{"$f":"IF(SUM(Daten!AL13:AU13)=0,0,Daten!AL13/SUM(Daten!AL13:AU13))","v":0},{"$f":"IF(SUM(Daten!AM13:AV13)=0,0,Daten!AM13/SUM(Daten!AM13:AV13))","v":0},{"$f":"IF(SUM(Daten!AN13:AW13)=0,0,Daten!AN13/SUM(Daten!AN13:AW13))","v":1},{"$f":"IF(SUM(Daten!AO13:AX13)=0,0,Daten!AO13/SUM(Daten!AO13:AX13))","v":0},"Pos 8",{"$f":"SUM(Daten!B13:K13)","v":1},{"$f":"SUM(Daten!L13:U13)","v":2},{"$f":"SUM(Daten!V13:AE13)","v":0},{"$f":"SUM(Daten!AF13:AO13)","v":2}]
[null,null,null,null,null,null,null,null,null,null,null,null,null,null,null,null,null,null,null,null,null,null,"Pos 9",{"$f":"IF(SUM(Daten!$B14:$K14)=0,0,Daten!B14/SUM(Daten!$B14:$K14))","v":0},{"$f":"IF(SUM(Daten!$B14:$K14)=0,0,Daten!C14/SUM(Daten!$B14:$K14))","v":0},{"$f":"IF(SUM(Daten!$B14:$K14)=0,0,Daten!D14/SUM(Daten!$B14:$K14))","v":0},{"$f":"IF(SUM(Daten!$B14:$K14)=0,0,Daten!E14/SUM(Daten!$B14:$K14))","v":0},{"$f":"IF(SUM(Daten!$B14:$K14)=0,0,Daten!F14/SUM(Daten!$B14:$K14))","v":0},{"$f":"IF(SUM(Daten!$B14:$K14)=0,0,Daten!G14/SUM(Daten!$B14:$K14))","v":0},{"$f":"IF(SUM(Daten!$B14:$K14)=0,0,Daten!H14/SUM(Daten!$B14:$K14))","v":0},{"$f":"IF(SUM(Daten!$B14:$K14)=0,0,Daten!I14/SUM(Daten!$B14:$K14))","v":0},{"$f":"IF(SUM(Daten!$B14:$K14)=0,0,Daten!J14/SUM(Daten!$B14:$K14))","v":0},{"$f":"IF(SUM(Daten!$B14:$K14)=0,0,Daten!K14/SUM(Daten!$B14:$K14))","v":0},{"$f":"IF(SUM(Daten!$L14:$U14)=0,0,Daten!L14/SUM(Daten!$L14:$U14))","v":0},{"$f":"IF(SUM(Daten!$L14:$U14)=0,0,Daten!M14/SUM(Daten!$L14:$U14))","v":0},{"$f":"IF(SUM(Daten!$L14:$U14)=0,0,Daten!N14/SUM(Daten!$L14:$U14))","v":0},{"$f":"IF(SUM(Daten!$L14:$U14)=0,0,Daten!O14/SUM(Daten!$L14:$U14))","v":0},{"$f":"IF(SUM(Daten!$L14:$U14)=0,0,Daten!P14/SUM(Daten!$L14:$U14))","v":0},{"$f":"IF(SUM(Daten!$L14:$U14)=0,0,Daten!Q14/SUM(Daten!$L14:$U14))","v":0},{"$f":"IF(SUM(Daten!$L14:$U14)=0,0,Daten!R14/SUM(Daten!$L14:$U14))","v":0},{"$f":"IF(SUM(Daten!$L14:$U14)=0,0,Daten!S14/SUM(Daten!$L14:$U14))","v":0},{"$f":"IF(SUM(Daten!$L14:$U14)=0,0,Daten!T14/SUM(Daten!$L14:$U14))","v":0},{"$f":"IF(SUM(Daten!$L14:$U14)=0,0,Daten!U14/SUM(Daten!$L14:$U14))","v":0},{"$f":"IF(SUM(Daten!V14:AE14)=0,0,Daten!V14/SUM(Daten!V14:AE14))","v":0},{"$f":"IF(SUM(Daten!W14:AF14)=0,0,Daten!W14/SUM(Daten!W14:AF14))","v":0},{"$f":"IF(SUM(Daten!X14:AG14)=0,0,Daten!X14/SUM(Daten!X14:AG14))","v":0},{"$f":"IF(SUM(Daten!Y14:AH14)=0,0,Daten!Y14/SUM(Daten!Y14:AH14))","v":1},{"$f":"IF(SUM(Daten!Z14:AI14)=0,0,Daten!Z14/SUM(Daten!Z14:AI14))","v":0},{"$f":"IF(SUM(Daten!AA14:AJ14)=0,0,Daten!AA14/SUM(Daten!AA14:AJ14))","v":0},{"$f":"IF(SUM(Daten!AB14:AK14)=0,0,Daten!AB14/SUM(Daten!AB14:AK14))","v":0},{"$f":"IF(SUM(Daten!AC14:AL14)=0,0,Daten!AC14/SUM(Daten!AC14:AL14))","v":0},{"$f":"IF(SUM(Daten!AD14:AM14)=0,0,Daten!AD14/SUM(Daten!AD14:AM14))","v":0},{"$f":"IF(SUM(Daten!AE14:AN14)=0,0,Daten!AE14/SUM(Daten!AE14:AN14))","v":0},{"$f":"IF(SUM(Daten!AF14:AO14)=0,0,Daten!AF14/SUM(Daten!AF14:AO14))","v":0},{"$f":"IF(SUM(Daten!AG14:AP14)=0,0,Daten!AG14/SUM(Daten!AG14:AP14))","v":0},{"$f":"IF(SUM(Daten!AH14:AQ14)=0,0,Daten!AH14/SUM(Daten!AH14:AQ14))","v":0},{"$f":"IF(SUM(Daten!AI14:AR14)=0,0,Daten!AI14/SUM(Daten!AI14:AR14))","v":0},{"$f":"IF(SUM(Daten!AJ14:AS14)=0,0,Daten!AJ14/SUM(Daten!AJ14:AS14))","v":0},{"$f":"IF(SUM(Daten!AK14:AT14)=0,0,Daten!AK14/SUM(Daten!AK14:AT14))","v":0},{"$f":"IF(SUM(Daten!AL14:AU14)=0,0,Daten!AL14/SUM(Daten!AL14:AU14))","v":0},{"$f":"IF(SUM(Daten!AM14:AV14)=0,0,Daten!AM14/SUM(Daten!AM14:AV14))","v":0},{"$f":"IF(SUM(Daten!AN14:AW14)=0,0,Daten!AN14/SUM(Daten!AN14:AW14))","v":0},{"$f":"IF(SUM(Daten!AO14:AX14)=0,0,Daten!AO14/SUM(Daten!AO14:AX14))","v":1},"Pos 9",{"$f":"SUM(Daten!B14:K14)","v":0},{"$f":"SUM(Daten!L14:U14)","v":0},{"$f":"SUM(Daten!V14:AE14)","v":1},{"$f":"SUM(Daten!AF14:AO14)","v":1}]
[null,"R in Pos 2",{"$f":"ROUND(AT29,2)*100 &\"% (\"&AS29&\")\"","v":"0% (0)"},null,"R in Pos 3",{"$f":"ROUND(AT30,2)*100 &\"% (\"&AS30&\")\"","v":"0% (0)"},null,"R in Pos 4",{"$f":"ROUND(AT31,2)*100 &\"% (\"&AS31&\")\"","v":"0% (0)"},null,null,"R in Pos 2",{"$f":"ROUND(AT29,2)*100 &\"% (\"&AS29&\")\"","v":"0% (0)"},null,"R in Pos 3",{"$f":"ROUND(AT30,2)*100 &\"% (\"&AS30&\")\"","v":"0% (0)"},null,"R in Pos 4",{"$f":"ROUND(AT31,2)*100 &\"% (\"&AS31&\")\"","v":"0% (0)"},null,null,null,"ohne",{"$f":"IF(SUM(Daten!$B15:$K15)=0,0,Daten!B15/SUM(Daten!$B15:$K15))","v":0},{"$f":"IF(SUM(Daten!$B15:$K15)=0,0,Daten!C15/SUM(Daten!$B15:$K15))","v":0},{"$f":"IF(SUM(Daten!$B15:$K15)=0,0,Daten!D15/SUM(Daten!$B15:$K15))","v":0},{"$f":"IF(SUM(Daten!$B15:$K15)=0,0,Daten!E15/SUM(Daten!$B15:$K15))","v":0},{"$f":"IF(SUM(Daten!$B15:$K15)=0,0,Daten!F15/SUM(Daten!$B15:$K15))","v":0},{"$f":"IF(SUM(Daten!$B15:$K15)=0,0,Daten!G15/SUM(Daten!$B15:$K15))","v":0},{"$f":"IF(SUM(Daten!$B15:$K15)=0,0,Daten!H15/SUM(Daten!$B15:$K15))","v":0},{"$f":"IF(SUM(Daten!$B15:$K15)=0,0,Daten!I15/SUM(Daten!$B15:$K15))","v":0},{"$f":"IF(SUM(Daten!$B15:$K15)=0,0,Daten!J15/SUM(Daten!$B15:$K15))","v":0},{"$f":"IF(SUM(Daten!$B15:$K15)=0,0,Daten!K15/SUM(Daten!$B15:$K15))","v":0},{"$f":"IF(SUM(Daten!$L15:$U15)=0,0,Daten!L15/SUM(Daten!$L15:$U15))","v":0},{"$f":"IF(SUM(Daten!$L15:$U15)=0,0,Daten!M15/SUM(Daten!$L15:$U15))","v":0},{"$f":"IF(SUM(Daten!$L15:$U15)=0,0,Daten!N15/SUM(Daten!$L15:$U15))","v":0},{"$f":"IF(SUM(Daten!$L15:$U15)=0,0,Daten!O15/SUM(Daten!$L15:$U15))","v":0},{"$f":"IF(SUM(Daten!$L15:$U15)=0,0,Daten!P15/SUM(Daten!$L15:$U15))","v":0},{"$f":"IF(SUM(Daten!$L15:$U15)=0,0,Daten!Q15/SUM(Daten!$L15:$U15))","v":0},{"$f":"IF(SUM(Daten!$L15:$U15)=0,0,Daten!R15/SUM(Daten!$L15:$U15))","v":0},{"$f":"IF(SUM(Daten!$L15:$U15)=0,0,Daten!S15/SUM(Daten!$L15:$U15))","v":0},{"$f":"IF(SUM(Daten!$L15:$U15)=0,0,Daten!T15/SUM(Daten!$L15:$U15))","v":0},{"$f":"IF(SUM(Daten!$L15:$U15)=0,0,Daten!U15/SUM(Daten!$L15:$U15))","v":0},{"$f":"IF(SUM(Daten!V15:AE15)=0,0,Daten!V15/SUM(Daten!V15:AE15))","v":0},{"$f":"IF(SUM(Daten!W15:AF15)=0,0,Daten!W15/SUM(Daten!W15:AF15))","v":0},{"$f":"IF(SUM(Daten!X15:AG15)=0,0,Daten!X15/SUM(Daten!X15:AG15))","v":0},{"$f":"IF(SUM(Daten!Y15:AH15)=0,0,Daten!Y15/SUM(Daten!Y15:AH15))","v":0},{"$f":"IF(SUM(Daten!Z15:AI15)=0,0,Daten!Z15/SUM(Daten!Z15:AI15))","v":1},{"$f":"IF(SUM(Daten!AA15:AJ15)=0,0,Daten!AA15/SUM(Daten!AA15:AJ15))","v":0},{"$f":"IF(SUM(Daten!AB15:AK15)=0,0,Daten!AB15/SUM(Daten!AB15:AK15))","v":0},{"$f":"IF(SUM(Daten!AC15:AL15)=0,0,Daten!AC15/SUM(Daten!AC15:AL15))","v":0},{"$f":"IF(SUM(Daten!AD15:AM15)=0,0,Daten!AD15/SUM(Daten!AD15:AM15))","v":0},{"$f":"IF(SUM(Daten!AE15:AN15)=0,0,Daten!AE15/SUM(Daten!AE15:AN15))","v":0},{"$f":"IF(SUM(Daten!AF15:AO15)=0,0,Daten!AF15/SUM(Daten!AF15:AO15))","v":0},{"$f":"IF(SUM(Daten!AG15:AP15)=0,0,Daten!AG15/SUM(Daten!AG15:AP15))","v":0},{"$f":"IF(SUM(Daten!AH15:AQ15)=0,0,Daten!AH15/SUM(Daten!AH15:AQ15))","v":0},{"$f":"IF(SUM(Daten!AI15:AR15)=0,0,Daten!AI15/SUM(Daten!AI15:AR15))","v":0},{"$f":"IF(SUM(Daten!AJ15:AS15)=0,0,Daten!AJ15/SUM(Daten!AJ15:AS15))","v":0},{"$f":"IF(SUM(Daten!AK15:AT15)=0,0,Daten!AK15/SUM(Daten!AK15:AT15))","v":0},{"$f":"IF(SUM(Daten!AL15:AU15)=0,0,Daten!AL15/SUM(Daten!AL15:AU15))","v":0},{"$f":"IF(SUM(Daten!AM15:AV15)=0,0,Daten!AM15/SUM(Daten!AM15:AV15))","v":0},{"$f":"IF(SUM(Daten!AN15:AW15)=0,0,Daten!AN15/SUM(Daten!AN15:AW15))","v":0},{"$f":"IF(SUM(Daten!AO15:AX15)=0,0,Daten!AO15/SUM(Daten!AO15:AX15))","v":0},"ohne",{"$f":"SUM(Daten!B15:K15)","v":0},{"$f":"SUM(Daten!L15:U15)","v":0},{"$f":"SUM(Daten!V15:AE15)","v":-2},{"$f":"SUM(Daten!AF15:AO15)","v":0}]
[null,null,null,null,null,null,null,null,null,null,null,null,null,null,null,null,null,null,null,null,null,null,"mit",{"$f":"IF(SUM(Daten!$B16:$K16)=0,0,Daten!B16/SUM(Daten!$B16:$K16))","v":0.13636363636363635},{"$f":"IF(SUM(Daten!$B16:$K16)=0,0,Daten!C16/SUM(Daten!$B16:$K16))","v":0},{"$f":"IF(SUM(Daten!$B16:$K16)=0,0,Daten!D16/SUM(Daten!$B16:$K16))","v":0.13636363636363635},{"$f":"IF(SUM(Daten!$B16:$K16)=0,0,Daten!E16/SUM(Daten!$B16:$K16))","v":0.13636363636363635},{"$f":"IF(SUM(Daten!$B16:$K16)=0,0,Daten!F16/SUM(Daten!$B16:$K16))","v":0},{"$f":"IF(SUM(Daten!$B16:$K16)=0,0,Daten!G16/SUM(Daten!$B16:$K16))","v":0},{"$f":"IF(SUM(Daten!$B16:$K16)=0,0,Daten!H16/SUM(Daten!$B16:$K16))","v":0},{"$f":"IF(SUM(Daten!$B16:$K16)=0,0,Daten!I16/SUM(Daten!$B16:$K16))","v":0.18181818181818182},{"$f":"IF(SUM(Daten!$B16:$K16)=0,0,Daten!J16/SUM(Daten!$B16:$K16))","v":0.40909090909090912},{"$f":"IF(SUM(Daten!$B16:$K16)=0,0,Daten!K16/SUM(Daten!$B16:$K16))","v":0},{"$f":"IF(SUM(Daten!$L16:$U16)=0,0,Daten!L16/SUM(Daten!$L16:$U16))","v":5.8823529411764705E-2},{"$f":"IF(SUM(Daten!$L16:$U16)=0,0,Daten!M16/SUM(Daten!$L16:$U16))","v":5.8823529411764705E-2},{"$f":"IF(SUM(Daten!$L16:$U16)=0,0,Daten!N16/SUM(Daten!$L16:$U16))","v":0},{"$f":"IF(SUM(Daten!$L16:$U16)=0,0,Daten!O16/SUM(Daten!$L16:$U16))","v":0.41176470588235292},{"$f":"IF(SUM(Daten!$L16:$U16)=0,0,Daten!P16/SUM(Daten!$L16:$U16))","v":5.8823529411764705E-2},{"$f":"IF(SUM(Daten!$L16:$U16)=0,0,Daten!Q16/SUM(Daten!$L16:$U16))","v":0},{"$f":"IF(SUM(Daten!$L16:$U16)=0,0,Daten!R16/SUM(Daten!$L16:$U16))","v":0},{"$f":"IF(SUM(Daten!$L16:$U16)=0,0,Daten!S16/SUM(Daten!$L16:$U16))","v":0},{"$f":"IF(SUM(Daten!$L16:$U16)=0,0,Daten!T16/SUM(Daten!$L16:$U16))","v":5.8823529411764705E-2},{"$f":"IF(SUM(Daten!$L16:$U16)=0,0,Daten!U16/SUM(Daten!$L16:$U16))","v":0.35294117647058826},{"$f":"IF(SUM(Daten!V16:AE16)=0,0,Daten!V16/SUM(Daten!V16:AE16))","v":9.0909090909090912E-2},{"$f":"IF(SUM(Daten!W16:AF16)=0,0,Daten!W16/SUM(Daten!W16:AF16))","v":0},{"$f":"IF(SUM(Daten!X16:AG16)=0,0,Daten!X16/SUM(Daten!X16:AG16))","v":0.15384615384615385},{"$f":"IF(SUM(Daten!Y16:AH16)=0,0,Daten!Y16/SUM(Daten!Y16:AH16))","v":9.0909090909090912E-2},{"$f":"IF(SUM(Daten!Z16:AI16)=0,0,Daten!Z16/SUM(Daten!Z16:AI16))","v":0},{"$f":"IF(SUM(Daten!AA16:AJ16)=0,0,Daten!AA16/SUM(Daten!AA16:AJ16))","v":0},{"$f":"IF(SUM(Daten!AB16:AK16)=0,0,Daten!AB16/SUM(Daten!AB16:AK16))","v":0},{"$f":"IF(SUM(Daten!AC16:AL16)=0,0,Daten!AC16/SUM(Daten!AC16:AL16))","v":0.54545454545454541},{"$f":"IF(SUM(Daten!AD16:AM16)=0,0,Daten!AD16/SUM(Daten!AD16:AM16))","v":0.2},{"$f":"IF(SUM(Daten!AE16:AN16)=0,0,Daten!AE16/SUM(Daten!AE16:AN16))","v":0},{"$f":"IF(SUM(Daten!AF16:AO16)=0,0,Daten!AF16/SUM(Daten!AF16:AO16))","v":0.3},{"$f":"IF(SUM(Daten!AG16:AP16)=0,0,Daten!AG16/SUM(Daten!AG16:AP16))","v":0},{"$f":"IF(SUM(Daten!AH16:AQ16)=0,0,Daten!AH16/SUM(Daten!AH16:AQ16))","v":0},{"$f":"IF(SUM(Daten!AI16:AR16)=0,0,Daten!AI16/SUM(Daten!AI16:AR16))","v":0},{"$f":"IF(SUM(Daten!AJ16:AS16)=0,0,Daten!AJ16/SUM(Daten!AJ16:AS16))","v":0.14285714285714285},{"$f":"IF(SUM(Daten!AK16:AT16)=0,0,Daten!AK16/SUM(Daten!AK16:AT16))","v":0},{"$f":"IF(SUM(Daten!AL16:AU16)=0,0,Daten!AL16/SUM(Daten!AL16:AU16))","v":0},{"$f":"IF(SUM(Daten!AM16:AV16)=0,0,Daten!AM16/SUM(Daten!AM16:AV16))","v":0},{"$f":"IF(SUM(Daten!AN16:AW16)=0,0,Daten!AN16/SUM(Daten!AN16:AW16))","v":0.16666666666666666},{"$f":"IF(SUM(Daten!AO16:AX16)=0,0,Daten!AO16/SUM(Daten!AO16:AX16))","v":1},"mit",{"$f":"SUM(Daten!B16:K16)","v":22},{"$f":"SUM(Daten!L16:U16)","v":17},{"$f":"SUM(Daten!V16:AE16)","v":11},{"$f":"SUM(Daten!AF16:AO16)","v":10}]
[]
[]
[]
[]
[null,"alle Pos",{"$f":"ROUND(AT38,2)*100 &\"% (\"&AS38&\")\"","v":"106% (33)"},null,null,null,null,"ohne R Pos",{"$f":"ROUND(AT37,2)*100 &\"% (\"&AS37&\")\"","v":"-6% (-2)"},null,null,"alle Pos",{"$f":"ROUND(AT38,2)*100 &\"% (\"&AS38&\")\"","v":"106% (33)"},null,null,null,null,"ohne R Pos",{"$f":"ROUND(AT37,2)*100 &\"% (\"&AS37&\")\"","v":"-6% (-2)"}]
[]
[]
[]
[]
[]
[null,"Setter front (S4, S3, S2) - R#+",null,null,null,null,null,null,null,null,null,"Setter front (S4, S3, S2) - all Receptions",null,null,null,null,null,null,null,null,null,null,null,"K1 depending on R-Pos (S1,S6,S5)",null,null,null,null,null,null,null,null,null,"K1 depending on R-Pos (S4,S3,S2)",null,null,null,null,null,null,null,null,null,null,"S back",null,null,"S front"]
[null,"R in Pos 1",{"$f":"ROUND(AW28,2)*100 &\"% (\"&AV28&\")\"","v":"4% (1)"},null,"R in Pos 6",{"$f":"ROUND(AW33,2)*100 &\"% (\"&AV33&\")\"","v":"41% (11)"},null,"R in Pos 5",{"$f":"ROUND(AW32,2)*100 &\"% (\"&AV32&\")\"","v":"26% (7)"},null,null,"R in Pos 1",{"$f":"ROUND(AW28,2)*100 &\"% (\"&AV28&\")\"","v":"4% (1)"},null,"R in Pos 6",{"$f":"ROUND(AW33,2)*100 &\"% (\"&AV33&\")\"","v":"41% (11)"},null,"R in Pos 5",{"$f":"ROUND(AW32,2)*100 &\"% (\"&AV32&\")\"","v":"26% (7)"},null,null,null,"Pos 1",{"$f":"IF((SUM(Daten!$B6:$K6)+SUM(Daten!$V6:$AE6))=0,0,(Daten!B6+Daten!V6)/(SUM(Daten!$B6:$K6)+SUM(Daten!$V6:$AE6)))","v":0},{"$f":"IF((SUM(Daten!$B6:$K6)+SUM(Daten!$V6:$AE6))=0,0,(Daten!C6+Daten!W6)/(SUM(Daten!$B6:$K6)+SUM(Daten!$V6:$AE6)))","v":0},{"$f":"IF((SUM(Daten!$B6:$K6)+SUM(Daten!$V6:$AE6))=0,0,(Daten!D6+Daten!X6)/(SUM(Daten!$B6:$K6)+SUM(Daten!$V6:$AE6)))","v":0.66666666666666663},{"$f":"IF((SUM(Daten!$B6:$K6)+SUM(Daten!$V6:$AE6))=0,0,(Daten!E6+Daten!Y6)/(SUM(Daten!$B6:$K6)+SUM(Daten!$V6:$AE6)))","v":0},{"$f":"IF((SUM(Daten!$B6:$K6)+SUM(Daten!$V6:$AE6))=0,0,(Daten!F6+Daten!Z6)/(SUM(Daten!$B6:$K6)+SUM(Daten!$V6:$AE6)))","v":0},{"$f":"IF((SUM(Daten!$B6:$K6)+SUM(Daten!$V6:$AE6))=0,0,(Daten!G6+Daten!AA6)/(SUM(Daten!$B6:$K6)+SUM(Daten!$V6:$AE6)))","v":0},{"$f":"IF((SUM(Daten!$B6:$K6)+SUM(Daten!$V6:$AE6))=0,0,(Daten!H6+Daten!AB6)/(SUM(Daten!$B6:$K6)+SUM(Daten!$V6:$AE6)))","v":0},{"$f":"IF((SUM(Daten!$B6:$K6)+SUM(Daten!$V6:$AE6))=0,0,(Daten!I6+Daten!AC6)/(SUM(Daten!$B6:$K6)+SUM(Daten!$V6:$AE6)))","v":0.33333333333333331},{"$f":"IF((SUM(Daten!$B6:$K6)+SUM(Daten!$V6:$AE6))=0,0,(Daten!J6+Daten!AD6)/(SUM(Daten!$B6:$K6)+SUM(Daten!$V6:$AE6)))","v":0},{"$f":"IF((SUM(Daten!$B6:$K6)+SUM(Daten!$V6:$AE6))=0,0,(Daten!K6+Daten!AE6)/(SUM(Daten!$B6:$K6)+SUM(Daten!$V6:$AE6)))","v":0},{"$f":"IF((SUM(Daten!$L6:$U6)+SUM(Daten!$AF6:$AO6))=0,0,(Daten!L6+Daten!AF6)/(SUM(Daten!$L6:$U6)+SUM(Daten!$AF6:$AO6)))","v":0},{"$f":"IF((SUM(Daten!$L6:$U6)+SUM(Daten!$AF6:$AO6))=0,0,(Daten!M6+Daten!AG6)/(SUM(Daten!$L6:$U6)+SUM(Daten!$AF6:$AO6)))","v":0},{"$f":"IF((SUM(Daten!$L6:$U6)+SUM(Daten!$AF6:$AO6))=0,0,(Daten!N6+Daten!AH6)/(SUM(Daten!$L6:$U6)+SUM(Daten!$AF6:$AO6)))","v":0},{"$f":"IF((SUM(Daten!$L6:$U6)+SUM(Daten!$AF6:$AO6))=0,0,(Daten!O6+Daten!AI6)/(SUM(Daten!$L6:$U6)+SUM(Daten!$AF6:$AO6)))","v":0},{"$f":"IF((SUM(Daten!$L6:$U6)+SUM(Daten!$AF6:$AO6))=0,0,(Daten!P6+Daten!AJ6)/(SUM(Daten!$L6:$U6)+SUM(Daten!$AF6:$AO6)))","v":0},{"$f":"IF((SUM(Daten!$L6:$U6)+SUM(Daten!$AF6:$AO6))=0,0,(Daten!Q6+Daten!AK6)/(SUM(Daten!$L6:$U6)+SUM(Daten!$AF6:$AO6)))","v":0},{"$f":"IF((SUM(Daten!$L6:$U6)+SUM(Daten!$AF6:$AO6))=0,0,(Daten!R6+Daten!AL6)/(SUM(Daten!$L6:$U6)+SUM(Daten!$AF6:$AO6)))","v":0},{"$f":"IF((SUM(Daten!$L6:$U6)+SUM(Daten!$AF6:$AO6))=0,0,(Daten!S6+Daten!AM6)/(SUM(Daten!$L6:$U6)+SUM(Daten!$AF6:$AO6)))","v":0},{"$f":"IF((SUM(Daten!$L6:$U6)+SUM(Daten!$AF6:$AO6))=0,0,(Daten!T6+Daten!AN6)/(SUM(Daten!$L6:$U6)+SUM(Daten!$AF6:$AO6)))","v":0},{"$f":"IF((SUM(Daten!$L6:$U6)+SUM(Daten!$AF6:$AO6))=0,0,(Daten!U6+Daten!AO6)/(SUM(Daten!$L6:$U6)+SUM(Daten!$AF6:$AO6)))","v":1},"Pos 1",{"$f":"BM6+BO6","v":3},{"$f":"AS28/$AS39","v":9.6774193548387094E-2},null,{"$f":"BN6+BP6","v":1},{"$f":"AV28/$AV39","v":3.7037037037037035E-2}]
[null,null,null,null,null,null,null,null,null,null,null,null,null,null,null,null,null,null,null,null,null,null,"Pos 2",{"$f":"IF((SUM(Daten!$B7:$K7)+SUM(Daten!$V7:$AE7))=0,0,(Daten!B7+Daten!V7)/(SUM(Daten!$B7:$K7)+SUM(Daten!$V7:$AE7)))","v":0},{"$f":"IF((SUM(Daten!$B7:$K7)+SUM(Daten!$V7:$AE7))=0,0,(Daten!C7+Daten!W7)/(SUM(Daten!$B7:$K7)+SUM(Daten!$V7:$AE7)))","v":0},{"$f":"IF((SUM(Daten!$B7:$K7)+SUM(Daten!$V7:$AE7))=0,0,(Daten!D7+Daten!X7)/(SUM(Daten!$B7:$K7)+SUM(Daten!$V7:$AE7)))","v":0},{"$f":"IF((SUM(Daten!$B7:$K7)+SUM(Daten!$V7:$AE7))=0,0,(Daten!E7+Daten!Y7)/(SUM(Daten!$B7:$K7)+SUM(Daten!$V7:$AE7)))","v":0},{"$f":"IF((SUM(Daten!$B7:$K7)+SUM(Daten!$V7:$AE7))=0,0,(Daten!F7+Daten!Z7)/(SUM(Daten!$B7:$K7)+SUM(Daten!$V7:$AE7)))","v":0},{"$f":"IF((SUM(Daten!$B7:$K7)+SUM(Daten!$V7:$AE7))=0,0,(Daten!G7+Daten!AA7)/(SUM(Daten!$B7:$K7)+SUM(Daten!$V7:$AE7)))","v":0},{"$f":"IF((SUM(Daten!$B7:$K7)+SUM(Daten!$V7:$AE7))=0,0,(Daten!H7+Daten!AB7)/(SUM(Daten!$B7:$K7)+SUM(Daten!$V7:$AE7)))","v":0},{"$f":"IF((SUM(Daten!$B7:$K7)+SUM(Daten!$V7:$AE7))=0,0,(Daten!I7+Daten!AC7)/(SUM(Daten!$B7:$K7)+SUM(Daten!$V7:$AE7)))","v":0},{"$f":"IF((SUM(Daten!$B7:$K7)+SUM(Daten!$V7:$AE7))=0,0,(Daten!J7+Daten!AD7)/(SUM(Daten!$B7:$K7)+SUM(Daten!$V7:$AE7)))","v":0},{"$f":"IF((SUM(Daten!$B7:$K7)+SUM(Daten!$V7:$AE7))=0,0,(Daten!K7+Daten!AE7)/(SUM(Daten!$B7:$K7)+SUM(Daten!$V7:$AE7)))","v":0},{"$f":"IF((SUM(Daten!$L7:$U7)+SUM(Daten!$AF7:$AO7))=0,0,(Daten!L7+Daten!AF7)/(SUM(Daten!$L7:$U7)+SUM(Daten!$AF7:$AO7)))","v":0},{"$f":"IF((SUM(Daten!$L7:$U7)+SUM(Daten!$AF7:$AO7))=0,0,(Daten!M7+Daten!AG7)/(SUM(Daten!$L7:$U7)+SUM(Daten!$AF7:$AO7)))","v":0},{"$f":"IF((SUM(Daten!$L7:$U7)+SUM(Daten!$AF7:$AO7))=0,0,(Daten!N7+Daten!AH7)/(SUM(Daten!$L7:$U7)+SUM(Daten!$AF7:$AO7)))","v":0},{"$f":"IF((SUM(Daten!$L7:$U7)+SUM(Daten!$AF7:$AO7))=0,0,(Daten!O7+Daten!AI7)/(SUM(Daten!$L7:$U7)+SUM(Daten!$AF7:$AO7)))","v":0},{"$f":"IF((SUM(Daten!$L7:$U7)+SUM(Daten!$AF7:$AO7))=0,0,(Daten!P7+Daten!AJ7)/(SUM(Daten!$L7:$U7)+SUM(Daten!$AF7:$AO7)))","v":0},{"$f":"IF((SUM(Daten!$L7:$U7)+SUM(Daten!$AF7:$AO7))=0,0,(Daten!Q7+Daten!AK7)/(SUM(Daten!$L7:$U7)+SUM(Daten!$AF7:$AO7)))","v":0},{"$f":"IF((SUM(Daten!$L7:$U7)+SUM(Daten!$AF7:$AO7))=0,0,(Daten!R7+Daten!AL7)/(SUM(Daten!$L7:$U7)+SUM(Daten!$AF7:$AO7)))","v":0},{"$f":"IF((SUM(Daten!$L7:$U7)+SUM(Daten!$AF7:$AO7))=0,0,(Daten!S7+Daten!AM7)/(SUM(Daten!$L7:$U7)+SUM(Daten!$AF7:$AO7)))","v":0},{"$f":"IF((SUM(Daten!$L7:$U7)+SUM(Daten!$AF7:$AO7))=0,0,(Daten!T7+Daten!AN7)/(SUM(Daten!$L7:$U7)+SUM(Daten!$AF7:$AO7)))","v":0},{"$f":"IF((SUM(Daten!$L7:$U7)+SUM(Daten!$AF7:$AO7))=0,0,(Daten!U7+Daten!AO7)/(SUM(Daten!$L7:$U7)+SUM(Daten!$AF7:$AO7)))","v":0},"Pos 2",0,{"$f":"AS29/$AS39","v":0},null,0,{"$f":"AV29/$AV39","v":0}]
[null,null,null,null,null,null,null,null,null,null,null,null,null,null,null,null,null,null,null,null,null,null,"Pos 3",{"$f":"IF((SUM(Daten!$B8:$K8)+SUM(Daten!$V8:$AE8))=0,0,(Daten!B8+Daten!V8)/(SUM(Daten!$B8:$K8)+SUM(Daten!$V8:$AE8)))","v":0},{"$f":"IF((SUM(Daten!$B8:$K8)+SUM(Daten!$V8:$AE8))=0,0,(Daten!C8+Daten!W8)/(SUM(Daten!$B8:$K8)+SUM(Daten!$V8:$AE8)))","v":0},{"$f":"IF((SUM(Daten!$B8:$K8)+SUM(Daten!$V8:$AE8))=0,0,(Daten!D8+Daten!X8)/(SUM(Daten!$B8:$K8)+SUM(Daten!$V8:$AE8)))","v":0},{"$f":"IF((SUM(Daten!$B8:$K8)+SUM(Daten!$V8:$AE8))=0,0,(Daten!E8+Daten!Y8)/(SUM(Daten!$B8:$K8)+SUM(Daten!$V8:$AE8)))","v":0},{"$f":"IF((SUM(Daten!$B8:$K8)+SUM(Daten!$V8:$AE8))=0,0,(Daten!F8+Daten!Z8)/(SUM(Daten!$B8:$K8)+SUM(Daten!$V8:$AE8)))","v":0},{"$f":"IF((SUM(Daten!$B8:$K8)+SUM(Daten!$V8:$AE8))=0,0,(Daten!G8+Daten!AA8)/(SUM(Daten!$B8:$K8)+SUM(Daten!$V8:$AE8)))","v":0},{"$f":"IF((SUM(Daten!$B8:$K8)+SUM(Daten!$V8:$AE8))=0,0,(Daten!H8+Daten!AB8)/(SUM(Daten!$B8:$K8)+SUM(Daten!$V8:$AE8)))","v":0},{"$f":"IF((SUM(Daten!$B8:$K8)+SUM(Daten!$V8:$AE8))=0,0,(Daten!I8+Daten!AC8)/(SUM(Daten!$B8:$K8)+SUM(Daten!$V8:$AE8)))","v":0},{"$f":"IF((SUM(Daten!$B8:$K8)+SUM(Daten!$V8:$AE8))=0,0,(Daten!J8+Daten!AD8)/(SUM(Daten!$B8:$K8)+SUM(Daten!$V8:$AE8)))","v":0},{"$f":"IF((SUM(Daten!$B8:$K8)+SUM(Daten!$V8:$AE8))=0,0,(Daten!K8+Daten!AE8)/(SUM(Daten!$B8:$K8)+SUM(Daten!$V8:$AE8)))","v":0},{"$f":"IF((SUM(Daten!$L8:$U8)+SUM(Daten!$AF8:$AO8))=0,0,(Daten!L8+Daten!AF8)/(SUM(Daten!$L8:$U8)+SUM(Daten!$AF8:$AO8)))","v":0},{"$f":"IF((SUM(Daten!$L8:$U8)+SUM(Daten!$AF8:$AO8))=0,0,(Daten!M8+Daten!AG8)/(SUM(Daten!$L8:$U8)+SUM(Daten!$AF8:$AO8)))","v":0},{"$f":"IF((SUM(Daten!$L8:$U8)+SUM(Daten!$AF8:$AO8))=0,0,(Daten!N8+Daten!AH8)/(SUM(Daten!$L8:$U8)+SUM(Daten!$AF8:$AO8)))","v":0},{"$f":"IF((SUM(Daten!$L8:$U8)+SUM(Daten!$AF8:$AO8))=0,0,(Daten!O8+Daten!AI8)/(SUM(Daten!$L8:$U8)+SUM(Daten!$AF8:$AO8)))","v":1},{"$f":"IF((SUM(Daten!$L8:$U8)+SUM(Daten!$AF8:$AO8))=0,0,(Daten!P8+Daten!AJ8)/(SUM(Daten!$L8:$U8)+SUM(Daten!$AF8:$AO8)))","v":0},{"$f":"IF((SUM(Daten!$L8:$U8)+SUM(Daten!$AF8:$AO8))=0,0,(Daten!Q8+Daten!AK8)/(SUM(Daten!$L8:$U8)+SUM(Daten!$AF8:$AO8)))","v":0},{"$f":"IF((SUM(Daten!$L8:$U8)+SUM(Daten!$AF8:$AO8))=0,0,(Daten!R8+Daten!AL8)/(SUM(Daten!$L8:$U8)+SUM(Daten!$AF8:$AO8)))","v":0},{"$f":"IF((SUM(Daten!$L8:$U8)+SUM(Daten!$AF8:$AO8))=0,0,(Daten!S8+Daten!AM8)/(SUM(Daten!$L8:$U8)+SUM(Daten!$AF8:$AO8)))","v":0},{"$f":"IF((SUM(Daten!$L8:$U8)+SUM(Daten!$AF8:$AO8))=0,0,(Daten!T8+Daten!AN8)/(SUM(Daten!$L8:$U8)+SUM(Daten!$AF8:$AO8)))","v":0},{"$f":"IF((SUM(Daten!$L8:$U8)+SUM(Daten!$AF8:$AO8))=0,0,(Daten!U8+Daten!AO8)/(SUM(Daten!$L8:$U8)+SUM(Daten!$AF8:$AO8)))","v":0},"Pos 3",0,{"$f":"AS30/$AS39","v":0},null,1,{"$f":"AV30/$AV39","v":3.7037037037037035E-2}]
[null,null,null,null,null,null,null,null,null,null,null,null,null,null,null,null,null,null,null,null,null,null,"Pos 4",{"$f":"IF((SUM(Daten!$B9:$K9)+SUM(Daten!$V9:$AE9))=0,0,(Daten!B9+Daten!V9)/(SUM(Daten!$B9:$K9)+SUM(Daten!$V9:$AE9)))","v":0},{"$f":"IF((SUM(Daten!$B9:$K9)+SUM(Daten!$V9:$AE9))=0,0,(Daten!C9+Daten!W9)/(SUM(Daten!$B9:$K9)+SUM(Daten!$V9:$AE9)))","v":0},{"$f":"IF((SUM(Daten!$B9:$K9)+SUM(Daten!$V9:$AE9))=0,0,(Daten!D9+Daten!X9)/(SUM(Daten!$B9:$K9)+SUM(Daten!$V9:$AE9)))","v":0},{"$f":"IF((SUM(Daten!$B9:$K9)+SUM(Daten!$V9:$AE9))=0,0,(Daten!E9+Daten!Y9)/(SUM(Daten!$B9:$K9)+SUM(Daten!$V9:$AE9)))","v":0},{"$f":"IF((SUM(Daten!$B9:$K9)+SUM(Daten!$V9:$AE9))=0,0,(Daten!F9+Daten!Z9)/(SUM(Daten!$B9:$K9)+SUM(Daten!$V9:$AE9)))","v":0},{"$f":"IF((SUM(Daten!$B9:$K9)+SUM(Daten!$V9:$AE9))=0,0,(Daten!G9+Daten!AA9)/(SUM(Daten!$B9:$K9)+SUM(Daten!$V9:$AE9)))","v":0},{"$f":"IF((SUM(Daten!$B9:$K9)+SUM(Daten!$V9:$AE9))=0,0,(Daten!H9+Daten!AB9)/(SUM(Daten!$B9:$K9)+SUM(Daten!$V9:$AE9)))","v":0},{"$f":"IF((SUM(Daten!$B9:$K9)+SUM(Daten!$V9:$AE9))=0,0,(Daten!I9+Daten!AC9)/(SUM(Daten!$B9:$K9)+SUM(Daten!$V9:$AE9)))","v":0},{"$f":"IF((SUM(Daten!$B9:$K9)+SUM(Daten!$V9:$AE9))=0,0,(Daten!J9+Daten!AD9)/(SUM(Daten!$B9:$K9)+SUM(Daten!$V9:$AE9)))","v":0},{"$f":"IF((SUM(Daten!$B9:$K9)+SUM(Daten!$V9:$AE9))=0,0,(Daten!K9+Daten!AE9)/(SUM(Daten!$B9:$K9)+SUM(Daten!$V9:$AE9)))","v":0},{"$f":"IF((SUM(Daten!$L9:$U9)+SUM(Daten!$AF9:$AO9))=0,0,(Daten!L9+Daten!AF9)/(SUM(Daten!$L9:$U9)+SUM(Daten!$AF9:$AO9)))","v":0},{"$f":"IF((SUM(Daten!$L9:$U9)+SUM(Daten!$AF9:$AO9))=0,0,(Daten!M9+Daten!AG9)/(SUM(Daten!$L9:$U9)+SUM(Daten!$AF9:$AO9)))","v":0},{"$f":"IF((SUM(Daten!$L9:$U9)+SUM(Daten!$AF9:$AO9))=0,0,(Daten!N9+Daten!AH9)/(SUM(Daten!$L9:$U9)+SUM(Daten!$AF9:$AO9)))","v":0},{"$f":"IF((SUM(Daten!$L9:$U9)+SUM(Daten!$AF9:$AO9))=0,0,(Daten!O9+Daten!AI9)/(SUM(Daten!$L9:$U9)+SUM(Daten!$AF9:$AO9)))","v":0},{"$f":"IF((SUM(Daten!$L9:$U9)+SUM(Daten!$AF9:$AO9))=0,0,(Daten!P9+Daten!AJ9)/(SUM(Daten!$L9:$U9)+SUM(Daten!$AF9:$AO9)))","v":0},{"$f":"IF((SUM(Daten!$L9:$U9)+SUM(Daten!$AF9:$AO9))=0,0,(Daten!Q9+Daten!AK9)/(SUM(Daten!$L9:$U9)+SUM(Daten!$AF9:$AO9)))","v":0},{"$f":"IF((SUM(Daten!$L9:$U9)+SUM(Daten!$AF9:$AO9))=0,0,(Daten!R9+Daten!AL9)/(SUM(Daten!$L9:$U9)+SUM(Daten!$AF9:$AO9)))","v":0},{"$f":"IF((SUM(Daten!$L9:$U9)+SUM(Daten!$AF9:$AO9))=0,0,(Daten!S9+Daten!AM9)/(SUM(Daten!$L9:$U9)+SUM(Daten!$AF9:$AO9)))","v":0},{"$f":"IF((SUM(Daten!$L9:$U9)+SUM(Daten!$AF9:$AO9))=0,0,(Daten!T9+Daten!AN9)/(SUM(Daten!$L9:$U9)+SUM(Daten!$AF9:$AO9)))","v":0},{"$f":"IF((SUM(Daten!$L9:$U9)+SUM(Daten!$AF9:$AO9))=0,0,(Daten!U9+Daten!AO9)/(SUM(Daten!$L9:$U9)+SUM(Daten!$AF9:$AO9)))","v":0},"Pos 4",0,{"$f":"AS31/$AS39","v":0},null,0,{"$f":"AV31/$AV39","v":0}]
[null,null,null,null,null,null,null,null,null,null,null,null,null,null,null,null,null,null,null,null,null,null,"Pos 5",{"$f":"IF((SUM(Daten!$B10:$K10)+SUM(Daten!$V10:$AE10))=0,0,(Daten!B10+Daten!V10)/(SUM(Daten!$B10:$K10)+SUM(Daten!$V10:$AE10)))","v":0.125},{"$f":"IF((SUM(Daten!$B10:$K10)+SUM(Daten!$V10:$AE10))=0,0,(Daten!C10+Daten!W10)/(SUM(Daten!$B10:$K10)+SUM(Daten!$V10:$AE10)))","v":0},{"$f":"IF((SUM(Daten!$B10:$K10)+SUM(Daten!$V10:$AE10))=0,0,(Daten!D10+Daten!X10)/(SUM(Daten!$B10:$K10)+SUM(Daten!$V10:$AE10)))","v":0},{"$f":"IF((SUM(Daten!$B10:$K10)+SUM(Daten!$V10:$AE10))=0,0,(Daten!E10+Daten!Y10)/(SUM(Daten!$B10:$K10)+SUM(Daten!$V10:$AE10)))","v":0.125},{"$f":"IF((SUM(Daten!$B10:$K10)+SUM(Daten!$V10:$AE10))=0,0,(Daten!F10+Daten!Z10)/(SUM(Daten!$B10:$K10)+SUM(Daten!$V10:$AE10)))","v":0},{"$f":"IF((SUM(Daten!$B10:$K10)+SUM(Daten!$V10:$AE10))=0,0,(Daten!G10+Daten!AA10)/(SUM(Daten!$B10:$K10)+SUM(Daten!$V10:$AE10)))","v":0},{"$f":"IF((SUM(Daten!$B10:$K10)+SUM(Daten!$V10:$AE10))=0,0,(Daten!H10+Daten!AB10)/(SUM(Daten!$B10:$K10)+SUM(Daten!$V10:$AE10)))","v":0},{"$f":"IF((SUM(Daten!$B10:$K10)+SUM(Daten!$V10:$AE10))=0,0,(Daten!I10+Daten!AC10)/(SUM(Daten!$B10:$K10)+SUM(Daten!$V10:$AE10)))","v":0.5},{"$f":"IF((SUM(Daten!$B10:$K10)+SUM(Daten!$V10:$AE10))=0,0,(Daten!J10+Daten!AD10)/(SUM(Daten!$B10:$K10)+SUM(Daten!$V10:$AE10)))","v":0.25},{"$f":"IF((SUM(Daten!$B10:$K10)+SUM(Daten!$V10:$AE10))=0,0,(Daten!K10+Daten!AE10)/(SUM(Daten!$B10:$K10)+SUM(Daten!$V10:$AE10)))","v":0},{"$f":"IF((SUM(Daten!$L10:$U10)+SUM(Daten!$AF10:$AO10))=0,0,(Daten!L10+Daten!AF10)/(SUM(Daten!$L10:$U10)+SUM(Daten!$AF10:$AO10)))","v":0.14285714285714285},{"$f":"IF((SUM(Daten!$L10:$U10)+SUM(Daten!$AF10:$AO10))=0,0,(Daten!M10+Daten!AG10)/(SUM(Daten!$L10:$U10)+SUM(Daten!$AF10:$AO10)))","v":0},{"$f":"IF((SUM(Daten!$L10:$U10)+SUM(Daten!$AF10:$AO10))=0,0,(Daten!N10+Daten!AH10)/(SUM(Daten!$L10:$U10)+SUM(Daten!$AF10:$AO10)))","v":0},{"$f":"IF((SUM(Daten!$L10:$U10)+SUM(Daten!$AF10:$AO10))=0,0,(Daten!O10+Daten!AI10)/(SUM(Daten!$L10:$U10)+SUM(Daten!$AF10:$AO10)))","v":0.42857142857142855},{"$f":"IF((SUM(Daten!$L10:$U10)+SUM(Daten!$AF10:$AO10))=0,0,(Daten!P10+Daten!AJ10)/(SUM(Daten!$L10:$U10)+SUM(Daten!$AF10:$AO10)))","v":0},{"$f":"IF((SUM(Daten!$L10:$U10)+SUM(Daten!$AF10:$AO10))=0,0,(Daten!Q10+Daten!AK10)/(SUM(Daten!$L10:$U10)+SUM(Daten!$AF10:$AO10)))","v":0},{"$f":"IF((SUM(Daten!$L10:$U10)+SUM(Daten!$AF10:$AO10))=0,0,(Daten!R10+Daten!AL10)/(SUM(Daten!$L10:$U10)+SUM(Daten!$AF10:$AO10)))","v":0},{"$f":"IF((SUM(Daten!$L10:$U10)+SUM(Daten!$AF10:$AO10))=0,0,(Daten!S10+Daten!AM10)/(SUM(Daten!$L10:$U10)+SUM(Daten!$AF10:$AO10)))","v":0},{"$f":"IF((SUM(Daten!$L10:$U10)+SUM(Daten!$AF10:$AO10))=0,0,(Daten!T10+Daten!AN10)/(SUM(Daten!$L10:$U10)+SUM(Daten!$AF10:$AO10)))","v":0},{"$f":"IF((SUM(Daten!$L10:$U10)+SUM(Daten!$AF10:$AO10))=0,0,(Daten!U10+Daten!AO10)/(SUM(Daten!$L10:$U10)+SUM(Daten!$AF10:$AO10)))","v":0.42857142857142855},"Pos 5",8,{"$f":"AS32/$AS39","v":0.25806451612903225},null,7,{"$f":"AV32/$AV39","v":0.25925925925925924}]
[null,"R in Pos 9",{"$f":"ROUND(AW36,2)*100 &\"% (\"&AV36&\")\"","v":"4% (1)"},null,"R in Pos 8",{"$f":"ROUND(AW36,2)*100 &\"% (\"&AV36&\")\"","v":"4% (1)"},null,"R in Pos 7",{"$f":"ROUND(AW34,2)*100 &\"% (\"&AV34&\")\"","v":"7% (2)"},null,null,"R in Pos 9",{"$f":"ROUND(AW36,2)*100 &\"% (\"&AV36&\")\"","v":"4% (1)"},null,"R in Pos 8",{"$f":"ROUND(AW35,2)*100 &\"% (\"&AV35&\")\"","v":"15% (4)"},null,"R in Pos 7",{"$f":"ROUND(AW34,2)*100 &\"% (\"&AV34&\")\"","v":"7% (2)"},null,null,null,"Pos 6",{"$f":"IF((SUM(Daten!$B11:$K11)+SUM(Daten!$V11:$AE11))=0,0,(Daten!B11+Daten!V11)/(SUM(Daten!$B11:$K11)+SUM(Daten!$V11:$AE11)))","v":7.1428571428571425E-2},{"$f":"IF((SUM(Daten!$B11:$K11)+SUM(Daten!$V11:$AE11))=0,0,(Daten!C11+Daten!W11)/(SUM(Daten!$B11:$K11)+SUM(Daten!$V11:$AE11)))","v":0},{"$f":"IF((SUM(Daten!$B11:$K11)+SUM(Daten!$V11:$AE11))=0,0,(Daten!D11+Daten!X11)/(SUM(Daten!$B11:$K11)+SUM(Daten!$V11:$AE11)))","v":0.14285714285714285},{"$f":"IF((SUM(Daten!$B11:$K11)+SUM(Daten!$V11:$AE11))=0,0,(Daten!E11+Daten!Y11)/(SUM(Daten!$B11:$K11)+SUM(Daten!$V11:$AE11)))","v":0.14285714285714285},{"$f":"IF((SUM(Daten!$B11:$K11)+SUM(Daten!$V11:$AE11))=0,0,(Daten!F11+Daten!Z11)/(SUM(Daten!$B11:$K11)+SUM(Daten!$V11:$AE11)))","v":0},{"$f":"IF((SUM(Daten!$B11:$K11)+SUM(Daten!$V11:$AE11))=0,0,(Daten!G11+Daten!AA11)/(SUM(Daten!$B11:$K11)+SUM(Daten!$V11:$AE11)))","v":0},{"$f":"IF((SUM(Daten!$B11:$K11)+SUM(Daten!$V11:$AE11))=0,0,(Daten!H11+Daten!AB11)/(SUM(Daten!$B11:$K11)+SUM(Daten!$V11:$AE11)))","v":0},{"$f":"IF((SUM(Daten!$B11:$K11)+SUM(Daten!$V11:$AE11))=0,0,(Daten!I11+Daten!AC11)/(SUM(Daten!$B11:$K11)+SUM(Daten!$V11:$AE11)))","v":0.21428571428571427},{"$f":"IF((SUM(Daten!$B11:$K11)+SUM(Daten!$V11:$AE11))=0,0,(Daten!J11+Daten!AD11)/(SUM(Daten!$B11:$K11)+SUM(Daten!$V11:$AE11)))","v":0.42857142857142855},{"$f":"IF((SUM(Daten!$B11:$K11)+SUM(Daten!$V11:$AE11))=0,0,(Daten!K11+Daten!AE11)/(SUM(Daten!$B11:$K11)+SUM(Daten!$V11:$AE11)))","v":0},{"$f":"IF((SUM(Daten!$L11:$U11)+SUM(Daten!$AF11:$AO11))=0,0,(Daten!L11+Daten!AF11)/(SUM(Daten!$L11:$U11)+SUM(Daten!$AF11:$AO11)))","v":9.0909090909090912E-2},{"$f":"IF((SUM(Daten!$L11:$U11)+SUM(Daten!$AF11:$AO11))=0,0,(Daten!M11+Daten!AG11)/(SUM(Daten!$L11:$U11)+SUM(Daten!$AF11:$AO11)))","v":9.0909090909090912E-2},{"$f":"IF((SUM(Daten!$L11:$U11)+SUM(Daten!$AF11:$AO11))=0,0,(Daten!N11+Daten!AH11)/(SUM(Daten!$L11:$U11)+SUM(Daten!$AF11:$AO11)))","v":0},{"$f":"IF((SUM(Daten!$L11:$U11)+SUM(Daten!$AF11:$AO11))=0,0,(Daten!O11+Daten!AI11)/(SUM(Daten!$L11:$U11)+SUM(Daten!$AF11:$AO11)))","v":0.27272727272727271},{"$f":"IF((SUM(Daten!$L11:$U11)+SUM(Daten!$AF11:$AO11))=0,0,(Daten!P11+Daten!AJ11)/(SUM(Daten!$L11:$U11)+SUM(Daten!$AF11:$AO11)))","v":0.18181818181818182},{"$f":"IF((SUM(Daten!$L11:$U11)+SUM(Daten!$AF11:$AO11))=0,0,(Daten!Q11+Daten!AK11)/(SUM(Daten!$L11:$U11)+SUM(Daten!$AF11:$AO11)))","v":0},{"$f":"IF((SUM(Daten!$L11:$U11)+SUM(Daten!$AF11:$AO11))=0,0,(Daten!R11+Daten!AL11)/(SUM(Daten!$L11:$U11)+SUM(Daten!$AF11:$AO11)))","v":0},{"$f":"IF((SUM(Daten!$L11:$U11)+SUM(Daten!$AF11:$AO11))=0,0,(Daten!S11+Daten!AM11)/(SUM(Daten!$L11:$U11)+SUM(Daten!$AF11:$AO11)))","v":0},{"$f":"IF((SUM(Daten!$L11:$U11)+SUM(Daten!$AF11:$AO11))=0,0,(Daten!T11+Daten!AN11)/(SUM(Daten!$L11:$U11)+SUM(Daten!$AF11:$AO11)))","v":0},{"$f":"IF((SUM(Daten!$L11:$U11)+SUM(Daten!$AF11:$AO11))=0,0,(Daten!U11+Daten!AO11)/(SUM(Daten!$L11:$U11)+SUM(Daten!$AF11:$AO11)))","v":0.36363636363636365},"Pos 6",14,{"$f":"AS33/$AS39","v":0.45161290322580644},null,11,{"$f":"AV33/$AV39","v":0.40740740740740738}]
[null,null,null,null,null,null,null,null,null,null,null,null,null,null,null,null,null,null,null,null,null,null,"Pos 7",{"$f":"IF((SUM(Daten!$B12:$K12)+SUM(Daten!$V12:$AE12))=0,0,(Daten!B12+Daten!V12)/(SUM(Daten!$B12:$K12)+SUM(Daten!$V12:$AE12)))","v":0.16666666666666666},{"$f":"IF((SUM(Daten!$B12:$K12)+SUM(Daten!$V12:$AE12))=0,0,(Daten!C12+Daten!W12)/(SUM(Daten!$B12:$K12)+SUM(Daten!$V12:$AE12)))","v":0},{"$f":"IF((SUM(Daten!$B12:$K12)+SUM(Daten!$V12:$AE12))=0,0,(Daten!D12+Daten!X12)/(SUM(Daten!$B12:$K12)+SUM(Daten!$V12:$AE12)))","v":0.16666666666666666},{"$f":"IF((SUM(Daten!$B12:$K12)+SUM(Daten!$V12:$AE12))=0,0,(Daten!E12+Daten!Y12)/(SUM(Daten!$B12:$K12)+SUM(Daten!$V12:$AE12)))","v":0},{"$f":"IF((SUM(Daten!$B12:$K12)+SUM(Daten!$V12:$AE12))=0,0,(Daten!F12+Daten!Z12)/(SUM(Daten!$B12:$K12)+SUM(Daten!$V12:$AE12)))","v":0},{"$f":"IF((SUM(Daten!$B12:$K12)+SUM(Daten!$V12:$AE12))=0,0,(Daten!G12+Daten!AA12)/(SUM(Daten!$B12:$K12)+SUM(Daten!$V12:$AE12)))","v":0},{"$f":"IF((SUM(Daten!$B12:$K12)+SUM(Daten!$V12:$AE12))=0,0,(Daten!H12+Daten!AB12)/(SUM(Daten!$B12:$K12)+SUM(Daten!$V12:$AE12)))","v":0},{"$f":"IF((SUM(Daten!$B12:$K12)+SUM(Daten!$V12:$AE12))=0,0,(Daten!I12+Daten!AC12)/(SUM(Daten!$B12:$K12)+SUM(Daten!$V12:$AE12)))","v":0.33333333333333331},{"$f":"IF((SUM(Daten!$B12:$K12)+SUM(Daten!$V12:$AE12))=0,0,(Daten!J12+Daten!AD12)/(SUM(Daten!$B12:$K12)+SUM(Daten!$V12:$AE12)))","v":0.33333333333333331},{"$f":"IF((SUM(Daten!$B12:$K12)+SUM(Daten!$V12:$AE12))=0,0,(Daten!K12+Daten!AE12)/(SUM(Daten!$B12:$K12)+SUM(Daten!$V12:$AE12)))","v":0},{"$f":"IF((SUM(Daten!$L12:$U12)+SUM(Daten!$AF12:$AO12))=0,0,(Daten!L12+Daten!AF12)/(SUM(Daten!$L12:$U12)+SUM(Daten!$AF12:$AO12)))","v":0.5},{"$f":"IF((SUM(Daten!$L12:$U12)+SUM(Daten!$AF12:$AO12))=0,0,(Daten!M12+Daten!AG12)/(SUM(Daten!$L12:$U12)+SUM(Daten!$AF12:$AO12)))","v":0},{"$f":"IF((SUM(Daten!$L12:$U12)+SUM(Daten!$AF12:$AO12))=0,0,(Daten!N12+Daten!AH12)/(SUM(Daten!$L12:$U12)+SUM(Daten!$AF12:$AO12)))","v":0},{"$f":"IF((SUM(Daten!$L12:$U12)+SUM(Daten!$AF12:$AO12))=0,0,(Daten!O12+Daten!AI12)/(SUM(Daten!$L12:$U12)+SUM(Daten!$AF12:$AO12)))","v":0},{"$f":"IF((SUM(Daten!$L12:$U12)+SUM(Daten!$AF12:$AO12))=0,0,(Daten!P12+Daten!AJ12)/(SUM(Daten!$L12:$U12)+SUM(Daten!$AF12:$AO12)))","v":0},{"$f":"IF((SUM(Daten!$L12:$U12)+SUM(Daten!$AF12:$AO12))=0,0,(Daten!Q12+Daten!AK12)/(SUM(Daten!$L12:$U12)+SUM(Daten!$AF12:$AO12)))","v":0},{"$f":"IF((SUM(Daten!$L12:$U12)+SUM(Daten!$AF12:$AO12))=0,0,(Daten!R12+Daten!AL12)/(SUM(Daten!$L12:$U12)+SUM(Daten!$AF12:$AO12)))","v":0},{"$f":"IF((SUM(Daten!$L12:$U12)+SUM(Daten!$AF12:$AO12))=0,0,(Daten!S12+Daten!AM12)/(SUM(Daten!$L12:$U12)+SUM(Daten!$AF12:$AO12)))","v":0},{"$f":"IF((SUM(Daten!$L12:$U12)+SUM(Daten!$AF12:$AO12))=0,0,(Daten!T12+Daten!AN12)/(SUM(Daten!$L12:$U12)+SUM(Daten!$AF12:$AO12)))","v":0},{"$f":"IF((SUM(Daten!$L12:$U12)+SUM(Daten!$AF12:$AO12))=0,0,(Daten!U12+Daten!AO12)/(SUM(Daten!$L12:$U12)+SUM(Daten!$AF12:$AO12)))","v":0.5},"Pos 7",6,{"$f":"AS34/$AS39","v":0.19354838709677419},null,2,{"$f":"AV34/$AV39","v":7.407407407407407E-2}]
[null,null,null,null,null,null,null,null,null,null,null,null,null,null,null,null,null,null,null,null,null,null,"Pos 8",{"$f":"IF((SUM(Daten!$B13:$K13)+SUM(Daten!$V13:$AE13))=0,0,(Daten!B13+Daten!V13)/(SUM(Daten!$B13:$K13)+SUM(Daten!$V13:$AE13)))","v":1},{"$f":"IF((SUM(Daten!$B13:$K13)+SUM(Daten!$V13:$AE13))=0,0,(Daten!C13+Daten!W13)/(SUM(Daten!$B13:$K13)+SUM(Daten!$V13:$AE13)))","v":0},{"$f":"IF((SUM(Daten!$B13:$K13)+SUM(Daten!$V13:$AE13))=0,0,(Daten!D13+Daten!X13)/(SUM(Daten!$B13:$K13)+SUM(Daten!$V13:$AE13)))","v":0},{"$f":"IF((SUM(Daten!$B13:$K13)+SUM(Daten!$V13:$AE13))=0,0,(Daten!E13+Daten!Y13)/(SUM(Daten!$B13:$K13)+SUM(Daten!$V13:$AE13)))","v":0},{"$f":"IF((SUM(Daten!$B13:$K13)+SUM(Daten!$V13:$AE13))=0,0,(Daten!F13+Daten!Z13)/(SUM(Daten!$B13:$K13)+SUM(Daten!$V13:$AE13)))","v":0},{"$f":"IF((SUM(Daten!$B13:$K13)+SUM(Daten!$V13:$AE13))=0,0,(Daten!G13+Daten!AA13)/(SUM(Daten!$B13:$K13)+SUM(Daten!$V13:$AE13)))","v":0},{"$f":"IF((SUM(Daten!$B13:$K13)+SUM(Daten!$V13:$AE13))=0,0,(Daten!H13+Daten!AB13)/(SUM(Daten!$B13:$K13)+SUM(Daten!$V13:$AE13)))","v":0},{"$f":"IF((SUM(Daten!$B13:$K13)+SUM(Daten!$V13:$AE13))=0,0,(Daten!I13+Daten!AC13)/(SUM(Daten!$B13:$K13)+SUM(Daten!$V13:$AE13)))","v":0},{"$f":"IF((SUM(Daten!$B13:$K13)+SUM(Daten!$V13:$AE13))=0,0,(Daten!J13+Daten!AD13)/(SUM(Daten!$B13:$K13)+SUM(Daten!$V13:$AE13)))","v":0},{"$f":"IF((SUM(Daten!$B13:$K13)+SUM(Daten!$V13:$AE13))=0,0,(Daten!K13+Daten!AE13)/(SUM(Daten!$B13:$K13)+SUM(Daten!$V13:$AE13)))","v":0},{"$f":"IF((SUM(Daten!$L13:$U13)+SUM(Daten!$AF13:$AO13))=0,0,(Daten!L13+Daten!AF13)/(SUM(Daten!$L13:$U13)+SUM(Daten!$AF13:$AO13)))","v":0.25},{"$f":"IF((SUM(Daten!$L13:$U13)+SUM(Daten!$AF13:$AO13))=0,0,(Daten!M13+Daten!AG13)/(SUM(Daten!$L13:$U13)+SUM(Daten!$AF13:$AO13)))","v":0},{"$f":"IF((SUM(Daten!$L13:$U13)+SUM(Daten!$AF13:$AO13))=0,0,(Daten!N13+Daten!AH13)/(SUM(Daten!$L13:$U13)+SUM(Daten!$AF13:$AO13)))","v":0},{"$f":"IF((SUM(Daten!$L13:$U13)+SUM(Daten!$AF13:$AO13))=0,0,(Daten!O13+Daten!AI13)/(SUM(Daten!$L13:$U13)+SUM(Daten!$AF13:$AO13)))","v":0},{"$f":"IF((SUM(Daten!$L13:$U13)+SUM(Daten!$AF13:$AO13))=0,0,(Daten!P13+Daten!AJ13)/(SUM(Daten!$L13:$U13)+SUM(Daten!$AF13:$AO13)))","v":0},{"$f":"IF((SUM(Daten!$L13:$U13)+SUM(Daten!$AF13:$AO13))=0,0,(Daten!Q13+Daten!AK13)/(SUM(Daten!$L13:$U13)+SUM(Daten!$AF13:$AO13)))","v":0},{"$f":"IF((SUM(Daten!$L13:$U13)+SUM(Daten!$AF13:$AO13))=0,0,(Daten!R13+Daten!AL13)/(SUM(Daten!$L13:$U13)+SUM(Daten!$AF13:$AO13)))","v":0},{"$f":"IF((SUM(Daten!$L13:$U13)+SUM(Daten!$AF13:$AO13))=0,0,(Daten!S13+Daten!AM13)/(SUM(Daten!$L13:$U13)+SUM(Daten!$AF13:$AO13)))","v":0},{"$f":"IF((SUM(Daten!$L13:$U13)+SUM(Daten!$AF13:$AO13))=0,0,(Daten!T13+Daten!AN13)/(SUM(Daten!$L13:$U13)+SUM(Daten!$AF13:$AO13)))","v":0.5},{"$f":"IF((SUM(Daten!$L13:$U13)+SUM(Daten!$AF13:$AO13))=0,0,(Daten!U13+Daten!AO13)/(SUM(Daten!$L13:$U13)+SUM(Daten!$AF13:$AO13)))","v":0.25},"Pos 8",1,{"$f":"AS35/$AS39","v":3.2258064516129031E-2},null,4,{"$f":"AV35/$AV39","v":0.14814814814814814}]
[null,null,null,null,null,null,null,null,null,null,null,null,null,null,null,null,null,null,null,null,null,null,"Pos 9",{"$f":"IF((SUM(Daten!$B14:$K14)+SUM(Daten!$V14:$AE14))=0,0,(Daten!B14+Daten!V14)/(SUM(Daten!$B14:$K14)+SUM(Daten!$V14:$AE14)))","v":0},{"$f":"IF((SUM(Daten!$B14:$K14)+SUM(Daten!$V14:$AE14))=0,0,(Daten!C14+Daten!W14)/(SUM(Daten!$B14:$K14)+SUM(Daten!$V14:$AE14)))","v":0},{"$f":"IF((SUM(Daten!$B14:$K14)+SUM(Daten!$V14:$AE14))=0,0,(Daten!D14+Daten!X14)/(SUM(Daten!$B14:$K14)+SUM(Daten!$V14:$AE14)))","v":0},{"$f":"IF((SUM(Daten!$B14:$K14)+SUM(Daten!$V14:$AE14))=0,0,(Daten!E14+Daten!Y14)/(SUM(Daten!$B14:$K14)+SUM(Daten!$V14:$AE14)))","v":1},{"$f":"IF((SUM(Daten!$B14:$K14)+SUM(Daten!$V14:$AE14))=0,0,(Daten!F14+Daten!Z14)/(SUM(Daten!$B14:$K14)+SUM(Daten!$V14:$AE14)))","v":0},{"$f":"IF((SUM(Daten!$B14:$K14)+SUM(Daten!$V14:$AE14))=0,0,(Daten!G14+Daten!AA14)/(SUM(Daten!$B14:$K14)+SUM(Daten!$V14:$AE14)))","v":0},{"$f":"IF((SUM(Daten!$B14:$K14)+SUM(Daten!$V14:$AE14))=0,0,(Daten!H14+Daten!AB14)/(SUM(Daten!$B14:$K14)+SUM(Daten!$V14:$AE14)))","v":0},{"$f":"IF((SUM(Daten!$B14:$K14)+SUM(Daten!$V14:$AE14))=0,0,(Daten!I14+Daten!AC14)/(SUM(Daten!$B14:$K14)+SUM(Daten!$V14:$AE14)))","v":0},{"$f":"IF((SUM(Daten!$B14:$K14)+SUM(Daten!$V14:$AE14))=0,0,(Daten!J14+Daten!AD14)/(SUM(Daten!$B14:$K14)+SUM(Daten!$V14:$AE14)))","v":0},{"$f":"IF((SUM(Daten!$B14:$K14)+SUM(Daten!$V14:$AE14))=0,0,(Daten!K14+Daten!AE14)/(SUM(Daten!$B14:$K14)+SUM(Daten!$V14:$AE14)))","v":0},{"$f":"IF((SUM(Daten!$L14:$U14)+SUM(Daten!$AF14:$AO14))=0,0,(Daten!L14+Daten!AF14)/(SUM(Daten!$L14:$U14)+SUM(Daten!$AF14:$AO14)))","v":0},{"$f":"IF((SUM(Daten!$L14:$U14)+SUM(Daten!$AF14:$AO14))=0,0,(Daten!M14+Daten!AG14)/(SUM(Daten!$L14:$U14)+SUM(Daten!$AF14:$AO14)))","v":0},{"$f":"IF((SUM(Daten!$L14:$U14)+SUM(Daten!$AF14:$AO14))=0,0,(Daten!N14+Daten!AH14)/(SUM(Daten!$L14:$U14)+SUM(Daten!$AF14:$AO14)))","v":0},{"$f":"IF((SUM(Daten!$L14:$U14)+SUM(Daten!$AF14:$AO14))=0,0,(Daten!O14+Daten!AI14)/(SUM(Daten!$L14:$U14)+SUM(Daten!$AF14:$AO14)))","v":0},{"$f":"IF((SUM(Daten!$L14:$U14)+SUM(Daten!$AF14:$AO14))=0,0,(Daten!P14+Daten!AJ14)/(SUM(Daten!$L14:$U14)+SUM(Daten!$AF14:$AO14)))","v":0},{"$f":"IF((SUM(Daten!$L14:$U14)+SUM(Daten!$AF14:$AO14))=0,0,(Daten!Q14+Daten!AK14)/(SUM(Daten!$L14:$U14)+SUM(Daten!$AF14:$AO14)))","v":0},{"$f":"IF((SUM(Daten!$L14:$U14)+SUM(Daten!$AF14:$AO14))=0,0,(Daten!R14+Daten!AL14)/(SUM(Daten!$L14:$U14)+SUM(Daten!$AF14:$AO14)))","v":0},{"$f":"IF((SUM(Daten!$L14:$U14)+SUM(Daten!$AF14:$AO14))=0,0,(Daten!S14+Daten!AM14)/(SUM(Daten!$L14:$U14)+SUM(Daten!$AF14:$AO14)))","v":0},{"$f":"IF((SUM(Daten!$L14:$U14)+SUM(Daten!$AF14:$AO14))=0,0,(Daten!T14+Daten!AN14)/(SUM(Daten!$L14:$U14)+SUM(Daten!$AF14:$AO14)))","v":0},{"$f":"IF((SUM(Daten!$L14:$U14)+SUM(Daten!$AF14:$AO14))=0,0,(Daten!U14+Daten!AO14)/(SUM(Daten!$L14:$U14)+SUM(Daten!$AF14:$AO14)))","v":1},"Pos 9",1,{"$f":"AS36/$AS39","v":3.2258064516129031E-2},null,1,{"$f":"AV36/$AV39","v":3.7037037037037035E-2}]
[null,null,null,null,null,null,null,null,null,null,null,null,null,null,null,null,null,null,null,null,null,null,"ohne",{"$f":"IF((SUM(Daten!$B15:$K15)+SUM(Daten!$V15:$AE15))=0,0,(Daten!B15+Daten!V15)/(SUM(Daten!$B15:$K15)+SUM(Daten!$V15:$AE15)))","v":0},{"$f":"IF((SUM(Daten!$B15:$K15)+SUM(Daten!$V15:$AE15))=0,0,(Daten!C15+Daten!W15)/(SUM(Daten!$B15:$K15)+SUM(Daten!$V15:$AE15)))","v":0},{"$f":"IF((SUM(Daten!$B15:$K15)+SUM(Daten!$V15:$AE15))=0,0,(Daten!D15+Daten!X15)/(SUM(Daten!$B15:$K15)+SUM(Daten!$V15:$AE15)))","v":0},{"$f":"IF((SUM(Daten!$B15:$K15)+SUM(Daten!$V15:$AE15))=0,0,(Daten!E15+Daten!Y15)/(SUM(Daten!$B15:$K15)+SUM(Daten!$V15:$AE15)))","v":0},{"$f":"IF((SUM(Daten!$B15:$K15)+SUM(Daten!$V15:$AE15))=0,0,(Daten!F15+Daten!Z15)/(SUM(Daten!$B15:$K15)+SUM(Daten!$V15:$AE15)))","v":1},{"$f":"IF((SUM(Daten!$B15:$K15)+SUM(Daten!$V15:$AE15))=0,0,(Daten!G15+Daten!AA15)/(SUM(Daten!$B15:$K15)+SUM(Daten!$V15:$AE15)))","v":0},{"$f":"IF((SUM(Daten!$B15:$K15)+SUM(Daten!$V15:$AE15))=0,0,(Daten!H15+Daten!AB15)/(SUM(Daten!$B15:$K15)+SUM(Daten!$V15:$AE15)))","v":0},{"$f":"IF((SUM(Daten!$B15:$K15)+SUM(Daten!$V15:$AE15))=0,0,(Daten!I15+Daten!AC15)/(SUM(Daten!$B15:$K15)+SUM(Daten!$V15:$AE15)))","v":0},{"$f":"IF((SUM(Daten!$B15:$K15)+SUM(Daten!$V15:$AE15))=0,0,(Daten!J15+Daten!AD15)/(SUM(Daten!$B15:$K15)+SUM(Daten!$V15:$AE15)))","v":0},{"$f":"IF((SUM(Daten!$B15:$K15)+SUM(Daten!$V15:$AE15))=0,0,(Daten!K15+Daten!AE15)/(SUM(Daten!$B15:$K15)+SUM(Daten!$V15:$AE15)))","v":0},{"$f":"IF((SUM(Daten!$L15:$U15)+SUM(Daten!$AF15:$AO15))=0,0,(Daten!L15+Daten!AF15)/(SUM(Daten!$L15:$U15)+SUM(Daten!$AF15:$AO15)))","v":0},{"$f":"IF((SUM(Daten!$L15:$U15)+SUM(Daten!$AF15:$AO15))=0,0,(Daten!M15+Daten!AG15)/(SUM(Daten!$L15:$U15)+SUM(Daten!$AF15:$AO15)))","v":0},{"$f":"IF((SUM(Daten!$L15:$U15)+SUM(Daten!$AF15:$AO15))=0,0,(Daten!N15+Daten!AH15)/(SUM(Daten!$L15:$U15)+SUM(Daten!$AF15:$AO15)))","v":0},{"$f":"IF((SUM(Daten!$L15:$U15)+SUM(Daten!$AF15:$AO15))=0,0,(Daten!O15+Daten!AI15)/(SUM(Daten!$L15:$U15)+SUM(Daten!$AF15:$AO15)))","v":0},{"$f":"IF((SUM(Daten!$L15:$U15)+SUM(Daten!$AF15:$AO15))=0,0,(Daten!P15+Daten!AJ15)/(SUM(Daten!$L15:$U15)+SUM(Daten!$AF15:$AO15)))","v":0},{"$f":"IF((SUM(Daten!$L15:$U15)+SUM(Daten!$AF15:$AO15))=0,0,(Daten!Q15+Daten!AK15)/(SUM(Daten!$L15:$U15)+SUM(Daten!$AF15:$AO15)))","v":0},{"$f":"IF((SUM(Daten!$L15:$U15)+SUM(Daten!$AF15:$AO15))=0,0,(Daten!R15+Daten!AL15)/(SUM(Daten!$L15:$U15)+SUM(Daten!$AF15:$AO15)))","v":0},{"$f":"IF((SUM(Daten!$L15:$U15)+SUM(Daten!$AF15:$AO15))=0,0,(Daten!S15+Daten!AM15)/(SUM(Daten!$L15:$U15)+SUM(Daten!$AF15:$AO15)))","v":0},{"$f":"IF((SUM(Daten!$L15:$U15)+SUM(Daten!$AF15:$AO15))=0,0,(Daten!T15+Daten!AN15)/(SUM(Daten!$L15:$U15)+SUM(Daten!$AF15:$AO15)))","v":0},{"$f":"IF((SUM(Daten!$L15:$U15)+SUM(Daten!$AF15:$AO15))=0,0,(Daten!U15+Daten!AO15)/(SUM(Daten!$L15:$U15)+SUM(Daten!$AF15:$AO15)))","v":0},"ohne",-2,{"$f":"AS37/$AS39","v":-6.4516129032258063E-2},null,0,{"$f":"AV37/$AV39","v":0}]
[null,"R in Pos 2",{"$f":"ROUND(AW29,2)*100 &\"% (\"&AV29&\")\"","v":"0% (0)"},null,"R in Pos 3",{"$f":"ROUND(AW30,2)*100 &\"% (\"&AV30&\")\"","v":"4% (1)"},null,"R in Pos 4",{"$f":"ROUND(AW31,2)*100 &\"% (\"&AV31&\")\"","v":"0% (0)"},null,null,"R in Pos 2",{"$f":"ROUND(AW29,2)*100 &\"% (\"&AV29&\")\"","v":"0% (0)"},null,"R in Pos 3",{"$f":"ROUND(AW30,2)*100 &\"% (\"&AV30&\")\"","v":"4% (1)"},null,"R in Pos 4",{"$f":"ROUND(AW31,2)*100 &\"% (\"&AV31&\")\"","v":"0% (0)"},null,null,null,"mit",{"$f":"IF((SUM(Daten!$B16:$K16)+SUM(Daten!$V16:$AE16))=0,0,(Daten!B16+Daten!V16)/(SUM(Daten!$B16:$K16)+SUM(Daten!$V16:$AE16)))","v":0.12121212121212122},{"$f":"IF((SUM(Daten!$B16:$K16)+SUM(Daten!$V16:$AE16))=0,0,(Daten!C16+Daten!W16)/(SUM(Daten!$B16:$K16)+SUM(Daten!$V16:$AE16)))","v":0},{"$f":"IF((SUM(Daten!$B16:$K16)+SUM(Daten!$V16:$AE16))=0,0,(Daten!D16+Daten!X16)/(SUM(Daten!$B16:$K16)+SUM(Daten!$V16:$AE16)))","v":0.15151515151515152},{"$f":"IF((SUM(Daten!$B16:$K16)+SUM(Daten!$V16:$AE16))=0,0,(Daten!E16+Daten!Y16)/(SUM(Daten!$B16:$K16)+SUM(Daten!$V16:$AE16)))","v":0.12121212121212122},{"$f":"IF((SUM(Daten!$B16:$K16)+SUM(Daten!$V16:$AE16))=0,0,(Daten!F16+Daten!Z16)/(SUM(Daten!$B16:$K16)+SUM(Daten!$V16:$AE16)))","v":0},{"$f":"IF((SUM(Daten!$B16:$K16)+SUM(Daten!$V16:$AE16))=0,0,(Daten!G16+Daten!AA16)/(SUM(Daten!$B16:$K16)+SUM(Daten!$V16:$AE16)))","v":0},{"$f":"IF((SUM(Daten!$B16:$K16)+SUM(Daten!$V16:$AE16))=0,0,(Daten!H16+Daten!AB16)/(SUM(Daten!$B16:$K16)+SUM(Daten!$V16:$AE16)))","v":0},{"$f":"IF((SUM(Daten!$B16:$K16)+SUM(Daten!$V16:$AE16))=0,0,(Daten!I16+Daten!AC16)/(SUM(Daten!$B16:$K16)+SUM(Daten!$V16:$AE16)))","v":0.30303030303030304},{"$f":"IF((SUM(Daten!$B16:$K16)+SUM(Daten!$V16:$AE16))=0,0,(Daten!J16+Daten!AD16)/(SUM(Daten!$B16:$K16)+SUM(Daten!$V16:$AE16)))","v":0.30303030303030304},{"$f":"IF((SUM(Daten!$B16:$K16)+SUM(Daten!$V16:$AE16))=0,0,(Daten!K16+Daten!AE16)/(SUM(Daten!$B16:$K16)+SUM(Daten!$V16:$AE16)))","v":0},{"$f":"IF((SUM(Daten!$L16:$U16)+SUM(Daten!$AF16:$AO16))=0,0,(Daten!L16+Daten!AF16)/(SUM(Daten!$L16:$U16)+SUM(Daten!$AF16:$AO16)))","v":0.14814814814814814},{"$f":"IF((SUM(Daten!$L16:$U16)+SUM(Daten!$AF16:$AO16))=0,0,(Daten!M16+Daten!AG16)/(SUM(Daten!$L16:$U16)+SUM(Daten!$AF16:$AO16)))","v":3.7037037037037035E-2},{"$f":"IF((SUM(Daten!$L16:$U16)+SUM(Daten!$AF16:$AO16))=0,0,(Daten!N16+Daten!AH16)/(SUM(Daten!$L16:$U16)+SUM(Daten!$AF16:$AO16)))","v":0},{"$f":"IF((SUM(Daten!$L16:$U16)+SUM(Daten!$AF16:$AO16))=0,0,(Daten!O16+Daten!AI16)/(SUM(Daten!$L16:$U16)+SUM(Daten!$AF16:$AO16)))","v":0.25925925925925924},{"$f":"IF((SUM(Daten!$L16:$U16)+SUM(Daten!$AF16:$AO16))=0,0,(Daten!P16+Daten!AJ16)/(SUM(Daten!$L16:$U16)+SUM(Daten!$AF16:$AO16)))","v":7.407407407407407E-2},{"$f":"IF((SUM(Daten!$L16:$U16)+SUM(Daten!$AF16:$AO16))=0,0,(Daten!Q16+Daten!AK16)/(SUM(Daten!$L16:$U16)+SUM(Daten!$AF16:$AO16)))","v":0},{"$f":"IF((SUM(Daten!$L16:$U16)+SUM(Daten!$AF16:$AO16))=0,0,(Daten!R16+Daten!AL16)/(SUM(Daten!$L16:$U16)+SUM(Daten!$AF16:$AO16)))","v":0},{"$f":"IF((SUM(Daten!$L16:$U16)+SUM(Daten!$AF16:$AO16))=0,0,(Daten!S16+Daten!AM16)/(SUM(Daten!$L16:$U16)+SUM(Daten!$AF16:$AO16)))","v":0},{"$f":"IF((SUM(Daten!$L16:$U16)+SUM(Daten!$AF16:$AO16))=0,0,(Daten!T16+Daten!AN16)/(SUM(Daten!$L16:$U16)+SUM(Daten!$AF16:$AO16)))","v":7.407407407407407E-2},{"$f":"IF((SUM(Daten!$L16:$U16)+SUM(Daten!$AF16:$AO16))=0,0,(Daten!U16+Daten!AO16)/(SUM(Daten!$L16:$U16)+SUM(Daten!$AF16:$AO16)))","v":0.40740740740740738},"mit",33,{"$f":"AS38/$AS39","v":1.064516129032258},null,27,{"$f":"AV38/$AV39","v":1}]
[null,null,null,null,null,null,null,null,null,null,null,null,null,null,null,null,null,null,null,null,null,null,null,null,null,null,null,null,null,null,null,null,null,null,null,null,null,null,null,null,null,null,null,null,{"$f":"SUM(AS28:AS37)","v":31},null,null,{"$f":"SUM(AV28:AV37)","v":27}]
[]
[]
[]
[]
[null,"alle Pos",{"$f":"ROUND(AW38,2)*100 &\"% (\"&AV38&\")\"","v":"100% (27)"},null,null,null,null,"ohne R Pos",{"$f":"ROUND(AW37,2)*100 &\"% (\"&AV37&\")\"","v":"0% (0)"},null,null,"alle Pos",{"$f":"ROUND(AW38,2)*100 &\"% (\"&AV38&\")\"","v":"100% (27)"},null,null,null,null,"ohne R Pos",{"$f":"ROUND(AW37,2)*100 &\"% (\"&AV37&\")\"","v":"0% (0)"}]

{"sheet":"Match R1","index":17,"n_rows":45,"n_cols":57,"rows_kept":45,"cut":false,"hidden":false,"merged":[[44,35,44,36],[39,25,39,26],[11,36,11,37],[11,38,11,39],[32,56,56,56],[1,56,30,56],[1,49,1,53],[44,24,44,25],[44,26,44,27],[44,28,44,29],[44,30,44,31],[11,40,11,42],[11,45,11,46],[11,51,11,53],[11,47,11,48],[11,49,11,50],[1,12,1,15],[1,16,1,20],[1,23,1,26],[1,34,1,37],[1,45,1,48],[1,27,1,31],[1,38,1,42],[43,12,43,13],[43,14,43,15],[43,16,43,17],[43,19,43,20],[34,43,34,44],[39,30,39,31],[11,23,11,24],[11,25,11,26],[11,27,11,28],[11,29,11,31],[11,34,11,35],[32,12,33,20],[36,43,36,44],[37,43,37,44],[39,43,39,44],[35,43,35,44],[32,38,33,53],[51,43,51,44],[52,43,52,44],[53,43,53,44],[54,43,54,44],[55,43,55,44],[11,12,11,13],[11,14,11,15],[11,16,11,17],[11,18,11,20],[50,43,50,44],[38,43,38,44],[40,43,40,44],[41,43,41,44],[42,43,42,44],[43,43,43,44],[44,43,44,44],[45,43,45,44],[46,43,46,44],[47,43,47,44],[48,43,48,44],[49,43,49,44]]}
[]
[null,null,null,null,null,null,null,null,null,null,null,null,{"$f":"\"Base \"&Options!S7","v":"Base K1"},null,null,null,{"$f":"'R 1'!$BL$10&\"% (\"&'R 1'!$BL$9&\")\"","v":"67% (6)"},null,null,null,null,null,null,{"$f":"\"Base \"&Options!S8","v":"Base K2"},null,null,null,{"$f":"'R 1'!$BL$16&\"% (\"&'R 1'!$BL$15&\")\"","v":"11% (1)"},null,null,null,null,null,null,{"$f":"\"Base \"&Options!S9","v":"Base K7"},null,null,null,{"$f":"'R 1'!$BL$22&\"% (\"&'R 1'!$BL$21&\")\"","v":"22% (2)"},null,null,null,null,null,null,{"$f":"\"Base \"&Options!S10","v":"Base KD"},null,null,null,{"$f":"'R 1'!$BL$28&\"% (\"&'R 1'!$BL$27&\")\"","v":"0% (0)"},null,null,null,null,null,null,{"$f":"Options!B1","v":"KOREA"}]
[]
[]
[]
[]
[]
[]
[]
[]
[]
[null,null,null,null,null,null,null,null,null,null,null,null,{"$f":"'R 1'!$BP$10&\"%\"","v":"17%"},null,{"$f":"'R 1'!$BN$10&\"%\"","v":"0%"},null,{"$f":"'R 1'!$BO$10&\"%\"","v":"17%"},null,{"$f":"'R 1'!$BM$10&\"%\"","v":"67%"},null,null,null,null,{"$f":"'R 1'!$BP$16&\"%\"","v":"0%"},null,{"$f":"'R 1'!$BN$16&\"%\"","v":"100%"},null,{"$f":"'R 1'!$BO$16&\"%\"","v":"0%"},null,{"$f":"'R 1'!$BM$16&\"%\"","v":"0%"},null,null,null,null,{"$f":"'R 1'!$BP$22&\"%\"","v":"0%"},null,{"$f":"'R 1'!$BO$22&\"%\"","v":"50%"},null,{"$f":"'R 1'!$BN$22&\"%\"","v":"50%"},null,{"$f":"'R 1'!$BM$22&\"%\"","v":"0%"},null,null,null,null,{"$f":"'R 1'!$BN$28&\"%\"","v":"0%"},null,{"$f":"'R 1'!$BO$28&\"%\"","v":"0%"},null,null,null,{"$f":"'R 1'!$BM$28&\"%\"","v":"0%"}]
[null,null,null,null,null,null,null,null,null,null,null,null,"X6","X4",null,"X1","XC",null,null,"X9","X5",null,null,"X6","X4","X2",null,"XP",null,null,"X9","X5",null,null,"W9","X4",null,"XP","X7",null,null,"X9","X5",null,null,"CD","CF","XB","XP","X3",null,null,"X9","X5"]
[]
[]
[]
[]
[]
[]
[]
[]
[]
[]
[]
[]
[]
[]
[]
[]
[]
[]
[]
[null,null,null,null,null,null,null,null,null,null,null,null,"K1 after R !-/",null,null,null,null,null,null,null,null,null,null,null,null,null,null,null,null,null,null,null,null,null,null,null,null,null,"Transition",null,null,null,null,null,null,null,null,null,null,null,null,null,null,null,null,null,"Rotation 1"]
[]
[null,null,null,null,null,null,null,null,null,null,null,null,null,null,null,null,null,null,null,null,null,null,null,null,null,null,null,null,null,null,null,null,null,null,null,null,null,null,"X8","V6","X6","C6","CD","CF",null,"X2","XP","X1","X7","X3","PP","X9","X5","V5"]
[]
[]
[]
[]
[]
[]
[]
[]
[null,null,null,null,null,null,null,null,null,null,null,null,0.15,null,0.1,null,0.05,null,null,0.7]
[null,null,null,null,null,null,null,null,null,null,null,null,"V6","X6",null,"X1","XP",null,null,"X5","V5"]

{"sheet":"Figuren","index":18,"n_rows":46,"n_cols":13,"rows_kept":46,"cut":false,"hidden":false,"merged":[[2,1,2,4],[2,6,2,9]]}
[null,null,null,null,null,null,null,null,null,null,null,null,"Zelle Start"]
[null,null,null,null,null,null,null,null,null,null,null,null,"Zelle Ende"]
[null,"Quelle",null,null,null,null,"Ziel"]
[null,"Blatt","Figur","Zelle Start","Zelle Ende",null,"Blatt","Figur","Zelle Start","Zelle Ende"]
["Matchplan","Eingabe","R1-P1","B4","H10",null,"Matchplan","R1-P1","I5","R14"]
[null,"Eingabe","R1-P2","B4","H10",null,"Matchplan","R1-P2","I5","R14"]
[null,"Eingabe","R1-P3","B4","H10",null,"Matchplan","R1-P3","I5","R14"]
[null,"Eingabe","R1-P4","B4","H10",null,"Matchplan","R1-P4","I5","R14"]
[null,"Eingabe","R1-P5","B4","H10",null,"Matchplan","R1-P5","I5","R14"]
[null,"Eingabe","R1-L","B4","H10",null,"Matchplan","R1-L","I5","R14"]
[null,"Eingabe","R6-P1","J4","P10",null,"Matchplan","R6-P1","T5","AC14"]
[null,"Eingabe","R6-P2","J4","P10",null,"Matchplan","R6-P2","T5","AC14"]
[null,"Eingabe","R6-P3","J4","P10",null,"Matchplan","R6-P3","T5","AC14"]
[null,"Eingabe","R6-P4","J4","P10",null,"Matchplan","R6-P4","T5","AC14"]
[null,"Eingabe","R6-P6","J4","P10",null,"Matchplan","R6-P6","T5","AC14"]
[null,"Eingabe","R6-L","J4","P10",null,"Matchplan","R6-L","T5","AC14"]
[null,"Eingabe","R5-P2","R4","X10",null,"Matchplan","R5-P2","AE5","AN14"]
[null,"Eingabe","R5-P3","R4","X10",null,"Matchplan","R5-P3","AE5","AN14"]
[null,"Eingabe","R5-P4","R4","X10",null,"Matchplan","R5-P4","AE5","AN14"]
[null,"Eingabe","R5-P5","R4","X10",null,"Matchplan","R5-P5","AE5","AN14"]
[null,"Eingabe","R5-P6","R4","X10",null,"Matchplan","R5-P6","AE5","AN14"]
[null,"Eingabe","R5-L","R4","X10",null,"Matchplan","R5-L","AE5","AN14"]
[null,"Eingabe","R4-P1","R15","X21",null,"Matchplan","R4-P1","AE27","AN36"]
[null,"Eingabe","R4-P2","R15","X21",null,"Matchplan","R4-P2","AE27","AN36"]
[null,"Eingabe","R4-P3","R15","X21",null,"Matchplan","R4-P3","AE27","AN36"]
[null,"Eingabe","R4-P4","R15","X21",null,"Matchplan","R4-P4","AE27","AN36"]
[null,"Eingabe","R4-P5","R15","X21",null,"Matchplan","R4-P5","AE27","AN36"]
[null,"Eingabe","R4-L","R15","X21",null,"Matchplan","R4-L","AE27","AN36"]
[null,"Eingabe","R3-P1","J15","P21",null,"Matchplan","R3-P1","T27","AC36"]
[null,"Eingabe","R3-P2","J15","P21",null,"Matchplan","R3-P2","T27","AC36"]
[null,"Eingabe","R3-P3","J15","P21",null,"Matchplan","R3-P3","T27","AC36"]
[null,"Eingabe","R3-P4","J15","P21",null,"Matchplan","R3-P4","T27","AC36"]
[null,"Eingabe","R3-P6","J15","P21",null,"Matchplan","R3-P6","T27","AC36"]
[null,"Eingabe","R3-L","J15","P21",null,"Matchplan","R3-L","T27","AC36"]
[null,"Eingabe","R2-P2","B15","H21",null,"Matchplan","R2-P2","I27","R36"]
[null,"Eingabe","R2-P3","B15","H21",null,"Matchplan","R2-P3","I27","R36"]
[null,"Eingabe","R2-P4","B15","H21",null,"Matchplan","R2-P4","I27","R36"]
[null,"Eingabe","R2-P5","B15","H21",null,"Matchplan","R2-P5","I27","R36"]
[null,"Eingabe","R2-P6","B15","H21",null,"Matchplan","R2-P6","I27","R36"]
[null,"Eingabe","R2-L","B15","H21",null,"Matchplan","R2-L","I27","R36"]
["Match R1","Eingabe","R1-P1","B4","H10",null,"Match R1","R1-P1","B3","K30"]
[null,"Eingabe","R1-P2","B4","H10",null,"Match R1","R1-P2","B3","K30"]
[null,"Eingabe","R1-P3","B4","H10",null,"Match R1","R1-P3","B3","K30"]
[null,"Eingabe","R1-P4","B4","H10",null,"Match R1","R1-P4","B3","K30"]
[null,"Eingabe","R1-P5","B4","H10",null,"Match R1","R1-P5","B3","K30"]
[null,"Eingabe","R1-L","B4","H10",null,"Match R1","R1-L","B3","K30"]

{"sheet":"Berechnung","index":19,"n_rows":69,"n_cols":217,"rows_kept":69,"cut":false,"hidden":false,"merged":[[1,79,1,85],[1,194,1,202],[1,207,1,215],[1,127,1,137],[1,142,1,150],[1,155,1,163],[1,168,1,176],[1,181,1,189],[1,86,1,92],[1,114,1,117],[1,118,1,121],[1,93,1,99],[1,100,1,106],[1,107,1,113],[3,1,3,5],[1,14,1,18],[1,19,1,26],[1,27,1,37],[1,38,1,47],[1,48,1,53],[1,54,1,59],[1,60,1,64],[1,65,1,67],[1,72,1,78]]}
[]
[null,null,null,null,null,null,null,null,null,null,null,null,null,null,"Points",null,null,null,null,"Serve",null,null,null,null,null,null,null,"Reception",null,null,null,null,null,null,null,null,null,null,"Attack",null,null,null,null,null,null,null,null,null,"Block",null,null,null,null,null,"Defense",null,null,null,null,null,"Freeball",null,null,null,null,"Set",null,null,null,null,null,null,{"$f":"'Daten A1'!B4","v":"K1 & K2 Attacks"},null,null,null,null,null,null,{"$f":"'Daten A1'!I4","v":"K1 All Attacks"},null,null,null,null,null,null,{"$f":"'Daten A1'!P4","v":"K1 after R#+"},null,null,null,null,null,null,{"$f":"'Daten A1'!W4","v":"K1 after R-!"},null,null,null,null,null,null,{"$f":"'Daten A1'!AD4","v":"K2 Attacks"},null,null,null,null,null,null,{"$f":"'Daten A1'!AK4","v":"K2 after F"},null,null,null,null,null,null,{"$f":"'Daten A1'!AR4","v":"after R another"},null,null,null,{"$f":"'Daten A1'!AU4","v":"after R own"},null,null,null,null,null,null,null,null,"Reception all Positions",null,null,null,null,null,null,null,null,null,null,null,null,null,null,"Reception S1",null,null,null,null,null,null,null,null,null,null,null,null,"Reception S6",null,null,null,null,null,null,null,null,null,null,null,null,"Reception S5",null,null,null,null,null,null,null,null,null,null,null,null,"Reception S4",null,null,null,null,null,null,null,null,null,null,null,null,"Reception S3",null,null,null,null,null,null,null,null,null,null,null,null,"Reception S2"]
[null,null,null,null,null,null,null,null,null,null,null,null,null,{"$f":"'Daten MR'!C5","v":"Set"},{"$f":"'Daten MR'!D5","v":"pts"},"P/s",{"$f":"'Daten MR'!E5","v":"easy="},{"$f":"'Daten MR'!F5","v":"all="},{"$f":"'Daten MR'!G5","v":"W-L"},{"$f":"'Daten MR'!H5","v":"sum"},{"$f":"'Daten MR'!J5","v":"="},{"$f":"'Daten MR'!K5","v":"-"},{"$f":"'Daten MR'!L5","v":"+"},{"$f":"'Daten MR'!M5","v":"#"},"=%","#%",{"$f":"'Daten MR'!I5","v":"eff%"},{"$f":"'Daten MR'!N5","v":"sum"},"perc",{"$f":"'Daten MR'!P5","v":"="},{"$f":"'Daten MR'!Q5","v":"/"},{"$f":"'Daten MR'!R5","v":"-"},{"$f":"'Daten MR'!S5","v":"+"},{"$f":"'Daten MR'!T5","v":"#"},"=/%",{"$f":"'Daten MR'!U5","v":"+#%"},{"$f":"'Daten MR'!V5","v":"#%"},{"$f":"'Daten MR'!O5","v":"eff%"},{"$f":"'Daten MR'!W5","v":"sum"},"%",{"$f":"'Daten MR'!Y5","v":"="},{"$f":"'Daten MR'!Z5","v":"/"},{"$f":"'Daten MR'!AA5","v":"!"},{"$f":"'Daten MR'!AB5","v":"+"},{"$f":"'Daten MR'!AC5","v":"#"},"=/%",{"$f":"'Daten MR'!AD5","v":"#%"},{"$f":"'Daten MR'!X5","v":"eff%"},{"$f":"'Daten MR'!AE5","v":"sum"},{"$f":"'Daten MR'!AG5","v":"="},{"$f":"'Daten MR'!AH5","v":"+"},{"$f":"'Daten MR'!AI5","v":"#"},"#%",{"$f":"'Daten MR'!AF5","v":"eff%"},{"$f":"'Daten MR'!AJ5","v":"sum"},{"$f":"'Daten MR'!AL5","v":"="},{"$f":"'Daten MR'!AM5","v":"/-!"},{"$f":"'Daten MR'!AN5","v":"+#"},"+#%",{"$f":"'Daten MR'!AK5","v":"eff%"},{"$f":"'Daten MR'!AO5","v":"sum"},{"$f":"'Daten MR'!AQ5","v":"err"},{"$f":"'Daten MR'!AR5","v":"bad"},{"$f":"'Daten MR'!AS5","v":"god"},{"$f":"'Daten MR'!AP5","v":"eff%"},{"$f":"'Daten MR'!AT5","v":"sum"},{"$f":"'Daten MR'!AV5","v":"="},{"$f":"'Daten MR'!AU5","v":"eff%"},null,null,null,null,{"$f":"'Daten A1'!B5","v":"sum"},{"$f":"'Daten A1'!C5","v":"perc"},{"$f":"'Daten A1'!E5","v":"="},{"$f":"'Daten A1'!F5","v":"/"},{"$f":"'Daten A1'!G5","v":"#"},"#%",{"$f":"'Daten A1'!D5","v":"eff"},{"$f":"'Daten A1'!I5","v":"sum"},{"$f":"'Daten A1'!J5","v":"perc"},{"$f":"'Daten A1'!L5","v":"="},{"$f":"'Daten A1'!M5","v":"/"},{"$f":"'Daten A1'!N5","v":"#"},"#%",{"$f":"'Daten A1'!K5","v":"eff"},{"$f":"'Daten A1'!P5","v":"sum"},{"$f":"'Daten A1'!Q5","v":"perc"},{"$f":"'Daten A1'!S5","v":"="},{"$f":"'Daten A1'!T5","v":"/"},{"$f":"'Daten A1'!U5","v":"#"},"#%",{"$f":"'Daten A1'!R5","v":"eff"},{"$f":"'Daten A1'!W5","v":"sum"},{"$f":"'Daten A1'!X5","v":"perc"},{"$f":"'Daten A1'!Z5","v":"="},{"$f":"'Daten A1'!AA5","v":"/"},{"$f":"'Daten A1'!AB5","v":"#"},"#%",{"$f":"'Daten A1'!Y5","v":"eff"},{"$f":"'Daten A1'!AD5","v":"sum"},{"$f":"'Daten A1'!AE5","v":"perc"},{"$f":"'Daten A1'!AG5","v":"="},{"$f":"'Daten A1'!AH5","v":"/"},{"$f":"'Daten A1'!AI5","v":"#"},"#%",{"$f":"'Daten A1'!AF5","v":"eff"},{"$f":"'Daten A1'!AK5","v":"sum"},{"$f":"'Daten A1'!AL5","v":"perc"},{"$f":"'Daten A1'!AN5","v":"="},{"$f":"'Daten A1'!AO5","v":"/"},{"$f":"'Daten A1'!AP5","v":"#"},"#%",{"$f":"'Daten A1'!AM5","v":"eff"},{"$f":"'Daten A1'!AR5","v":"sum"},{"$f":"'Daten A1'!AT5","v":"#"},"#%",{"$f":"'Daten A1'!AS5","v":"eff"},{"$f":"'Daten A1'!AU5","v":"sum"},{"$f":"'Daten A1'!AW5","v":"#"},"#%",{"$f":"'Daten A1'!AV5","v":"eff"},null,null,null,null,null,"∑","in %","=","/","-","+","#","=/%","+#%","#%","eff",null,null,null,null,"∑","in %","=/","+","#","=/%","+#%","#%","eff",null,null,null,null,"∑","in %","=/","+","#","=/%","+#%","#%","eff",null,null,null,null,"∑","in %","=/","+","#","=/%","+#%","#%","eff",null,null,null,null,"∑","in %","=/","+","#","=/%","+#%","#%","eff",null,null,null,null,"∑","in %","=/","+","#","=/%","+#%","#%","eff",null,null,null,null,"∑","in %","=/","+","#","=/%","+#%","#%","eff"]
[null,{"$f":"'Daten MR'!B6","v":"KOREA"},null,null,null,null,null,null,null,{"$f":"B4","v":"KOREA"},null,null,null,{"$f":"'Daten MR'!C6","v":5},{"$f":"'Daten MR'!D6","v":66},{"$f":"IF(N4=0,\"\",O4/N4)","v":13.2},{"$f":"'Daten MR'!E6","v":26},{"$f":"'Daten MR'!F6","v":78},{"$f":"'Daten MR'!G6","v":-12},{"$f":"'Daten MR'!H6","v":101},{"$f":"'Daten MR'!J6","v":11},{"$f":"'Daten MR'!K6","v":56},{"$f":"'Daten MR'!L6","v":32},{"$f":"'Daten MR'!M6","v":2},{"$f":"IF($T4=0,\"\",U4/$T4)","v":0.10891089108910891},{"$f":"IF($T4=0,\"\",X4/$T4)","v":1.9801980198019802E-2},{"$f":"'Daten MR'!I6","v":"23%"},{"$f":"'Daten MR'!N6","v":82},null,{"$f":"'Daten MR'!P6","v":1},{"$f":"'Daten MR'!Q6","v":1},{"$f":"'Daten MR'!R6","v":29},{"$f":"'Daten MR'!S6","v":29},{"$f":"'Daten MR'!T6","v":22},{"$f":"IF(AB4=0,\"\",(AD4+AE4)/AB4)","v":2.4390243902439025E-2},{"$f":"'Daten MR'!U6","v":"62%"},{"$f":"'Daten MR'!V6","v":"27%"},{"$f":"'Daten MR'!O6","v":"60%"},{"$f":"'Daten MR'!W6","v":104},null,{"$f":"'Daten MR'!Y6","v":12},{"$f":"'Daten MR'!Z6","v":15},{"$f":"'Daten MR'!AA6","v":3},{"$f":"'Daten MR'!AB6","v":9},{"$f":"'Daten MR'!AC6","v":54},{"$f":"IF(AM4=0,\"\",(AO4+AP4)/AM4)","v":0.25961538461538464},{"$f":"'Daten MR'!AD6","v":"52%"},{"$f":"'Daten MR'!X6","v":"26%"},{"$f":"'Daten MR'!AE6","v":51},{"$f":"'Daten MR'!AG6","v":22},{"$f":"'Daten MR'!AH6","v":4},{"$f":"'Daten MR'!AI6","v":10},{"$f":"IF($AW4=0,\"\",AZ4/AW4)","v":0.19607843137254902},{"$f":"'Daten MR'!AF6","v":"-16%"},{"$f":"'Daten MR'!AJ6","v":60},{"$f":"'Daten MR'!AL6","v":15},{"$f":"'Daten MR'!AM6","v":28},{"$f":"'Daten MR'!AN6","v":17},{"$f":"IF($BC4=0,\"\",BF4/BC4)","v":0.28333333333333333},{"$f":"'Daten MR'!AK6","v":"3%"},{"$f":"'Daten MR'!AO6","v":1},{"$f":"'Daten MR'!AQ6","v":0},{"$f":"'Daten MR'!AR6","v":1},{"$f":"'Daten MR'!AS6","v":0},{"$f":"'Daten MR'!AP6","v":"0%"},{"$f":"'Daten MR'!AT6","v":98},{"$f":"'Daten MR'!AV6","v":2},{"$f":"'Daten MR'!AU6","v":"59%"},null,null,null,{"$f":"J4","v":"KOREA"},{"$f":"'Daten A1'!B6","v":101},{"$f":"'Daten A1'!C6","v":"100%"},{"$f":"'Daten A1'!E6","v":11},{"$f":"'Daten A1'!F6","v":15},{"$f":"'Daten A1'!G6","v":53},{"$f":"IF(BU4=0,\"\",BY4/BU4)","v":0.52475247524752477},{"$f":"'Daten A1'!D6","v":"27%"},{"$f":"'Daten A1'!I6","v":74},{"$f":"'Daten A1'!J6","v":"100%"},{"$f":"'Daten A1'!L6","v":8},{"$f":"'Daten A1'!M6","v":9},{"$f":"'Daten A1'!N6","v":39},{"$f":"IF(CB4=0,\"\",CF4/CB4)","v":0.52702702702702697},{"$f":"'Daten A1'!K6","v":"30%"},{"$f":"'Daten A1'!P6","v":50},{"$f":"'Daten A1'!Q6","v":"100%"},{"$f":"'Daten A1'!S6","v":5},{"$f":"'Daten A1'!T6","v":5},{"$f":"'Daten A1'!U6","v":29},{"$f":"IF(CI4=0,\"\",CM4/CI4)","v":0.57999999999999996},{"$f":"'Daten A1'!R6","v":"38%"},{"$f":"'Daten A1'!W6","v":24},{"$f":"'Daten A1'!X6","v":"100%"},{"$f":"'Daten A1'!Z6","v":3},{"$f":"'Daten A1'!AA6","v":4},{"$f":"'Daten A1'!AB6","v":10},{"$f":"IF(CP4=0,\"\",CT4/CP4)","v":0.41666666666666669},{"$f":"'Daten A1'!Y6","v":"12%"},{"$f":"'Daten A1'!AD6","v":27},{"$f":"'Daten A1'!AE6","v":"100%"},{"$f":"'Daten A1'!AG6","v":3},{"$f":"'Daten A1'!AH6","v":6},{"$f":"'Daten A1'!AI6","v":14},{"$f":"IF(CW4=0,\"\",DA4/CW4)","v":0.51851851851851849},{"$f":"'Daten A1'!AF6","v":"19%"},{"$f":"'Daten A1'!AK6","v":12},{"$f":"'Daten A1'!AL6","v":"150%"},{"$f":"'Daten A1'!AN6","v":1},{"$f":"'Daten A1'!AO6","v":2},{"$f":"'Daten A1'!AP6","v":8},{"$f":"IF(DD4=0,\"\",DH4/DD4)","v":0.66666666666666663},{"$f":"'Daten A1'!AM6","v":"42%"},{"$f":"SUM(DK5:DK24)","v":72},{"$f":"SUM(DL5:DL24)","v":39},{"$f":"IF(DK4=0,\"0%\",DL4/DK4)","v":0.54166666666666663},null,{"$f":"SUM(DO5:DO24)","v":2},{"$f":"SUM(DP5:DP24)","v":0},{"$f":"IF(DO4=0,\"0%\",DP4/DO4)","v":0},null,null,null,null,null,{"$f":"J4","v":"KOREA"},{"$f":"'Daten MR'!N6","v":82},null,{"$f":"'Daten MR'!P6","v":1},{"$f":"'Daten MR'!Q6","v":1},{"$f":"'Daten MR'!R6","v":29},{"$f":"'Daten MR'!S6","v":29},{"$f":"'Daten MR'!T6","v":22},{"$f":"IF(DX4=0,0,SUM(DZ4:EA4)/$DX4)","v":2.4390243902439025E-2},{"$f":"IF(DX4=0,0,SUM(EC4:ED4)/$DX4)","v":0.62195121951219512},{"$f":"IF(DX4=0,0,ED4/$DX4)","v":0.26829268292682928},{"$f":"'Daten MR'!O6","v":"60%"},null,null,null,{"$f":"$J4","v":"KOREA"},{"$f":"'Daten SR'!T5","v":10},null,{"$f":"'Daten SR'!W5","v":0},{"$f":"'Daten SR'!V5","v":5},{"$f":"'Daten SR'!U5","v":4},{"$f":"EQ4/EM4","v":0.4},{"$f":"SUM(EP4:EQ4)/EM4","v":0.9},{"$f":"EQ4/EM4","v":0.4},{"$f":"(SUM(EP4:EQ4)-EO4)/EM4","v":0.9},null,null,null,{"$f":"$J4","v":"KOREA"},{"$f":"'Daten SR'!X5","v":22},null,{"$f":"'Daten SR'!AA5","v":2},{"$f":"'Daten SR'!Z5","v":4},{"$f":"'Daten SR'!Y5","v":4},{"$f":"FD4/EZ4","v":0.18181818181818182},{"$f":"SUM(FC4:FD4)/EZ4","v":0.36363636363636365},{"$f":"FD4/EZ4","v":0.18181818181818182},{"$f":"(SUM(FC4:FD4)-FB4)/EZ4","v":0.27272727272727271},null,null,null,{"$f":"$J4","v":"KOREA"},{"$f":"'Daten SR'!AB5","v":15},null,{"$f":"'Daten SR'!AE5","v":0},{"$f":"'Daten SR'!AD5","v":5},{"$f":"'Daten SR'!AC5","v":5},{"$f":"FQ4/FM4","v":0.33333333333333331},{"$f":"SUM(FP4:FQ4)/FM4","v":0.66666666666666663},{"$f":"FQ4/FM4","v":0.33333333333333331},{"$f":"(SUM(FP4:FQ4)-FO4)/FM4","v":0.66666666666666663},null,null,null,{"$f":"$J4","v":"KOREA"},{"$f":"'Daten SR'!AF5","v":10},null,{"$f":"'Daten SR'!AI5","v":0},{"$f":"'Daten SR'!AH5","v":3},{"$f":"'Daten SR'!AG5","v":3},{"$f":"GD4/FZ4","v":0.3},{"$f":"SUM(GC4:GD4)/FZ4","v":0.6},{"$f":"GD4/FZ4","v":0.3},{"$f":"(SUM(GC4:GD4)-GB4)/FZ4","v":0.6},null,null,null,{"$f":"$J4","v":"KOREA"},{"$f":"'Daten SR'!AJ5","v":9},null,{"$f":"'Daten SR'!AM5","v":0},{"$f":"'Daten SR'!AL5","v":7},{"$f":"'Daten SR'!AK5","v":0},{"$f":"GQ4/GM4","v":0},{"$f":"SUM(GP4:GQ4)/GM4","v":0.77777777777777779},{"$f":"GQ4/GM4","v":0},{"$f":"(SUM(GP4:GQ4)-GO4)/GM4","v":0.77777777777777779},null,null,null,{"$f":"$J4","v":"KOREA"},{"$f":"'Daten SR'!AN5","v":16},null,{"$f":"'Daten SR'!AQ5","v":0},{"$f":"'Daten SR'!AP5","v":5},{"$f":"'Daten SR'!AO5","v":6},{"$f":"HD4/GZ4","v":0.375},{"$f":"SUM(HC4:HD4)/GZ4","v":0.6875},{"$f":"HD4/GZ4","v":0.375},{"$f":"(SUM(HC4:HD4)-HB4)/GZ4","v":0.6875}]
[null,{"$f":"IF(E5=-1,\"\",LEFT(F5,E5-1))","v":"1"},{"$f":"IF(E5=-1,\"\",RIGHT(F5,LEN(F5)-E5))","v":"SONG"},null,{"$f":"IF(F5=\"\",-1,FIND(\" \",F5))","v":2},{"$f":"IF('Daten MR'!B7=\"\",\"\",'Daten MR'!B7)","v":"1 SONG"},null,null,{"$f":"Options!D19","v":"1"},{"$f":"Options!E19","v":"SONG"},{"$f":"Options!J19","v":"Outside"},{"$f":"Options!K19","v":"Out"},null,{"$f":"IF($I5=\"\",\"\",'Daten MR'!C7)","v":5},{"$f":"IF($I5=\"\",\"\",'Daten MR'!D7)","v":18},{"$f":"IF(OR($I5=\"\",N5=0),\"\",O5/N5)","v":3.6},{"$f":"IF($I5=\"\",\"\",'Daten MR'!E7)","v":11},{"$f":"IF($I5=\"\",\"\",'Daten MR'!F7)","v":19},{"$f":"IF($I5=\"\",\"\",'Daten MR'!G7)","v":-1},{"$f":"IF($I5=\"\",\"\",'Daten MR'!H7)","v":16},{"$f":"IF($I5=\"\",\"\",'Daten MR'!J7)","v":4},{"$f":"IF($I5=\"\",\"\",'Daten MR'!K7)","v":7},{"$f":"IF($I5=\"\",\"\",'Daten MR'!L7)","v":4},{"$f":"IF($I5=\"\",\"\",'Daten MR'!M7)","v":1},{"$f":"IF($I5=\"\",\"\",IF($T5=0,\"0%\",U5/$T5))","v":0.25},{"$f":"IF($I5=\"\",\"\",IF($T5=0,\"0%\",X5/$T5))","v":6.25E-2},{"$f":"IF($I5=\"\",\"\",'Daten MR'!I7)","v":"6%"},{"$f":"IF($I5=\"\",\"\",'Daten MR'!N7)","v":7},{"$f":"IF($I5=\"\",\"\",IF(AB5=0,\"0%\",(AB5)/$AB$4))","v":8.5365853658536592E-2},{"$f":"IF($I5=\"\",\"\",'Daten MR'!P7)","v":1},{"$f":"IF($I5=\"\",\"\",'Daten MR'!Q7)","v":0},{"$f":"IF($I5=\"\",\"\",'Daten MR'!R7)","v":1},{"$f":"IF($I5=\"\",\"\",'Daten MR'!S7)","v":4},{"$f":"IF($I5=\"\",\"\",'Daten MR'!T7)","v":1},{"$f":"IF($I5=\"\",\"\",IF(AB5=0,\"0%\",(AD5+AE5)/AB5))","v":0.14285714285714285},{"$f":"IF($I5=\"\",\"\",'Daten MR'!U7)","v":"71%"},{"$f":"IF($I5=\"\",\"\",'Daten MR'!V7)","v":"14%"},{"$f":"IF($I5=\"\",\"\",'Daten MR'!O7)","v":"57%"},{"$f":"IF($I5=\"\",\"\",'Daten MR'!W7)","v":30},{"$f":"IF($I5=\"\",\"\",IF(AM5=0,\"0%\",(AM5)/$AM$4))","v":0.28846153846153844},{"$f":"IF($I5=\"\",\"\",'Daten MR'!Y7)","v":6},{"$f":"IF($I5=\"\",\"\",'Daten MR'!Z7)","v":4},{"$f":"IF($I5=\"\",\"\",'Daten MR'!AA7)","v":0},{"$f":"IF($I5=\"\",\"\",'Daten MR'!AB7)","v":4},{"$f":"IF($I5=\"\",\"\",'Daten MR'!AC7)","v":15},{"$f":"IF($I5=\"\",\"\",IF(AM5=0,\"0%\",(AO5+AP5)/AM5))","v":0.33333333333333331},{"$f":"IF($I5=\"\",\"\",'Daten MR'!AD7)","v":"50%"},{"$f":"IF($I5=\"\",\"\",'Daten MR'!X7)","v":"17%"},{"$f":"IF($I5=\"\",\"\",'Daten MR'!AE7)","v":3},{"$f":"IF($I5=\"\",\"\",'Daten MR'!AG7)","v":1},{"$f":"IF($I5=\"\",\"\",'Daten MR'!AH7)","v":0},{"$f":"IF($I5=\"\",\"\",'Daten MR'!AI7)","v":2},{"$f":"IF($I5=\"\",\"\",IF($AW5=0,\"0%\",AZ5/AW5))","v":0.66666666666666663},{"$f":"IF($I5=\"\",\"\",'Daten MR'!AF7)","v":"33%"},{"$f":"IF($I5=\"\",\"\",'Daten MR'!AJ7)","v":15},{"$f":"IF($I5=\"\",\"\",'Daten MR'!AL7)","v":3},{"$f":"IF($I5=\"\",\"\",'Daten MR'!AM7)","v":6},{"$f":"IF($I5=\"\",\"\",'Daten MR'!AN7)","v":6},{"$f":"IF($I5=\"\",\"\",IF($BC5=0,\"0%\",BF5/BC5))","v":0.4},{"$f":"IF($I5=\"\",\"\",'Daten MR'!AK7)","v":"20%"},{"$f":"IF($I5=\"\",\"\",'Daten MR'!AO7)","v":1},{"$f":"IF($I5=\"\",\"\",'Daten MR'!AQ7)","v":0},{"$f":"IF($I5=\"\",\"\",'Daten MR'!AR7)","v":1},{"$f":"IF($I5=\"\",\"\",'Daten MR'!AS7)","v":0},{"$f":"IF($I5=\"\",\"\",'Daten MR'!AP7)","v":"0%"},{"$f":"IF($I5=\"\",\"\",'Daten MR'!AT7)","v":3},{"$f":"IF($I5=\"\",\"\",'Daten MR'!AV7)","v":0},{"$f":"IF($I5=\"\",\"\",'Daten MR'!AU7)","v":"0%"},null,null,{"$f":"I5","v":"1"},{"$f":"J5","v":"SONG"},{"$f":"IF($I5=\"\",\"\",'Daten A1'!B7)","v":30},{"$f":"IF($I5=\"\",\"\",'Daten A1'!C7)","v":"30%"},{"$f":"IF($I5=\"\",\"\",'Daten A1'!E7)","v":6},{"$f":"IF($I5=\"\",\"\",'Daten A1'!F7)","v":4},{"$f":"IF($I5=\"\",\"\",'Daten A1'!G7)","v":15},{"$f":"IF($I5=\"\",\"\",IF(BU5=0,\"0%\",'Daten A1'!H7))","v":"50%"},{"$f":"IF($I5=\"\",\"\",'Daten A1'!D7)","v":"17%"},{"$f":"IF($I5=\"\",\"\",'Daten A1'!I7)","v":23},{"$f":"IF($I5=\"\",\"\",'Daten A1'!J7)","v":"31%"},{"$f":"IF($I5=\"\",\"\",'Daten A1'!L7)","v":6},{"$f":"IF($I5=\"\",\"\",'Daten A1'!M7)","v":3},{"$f":"IF($I5=\"\",\"\",'Daten A1'!N7)","v":11},{"$f":"IF($I5=\"\",\"\",IF(CB5=0,\"0%\",'Daten A1'!O7))","v":"48%"},{"$f":"IF($I5=\"\",\"\",'Daten A1'!K7)","v":"9%"},{"$f":"IF($I5=\"\",\"\",'Daten A1'!P7)","v":17},{"$f":"IF($I5=\"\",\"\",'Daten A1'!Q7)","v":"34%"},{"$f":"IF($I5=\"\",\"\",'Daten A1'!S7)","v":4},{"$f":"IF($I5=\"\",\"\",'Daten A1'!T7)","v":2},{"$f":"IF($I5=\"\",\"\",'Daten A1'!U7)","v":9},{"$f":"IF($I5=\"\",\"\",IF(CI5=0,\"0%\",'Daten A1'!V7))","v":"53%"},{"$f":"IF($I5=\"\",\"\",'Daten A1'!R7)","v":"18%"},{"$f":"IF($I5=\"\",\"\",'Daten A1'!W7)","v":6},{"$f":"IF($I5=\"\",\"\",'Daten A1'!X7)","v":"25%"},{"$f":"IF($I5=\"\",\"\",'Daten A1'!Z7)","v":2},{"$f":"IF($I5=\"\",\"\",'Daten A1'!AA7)","v":1},{"$f":"IF($I5=\"\",\"\",'Daten A1'!AB7)","v":2},{"$f":"IF($I5=\"\",\"\",IF(CP5=0,\"0%\",'Daten A1'!AC7))","v":"33%"},{"$f":"IF($I5=\"\",\"\",'Daten A1'!Y7)","v":"-17%"},{"$f":"IF($I5=\"\",\"\",'Daten A1'!AD7)","v":7},{"$f":"IF($I5=\"\",\"\",'Daten A1'!AE7)","v":"26%"},{"$f":"IF($I5=\"\",\"\",'Daten A1'!AG7)","v":0},{"$f":"IF($I5=\"\",\"\",'Daten A1'!AH7)","v":1},{"$f":"IF($I5=\"\",\"\",'Daten A1'!AI7)","v":4},{"$f":"IF($I5=\"\",\"\",IF(CW5=0,\"0%\",'Daten A1'!AJ7))","v":"57%"},{"$f":"IF($I5=\"\",\"\",'Daten A1'!AF7)","v":"43%"},{"$f":"IF($I5=\"\",\"\",'Daten A1'!AK7)","v":3},{"$f":"IF($I5=\"\",\"\",'Daten A1'!AL7)","v":"100%"},{"$f":"IF($I5=\"\",\"\",'Daten A1'!AN7)","v":0},{"$f":"IF($I5=\"\",\"\",'Daten A1'!AO7)","v":0},{"$f":"IF($I5=\"\",\"\",'Daten A1'!AP7)","v":3},{"$f":"IF($I5=\"\",\"\",IF(DD5=0,\"0%\",'Daten A1'!AQ7))","v":"100%"},{"$f":"IF($I5=\"\",\"\",'Daten A1'!AM7)","v":"100%"},{"$f":"IF($I5=\"\",\"\",'Daten A1'!AR7)","v":23},{"$f":"IF($I5=\"\",\"\",'Daten A1'!AT7)","v":11},{"$f":"IF($I5=\"\",\"\",IF(DK5=0,\"0%\",DL5/DK5))","v":0.47826086956521741},{"$f":"IF($I5=\"\",\"\",'Daten A1'!AS7)","v":"9%"},{"$f":"IF($I5=\"\",\"\",'Daten A1'!AU7)","v":0},{"$f":"IF($I5=\"\",\"\",'Daten A1'!AW7)","v":0},{"$f":"IF($I5=\"\",\"\",IF(DO5=0,\"0%\",DP5/DO5))","v":"0%"},{"$f":"IF($I5=\"\",\"\",'Daten A1'!AV7)","v":"0%"},{"$f":"IF(BS5=\"\",2,1)","v":1},null,null,{"$f":"I5","v":"1"},{"$f":"J5","v":"SONG"},{"$f":"IF($I5=\"\",\"\",'Daten MR'!N7)","v":7},{"$f":"IF($I5=\"\",\"\",IF(DX5=0,0,DX5/$DX$4))","v":8.5365853658536592E-2},{"$f":"IF($I5=\"\",\"\",'Daten MR'!P7)","v":1},{"$f":"IF($I5=\"\",\"\",'Daten MR'!Q7)","v":0},{"$f":"IF($I5=\"\",\"\",'Daten MR'!R7)","v":1},{"$f":"IF($I5=\"\",\"\",'Daten MR'!S7)","v":4},{"$f":"IF($I5=\"\",\"\",'Daten MR'!T7)","v":1},{"$f":"IF($I5=\"\",\"\",IF(DX5=0,0,SUM(DZ5:EA5)/$DX5))","v":0.14285714285714285},{"$f":"IF($I5=\"\",\"\",IF(DX5=0,0,SUM(EC5:ED5)/$DX5))","v":0.7142857142857143},{"$f":"IF($I5=\"\",\"\",IF(DX5=0,0,ED5/$DX5))","v":0.14285714285714285},{"$f":"IF($I5=\"\",\"\",'Daten MR'!O7)","v":"57%"},{"$f":"IF(DV5=\"\",2,1)","v":1},null,{"$f":"$I5","v":"1"},{"$f":"$J5","v":"SONG"},{"$f":"IF($I5=\"\",\"\",'Daten SR'!T6)","v":3},{"$f":"IF($I5=\"\",\"\",IF(EM5=0,0,EM5/$EM$4))","v":0.3},{"$f":"IF($I5=\"\",\"\",'Daten SR'!W6)","v":0},{"$f":"IF($I5=\"\",\"\",'Daten SR'!V6)","v":2},{"$f":"IF($I5=\"\",\"\",'Daten SR'!U6)","v":1},{"$f":"IF($I5=\"\",\"\",IF(EM5=0,0,EO5/EM5))","v":0},{"$f":"IF($I5=\"\",\"\",IF(EM5=0,0,(EP5+EQ5)/EM5))","v":1},{"$f":"IF($I5=\"\",\"\",IF(EM5=0,0,EQ5/EM5))","v":0.33333333333333331},{"$f":"IF($I5=\"\",\"\",IF(EM5=0,0,(SUM(EP5:EQ5)-EO5)/EM5))","v":1},{"$f":"IF(EK5=\"\",2,1)","v":1},null,{"$f":"$I5","v":"1"},{"$f":"$J5","v":"SONG"},{"$f":"IF($I5=\"\",\"\",'Daten SR'!X6)","v":3},{"$f":"IF($I5=\"\",\"\",IF(EZ5=0,0,EZ5/$EZ$4))","v":0.13636363636363635},{"$f":"IF($I5=\"\",\"\",'Daten SR'!AA6)","v":1},{"$f":"IF($I5=\"\",\"\",'Daten SR'!Z6)","v":1},{"$f":"IF($I5=\"\",\"\",'Daten SR'!Y6)","v":0},{"$f":"IF($I5=\"\",\"\",IF(EZ5=0,0,FB5/EZ5))","v":0.33333333333333331},{"$f":"IF($I5=\"\",\"\",IF(EZ5=0,0,(FC5+FD5)/EZ5))","v":0.33333333333333331},{"$f":"IF($I5=\"\",\"\",IF(EZ5=0,0,FD5/EZ5))","v":0},{"$f":"IF($I5=\"\",\"\",IF(EZ5=0,0,(SUM(FC5:FD5)-FB5)/EZ5))","v":0},{"$f":"IF(EX5=\"\",2,1)","v":1},null,{"$f":"$I5","v":"1"},{"$f":"$J5","v":"SONG"},{"$f":"IF($I5=\"\",\"\",'Daten SR'!AB6)","v":0},{"$f":"IF($I5=\"\",\"\",IF(FM5=0,0,FM5/$FM$4))","v":0},{"$f":"IF($I5=\"\",\"\",'Daten SR'!AE6)","v":0},{"$f":"IF($I5=\"\",\"\",'Daten SR'!AD6)","v":0},{"$f":"IF($I5=\"\",\"\",'Daten SR'!AC6)","v":0},{"$f":"IF($I5=\"\",\"\",IF(FM5=0,0,FO5/FM5))","v":0},{"$f":"IF($I5=\"\",\"\",IF(FM5=0,0,(FP5+FQ5)/FM5))","v":0},{"$f":"IF($I5=\"\",\"\",IF(FM5=0,0,FQ5/FM5))","v":0},{"$f":"IF($I5=\"\",\"\",IF(FM5=0,0,(SUM(FP5:FQ5)-FO5)/FM5))","v":0},{"$f":"IF(FK5=\"\",2,1)","v":1},null,{"$f":"$I5","v":"1"},{"$f":"$J5","v":"SONG"},{"$f":"IF($I5=\"\",\"\",'Daten SR'!AF6)","v":1},{"$f":"IF($I5=\"\",\"\",IF(FZ5=0,0,FZ5/$FZ$4))","v":0.1},{"$f":"IF($I5=\"\",\"\",'Daten SR'!AI6)","v":0},{"$f":"IF($I5=\"\",\"\",'Daten SR'!AH6)","v":1},{"$f":"IF($I5=\"\",\"\",'Daten SR'!AG6)","v":0},{"$f":"IF($I5=\"\",\"\",IF(FZ5=0,0,GB5/FZ5))","v":0},{"$f":"IF($I5=\"\",\"\",IF(FZ5=0,0,(GC5+GD5)/FZ5))","v":1},{"$f":"IF($I5=\"\",\"\",IF(FZ5=0,0,GD5/FZ5))","v":0},{"$f":"IF($I5=\"\",\"\",IF(FZ5=0,0,(SUM(GC5:GD5)-GB5)/FZ5))","v":1},{"$f":"IF(FX5=\"\",2,1)","v":1},null,{"$f":"$I5","v":"1"},{"$f":"$J5","v":"SONG"},{"$f":"IF($I5=\"\",\"\",'Daten SR'!AJ6)","v":0},{"$f":"IF($I5=\"\",\"\",IF(GM5=0,0,GM5/$GM$4))","v":0},{"$f":"IF($I5=\"\",\"\",'Daten SR'!AM6)","v":0},{"$f":"IF($I5=\"\",\"\",'Daten SR'!AL6)","v":0},{"$f":"IF($I5=\"\",\"\",'Daten SR'!AK6)","v":0},{"$f":"IF($I5=\"\",\"\",IF(GM5=0,0,GO5/GM5))","v":0},{"$f":"IF($I5=\"\",\"\",IF(GM5=0,0,(GP5+GQ5)/GM5))","v":0},{"$f":"IF($I5=\"\",\"\",IF(GM5=0,0,GQ5/GM5))","v":0},{"$f":"IF($I5=\"\",\"\",IF(GM5=0,0,(SUM(GP5:GQ5)-GO5)/GM5))","v":0},{"$f":"IF(GK5=\"\",2,1)","v":1},null,{"$f":"$I5","v":"1"},{"$f":"$J5","v":"SONG"},{"$f":"IF($I5=\"\",\"\",'Daten SR'!AN6)","v":0},{"$f":"IF($I5=\"\",\"\",IF(GZ5=0,0,GZ5/$GZ$4))","v":0},{"$f":"IF($I5=\"\",\"\",'Daten SR'!AQ6)","v":0},{"$f":"IF($I5=\"\",\"\",'Daten SR'!AP6)","v":0},{"$f":"IF($I5=\"\",\"\",'Daten SR'!AO6)","v":0},{"$f":"IF($I5=\"\",\"\",IF(GZ5=0,0,HB5/GZ5))","v":0},{"$f":"IF($I5=\"\",\"\",IF(GZ5=0,0,(HC5+HD5)/GZ5))","v":0},{"$f":"IF($I5=\"\",\"\",IF(GZ5=0,0,HD5/GZ5))","v":0},{"$f":"IF($I5=\"\",\"\",IF(GZ5=0,0,(SUM(HC5:HD5)-HB5)/GZ5))","v":0},{"$f":"IF(GX5=\"\",2,1)","v":1}]
[null,{"$f":"IF(E6=-1,\"\",LEFT(F6,E6-1))","v":"4"},{"$f":"IF(E6=-1,\"\",RIGHT(F6,LEN(F6)-E6))","v":"SHIN"},null,{"$f":"IF(OR(E5=-1,'Daten MR'!B8=\"\"),-1,FIND(\" \",'Daten MR'!B8))","v":2},{"$f":"IF('Daten MR'!B8=\"\",\"\",'Daten MR'!B8)","v":"4 SHIN"},null,null,{"$f":"Options!D20","v":"4"},{"$f":"Options!E20","v":"SHIN"},{"$f":"Options!J20","v":"Middleblock"},{"$f":"Options!K20","v":"MB"},null,{"$f":"IF($I6=\"\",\"\",'Daten MR'!C8)","v":5},{"$f":"IF($I6=\"\",\"\",'Daten MR'!D8)","v":11},{"$f":"IF(OR($I6=\"\",N6=0),\"\",O6/N6)","v":2.2000000000000002},{"$f":"IF($I6=\"\",\"\",'Daten MR'!E8)","v":2},{"$f":"IF($I6=\"\",\"\",'Daten MR'!F8)","v":6},{"$f":"IF($I6=\"\",\"\",'Daten MR'!G8)","v":5},{"$f":"IF($I6=\"\",\"\",'Daten MR'!H8)","v":14},{"$f":"IF($I6=\"\",\"\",'Daten MR'!J8)","v":1},{"$f":"IF($I6=\"\",\"\",'Daten MR'!K8)","v":10},{"$f":"IF($I6=\"\",\"\",'Daten MR'!L8)","v":3},{"$f":"IF($I6=\"\",\"\",'Daten MR'!M8)","v":0},{"$f":"IF($I6=\"\",\"\",IF($T6=0,\"0%\",U6/$T6))","v":7.1428571428571425E-2},{"$f":"IF($I6=\"\",\"\",IF($T6=0,\"0%\",X6/$T6))","v":0},{"$f":"IF($I6=\"\",\"\",'Daten MR'!I8)","v":"14%"},{"$f":"IF($I6=\"\",\"\",'Daten MR'!N8)","v":0},{"$f":"IF($I6=\"\",\"\",IF(AB6=0,\"0%\",(AB6)/$AB$4))","v":"0%"},{"$f":"IF($I6=\"\",\"\",'Daten MR'!P8)","v":0},{"$f":"IF($I6=\"\",\"\",'Daten MR'!Q8)","v":0},{"$f":"IF($I6=\"\",\"\",'Daten MR'!R8)","v":0},{"$f":"IF($I6=\"\",\"\",'Daten MR'!S8)","v":0},{"$f":"IF($I6=\"\",\"\",'Daten MR'!T8)","v":0},{"$f":"IF($I6=\"\",\"\",IF(AB6=0,\"0%\",(AD6+AE6)/AB6))","v":"0%"},{"$f":"IF($I6=\"\",\"\",'Daten MR'!U8)","v":"0"},{"$f":"IF($I6=\"\",\"\",'Daten MR'!V8)","v":"0"},{"$f":"IF($I6=\"\",\"\",'Daten MR'!O8)","v":"0"},{"$f":"IF($I6=\"\",\"\",'Daten MR'!W8)","v":11},0.10576923076923077,{"$f":"IF($I6=\"\",\"\",'Daten MR'!Y8)","v":0},{"$f":"IF($I6=\"\",\"\",'Daten MR'!Z8)","v":0},{"$f":"IF($I6=\"\",\"\",'Daten MR'!AA8)","v":0},{"$f":"IF($I6=\"\",\"\",'Daten MR'!AB8)","v":1},{"$f":"IF($I6=\"\",\"\",'Daten MR'!AC8)","v":8},{"$f":"IF($I6=\"\",\"\",IF(AM6=0,\"0%\",(AO6+AP6)/AM6))","v":0},{"$f":"IF($I6=\"\",\"\",'Daten MR'!AD8)","v":"73%"},{"$f":"IF($I6=\"\",\"\",'Daten MR'!X8)","v":"73%"},{"$f":"IF($I6=\"\",\"\",'Daten MR'!AE8)","v":12},{"$f":"IF($I6=\"\",\"\",'Daten MR'!AG8)","v":4},{"$f":"IF($I6=\"\",\"\",'Daten MR'!AH8)","v":0},{"$f":"IF($I6=\"\",\"\",'Daten MR'!AI8)","v":3},{"$f":"IF($I6=\"\",\"\",IF($AW6=0,\"0%\",AZ6/AW6))","v":0.25},{"$f":"IF($I6=\"\",\"\",'Daten MR'!AF8)","v":"-8%"},{"$f":"IF($I6=\"\",\"\",'Daten MR'!AJ8)","v":5},{"$f":"IF($I6=\"\",\"\",'Daten MR'!AL8)","v":0},{"$f":"IF($I6=\"\",\"\",'Daten MR'!AM8)","v":2},{"$f":"IF($I6=\"\",\"\",'Daten MR'!AN8)","v":3},{"$f":"IF($I6=\"\",\"\",IF($BC6=0,\"0%\",BF6/BC6))","v":0.6},{"$f":"IF($I6=\"\",\"\",'Daten MR'!AK8)","v":"60%"},{"$f":"IF($I6=\"\",\"\",'Daten MR'!AO8)","v":0},{"$f":"IF($I6=\"\",\"\",'Daten MR'!AQ8)","v":0},{"$f":"IF($I6=\"\",\"\",'Daten MR'!AR8)","v":0},{"$f":"IF($I6=\"\",\"\",'Daten MR'!AS8)","v":0},{"$f":"IF($I6=\"\",\"\",'Daten MR'!AP8)","v":"0%"},{"$f":"IF($I6=\"\",\"\",'Daten MR'!AT8)","v":2},{"$f":"IF($I6=\"\",\"\",'Daten MR'!AV8)","v":1},{"$f":"IF($I6=\"\",\"\",'Daten MR'!AU8)","v":"-50%"},null,null,{"$f":"I6","v":"4"},"SHIN",{"$f":"IF($I6=\"\",\"\",'Daten A1'!B8)","v":11},{"$f":"IF($I6=\"\",\"\",'Daten A1'!C8)","v":"11%"},{"$f":"IF($I6=\"\",\"\",'Daten A1'!E8)","v":0},{"$f":"IF($I6=\"\",\"\",'Daten A1'!F8)","v":0},{"$f":"IF($I6=\"\",\"\",'Daten A1'!G8)","v":8},{"$f":"IF($I6=\"\",\"\",IF(BU6=0,\"0%\",'Daten A1'!H8))","v":"73%"},{"$f":"IF($I6=\"\",\"\",'Daten A1'!D8)","v":"73%"},{"$f":"IF($I6=\"\",\"\",'Daten A1'!I8)","v":10},{"$f":"IF($I6=\"\",\"\",'Daten A1'!J8)","v":"14%"},{"$f":"IF($I6=\"\",\"\",'Daten A1'!L8)","v":0},{"$f":"IF($I6=\"\",\"\",'Daten A1'!M8)","v":0},{"$f":"IF($I6=\"\",\"\",'Daten A1'!N8)","v":7},{"$f":"IF($I6=\"\",\"\",IF(CB6=0,\"0%\",'Daten A1'!O8))","v":"70%"},{"$f":"IF($I6=\"\",\"\",'Daten A1'!K8)","v":"70%"},{"$f":"IF($I6=\"\",\"\",'Daten A1'!P8)","v":9},{"$f":"IF($I6=\"\",\"\",'Daten A1'!Q8)","v":"18%"},{"$f":"IF($I6=\"\",\"\",'Daten A1'!S8)","v":0},{"$f":"IF($I6=\"\",\"\",'Daten A1'!T8)","v":0},{"$f":"IF($I6=\"\",\"\",'Daten A1'!U8)","v":6},{"$f":"IF($I6=\"\",\"\",IF(CI6=0,\"0%\",'Daten A1'!V8))","v":"67%"},{"$f":"IF($I6=\"\",\"\",'Daten A1'!R8)","v":"67%"},{"$f":"IF($I6=\"\",\"\",'Daten A1'!W8)","v":1},{"$f":"IF($I6=\"\",\"\",'Daten A1'!X8)","v":"4%"},{"$f":"IF($I6=\"\",\"\",'Daten A1'!Z8)","v":0},{"$f":"IF($I6=\"\",\"\",'Daten A1'!AA8)","v":0},{"$f":"IF($I6=\"\",\"\",'Daten A1'!AB8)","v":1},{"$f":"IF($I6=\"\",\"\",IF(CP6=0,\"0%\",'Daten A1'!AC8))","v":"100%"},{"$f":"IF($I6=\"\",\"\",'Daten A1'!Y8)","v":"100%"},{"$f":"IF($I6=\"\",\"\",'Daten A1'!AD8)","v":1},{"$f":"IF($I6=\"\",\"\",'Daten A1'!AE8)","v":"4%"},{"$f":"IF($I6=\"\",\"\",'Daten A1'!AG8)","v":0},{"$f":"IF($I6=\"\",\"\",'Daten A1'!AH8)","v":0},{"$f":"IF($I6=\"\",\"\",'Daten A1'!AI8)","v":1},{"$f":"IF($I6=\"\",\"\",IF(CW6=0,\"0%\",'Daten A1'!AJ8))","v":"100%"},{"$f":"IF($I6=\"\",\"\",'Daten A1'!AF8)","v":"100%"},{"$f":"IF($I6=\"\",\"\",'Daten A1'!AK8)","v":1},{"$f":"IF($I6=\"\",\"\",'Daten A1'!AL8)","v":"100%"},{"$f":"IF($I6=\"\",\"\",'Daten A1'!AN8)","v":0},{"$f":"IF($I6=\"\",\"\",'Daten A1'!AO8)","v":0},{"$f":"IF($I6=\"\",\"\",'Daten A1'!AP8)","v":1},{"$f":"IF($I6=\"\",\"\",IF(DD6=0,\"0%\",'Daten A1'!AQ8))","v":"100%"},{"$f":"IF($I6=\"\",\"\",'Daten A1'!AM8)","v":"100%"},{"$f":"IF($I6=\"\",\"\",'Daten A1'!AR8)","v":10},{"$f":"IF($I6=\"\",\"\",'Daten A1'!AT8)","v":7},0.7,{"$f":"IF($I6=\"\",\"\",'Daten A1'!AS8)","v":"70%"},{"$f":"IF($I6=\"\",\"\",'Daten A1'!AU8)","v":0},{"$f":"IF($I6=\"\",\"\",'Daten A1'!AW8)","v":0},"0%",{"$f":"IF($I6=\"\",\"\",'Daten A1'!AV8)","v":"0%"},{"$f":"IF(BS6=\"\",2,1)","v":1},null,null,{"$f":"I6","v":"4"},"SHIN",{"$f":"IF($I6=\"\",\"\",'Daten MR'!N8)","v":0},{"$f":"IF($I6=\"\",\"\",IF(DX6=0,0,DX6/$DX$4))","v":0},{"$f":"IF($I6=\"\",\"\",'Daten MR'!P8)","v":0},{"$f":"IF($I6=\"\",\"\",'Daten MR'!Q8)","v":0},{"$f":"IF($I6=\"\",\"\",'Daten MR'!R8)","v":0},{"$f":"IF($I6=\"\",\"\",'Daten MR'!S8)","v":0},{"$f":"IF($I6=\"\",\"\",'Daten MR'!T8)","v":0},{"$f":"IF($I6=\"\",\"\",IF(DX6=0,0,SUM(DZ6:EA6)/$DX6))","v":0},{"$f":"IF($I6=\"\",\"\",IF(DX6=0,0,SUM(EC6:ED6)/$DX6))","v":0},{"$f":"IF($I6=\"\",\"\",IF(DX6=0,0,ED6/$DX6))","v":0},{"$f":"IF($I6=\"\",\"\",'Daten MR'!O8)","v":"0"},{"$f":"IF(DV6=\"\",2,1)","v":1},null,{"$f":"$I6","v":"4"},{"$f":"$J6","v":"SHIN"},{"$f":"IF($I6=\"\",\"\",'Daten SR'!T7)","v":0},{"$f":"IF($I6=\"\",\"\",IF(EM6=0,0,EM6/$EM$4))","v":0},{"$f":"IF($I6=\"\",\"\",'Daten SR'!W7)","v":0},{"$f":"IF($I6=\"\",\"\",'Daten SR'!V7)","v":0},{"$f":"IF($I6=\"\",\"\",'Daten SR'!U7)","v":0},{"$f":"IF($I6=\"\",\"\",IF(EM6=0,0,EO6/EM6))","v":0},{"$f":"IF($I6=\"\",\"\",IF(EM6=0,0,(EP6+EQ6)/EM6))","v":0},{"$f":"IF($I6=\"\",\"\",IF(EM6=0,0,EQ6/EM6))","v":0},{"$f":"IF($I6=\"\",\"\",IF(EM6=0,0,(SUM(EP6:EQ6)-EO6)/EM6))","v":0},{"$f":"IF(EK6=\"\",2,1)","v":1},null,{"$f":"$I6","v":"4"},{"$f":"$J6","v":"SHIN"},{"$f":"IF($I6=\"\",\"\",'Daten SR'!X7)","v":0},{"$f":"IF($I6=\"\",\"\",IF(EZ6=0,0,EZ6/$EZ$4))","v":0},{"$f":"IF($I6=\"\",\"\",'Daten SR'!AA7)","v":0},{"$f":"IF($I6=\"\",\"\",'Daten SR'!Z7)","v":0},{"$f":"IF($I6=\"\",\"\",'Daten SR'!Y7)","v":0},{"$f":"IF($I6=\"\",\"\",IF(EZ6=0,0,FB6/EZ6))","v":0},{"$f":"IF($I6=\"\",\"\",IF(EZ6=0,0,(FC6+FD6)/EZ6))","v":0},{"$f":"IF($I6=\"\",\"\",IF(EZ6=0,0,FD6/EZ6))","v":0},{"$f":"IF($I6=\"\",\"\",IF(EZ6=0,0,(SUM(FC6:FD6)-FB6)/EZ6))","v":0},{"$f":"IF(EX6=\"\",2,1)","v":1},null,{"$f":"$I6","v":"4"},{"$f":"$J6","v":"SHIN"},{"$f":"IF($I6=\"\",\"\",'Daten SR'!AB7)","v":0},{"$f":"IF($I6=\"\",\"\",IF(FM6=0,0,FM6/$FM$4))","v":0},{"$f":"IF($I6=\"\",\"\",'Daten SR'!AE7)","v":0},{"$f":"IF($I6=\"\",\"\",'Daten SR'!AD7)","v":0},{"$f":"IF($I6=\"\",\"\",'Daten SR'!AC7)","v":0},{"$f":"IF($I6=\"\",\"\",IF(FM6=0,0,FO6/FM6))","v":0},{"$f":"IF($I6=\"\",\"\",IF(FM6=0,0,(FP6+FQ6)/FM6))","v":0},{"$f":"IF($I6=\"\",\"\",IF(FM6=0,0,FQ6/FM6))","v":0},{"$f":"IF($I6=\"\",\"\",IF(FM6=0,0,(SUM(FP6:FQ6)-FO6)/FM6))","v":0},{"$f":"IF(FK6=\"\",2,1)","v":1},null,{"$f":"$I6","v":"4"},{"$f":"$J6","v":"SHIN"},{"$f":"IF($I6=\"\",\"\",'Daten SR'!AF7)","v":0},{"$f":"IF($I6=\"\",\"\",IF(FZ6=0,0,FZ6/$FZ$4))","v":0},{"$f":"IF($I6=\"\",\"\",'Daten SR'!AI7)","v":0},{"$f":"IF($I6=\"\",\"\",'Daten SR'!AH7)","v":0},{"$f":"IF($I6=\"\",\"\",'Daten SR'!AG7)","v":0},{"$f":"IF($I6=\"\",\"\",IF(FZ6=0,0,GB6/FZ6))","v":0},{"$f":"IF($I6=\"\",\"\",IF(FZ6=0,0,(GC6+GD6)/FZ6))","v":0},{"$f":"IF($I6=\"\",\"\",IF(FZ6=0,0,GD6/FZ6))","v":0},{"$f":"IF($I6=\"\",\"\",IF(FZ6=0,0,(SUM(GC6:GD6)-GB6)/FZ6))","v":0},{"$f":"IF(FX6=\"\",2,1)","v":1},null,{"$f":"$I6","v":"4"},{"$f":"$J6","v":"SHIN"},{"$f":"IF($I6=\"\",\"\",'Daten SR'!AJ7)","v":0},{"$f":"IF($I6=\"\",\"\",IF(GM6=0,0,GM6/$GM$4))","v":0},{"$f":"IF($I6=\"\",\"\",'Daten SR'!AM7)","v":0},{"$f":"IF($I6=\"\",\"\",'Daten SR'!AL7)","v":0},{"$f":"IF($I6=\"\",\"\",'Daten SR'!AK7)","v":0},{"$f":"IF($I6=\"\",\"\",IF(GM6=0,0,GO6/GM6))","v":0},{"$f":"IF($I6=\"\",\"\",IF(GM6=0,0,(GP6+GQ6)/GM6))","v":0},{"$f":"IF($I6=\"\",\"\",IF(GM6=0,0,GQ6/GM6))","v":0},{"$f":"IF($I6=\"\",\"\",IF(GM6=0,0,(SUM(GP6:GQ6)-GO6)/GM6))","v":0},{"$f":"IF(GK6=\"\",2,1)","v":1},null,{"$f":"$I6","v":"4"},{"$f":"$J6","v":"SHIN"},{"$f":"IF($I6=\"\",\"\",'Daten SR'!AN7)","v":0},{"$f":"IF($I6=\"\",\"\",IF(GZ6=0,0,GZ6/$GZ$4))","v":0},{"$f":"IF($I6=\"\",\"\",'Daten SR'!AQ7)","v":0},{"$f":"IF($I6=\"\",\"\",'Daten SR'!AP7)","v":0},{"$f":"IF($I6=\"\",\"\",'Daten SR'!AO7)","v":0},{"$f":"IF($I6=\"\",\"\",IF(GZ6=0,0,HB6/GZ6))","v":0},{"$f":"IF($I6=\"\",\"\",IF(GZ6=0,0,(HC6+HD6)/GZ6))","v":0},{"$f":"IF($I6=\"\",\"\",IF(GZ6=0,0,HD6/GZ6))","v":0},{"$f":"IF($I6=\"\",\"\",IF(GZ6=0,0,(SUM(HC6:HD6)-HB6)/GZ6))","v":0},{"$f":"IF(GX6=\"\",2,1)","v":1}]
[null,"6",{"$f":"IF(E7=-1,\"\",RIGHT(F7,LEN(F7)-E7))","v":"LEE"},null,{"$f":"IF(OR(E6=-1,'Daten MR'!B9=\"\"),-1,FIND(\" \",'Daten MR'!B9))","v":2},{"$f":"IF('Daten MR'!B9=\"\",\"\",'Daten MR'!B9)","v":"6 LEE"},null,null,{"$f":"Options!D21","v":"6"},{"$f":"Options!E21","v":"LEE"},{"$f":"Options!J21","v":"Setter"},{"$f":"Options!K21","v":"Set"},null,{"$f":"IF($I7=\"\",\"\",'Daten MR'!C9)","v":5},{"$f":"IF($I7=\"\",\"\",'Daten MR'!D9)","v":2},0.4,{"$f":"IF($I7=\"\",\"\",'Daten MR'!E9)","v":1},{"$f":"IF($I7=\"\",\"\",'Daten MR'!F9)","v":6},{"$f":"IF($I7=\"\",\"\",'Daten MR'!G9)","v":-4},{"$f":"IF($I7=\"\",\"\",'Daten MR'!H9)","v":6},{"$f":"IF($I7=\"\",\"\",'Daten MR'!J9)","v":0},{"$f":"IF($I7=\"\",\"\",'Daten MR'!K9)","v":4},{"$f":"IF($I7=\"\",\"\",'Daten MR'!L9)","v":2},{"$f":"IF($I7=\"\",\"\",'Daten MR'!M9)","v":0},0,0,{"$f":"IF($I7=\"\",\"\",'Daten MR'!I9)","v":"33%"},{"$f":"IF($I7=\"\",\"\",'Daten MR'!N9)","v":0},"0%",{"$f":"IF($I7=\"\",\"\",'Daten MR'!P9)","v":0},{"$f":"IF($I7=\"\",\"\",'Daten MR'!Q9)","v":0},{"$f":"IF($I7=\"\",\"\",'Daten MR'!R9)","v":0},{"$f":"IF($I7=\"\",\"\",'Daten MR'!S9)","v":0},{"$f":"IF($I7=\"\",\"\",'Daten MR'!T9)","v":0},"0%",{"$f":"IF($I7=\"\",\"\",'Daten MR'!U9)","v":"0"},{"$f":"IF($I7=\"\",\"\",'Daten MR'!V9)","v":"0"},{"$f":"IF($I7=\"\",\"\",'Daten MR'!O9)","v":"0"},{"$f":"IF($I7=\"\",\"\",'Daten MR'!W9)","v":2},{"$f":"IF($I7=\"\",\"\",IF(AM7=0,\"0%\",(AM7)/$AM$4))","v":1.9230769230769232E-2},{"$f":"IF($I7=\"\",\"\",'Daten MR'!Y9)","v":1},{"$f":"IF($I7=\"\",\"\",'Daten MR'!Z9)","v":0},{"$f":"IF($I7=\"\",\"\",'Daten MR'!AA9)","v":0},{"$f":"IF($I7=\"\",\"\",'Daten MR'!AB9)","v":0},{"$f":"IF($I7=\"\",\"\",'Daten MR'!AC9)","v":1},0.5,{"$f":"IF($I7=\"\",\"\",'Daten MR'!AD9)","v":"50%"},{"$f":"IF($I7=\"\",\"\",'Daten MR'!X9)","v":"0%"},{"$f":"IF($I7=\"\",\"\",'Daten MR'!AE9)","v":6},{"$f":"IF($I7=\"\",\"\",'Daten MR'!AG9)","v":3},{"$f":"IF($I7=\"\",\"\",'Daten MR'!AH9)","v":0},{"$f":"IF($I7=\"\",\"\",'Daten MR'!AI9)","v":1},0.16666666666666666,{"$f":"IF($I7=\"\",\"\",'Daten MR'!AF9)","v":"-33%"},{"$f":"IF($I7=\"\",\"\",'Daten MR'!AJ9)","v":4},{"$f":"IF($I7=\"\",\"\",'Daten MR'!AL9)","v":2},{"$f":"IF($I7=\"\",\"\",'Daten MR'!AM9)","v":1},{"$f":"IF($I7=\"\",\"\",'Daten MR'!AN9)","v":1},0.25,{"$f":"IF($I7=\"\",\"\",'Daten MR'!AK9)","v":"-25%"},{"$f":"IF($I7=\"\",\"\",'Daten MR'!AO9)","v":0},{"$f":"IF($I7=\"\",\"\",'Daten MR'!AQ9)","v":0},{"$f":"IF($I7=\"\",\"\",'Daten MR'!AR9)","v":0},{"$f":"IF($I7=\"\",\"\",'Daten MR'!AS9)","v":0},{"$f":"IF($I7=\"\",\"\",'Daten MR'!AP9)","v":"0%"},{"$f":"IF($I7=\"\",\"\",'Daten MR'!AT9)","v":59},{"$f":"IF($I7=\"\",\"\",'Daten MR'!AV9)","v":0},{"$f":"IF($I7=\"\",\"\",'Daten MR'!AU9)","v":"73%"},null,null,"6","LEE",{"$f":"IF($I7=\"\",\"\",'Daten A1'!B9)","v":0},{"$f":"IF($I7=\"\",\"\",'Daten A1'!C9)","v":"0%"},{"$f":"IF($I7=\"\",\"\",'Daten A1'!E9)","v":0},{"$f":"IF($I7=\"\",\"\",'Daten A1'!F9)","v":0},{"$f":"IF($I7=\"\",\"\",'Daten A1'!G9)","v":0},{"$f":"IF($I7=\"\",\"\",IF(BU7=0,\"0%\",'Daten A1'!H9))","v":"0%"},{"$f":"IF($I7=\"\",\"\",'Daten A1'!D9)","v":"0%"},{"$f":"IF($I7=\"\",\"\",'Daten A1'!I9)","v":0},{"$f":"IF($I7=\"\",\"\",'Daten A1'!J9)","v":"0%"},{"$f":"IF($I7=\"\",\"\",'Daten A1'!L9)","v":0},{"$f":"IF($I7=\"\",\"\",'Daten A1'!M9)","v":0},{"$f":"IF($I7=\"\",\"\",'Daten A1'!N9)","v":0},{"$f":"IF($I7=\"\",\"\",IF(CB7=0,\"0%\",'Daten A1'!O9))","v":"0%"},{"$f":"IF($I7=\"\",\"\",'Daten A1'!K9)","v":"0%"},{"$f":"IF($I7=\"\",\"\",'Daten A1'!P9)","v":0},{"$f":"IF($I7=\"\",\"\",'Daten A1'!Q9)","v":"0%"},{"$f":"IF($I7=\"\",\"\",'Daten A1'!S9)","v":0},{"$f":"IF($I7=\"\",\"\",'Daten A1'!T9)","v":0},{"$f":"IF($I7=\"\",\"\",'Daten A1'!U9)","v":0},{"$f":"IF($I7=\"\",\"\",IF(CI7=0,\"0%\",'Daten A1'!V9))","v":"0%"},{"$f":"IF($I7=\"\",\"\",'Daten A1'!R9)","v":"0%"},{"$f":"IF($I7=\"\",\"\",'Daten A1'!W9)","v":0},{"$f":"IF($I7=\"\",\"\",'Daten A1'!X9)","v":"0%"},{"$f":"IF($I7=\"\",\"\",'Daten A1'!Z9)","v":0},{"$f":"IF($I7=\"\",\"\",'Daten A1'!AA9)","v":0},{"$f":"IF($I7=\"\",\"\",'Daten A1'!AB9)","v":0},{"$f":"IF($I7=\"\",\"\",IF(CP7=0,\"0%\",'Daten A1'!AC9))","v":"0%"},{"$f":"IF($I7=\"\",\"\",'Daten A1'!Y9)","v":"0%"},{"$f":"IF($I7=\"\",\"\",'Daten A1'!AD9)","v":0},{"$f":"IF($I7=\"\",\"\",'Daten A1'!AE9)","v":"0%"},{"$f":"IF($I7=\"\",\"\",'Daten A1'!AG9)","v":0},{"$f":"IF($I7=\"\",\"\",'Daten A1'!AH9)","v":0},{"$f":"IF($I7=\"\",\"\",'Daten A1'!AI9)","v":0},{"$f":"IF($I7=\"\",\"\",IF(CW7=0,\"0%\",'Daten A1'!AJ9))","v":"0%"},{"$f":"IF($I7=\"\",\"\",'Daten A1'!AF9)","v":"0%"},{"$f":"IF($I7=\"\",\"\",'Daten A1'!AK9)","v":0},{"$f":"IF($I7=\"\",\"\",'Daten A1'!AL9)","v":"0"},{"$f":"IF($I7=\"\",\"\",'Daten A1'!AN9)","v":0},{"$f":"IF($I7=\"\",\"\",'Daten A1'!AO9)","v":0},{"$f":"IF($I7=\"\",\"\",'Daten A1'!AP9)","v":0},{"$f":"IF($I7=\"\",\"\",IF(DD7=0,\"0%\",'Daten A1'!AQ9))","v":"0%"},{"$f":"IF($I7=\"\",\"\",'Daten A1'!AM9)","v":"0%"},{"$f":"IF($I7=\"\",\"\",'Daten A1'!AR9)","v":0},{"$f":"IF($I7=\"\",\"\",'Daten A1'!AT9)","v":0},"0%",{"$f":"IF($I7=\"\",\"\",'Daten A1'!AS9)","v":"0%"},{"$f":"IF($I7=\"\",\"\",'Daten A1'!AU9)","v":0},{"$f":"IF($I7=\"\",\"\",'Daten A1'!AW9)","v":0},"0%",{"$f":"IF($I7=\"\",\"\",'Daten A1'!AV9)","v":"0%"},1,null,null,"6","LEE",{"$f":"IF($I7=\"\",\"\",'Daten MR'!N9)","v":0},0,{"$f":"IF($I7=\"\",\"\",'Daten MR'!P9)","v":0},{"$f":"IF($I7=\"\",\"\",'Daten MR'!Q9)","v":0},{"$f":"IF($I7=\"\",\"\",'Daten MR'!R9)","v":0},{"$f":"IF($I7=\"\",\"\",'Daten MR'!S9)","v":0},{"$f":"IF($I7=\"\",\"\",'Daten MR'!T9)","v":0},0,0,0,{"$f":"IF($I7=\"\",\"\",'Daten MR'!O9)","v":"0"},1,null,"6","LEE",{"$f":"IF($I7=\"\",\"\",'Daten SR'!T8)","v":0},0,{"$f":"IF($I7=\"\",\"\",'Daten SR'!W8)","v":0},{"$f":"IF($I7=\"\",\"\",'Daten SR'!V8)","v":0},{"$f":"IF($I7=\"\",\"\",'Daten SR'!U8)","v":0},0,0,0,0,1,null,"6","LEE",{"$f":"IF($I7=\"\",\"\",'Daten SR'!X8)","v":0},0,{"$f":"IF($I7=\"\",\"\",'Daten SR'!AA8)","v":0},{"$f":"IF($I7=\"\",\"\",'Daten SR'!Z8)","v":0},{"$f":"IF($I7=\"\",\"\",'Daten SR'!Y8)","v":0},0,0,0,0,1,null,"6","LEE",{"$f":"IF($I7=\"\",\"\",'Daten SR'!AB8)","v":0},0,{"$f":"IF($I7=\"\",\"\",'Daten SR'!AE8)","v":0},{"$f":"IF($I7=\"\",\"\",'Daten SR'!AD8)","v":0},{"$f":"IF($I7=\"\",\"\",'Daten SR'!AC8)","v":0},0,0,0,0,1,null,"6","LEE",{"$f":"IF($I7=\"\",\"\",'Daten SR'!AF8)","v":0},0,{"$f":"IF($I7=\"\",\"\",'Daten SR'!AI8)","v":0},{"$f":"IF($I7=\"\",\"\",'Daten SR'!AH8)","v":0},{"$f":"IF($I7=\"\",\"\",'Daten SR'!AG8)","v":0},0,0,0,0,1,null,"6","LEE",{"$f":"IF($I7=\"\",\"\",'Daten SR'!AJ8)","v":0},0,{"$f":"IF($I7=\"\",\"\",'Daten SR'!AM8)","v":0},{"$f":"IF($I7=\"\",\"\",'Daten SR'!AL8)","v":0},{"$f":"IF($I7=\"\",\"\",'Daten SR'!AK8)","v":0},0,0,0,0,1,null,"6","LEE",{"$f":"IF($I7=\"\",\"\",'Daten SR'!AN8)","v":0},0,{"$f":"IF($I7=\"\",\"\",'Daten SR'!AQ8)","v":0},{"$f":"IF($I7=\"\",\"\",'Daten SR'!AP8)","v":0},{"$f":"IF($I7=\"\",\"\",'Daten SR'!AO8)","v":0},0,0,0,0,1]
[null,"8","PARK",null,{"$f":"IF(OR(E7=-1,'Daten MR'!B10=\"\"),-1,FIND(\" \",'Daten MR'!B10))","v":2},{"$f":"IF('Daten MR'!B10=\"\",\"\",'Daten MR'!B10)","v":"8 PARK"},null,null,{"$f":"Options!D22","v":"8"},{"$f":"Options!E22","v":"PARK"},{"$f":"Options!J22","v":"Middleblock"},{"$f":"Options!K22","v":"MB"},null,{"$f":"IF($I8=\"\",\"\",'Daten MR'!C10)","v":3},{"$f":"IF($I8=\"\",\"\",'Daten MR'!D10)","v":1},0.33333333333333331,{"$f":"IF($I8=\"\",\"\",'Daten MR'!E10)","v":1},{"$f":"IF($I8=\"\",\"\",'Daten MR'!F10)","v":6},{"$f":"IF($I8=\"\",\"\",'Daten MR'!G10)","v":-5},{"$f":"IF($I8=\"\",\"\",'Daten MR'!H10)","v":2},{"$f":"IF($I8=\"\",\"\",'Daten MR'!J10)","v":0},{"$f":"IF($I8=\"\",\"\",'Daten MR'!K10)","v":2},{"$f":"IF($I8=\"\",\"\",'Daten MR'!L10)","v":0},{"$f":"IF($I8=\"\",\"\",'Daten MR'!M10)","v":0},0,0,{"$f":"IF($I8=\"\",\"\",'Daten MR'!I10)","v":"0%"},{"$f":"IF($I8=\"\",\"\",'Daten MR'!N10)","v":0},"0%",{"$f":"IF($I8=\"\",\"\",'Daten MR'!P10)","v":0},{"$f":"IF($I8=\"\",\"\",'Daten MR'!Q10)","v":0},{"$f":"IF($I8=\"\",\"\",'Daten MR'!R10)","v":0},{"$f":"IF($I8=\"\",\"\",'Daten MR'!S10)","v":0},{"$f":"IF($I8=\"\",\"\",'Daten MR'!T10)","v":0},"0%",{"$f":"IF($I8=\"\",\"\",'Daten MR'!U10)","v":"0"},{"$f":"IF($I8=\"\",\"\",'Daten MR'!V10)","v":"0"},{"$f":"IF($I8=\"\",\"\",'Daten MR'!O10)","v":"0"},{"$f":"IF($I8=\"\",\"\",'Daten MR'!W10)","v":5},{"$f":"IF($I8=\"\",\"\",IF(AM8=0,\"0%\",(AM8)/$AM$4))","v":4.807692307692308E-2},{"$f":"IF($I8=\"\",\"\",'Daten MR'!Y10)","v":1},{"$f":"IF($I8=\"\",\"\",'Daten MR'!Z10)","v":2},{"$f":"IF($I8=\"\",\"\",'Daten MR'!AA10)","v":0},{"$f":"IF($I8=\"\",\"\",'Daten MR'!AB10)","v":0},{"$f":"IF($I8=\"\",\"\",'Daten MR'!AC10)","v":1},0.6,{"$f":"IF($I8=\"\",\"\",'Daten MR'!AD10)","v":"20%"},{"$f":"IF($I8=\"\",\"\",'Daten MR'!X10)","v":"-40%"},{"$f":"IF($I8=\"\",\"\",'Daten MR'!AE10)","v":5},{"$f":"IF($I8=\"\",\"\",'Daten MR'!AG10)","v":3},{"$f":"IF($I8=\"\",\"\",'Daten MR'!AH10)","v":0},{"$f":"IF($I8=\"\",\"\",'Daten MR'!AI10)","v":0},0,{"$f":"IF($I8=\"\",\"\",'Daten MR'!AF10)","v":"-60%"},{"$f":"IF($I8=\"\",\"\",'Daten MR'!AJ10)","v":0},{"$f":"IF($I8=\"\",\"\",'Daten MR'!AL10)","v":0},{"$f":"IF($I8=\"\",\"\",'Daten MR'!AM10)","v":0},{"$f":"IF($I8=\"\",\"\",'Daten MR'!AN10)","v":0},"0%",{"$f":"IF($I8=\"\",\"\",'Daten MR'!AK10)","v":"0%"},{"$f":"IF($I8=\"\",\"\",'Daten MR'!AO10)","v":0},{"$f":"IF($I8=\"\",\"\",'Daten MR'!AQ10)","v":0},{"$f":"IF($I8=\"\",\"\",'Daten MR'!AR10)","v":0},{"$f":"IF($I8=\"\",\"\",'Daten MR'!AS10)","v":0},{"$f":"IF($I8=\"\",\"\",'Daten MR'!AP10)","v":"0%"},{"$f":"IF($I8=\"\",\"\",'Daten MR'!AT10)","v":0},{"$f":"IF($I8=\"\",\"\",'Daten MR'!AV10)","v":0},{"$f":"IF($I8=\"\",\"\",'Daten MR'!AU10)","v":"0%"},null,null,"8","PARK",{"$f":"IF($I8=\"\",\"\",'Daten A1'!B10)","v":5},{"$f":"IF($I8=\"\",\"\",'Daten A1'!C10)","v":"5%"},{"$f":"IF($I8=\"\",\"\",'Daten A1'!E10)","v":1},{"$f":"IF($I8=\"\",\"\",'Daten A1'!F10)","v":2},{"$f":"IF($I8=\"\",\"\",'Daten A1'!G10)","v":1},{"$f":"IF($I8=\"\",\"\",IF(BU8=0,\"0%\",'Daten A1'!H10))","v":"20%"},{"$f":"IF($I8=\"\",\"\",'Daten A1'!D10)","v":"-40%"},{"$f":"IF($I8=\"\",\"\",'Daten A1'!I10)","v":4},{"$f":"IF($I8=\"\",\"\",'Daten A1'!J10)","v":"5%"},{"$f":"IF($I8=\"\",\"\",'Daten A1'!L10)","v":0},{"$f":"IF($I8=\"\",\"\",'Daten A1'!M10)","v":2},{"$f":"IF($I8=\"\",\"\",'Daten A1'!N10)","v":1},{"$f":"IF($I8=\"\",\"\",IF(CB8=0,\"0%\",'Daten A1'!O10))","v":"25%"},{"$f":"IF($I8=\"\",\"\",'Daten A1'!K10)","v":"-25%"},{"$f":"IF($I8=\"\",\"\",'Daten A1'!P10)","v":3},{"$f":"IF($I8=\"\",\"\",'Daten A1'!Q10)","v":"6%"},{"$f":"IF($I8=\"\",\"\",'Daten A1'!S10)","v":0},{"$f":"IF($I8=\"\",\"\",'Daten A1'!T10)","v":1},{"$f":"IF($I8=\"\",\"\",'Daten A1'!U10)","v":1},{"$f":"IF($I8=\"\",\"\",IF(CI8=0,\"0%\",'Daten A1'!V10))","v":"33%"},{"$f":"IF($I8=\"\",\"\",'Daten A1'!R10)","v":"0%"},{"$f":"IF($I8=\"\",\"\",'Daten A1'!W10)","v":1},{"$f":"IF($I8=\"\",\"\",'Daten A1'!X10)","v":"4%"},{"$f":"IF($I8=\"\",\"\",'Daten A1'!Z10)","v":0},{"$f":"IF($I8=\"\",\"\",'Daten A1'!AA10)","v":1},{"$f":"IF($I8=\"\",\"\",'Daten A1'!AB10)","v":0},{"$f":"IF($I8=\"\",\"\",IF(CP8=0,\"0%\",'Daten A1'!AC10))","v":"0%"},{"$f":"IF($I8=\"\",\"\",'Daten A1'!Y10)","v":"-100%"},{"$f":"IF($I8=\"\",\"\",'Daten A1'!AD10)","v":1},{"$f":"IF($I8=\"\",\"\",'Daten A1'!AE10)","v":"4%"},{"$f":"IF($I8=\"\",\"\",'Daten A1'!AG10)","v":1},{"$f":"IF($I8=\"\",\"\",'Daten A1'!AH10)","v":0},{"$f":"IF($I8=\"\",\"\",'Daten A1'!AI10)","v":0},{"$f":"IF($I8=\"\",\"\",IF(CW8=0,\"0%\",'Daten A1'!AJ10))","v":"0%"},{"$f":"IF($I8=\"\",\"\",'Daten A1'!AF10)","v":"-100%"},{"$f":"IF($I8=\"\",\"\",'Daten A1'!AK10)","v":0},{"$f":"IF($I8=\"\",\"\",'Daten A1'!AL10)","v":"0"},{"$f":"IF($I8=\"\",\"\",'Daten A1'!AN10)","v":0},{"$f":"IF($I8=\"\",\"\",'Daten A1'!AO10)","v":0},{"$f":"IF($I8=\"\",\"\",'Daten A1'!AP10)","v":0},{"$f":"IF($I8=\"\",\"\",IF(DD8=0,\"0%\",'Daten A1'!AQ10))","v":"0%"},{"$f":"IF($I8=\"\",\"\",'Daten A1'!AM10)","v":"0%"},{"$f":"IF($I8=\"\",\"\",'Daten A1'!AR10)","v":4},{"$f":"IF($I8=\"\",\"\",'Daten A1'!AT10)","v":1},0.25,{"$f":"IF($I8=\"\",\"\",'Daten A1'!AS10)","v":"-25%"},{"$f":"IF($I8=\"\",\"\",'Daten A1'!AU10)","v":0},{"$f":"IF($I8=\"\",\"\",'Daten A1'!AW10)","v":0},"0%",{"$f":"IF($I8=\"\",\"\",'Daten A1'!AV10)","v":"0%"},1,null,null,"8","PARK",{"$f":"IF($I8=\"\",\"\",'Daten MR'!N10)","v":0},0,{"$f":"IF($I8=\"\",\"\",'Daten MR'!P10)","v":0},{"$f":"IF($I8=\"\",\"\",'Daten MR'!Q10)","v":0},{"$f":"IF($I8=\"\",\"\",'Daten MR'!R10)","v":0},{"$f":"IF($I8=\"\",\"\",'Daten MR'!S10)","v":0},{"$f":"IF($I8=\"\",\"\",'Daten MR'!T10)","v":0},0,0,0,{"$f":"IF($I8=\"\",\"\",'Daten MR'!O10)","v":"0"},1,null,"8","PARK",{"$f":"IF($I8=\"\",\"\",'Daten SR'!T9)","v":0},0,{"$f":"IF($I8=\"\",\"\",'Daten SR'!W9)","v":0},{"$f":"IF($I8=\"\",\"\",'Daten SR'!V9)","v":0},{"$f":"IF($I8=\"\",\"\",'Daten SR'!U9)","v":0},0,0,0,0,1,null,"8","PARK",{"$f":"IF($I8=\"\",\"\",'Daten SR'!X9)","v":0},0,{"$f":"IF($I8=\"\",\"\",'Daten SR'!AA9)","v":0},{"$f":"IF($I8=\"\",\"\",'Daten SR'!Z9)","v":0},{"$f":"IF($I8=\"\",\"\",'Daten SR'!Y9)","v":0},0,0,0,0,1,null,"8","PARK",{"$f":"IF($I8=\"\",\"\",'Daten SR'!AB9)","v":0},0,{"$f":"IF($I8=\"\",\"\",'Daten SR'!AE9)","v":0},{"$f":"IF($I8=\"\",\"\",'Daten SR'!AD9)","v":0},{"$f":"IF($I8=\"\",\"\",'Daten SR'!AC9)","v":0},0,0,0,0,1,null,"8","PARK",{"$f":"IF($I8=\"\",\"\",'Daten SR'!AF9)","v":0},0,{"$f":"IF($I8=\"\",\"\",'Daten SR'!AI9)","v":0},{"$f":"IF($I8=\"\",\"\",'Daten SR'!AH9)","v":0},{"$f":"IF($I8=\"\",\"\",'Daten SR'!AG9)","v":0},0,0,0,0,1,null,"8","PARK",{"$f":"IF($I8=\"\",\"\",'Daten SR'!AJ9)","v":0},0,{"$f":"IF($I8=\"\",\"\",'Daten SR'!AM9)","v":0},{"$f":"IF($I8=\"\",\"\",'Daten SR'!AL9)","v":0},{"$f":"IF($I8=\"\",\"\",'Daten SR'!AK9)","v":0},0,0,0,0,1,null,"8","PARK",{"$f":"IF($I8=\"\",\"\",'Daten SR'!AN9)","v":0},0,{"$f":"IF($I8=\"\",\"\",'Daten SR'!AQ9)","v":0},{"$f":"IF($I8=\"\",\"\",'Daten SR'!AP9)","v":0},{"$f":"IF($I8=\"\",\"\",'Daten SR'!AO9)","v":0},0,0,0,0,1]
[null,"9","KWAK",null,{"$f":"IF(OR(E8=-1,'Daten MR'!B11=\"\"),-1,FIND(\" \",'Daten MR'!B11))","v":2},{"$f":"IF('Daten MR'!B11=\"\",\"\",'Daten MR'!B11)","v":"9 KWAK"},null,null,{"$f":"Options!D23","v":"9"},{"$f":"Options!E23","v":"KWAK"},{"$f":"Options!J23","v":"Outside"},{"$f":"Options!K23","v":"Out"},null,{"$f":"IF($I9=\"\",\"\",'Daten MR'!C11)","v":5},{"$f":"IF($I9=\"\",\"\",'Daten MR'!D11)","v":4},0.8,{"$f":"IF($I9=\"\",\"\",'Daten MR'!E11)","v":2},{"$f":"IF($I9=\"\",\"\",'Daten MR'!F11)","v":8},{"$f":"IF($I9=\"\",\"\",'Daten MR'!G11)","v":-4},{"$f":"IF($I9=\"\",\"\",'Daten MR'!H11)","v":15},{"$f":"IF($I9=\"\",\"\",'Daten MR'!J11)","v":1},{"$f":"IF($I9=\"\",\"\",'Daten MR'!K11)","v":12},{"$f":"IF($I9=\"\",\"\",'Daten MR'!L11)","v":2},{"$f":"IF($I9=\"\",\"\",'Daten MR'!M11)","v":0},6.6666666666666666E-2,0,{"$f":"IF($I9=\"\",\"\",'Daten MR'!I11)","v":"7%"},{"$f":"IF($I9=\"\",\"\",'Daten MR'!N11)","v":29},0.35365853658536583,{"$f":"IF($I9=\"\",\"\",'Daten MR'!P11)","v":0},{"$f":"IF($I9=\"\",\"\",'Daten MR'!Q11)","v":0},{"$f":"IF($I9=\"\",\"\",'Daten MR'!R11)","v":13},{"$f":"IF($I9=\"\",\"\",'Daten MR'!S11)","v":11},{"$f":"IF($I9=\"\",\"\",'Daten MR'!T11)","v":5},0,{"$f":"IF($I9=\"\",\"\",'Daten MR'!U11)","v":"55%"},{"$f":"IF($I9=\"\",\"\",'Daten MR'!V11)","v":"17%"},{"$f":"IF($I9=\"\",\"\",'Daten MR'!O11)","v":"55%"},{"$f":"IF($I9=\"\",\"\",'Daten MR'!W11)","v":7},6.7307692307692304E-2,{"$f":"IF($I9=\"\",\"\",'Daten MR'!Y11)","v":1},{"$f":"IF($I9=\"\",\"\",'Daten MR'!Z11)","v":1},{"$f":"IF($I9=\"\",\"\",'Daten MR'!AA11)","v":0},{"$f":"IF($I9=\"\",\"\",'Daten MR'!AB11)","v":0},{"$f":"IF($I9=\"\",\"\",'Daten MR'!AC11)","v":4},0.2857142857142857,{"$f":"IF($I9=\"\",\"\",'Daten MR'!AD11)","v":"57%"},{"$f":"IF($I9=\"\",\"\",'Daten MR'!X11)","v":"29%"},{"$f":"IF($I9=\"\",\"\",'Daten MR'!AE11)","v":4},{"$f":"IF($I9=\"\",\"\",'Daten MR'!AG11)","v":3},{"$f":"IF($I9=\"\",\"\",'Daten MR'!AH11)","v":0},{"$f":"IF($I9=\"\",\"\",'Daten MR'!AI11)","v":0},0,{"$f":"IF($I9=\"\",\"\",'Daten MR'!AF11)","v":"-75%"},{"$f":"IF($I9=\"\",\"\",'Daten MR'!AJ11)","v":6},{"$f":"IF($I9=\"\",\"\",'Daten MR'!AL11)","v":2},{"$f":"IF($I9=\"\",\"\",'Daten MR'!AM11)","v":2},{"$f":"IF($I9=\"\",\"\",'Daten MR'!AN11)","v":2},0.33333333333333331,{"$f":"IF($I9=\"\",\"\",'Daten MR'!AK11)","v":"0%"},{"$f":"IF($I9=\"\",\"\",'Daten MR'!AO11)","v":0},{"$f":"IF($I9=\"\",\"\",'Daten MR'!AQ11)","v":0},{"$f":"IF($I9=\"\",\"\",'Daten MR'!AR11)","v":0},{"$f":"IF($I9=\"\",\"\",'Daten MR'!AS11)","v":0},{"$f":"IF($I9=\"\",\"\",'Daten MR'!AP11)","v":"0%"},{"$f":"IF($I9=\"\",\"\",'Daten MR'!AT11)","v":0},{"$f":"IF($I9=\"\",\"\",'Daten MR'!AV11)","v":0},{"$f":"IF($I9=\"\",\"\",'Daten MR'!AU11)","v":"0%"},null,null,"9","KWAK",{"$f":"IF($I9=\"\",\"\",'Daten A1'!B11)","v":7},{"$f":"IF($I9=\"\",\"\",'Daten A1'!C11)","v":"7%"},{"$f":"IF($I9=\"\",\"\",'Daten A1'!E11)","v":1},{"$f":"IF($I9=\"\",\"\",'Daten A1'!F11)","v":1},{"$f":"IF($I9=\"\",\"\",'Daten A1'!G11)","v":4},{"$f":"IF($I9=\"\",\"\",IF(BU9=0,\"0%\",'Daten A1'!H11))","v":"57%"},{"$f":"IF($I9=\"\",\"\",'Daten A1'!D11)","v":"29%"},{"$f":"IF($I9=\"\",\"\",'Daten A1'!I11)","v":2},{"$f":"IF($I9=\"\",\"\",'Daten A1'!J11)","v":"3%"},{"$f":"IF($I9=\"\",\"\",'Daten A1'!L11)","v":0},{"$f":"IF($I9=\"\",\"\",'Daten A1'!M11)","v":0},{"$f":"IF($I9=\"\",\"\",'Daten A1'!N11)","v":1},{"$f":"IF($I9=\"\",\"\",IF(CB9=0,\"0%\",'Daten A1'!O11))","v":"50%"},{"$f":"IF($I9=\"\",\"\",'Daten A1'!K11)","v":"50%"},{"$f":"IF($I9=\"\",\"\",'Daten A1'!P11)","v":2},{"$f":"IF($I9=\"\",\"\",'Daten A1'!Q11)","v":"4%"},{"$f":"IF($I9=\"\",\"\",'Daten A1'!S11)","v":0},{"$f":"IF($I9=\"\",\"\",'Daten A1'!T11)","v":0},{"$f":"IF($I9=\"\",\"\",'Daten A1'!U11)","v":1},{"$f":"IF($I9=\"\",\"\",IF(CI9=0,\"0%\",'Daten A1'!V11))","v":"50%"},{"$f":"IF($I9=\"\",\"\",'Daten A1'!R11)","v":"50%"},{"$f":"IF($I9=\"\",\"\",'Daten A1'!W11)","v":0},{"$f":"IF($I9=\"\",\"\",'Daten A1'!X11)","v":"0%"},{"$f":"IF($I9=\"\",\"\",'Daten A1'!Z11)","v":0},{"$f":"IF($I9=\"\",\"\",'Daten A1'!AA11)","v":0},{"$f":"IF($I9=\"\",\"\",'Daten A1'!AB11)","v":0},{"$f":"IF($I9=\"\",\"\",IF(CP9=0,\"0%\",'Daten A1'!AC11))","v":"0%"},{"$f":"IF($I9=\"\",\"\",'Daten A1'!Y11)","v":"0%"},{"$f":"IF($I9=\"\",\"\",'Daten A1'!AD11)","v":5},{"$f":"IF($I9=\"\",\"\",'Daten A1'!AE11)","v":"19%"},{"$f":"IF($I9=\"\",\"\",'Daten A1'!AG11)","v":1},{"$f":"IF($I9=\"\",\"\",'Daten A1'!AH11)","v":1},{"$f":"IF($I9=\"\",\"\",'Daten A1'!AI11)","v":3},{"$f":"IF($I9=\"\",\"\",IF(CW9=0,\"0%\",'Daten A1'!AJ11))","v":"60%"},{"$f":"IF($I9=\"\",\"\",'Daten A1'!AF11)","v":"20%"},{"$f":"IF($I9=\"\",\"\",'Daten A1'!AK11)","v":2},{"$f":"IF($I9=\"\",\"\",'Daten A1'!AL11)","v":"200%"},{"$f":"IF($I9=\"\",\"\",'Daten A1'!AN11)","v":1},{"$f":"IF($I9=\"\",\"\",'Daten A1'!AO11)","v":0},{"$f":"IF($I9=\"\",\"\",'Daten A1'!AP11)","v":1},{"$f":"IF($I9=\"\",\"\",IF(DD9=0,\"0%\",'Daten A1'!AQ11))","v":"50%"},{"$f":"IF($I9=\"\",\"\",'Daten A1'!AM11)","v":"0%"},{"$f":"IF($I9=\"\",\"\",'Daten A1'!AR11)","v":1},{"$f":"IF($I9=\"\",\"\",'Daten A1'!AT11)","v":1},1,{"$f":"IF($I9=\"\",\"\",'Daten A1'!AS11)","v":"100%"},{"$f":"IF($I9=\"\",\"\",'Daten A1'!AU11)","v":1},{"$f":"IF($I9=\"\",\"\",'Daten A1'!AW11)","v":0},0,{"$f":"IF($I9=\"\",\"\",'Daten A1'!AV11)","v":"0%"},1,null,null,"9","KWAK",{"$f":"IF($I9=\"\",\"\",'Daten MR'!N11)","v":29},0.35365853658536583,{"$f":"IF($I9=\"\",\"\",'Daten MR'!P11)","v":0},{"$f":"IF($I9=\"\",\"\",'Daten MR'!Q11)","v":0},{"$f":"IF($I9=\"\",\"\",'Daten MR'!R11)","v":13},{"$f":"IF($I9=\"\",\"\",'Daten MR'!S11)","v":11},{"$f":"IF($I9=\"\",\"\",'Daten MR'!T11)","v":5},0,0.55172413793103448,0.17241379310344829,{"$f":"IF($I9=\"\",\"\",'Daten MR'!O11)","v":"55%"},1,null,"9","KWAK",{"$f":"IF($I9=\"\",\"\",'Daten SR'!T10)","v":4},0.4,{"$f":"IF($I9=\"\",\"\",'Daten SR'!W10)","v":0},{"$f":"IF($I9=\"\",\"\",'Daten SR'!V10)","v":2},{"$f":"IF($I9=\"\",\"\",'Daten SR'!U10)","v":1},0,0.75,0.25,0.75,1,null,"9","KWAK",{"$f":"IF($I9=\"\",\"\",'Daten SR'!X10)","v":4},0.18181818181818182,{"$f":"IF($I9=\"\",\"\",'Daten SR'!AA10)","v":0},{"$f":"IF($I9=\"\",\"\",'Daten SR'!Z10)","v":0},{"$f":"IF($I9=\"\",\"\",'Daten SR'!Y10)","v":0},0,0,0,0,1,null,"9","KWAK",{"$f":"IF($I9=\"\",\"\",'Daten SR'!AB10)","v":5},0.33333333333333331,{"$f":"IF($I9=\"\",\"\",'Daten SR'!AE10)","v":0},{"$f":"IF($I9=\"\",\"\",'Daten SR'!AD10)","v":2},{"$f":"IF($I9=\"\",\"\",'Daten SR'!AC10)","v":1},0,0.6,0.2,0.6,1,null,"9","KWAK",{"$f":"IF($I9=\"\",\"\",'Daten SR'!AF10)","v":3},0.3,{"$f":"IF($I9=\"\",\"\",'Daten SR'!AI10)","v":0},{"$f":"IF($I9=\"\",\"\",'Daten SR'!AH10)","v":1},{"$f":"IF($I9=\"\",\"\",'Daten SR'!AG10)","v":2},0,1,0.66666666666666663,1,1,null,"9","KWAK",{"$f":"IF($I9=\"\",\"\",'Daten SR'!AJ10)","v":4},0.44444444444444442,{"$f":"IF($I9=\"\",\"\",'Daten SR'!AM10)","v":0},{"$f":"IF($I9=\"\",\"\",'Daten SR'!AL10)","v":2},{"$f":"IF($I9=\"\",\"\",'Daten SR'!AK10)","v":0},0,0.5,0,0.5,1,null,"9","KWAK",{"$f":"IF($I9=\"\",\"\",'Daten SR'!AN10)","v":9},0.5625,{"$f":"IF($I9=\"\",\"\",'Daten SR'!AQ10)","v":0},{"$f":"IF($I9=\"\",\"\",'Daten SR'!AP10)","v":4},{"$f":"IF($I9=\"\",\"\",'Daten SR'!AO10)","v":1},0,0.55555555555555558,0.1111111111111111,0.55555555555555558,1]
[null,"11","CHOI",null,{"$f":"IF(OR(E9=-1,'Daten MR'!B12=\"\"),-1,FIND(\" \",'Daten MR'!B12))","v":3},{"$f":"IF('Daten MR'!B12=\"\",\"\",'Daten MR'!B12)","v":"11 CHOI"},null,null,{"$f":"Options!D24","v":"11"},{"$f":"Options!E24","v":"CHOI"},{"$f":"Options!J24","v":"Middleblock"},{"$f":"Options!K24","v":"MB"},null,{"$f":"IF($I10=\"\",\"\",'Daten MR'!C12)","v":4},{"$f":"IF($I10=\"\",\"\",'Daten MR'!D12)","v":7},1.75,{"$f":"IF($I10=\"\",\"\",'Daten MR'!E12)","v":1},{"$f":"IF($I10=\"\",\"\",'Daten MR'!F12)","v":5},{"$f":"IF($I10=\"\",\"\",'Daten MR'!G12)","v":2},{"$f":"IF($I10=\"\",\"\",'Daten MR'!H12)","v":18},{"$f":"IF($I10=\"\",\"\",'Daten MR'!J12)","v":1},{"$f":"IF($I10=\"\",\"\",'Daten MR'!K12)","v":7},{"$f":"IF($I10=\"\",\"\",'Daten MR'!L12)","v":9},{"$f":"IF($I10=\"\",\"\",'Daten MR'!M12)","v":1},5.5555555555555552E-2,5.5555555555555552E-2,{"$f":"IF($I10=\"\",\"\",'Daten MR'!I12)","v":"50%"},{"$f":"IF($I10=\"\",\"\",'Daten MR'!N12)","v":0},"0%",{"$f":"IF($I10=\"\",\"\",'Daten MR'!P12)","v":0},{"$f":"IF($I10=\"\",\"\",'Daten MR'!Q12)","v":0},{"$f":"IF($I10=\"\",\"\",'Daten MR'!R12)","v":0},{"$f":"IF($I10=\"\",\"\",'Daten MR'!S12)","v":0},{"$f":"IF($I10=\"\",\"\",'Daten MR'!T12)","v":0},"0%",{"$f":"IF($I10=\"\",\"\",'Daten MR'!U12)","v":"0"},{"$f":"IF($I10=\"\",\"\",'Daten MR'!V12)","v":"0"},{"$f":"IF($I10=\"\",\"\",'Daten MR'!O12)","v":"0"},{"$f":"IF($I10=\"\",\"\",'Daten MR'!W12)","v":8},7.6923076923076927E-2,{"$f":"IF($I10=\"\",\"\",'Daten MR'!Y12)","v":0},{"$f":"IF($I10=\"\",\"\",'Daten MR'!Z12)","v":0},{"$f":"IF($I10=\"\",\"\",'Daten MR'!AA12)","v":0},{"$f":"IF($I10=\"\",\"\",'Daten MR'!AB12)","v":2},{"$f":"IF($I10=\"\",\"\",'Daten MR'!AC12)","v":4},0,{"$f":"IF($I10=\"\",\"\",'Daten MR'!AD12)","v":"50%"},{"$f":"IF($I10=\"\",\"\",'Daten MR'!X12)","v":"50%"},{"$f":"IF($I10=\"\",\"\",'Daten MR'!AE12)","v":12},{"$f":"IF($I10=\"\",\"\",'Daten MR'!AG12)","v":4},{"$f":"IF($I10=\"\",\"\",'Daten MR'!AH12)","v":3},{"$f":"IF($I10=\"\",\"\",'Daten MR'!AI12)","v":2},0.16666666666666666,{"$f":"IF($I10=\"\",\"\",'Daten MR'!AF12)","v":"8%"},{"$f":"IF($I10=\"\",\"\",'Daten MR'!AJ12)","v":0},{"$f":"IF($I10=\"\",\"\",'Daten MR'!AL12)","v":0},{"$f":"IF($I10=\"\",\"\",'Daten MR'!AM12)","v":0},{"$f":"IF($I10=\"\",\"\",'Daten MR'!AN12)","v":0},"0%",{"$f":"IF($I10=\"\",\"\",'Daten MR'!AK12)","v":"0%"},{"$f":"IF($I10=\"\",\"\",'Daten MR'!AO12)","v":0},{"$f":"IF($I10=\"\",\"\",'Daten MR'!AQ12)","v":0},{"$f":"IF($I10=\"\",\"\",'Daten MR'!AR12)","v":0},{"$f":"IF($I10=\"\",\"\",'Daten MR'!AS12)","v":0},{"$f":"IF($I10=\"\",\"\",'Daten MR'!AP12)","v":"0%"},{"$f":"IF($I10=\"\",\"\",'Daten MR'!AT12)","v":0},{"$f":"IF($I10=\"\",\"\",'Daten MR'!AV12)","v":0},{"$f":"IF($I10=\"\",\"\",'Daten MR'!AU12)","v":"0%"},null,null,"11","CHOI",{"$f":"IF($I10=\"\",\"\",'Daten A1'!B12)","v":8},{"$f":"IF($I10=\"\",\"\",'Daten A1'!C12)","v":"8%"},{"$f":"IF($I10=\"\",\"\",'Daten A1'!E12)","v":0},{"$f":"IF($I10=\"\",\"\",'Daten A1'!F12)","v":0},{"$f":"IF($I10=\"\",\"\",'Daten A1'!G12)","v":4},{"$f":"IF($I10=\"\",\"\",IF(BU10=0,\"0%\",'Daten A1'!H12))","v":"50%"},{"$f":"IF($I10=\"\",\"\",'Daten A1'!D12)","v":"50%"},{"$f":"IF($I10=\"\",\"\",'Daten A1'!I12)","v":6},{"$f":"IF($I10=\"\",\"\",'Daten A1'!J12)","v":"8%"},{"$f":"IF($I10=\"\",\"\",'Daten A1'!L12)","v":0},{"$f":"IF($I10=\"\",\"\",'Daten A1'!M12)","v":0},{"$f":"IF($I10=\"\",\"\",'Daten A1'!N12)","v":3},{"$f":"IF($I10=\"\",\"\",IF(CB10=0,\"0%\",'Daten A1'!O12))","v":"50%"},{"$f":"IF($I10=\"\",\"\",'Daten A1'!K12)","v":"50%"},{"$f":"IF($I10=\"\",\"\",'Daten A1'!P12)","v":5},{"$f":"IF($I10=\"\",\"\",'Daten A1'!Q12)","v":"10%"},{"$f":"IF($I10=\"\",\"\",'Daten A1'!S12)","v":0},{"$f":"IF($I10=\"\",\"\",'Daten A1'!T12)","v":0},{"$f":"IF($I10=\"\",\"\",'Daten A1'!U12)","v":3},{"$f":"IF($I10=\"\",\"\",IF(CI10=0,\"0%\",'Daten A1'!V12))","v":"60%"},{"$f":"IF($I10=\"\",\"\",'Daten A1'!R12)","v":"60%"},{"$f":"IF($I10=\"\",\"\",'Daten A1'!W12)","v":1},{"$f":"IF($I10=\"\",\"\",'Daten A1'!X12)","v":"4%"},{"$f":"IF($I10=\"\",\"\",'Daten A1'!Z12)","v":0},{"$f":"IF($I10=\"\",\"\",'Daten A1'!AA12)","v":0},{"$f":"IF($I10=\"\",\"\",'Daten A1'!AB12)","v":0},{"$f":"IF($I10=\"\",\"\",IF(CP10=0,\"0%\",'Daten A1'!AC12))","v":"0%"},{"$f":"IF($I10=\"\",\"\",'Daten A1'!Y12)","v":"0%"},{"$f":"IF($I10=\"\",\"\",'Daten A1'!AD12)","v":2},{"$f":"IF($I10=\"\",\"\",'Daten A1'!AE12)","v":"7%"},{"$f":"IF($I10=\"\",\"\",'Daten A1'!AG12)","v":0},{"$f":"IF($I10=\"\",\"\",'Daten A1'!AH12)","v":0},{"$f":"IF($I10=\"\",\"\",'Daten A1'!AI12)","v":1},{"$f":"IF($I10=\"\",\"\",IF(CW10=0,\"0%\",'Daten A1'!AJ12))","v":"50%"},{"$f":"IF($I10=\"\",\"\",'Daten A1'!AF12)","v":"50%"},{"$f":"IF($I10=\"\",\"\",'Daten A1'!AK12)","v":2},{"$f":"IF($I10=\"\",\"\",'Daten A1'!AL12)","v":"200%"},{"$f":"IF($I10=\"\",\"\",'Daten A1'!AN12)","v":0},{"$f":"IF($I10=\"\",\"\",'Daten A1'!AO12)","v":0},{"$f":"IF($I10=\"\",\"\",'Daten A1'!AP12)","v":1},{"$f":"IF($I10=\"\",\"\",IF(DD10=0,\"0%\",'Daten A1'!AQ12))","v":"50%"},{"$f":"IF($I10=\"\",\"\",'Daten A1'!AM12)","v":"50%"},{"$f":"IF($I10=\"\",\"\",'Daten A1'!AR12)","v":6},{"$f":"IF($I10=\"\",\"\",'Daten A1'!AT12)","v":3},0.5,{"$f":"IF($I10=\"\",\"\",'Daten A1'!AS12)","v":"50%"},{"$f":"IF($I10=\"\",\"\",'Daten A1'!AU12)","v":0},{"$f":"IF($I10=\"\",\"\",'Daten A1'!AW12)","v":0},"0%",{"$f":"IF($I10=\"\",\"\",'Daten A1'!AV12)","v":"0%"},1,null,null,"11","CHOI",{"$f":"IF($I10=\"\",\"\",'Daten MR'!N12)","v":0},0,{"$f":"IF($I10=\"\",\"\",'Daten MR'!P12)","v":0},{"$f":"IF($I10=\"\",\"\",'Daten MR'!Q12)","v":0},{"$f":"IF($I10=\"\",\"\",'Daten MR'!R12)","v":0},{"$f":"IF($I10=\"\",\"\",'Daten MR'!S12)","v":0},{"$f":"IF($I10=\"\",\"\",'Daten MR'!T12)","v":0},0,0,0,{"$f":"IF($I10=\"\",\"\",'Daten MR'!O12)","v":"0"},1,null,"11","CHOI",{"$f":"IF($I10=\"\",\"\",'Daten SR'!T11)","v":0},0,{"$f":"IF($I10=\"\",\"\",'Daten SR'!W11)","v":0},{"$f":"IF($I10=\"\",\"\",'Daten SR'!V11)","v":0},{"$f":"IF($I10=\"\",\"\",'Daten SR'!U11)","v":0},0,0,0,0,1,null,"11","CHOI",{"$f":"IF($I10=\"\",\"\",'Daten SR'!X11)","v":0},0,{"$f":"IF($I10=\"\",\"\",'Daten SR'!AA11)","v":0},{"$f":"IF($I10=\"\",\"\",'Daten SR'!Z11)","v":0},{"$f":"IF($I10=\"\",\"\",'Daten SR'!Y11)","v":0},0,0,0,0,1,null,"11","CHOI",{"$f":"IF($I10=\"\",\"\",'Daten SR'!AB11)","v":0},0,{"$f":"IF($I10=\"\",\"\",'Daten SR'!AE11)","v":0},{"$f":"IF($I10=\"\",\"\",'Daten SR'!AD11)","v":0},{"$f":"IF($I10=\"\",\"\",'Daten SR'!AC11)","v":0},0,0,0,0,1,null,"11","CHOI",{"$f":"IF($I10=\"\",\"\",'Daten SR'!AF11)","v":0},0,{"$f":"IF($I10=\"\",\"\",'Daten SR'!AI11)","v":0},{"$f":"IF($I10=\"\",\"\",'Daten SR'!AH11)","v":0},{"$f":"IF($I10=\"\",\"\",'Daten SR'!AG11)","v":0},0,0,0,0,1,null,"11","CHOI",{"$f":"IF($I10=\"\",\"\",'Daten SR'!AJ11)","v":0},0,{"$f":"IF($I10=\"\",\"\",'Daten SR'!AM11)","v":0},{"$f":"IF($I10=\"\",\"\",'Daten SR'!AL11)","v":0},{"$f":"IF($I10=\"\",\"\",'Daten SR'!AK11)","v":0},0,0,0,0,1,null,"11","CHOI",{"$f":"IF($I10=\"\",\"\",'Daten SR'!AN11)","v":0},0,{"$f":"IF($I10=\"\",\"\",'Daten SR'!AQ11)","v":0},{"$f":"IF($I10=\"\",\"\",'Daten SR'!AP11)","v":0},{"$f":"IF($I10=\"\",\"\",'Daten SR'!AO11)","v":0},0,0,0,0,1]
[null,"12","JEON",null,{"$f":"IF(OR(E10=-1,'Daten MR'!B13=\"\"),-1,FIND(\" \",'Daten MR'!B13))","v":3},{"$f":"IF('Daten MR'!B13=\"\",\"\",'Daten MR'!B13)","v":"12 JEON"},null,null,{"$f":"Options!D25","v":"12"},{"$f":"Options!E25","v":"JEON"},{"$f":"Options!J25","v":"Outside"},{"$f":"Options!K25","v":"Out"},null,{"$f":"IF($I11=\"\",\"\",'Daten MR'!C13)","v":0},{"$f":"IF($I11=\"\",\"\",'Daten MR'!D13)","v":0},"",{"$f":"IF($I11=\"\",\"\",'Daten MR'!E13)","v":0},{"$f":"IF($I11=\"\",\"\",'Daten MR'!F13)","v":0},{"$f":"IF($I11=\"\",\"\",'Daten MR'!G13)","v":0},{"$f":"IF($I11=\"\",\"\",'Daten MR'!H13)","v":0},{"$f":"IF($I11=\"\",\"\",'Daten MR'!J13)","v":0},{"$f":"IF($I11=\"\",\"\",'Daten MR'!K13)","v":0},{"$f":"IF($I11=\"\",\"\",'Daten MR'!L13)","v":0},{"$f":"IF($I11=\"\",\"\",'Daten MR'!M13)","v":0},"0%","0%",{"$f":"IF($I11=\"\",\"\",'Daten MR'!I13)","v":"0%"},{"$f":"IF($I11=\"\",\"\",'Daten MR'!N13)","v":0},"0%",{"$f":"IF($I11=\"\",\"\",'Daten MR'!P13)","v":0},{"$f":"IF($I11=\"\",\"\",'Daten MR'!Q13)","v":0},{"$f":"IF($I11=\"\",\"\",'Daten MR'!R13)","v":0},{"$f":"IF($I11=\"\",\"\",'Daten MR'!S13)","v":0},{"$f":"IF($I11=\"\",\"\",'Daten MR'!T13)","v":0},"0%",{"$f":"IF($I11=\"\",\"\",'Daten MR'!U13)","v":"0"},{"$f":"IF($I11=\"\",\"\",'Daten MR'!V13)","v":"0"},{"$f":"IF($I11=\"\",\"\",'Daten MR'!O13)","v":"0"},{"$f":"IF($I11=\"\",\"\",'Daten MR'!W13)","v":0},"0%",{"$f":"IF($I11=\"\",\"\",'Daten MR'!Y13)","v":0},{"$f":"IF($I11=\"\",\"\",'Daten MR'!Z13)","v":0},{"$f":"IF($I11=\"\",\"\",'Daten MR'!AA13)","v":0},{"$f":"IF($I11=\"\",\"\",'Daten MR'!AB13)","v":0},{"$f":"IF($I11=\"\",\"\",'Daten MR'!AC13)","v":0},"0%",{"$f":"IF($I11=\"\",\"\",'Daten MR'!AD13)","v":"0"},{"$f":"IF($I11=\"\",\"\",'Daten MR'!X13)","v":"0%"},{"$f":"IF($I11=\"\",\"\",'Daten MR'!AE13)","v":0},{"$f":"IF($I11=\"\",\"\",'Daten MR'!AG13)","v":0},{"$f":"IF($I11=\"\",\"\",'Daten MR'!AH13)","v":0},{"$f":"IF($I11=\"\",\"\",'Daten MR'!AI13)","v":0},"0%",{"$f":"IF($I11=\"\",\"\",'Daten MR'!AF13)","v":"0%"},{"$f":"IF($I11=\"\",\"\",'Daten MR'!AJ13)","v":0},{"$f":"IF($I11=\"\",\"\",'Daten MR'!AL13)","v":0},{"$f":"IF($I11=\"\",\"\",'Daten MR'!AM13)","v":0},{"$f":"IF($I11=\"\",\"\",'Daten MR'!AN13)","v":0},"0%",{"$f":"IF($I11=\"\",\"\",'Daten MR'!AK13)","v":"0%"},{"$f":"IF($I11=\"\",\"\",'Daten MR'!AO13)","v":0},{"$f":"IF($I11=\"\",\"\",'Daten MR'!AQ13)","v":0},{"$f":"IF($I11=\"\",\"\",'Daten MR'!AR13)","v":0},{"$f":"IF($I11=\"\",\"\",'Daten MR'!AS13)","v":0},{"$f":"IF($I11=\"\",\"\",'Daten MR'!AP13)","v":"0%"},{"$f":"IF($I11=\"\",\"\",'Daten MR'!AT13)","v":0},{"$f":"IF($I11=\"\",\"\",'Daten MR'!AV13)","v":0},{"$f":"IF($I11=\"\",\"\",'Daten MR'!AU13)","v":"0%"},null,null,"12","JEON",{"$f":"IF($I11=\"\",\"\",'Daten A1'!B13)","v":0},{"$f":"IF($I11=\"\",\"\",'Daten A1'!C13)","v":"0%"},{"$f":"IF($I11=\"\",\"\",'Daten A1'!E13)","v":0},{"$f":"IF($I11=\"\",\"\",'Daten A1'!F13)","v":0},{"$f":"IF($I11=\"\",\"\",'Daten A1'!G13)","v":0},{"$f":"IF($I11=\"\",\"\",IF(BU11=0,\"0%\",'Daten A1'!H13))","v":"0%"},{"$f":"IF($I11=\"\",\"\",'Daten A1'!D13)","v":"0%"},{"$f":"IF($I11=\"\",\"\",'Daten A1'!I13)","v":0},{"$f":"IF($I11=\"\",\"\",'Daten A1'!J13)","v":"0%"},{"$f":"IF($I11=\"\",\"\",'Daten A1'!L13)","v":0},{"$f":"IF($I11=\"\",\"\",'Daten A1'!M13)","v":0},{"$f":"IF($I11=\"\",\"\",'Daten A1'!N13)","v":0},{"$f":"IF($I11=\"\",\"\",IF(CB11=0,\"0%\",'Daten A1'!O13))","v":"0%"},{"$f":"IF($I11=\"\",\"\",'Daten A1'!K13)","v":"0%"},{"$f":"IF($I11=\"\",\"\",'Daten A1'!P13)","v":0},{"$f":"IF($I11=\"\",\"\",'Daten A1'!Q13)","v":"0%"},{"$f":"IF($I11=\"\",\"\",'Daten A1'!S13)","v":0},{"$f":"IF($I11=\"\",\"\",'Daten A1'!T13)","v":0},{"$f":"IF($I11=\"\",\"\",'Daten A1'!U13)","v":0},{"$f":"IF($I11=\"\",\"\",IF(CI11=0,\"0%\",'Daten A1'!V13))","v":"0%"},{"$f":"IF($I11=\"\",\"\",'Daten A1'!R13)","v":"0%"},{"$f":"IF($I11=\"\",\"\",'Daten A1'!W13)","v":0},{"$f":"IF($I11=\"\",\"\",'Daten A1'!X13)","v":"0%"},{"$f":"IF($I11=\"\",\"\",'Daten A1'!Z13)","v":0},{"$f":"IF($I11=\"\",\"\",'Daten A1'!AA13)","v":0},{"$f":"IF($I11=\"\",\"\",'Daten A1'!AB13)","v":0},{"$f":"IF($I11=\"\",\"\",IF(CP11=0,\"0%\",'Daten A1'!AC13))","v":"0%"},{"$f":"IF($I11=\"\",\"\",'Daten A1'!Y13)","v":"0%"},{"$f":"IF($I11=\"\",\"\",'Daten A1'!AD13)","v":0},{"$f":"IF($I11=\"\",\"\",'Daten A1'!AE13)","v":"0%"},{"$f":"IF($I11=\"\",\"\",'Daten A1'!AG13)","v":0},{"$f":"IF($I11=\"\",\"\",'Daten A1'!AH13)","v":0},{"$f":"IF($I11=\"\",\"\",'Daten A1'!AI13)","v":0},{"$f":"IF($I11=\"\",\"\",IF(CW11=0,\"0%\",'Daten A1'!AJ13))","v":"0%"},{"$f":"IF($I11=\"\",\"\",'Daten A1'!AF13)","v":"0%"},{"$f":"IF($I11=\"\",\"\",'Daten A1'!AK13)","v":0},{"$f":"IF($I11=\"\",\"\",'Daten A1'!AL13)","v":"0"},{"$f":"IF($I11=\"\",\"\",'Daten A1'!AN13)","v":0},{"$f":"IF($I11=\"\",\"\",'Daten A1'!AO13)","v":0},{"$f":"IF($I11=\"\",\"\",'Daten A1'!AP13)","v":0},{"$f":"IF($I11=\"\",\"\",IF(DD11=0,\"0%\",'Daten A1'!AQ13))","v":"0%"},{"$f":"IF($I11=\"\",\"\",'Daten A1'!AM13)","v":"0%"},{"$f":"IF($I11=\"\",\"\",'Daten A1'!AR13)","v":0},{"$f":"IF($I11=\"\",\"\",'Daten A1'!AT13)","v":0},"0%",{"$f":"IF($I11=\"\",\"\",'Daten A1'!AS13)","v":"0%"},{"$f":"IF($I11=\"\",\"\",'Daten A1'!AU13)","v":0},{"$f":"IF($I11=\"\",\"\",'Daten A1'!AW13)","v":0},"0%",{"$f":"IF($I11=\"\",\"\",'Daten A1'!AV13)","v":"0%"},1,null,null,"12","JEON",{"$f":"IF($I11=\"\",\"\",'Daten MR'!N13)","v":0},0,{"$f":"IF($I11=\"\",\"\",'Daten MR'!P13)","v":0},{"$f":"IF($I11=\"\",\"\",'Daten MR'!Q13)","v":0},{"$f":"IF($I11=\"\",\"\",'Daten MR'!R13)","v":0},{"$f":"IF($I11=\"\",\"\",'Daten MR'!S13)","v":0},{"$f":"IF($I11=\"\",\"\",'Daten MR'!T13)","v":0},0,0,0,{"$f":"IF($I11=\"\",\"\",'Daten MR'!O13)","v":"0"},1,null,"12","JEON",{"$f":"IF($I11=\"\",\"\",'Daten SR'!T12)","v":0},0,{"$f":"IF($I11=\"\",\"\",'Daten SR'!W12)","v":0},{"$f":"IF($I11=\"\",\"\",'Daten SR'!V12)","v":0},{"$f":"IF($I11=\"\",\"\",'Daten SR'!U12)","v":0},0,0,0,0,1,null,"12","JEON",{"$f":"IF($I11=\"\",\"\",'Daten SR'!X12)","v":0},0,{"$f":"IF($I11=\"\",\"\",'Daten SR'!AA12)","v":0},{"$f":"IF($I11=\"\",\"\",'Daten SR'!Z12)","v":0},{"$f":"IF($I11=\"\",\"\",'Daten SR'!Y12)","v":0},0,0,0,0,1,null,"12","JEON",{"$f":"IF($I11=\"\",\"\",'Daten SR'!AB12)","v":0},0,{"$f":"IF($I11=\"\",\"\",'Daten SR'!AE12)","v":0},{"$f":"IF($I11=\"\",\"\",'Daten SR'!AD12)","v":0},{"$f":"IF($I11=\"\",\"\",'Daten SR'!AC12)","v":0},0,0,0,0,1,null,"12","JEON",{"$f":"IF($I11=\"\",\"\",'Daten SR'!AF12)","v":0},0,{"$f":"IF($I11=\"\",\"\",'Daten SR'!AI12)","v":0},{"$f":"IF($I11=\"\",\"\",'Daten SR'!AH12)","v":0},{"$f":"IF($I11=\"\",\"\",'Daten SR'!AG12)","v":0},0,0,0,0,1,null,"12","JEON",{"$f":"IF($I11=\"\",\"\",'Daten SR'!AJ12)","v":0},0,{"$f":"IF($I11=\"\",\"\",'Daten SR'!AM12)","v":0},{"$f":"IF($I11=\"\",\"\",'Daten SR'!AL12)","v":0},{"$f":"IF($I11=\"\",\"\",'Daten SR'!AK12)","v":0},0,0,0,0,1,null,"12","JEON",{"$f":"IF($I11=\"\",\"\",'Daten SR'!AN12)","v":0},0,{"$f":"IF($I11=\"\",\"\",'Daten SR'!AQ12)","v":0},{"$f":"IF($I11=\"\",\"\",'Daten SR'!AP12)","v":0},{"$f":"IF($I11=\"\",\"\",'Daten SR'!AO12)","v":0},0,0,0,0,1]
[null,"14","SONG",null,{"$f":"IF(OR(E11=-1,'Daten MR'!B14=\"\"),-1,FIND(\" \",'Daten MR'!B14))","v":3},{"$f":"IF('Daten MR'!B14=\"\",\"\",'Daten MR'!B14)","v":"14 SONG"},null,null,{"$f":"Options!D26","v":"14"},{"$f":"Options!E26","v":"SONG"},{"$f":"Options!J26","v":"Outside"},{"$f":"Options!K26","v":"Out"},null,{"$f":"IF($I12=\"\",\"\",'Daten MR'!C14)","v":2},{"$f":"IF($I12=\"\",\"\",'Daten MR'!D14)","v":1},0.5,{"$f":"IF($I12=\"\",\"\",'Daten MR'!E14)","v":2},{"$f":"IF($I12=\"\",\"\",'Daten MR'!F14)","v":4},{"$f":"IF($I12=\"\",\"\",'Daten MR'!G14)","v":-3},{"$f":"IF($I12=\"\",\"\",'Daten MR'!H14)","v":5},{"$f":"IF($I12=\"\",\"\",'Daten MR'!J14)","v":2},{"$f":"IF($I12=\"\",\"\",'Daten MR'!K14)","v":1},{"$f":"IF($I12=\"\",\"\",'Daten MR'!L14)","v":2},{"$f":"IF($I12=\"\",\"\",'Daten MR'!M14)","v":0},0.4,0,{"$f":"IF($I12=\"\",\"\",'Daten MR'!I14)","v":"0%"},{"$f":"IF($I12=\"\",\"\",'Daten MR'!N14)","v":11},0.13414634146341464,{"$f":"IF($I12=\"\",\"\",'Daten MR'!P14)","v":0},{"$f":"IF($I12=\"\",\"\",'Daten MR'!Q14)","v":0},{"$f":"IF($I12=\"\",\"\",'Daten MR'!R14)","v":4},{"$f":"IF($I12=\"\",\"\",'Daten MR'!S14)","v":2},{"$f":"IF($I12=\"\",\"\",'Daten MR'!T14)","v":5},0,{"$f":"IF($I12=\"\",\"\",'Daten MR'!U14)","v":"63%"},{"$f":"IF($I12=\"\",\"\",'Daten MR'!V14)","v":"45%"},{"$f":"IF($I12=\"\",\"\",'Daten MR'!O14)","v":"64%"},{"$f":"IF($I12=\"\",\"\",'Daten MR'!W14)","v":5},4.807692307692308E-2,{"$f":"IF($I12=\"\",\"\",'Daten MR'!Y14)","v":0},{"$f":"IF($I12=\"\",\"\",'Daten MR'!Z14)","v":1},{"$f":"IF($I12=\"\",\"\",'Daten MR'!AA14)","v":1},{"$f":"IF($I12=\"\",\"\",'Daten MR'!AB14)","v":0},{"$f":"IF($I12=\"\",\"\",'Daten MR'!AC14)","v":1},0.2,{"$f":"IF($I12=\"\",\"\",'Daten MR'!AD14)","v":"20%"},{"$f":"IF($I12=\"\",\"\",'Daten MR'!X14)","v":"0%"},{"$f":"IF($I12=\"\",\"\",'Daten MR'!AE14)","v":2},{"$f":"IF($I12=\"\",\"\",'Daten MR'!AG14)","v":1},{"$f":"IF($I12=\"\",\"\",'Daten MR'!AH14)","v":0},{"$f":"IF($I12=\"\",\"\",'Daten MR'!AI14)","v":0},0,{"$f":"IF($I12=\"\",\"\",'Daten MR'!AF14)","v":"-50%"},{"$f":"IF($I12=\"\",\"\",'Daten MR'!AJ14)","v":2},{"$f":"IF($I12=\"\",\"\",'Daten MR'!AL14)","v":0},{"$f":"IF($I12=\"\",\"\",'Daten MR'!AM14)","v":2},{"$f":"IF($I12=\"\",\"\",'Daten MR'!AN14)","v":0},0,{"$f":"IF($I12=\"\",\"\",'Daten MR'!AK14)","v":"0%"},{"$f":"IF($I12=\"\",\"\",'Daten MR'!AO14)","v":0},{"$f":"IF($I12=\"\",\"\",'Daten MR'!AQ14)","v":0},{"$f":"IF($I12=\"\",\"\",'Daten MR'!AR14)","v":0},{"$f":"IF($I12=\"\",\"\",'Daten MR'!AS14)","v":0},{"$f":"IF($I12=\"\",\"\",'Daten MR'!AP14)","v":"0%"},{"$f":"IF($I12=\"\",\"\",'Daten MR'!AT14)","v":0},{"$f":"IF($I12=\"\",\"\",'Daten MR'!AV14)","v":0},{"$f":"IF($I12=\"\",\"\",'Daten MR'!AU14)","v":"0%"},null,null,"14","SONG",{"$f":"IF($I12=\"\",\"\",'Daten A1'!B14)","v":5},{"$f":"IF($I12=\"\",\"\",'Daten A1'!C14)","v":"5%"},{"$f":"IF($I12=\"\",\"\",'Daten A1'!E14)","v":0},{"$f":"IF($I12=\"\",\"\",'Daten A1'!F14)","v":1},{"$f":"IF($I12=\"\",\"\",'Daten A1'!G14)","v":1},{"$f":"IF($I12=\"\",\"\",IF(BU12=0,\"0%\",'Daten A1'!H14))","v":"20%"},{"$f":"IF($I12=\"\",\"\",'Daten A1'!D14)","v":"0%"},{"$f":"IF($I12=\"\",\"\",'Daten A1'!I14)","v":3},{"$f":"IF($I12=\"\",\"\",'Daten A1'!J14)","v":"4%"},{"$f":"IF($I12=\"\",\"\",'Daten A1'!L14)","v":0},{"$f":"IF($I12=\"\",\"\",'Daten A1'!M14)","v":0},{"$f":"IF($I12=\"\",\"\",'Daten A1'!N14)","v":1},{"$f":"IF($I12=\"\",\"\",IF(CB12=0,\"0%\",'Daten A1'!O14))","v":"33%"},{"$f":"IF($I12=\"\",\"\",'Daten A1'!K14)","v":"33%"},{"$f":"IF($I12=\"\",\"\",'Daten A1'!P14)","v":0},{"$f":"IF($I12=\"\",\"\",'Daten A1'!Q14)","v":"0%"},{"$f":"IF($I12=\"\",\"\",'Daten A1'!S14)","v":0},{"$f":"IF($I12=\"\",\"\",'Daten A1'!T14)","v":0},{"$f":"IF($I12=\"\",\"\",'Daten A1'!U14)","v":0},{"$f":"IF($I12=\"\",\"\",IF(CI12=0,\"0%\",'Daten A1'!V14))","v":"0%"},{"$f":"IF($I12=\"\",\"\",'Daten A1'!R14)","v":"0%"},{"$f":"IF($I12=\"\",\"\",'Daten A1'!W14)","v":3},{"$f":"IF($I12=\"\",\"\",'Daten A1'!X14)","v":"12%"},{"$f":"IF($I12=\"\",\"\",'Daten A1'!Z14)","v":0},{"$f":"IF($I12=\"\",\"\",'Daten A1'!AA14)","v":0},{"$f":"IF($I12=\"\",\"\",'Daten A1'!AB14)","v":1},{"$f":"IF($I12=\"\",\"\",IF(CP12=0,\"0%\",'Daten A1'!AC14))","v":"33%"},{"$f":"IF($I12=\"\",\"\",'Daten A1'!Y14)","v":"33%"},{"$f":"IF($I12=\"\",\"\",'Daten A1'!AD14)","v":2},{"$f":"IF($I12=\"\",\"\",'Daten A1'!AE14)","v":"7%"},{"$f":"IF($I12=\"\",\"\",'Daten A1'!AG14)","v":0},{"$f":"IF($I12=\"\",\"\",'Daten A1'!AH14)","v":1},{"$f":"IF($I12=\"\",\"\",'Daten A1'!AI14)","v":0},{"$f":"IF($I12=\"\",\"\",IF(CW12=0,\"0%\",'Daten A1'!AJ14))","v":"0%"},{"$f":"IF($I12=\"\",\"\",'Daten A1'!AF14)","v":"-50%"},{"$f":"IF($I12=\"\",\"\",'Daten A1'!AK14)","v":0},{"$f":"IF($I12=\"\",\"\",'Daten A1'!AL14)","v":"0"},{"$f":"IF($I12=\"\",\"\",'Daten A1'!AN14)","v":0},{"$f":"IF($I12=\"\",\"\",'Daten A1'!AO14)","v":0},{"$f":"IF($I12=\"\",\"\",'Daten A1'!AP14)","v":0},{"$f":"IF($I12=\"\",\"\",IF(DD12=0,\"0%\",'Daten A1'!AQ14))","v":"0%"},{"$f":"IF($I12=\"\",\"\",'Daten A1'!AM14)","v":"0%"},{"$f":"IF($I12=\"\",\"\",'Daten A1'!AR14)","v":2},{"$f":"IF($I12=\"\",\"\",'Daten A1'!AT14)","v":1},0.5,{"$f":"IF($I12=\"\",\"\",'Daten A1'!AS14)","v":"50%"},{"$f":"IF($I12=\"\",\"\",'Daten A1'!AU14)","v":1},{"$f":"IF($I12=\"\",\"\",'Daten A1'!AW14)","v":0},0,{"$f":"IF($I12=\"\",\"\",'Daten A1'!AV14)","v":"0%"},1,null,null,"14","SONG",{"$f":"IF($I12=\"\",\"\",'Daten MR'!N14)","v":11},0.13414634146341464,{"$f":"IF($I12=\"\",\"\",'Daten MR'!P14)","v":0},{"$f":"IF($I12=\"\",\"\",'Daten MR'!Q14)","v":0},{"$f":"IF($I12=\"\",\"\",'Daten MR'!R14)","v":4},{"$f":"IF($I12=\"\",\"\",'Daten MR'!S14)","v":2},{"$f":"IF($I12=\"\",\"\",'Daten MR'!T14)","v":5},0,0.63636363636363635,0.45454545454545453,{"$f":"IF($I12=\"\",\"\",'Daten MR'!O14)","v":"64%"},1,null,"14","SONG",{"$f":"IF($I12=\"\",\"\",'Daten SR'!T13)","v":0},0,{"$f":"IF($I12=\"\",\"\",'Daten SR'!W13)","v":0},{"$f":"IF($I12=\"\",\"\",'Daten SR'!V13)","v":0},{"$f":"IF($I12=\"\",\"\",'Daten SR'!U13)","v":0},0,0,0,0,1,null,"14","SONG",{"$f":"IF($I12=\"\",\"\",'Daten SR'!X13)","v":4},0.18181818181818182,{"$f":"IF($I12=\"\",\"\",'Daten SR'!AA13)","v":0},{"$f":"IF($I12=\"\",\"\",'Daten SR'!Z13)","v":1},{"$f":"IF($I12=\"\",\"\",'Daten SR'!Y13)","v":1},0,0.5,0.25,0.5,1,null,"14","SONG",{"$f":"IF($I12=\"\",\"\",'Daten SR'!AB13)","v":1},6.6666666666666666E-2,{"$f":"IF($I12=\"\",\"\",'Daten SR'!AE13)","v":0},{"$f":"IF($I12=\"\",\"\",'Daten SR'!AD13)","v":1},{"$f":"IF($I12=\"\",\"\",'Daten SR'!AC13)","v":0},0,1,0,1,1,null,"14","SONG",{"$f":"IF($I12=\"\",\"\",'Daten SR'!AF13)","v":2},0.2,{"$f":"IF($I12=\"\",\"\",'Daten SR'!AI13)","v":0},{"$f":"IF($I12=\"\",\"\",'Daten SR'!AH13)","v":0},{"$f":"IF($I12=\"\",\"\",'Daten SR'!AG13)","v":1},0,0.5,0.5,0.5,1,null,"14","SONG",{"$f":"IF($I12=\"\",\"\",'Daten SR'!AJ13)","v":0},0,{"$f":"IF($I12=\"\",\"\",'Daten SR'!AM13)","v":0},{"$f":"IF($I12=\"\",\"\",'Daten SR'!AL13)","v":0},{"$f":"IF($I12=\"\",\"\",'Daten SR'!AK13)","v":0},0,0,0,0,1,null,"14","SONG",{"$f":"IF($I12=\"\",\"\",'Daten SR'!AN13)","v":4},0.25,{"$f":"IF($I12=\"\",\"\",'Daten SR'!AQ13)","v":0},{"$f":"IF($I12=\"\",\"\",'Daten SR'!AP13)","v":0},{"$f":"IF($I12=\"\",\"\",'Daten SR'!AO13)","v":3},0,0.75,0.75,0.75,1]
[null,"16","CHOI",null,{"$f":"IF(OR(E12=-1,'Daten MR'!B15=\"\"),-1,FIND(\" \",'Daten MR'!B15))","v":3},{"$f":"IF('Daten MR'!B15=\"\",\"\",'Daten MR'!B15)","v":"16 CHOI"},null,null,{"$f":"Options!D27","v":"16"},{"$f":"Options!E27","v":"CHOI"},{"$f":"Options!J27","v":"Opposite"},{"$f":"Options!K27","v":"Opp"},null,{"$f":"IF($I13=\"\",\"\",'Daten MR'!C15)","v":5},{"$f":"IF($I13=\"\",\"\",'Daten MR'!D15)","v":10},2,{"$f":"IF($I13=\"\",\"\",'Daten MR'!E15)","v":2},{"$f":"IF($I13=\"\",\"\",'Daten MR'!F15)","v":5},{"$f":"IF($I13=\"\",\"\",'Daten MR'!G15)","v":5},{"$f":"IF($I13=\"\",\"\",'Daten MR'!H15)","v":3},{"$f":"IF($I13=\"\",\"\",'Daten MR'!J15)","v":1},{"$f":"IF($I13=\"\",\"\",'Daten MR'!K15)","v":2},{"$f":"IF($I13=\"\",\"\",'Daten MR'!L15)","v":0},{"$f":"IF($I13=\"\",\"\",'Daten MR'!M15)","v":0},0.33333333333333331,0,{"$f":"IF($I13=\"\",\"\",'Daten MR'!I15)","v":"-33%"},{"$f":"IF($I13=\"\",\"\",'Daten MR'!N15)","v":0},"0%",{"$f":"IF($I13=\"\",\"\",'Daten MR'!P15)","v":0},{"$f":"IF($I13=\"\",\"\",'Daten MR'!Q15)","v":0},{"$f":"IF($I13=\"\",\"\",'Daten MR'!R15)","v":0},{"$f":"IF($I13=\"\",\"\",'Daten MR'!S15)","v":0},{"$f":"IF($I13=\"\",\"\",'Daten MR'!T15)","v":0},"0%",{"$f":"IF($I13=\"\",\"\",'Daten MR'!U15)","v":"0"},{"$f":"IF($I13=\"\",\"\",'Daten MR'!V15)","v":"0"},{"$f":"IF($I13=\"\",\"\",'Daten MR'!O15)","v":"0"},{"$f":"IF($I13=\"\",\"\",'Daten MR'!W15)","v":15},0.14423076923076922,{"$f":"IF($I13=\"\",\"\",'Daten MR'!Y15)","v":1},{"$f":"IF($I13=\"\",\"\",'Daten MR'!Z15)","v":2},{"$f":"IF($I13=\"\",\"\",'Daten MR'!AA15)","v":0},{"$f":"IF($I13=\"\",\"\",'Daten MR'!AB15)","v":1},{"$f":"IF($I13=\"\",\"\",'Daten MR'!AC15)","v":9},0.2,{"$f":"IF($I13=\"\",\"\",'Daten MR'!AD15)","v":"60%"},{"$f":"IF($I13=\"\",\"\",'Daten MR'!X15)","v":"40%"},{"$f":"IF($I13=\"\",\"\",'Daten MR'!AE15)","v":3},{"$f":"IF($I13=\"\",\"\",'Daten MR'!AG15)","v":1},{"$f":"IF($I13=\"\",\"\",'Daten MR'!AH15)","v":0},{"$f":"IF($I13=\"\",\"\",'Daten MR'!AI15)","v":1},0.33333333333333331,{"$f":"IF($I13=\"\",\"\",'Daten MR'!AF15)","v":"0%"},{"$f":"IF($I13=\"\",\"\",'Daten MR'!AJ15)","v":3},{"$f":"IF($I13=\"\",\"\",'Daten MR'!AL15)","v":0},{"$f":"IF($I13=\"\",\"\",'Daten MR'!AM15)","v":3},{"$f":"IF($I13=\"\",\"\",'Daten MR'!AN15)","v":0},0,{"$f":"IF($I13=\"\",\"\",'Daten MR'!AK15)","v":"0%"},{"$f":"IF($I13=\"\",\"\",'Daten MR'!AO15)","v":0},{"$f":"IF($I13=\"\",\"\",'Daten MR'!AQ15)","v":0},{"$f":"IF($I13=\"\",\"\",'Daten MR'!AR15)","v":0},{"$f":"IF($I13=\"\",\"\",'Daten MR'!AS15)","v":0},{"$f":"IF($I13=\"\",\"\",'Daten MR'!AP15)","v":"0%"},{"$f":"IF($I13=\"\",\"\",'Daten MR'!AT15)","v":0},{"$f":"IF($I13=\"\",\"\",'Daten MR'!AV15)","v":0},{"$f":"IF($I13=\"\",\"\",'Daten MR'!AU15)","v":"0%"},null,null,"16","CHOI",{"$f":"IF($I13=\"\",\"\",'Daten A1'!B15)","v":15},{"$f":"IF($I13=\"\",\"\",'Daten A1'!C15)","v":"15%"},{"$f":"IF($I13=\"\",\"\",'Daten A1'!E15)","v":1},{"$f":"IF($I13=\"\",\"\",'Daten A1'!F15)","v":2},{"$f":"IF($I13=\"\",\"\",'Daten A1'!G15)","v":9},{"$f":"IF($I13=\"\",\"\",IF(BU13=0,\"0%\",'Daten A1'!H15))","v":"60%"},{"$f":"IF($I13=\"\",\"\",'Daten A1'!D15)","v":"40%"},{"$f":"IF($I13=\"\",\"\",'Daten A1'!I15)","v":10},{"$f":"IF($I13=\"\",\"\",'Daten A1'!J15)","v":"14%"},{"$f":"IF($I13=\"\",\"\",'Daten A1'!L15)","v":0},{"$f":"IF($I13=\"\",\"\",'Daten A1'!M15)","v":1},{"$f":"IF($I13=\"\",\"\",'Daten A1'!N15)","v":6},{"$f":"IF($I13=\"\",\"\",IF(CB13=0,\"0%\",'Daten A1'!O15))","v":"60%"},{"$f":"IF($I13=\"\",\"\",'Daten A1'!K15)","v":"50%"},{"$f":"IF($I13=\"\",\"\",'Daten A1'!P15)","v":6},{"$f":"IF($I13=\"\",\"\",'Daten A1'!Q15)","v":"12%"},{"$f":"IF($I13=\"\",\"\",'Daten A1'!S15)","v":0},{"$f":"IF($I13=\"\",\"\",'Daten A1'!T15)","v":0},{"$f":"IF($I13=\"\",\"\",'Daten A1'!U15)","v":4},{"$f":"IF($I13=\"\",\"\",IF(CI13=0,\"0%\",'Daten A1'!V15))","v":"67%"},{"$f":"IF($I13=\"\",\"\",'Daten A1'!R15)","v":"67%"},{"$f":"IF($I13=\"\",\"\",'Daten A1'!W15)","v":4},{"$f":"IF($I13=\"\",\"\",'Daten A1'!X15)","v":"17%"},{"$f":"IF($I13=\"\",\"\",'Daten A1'!Z15)","v":0},{"$f":"IF($I13=\"\",\"\",'Daten A1'!AA15)","v":1},{"$f":"IF($I13=\"\",\"\",'Daten A1'!AB15)","v":2},{"$f":"IF($I13=\"\",\"\",IF(CP13=0,\"0%\",'Daten A1'!AC15))","v":"50%"},{"$f":"IF($I13=\"\",\"\",'Daten A1'!Y15)","v":"25%"},{"$f":"IF($I13=\"\",\"\",'Daten A1'!AD15)","v":5},{"$f":"IF($I13=\"\",\"\",'Daten A1'!AE15)","v":"19%"},{"$f":"IF($I13=\"\",\"\",'Daten A1'!AG15)","v":1},{"$f":"IF($I13=\"\",\"\",'Daten A1'!AH15)","v":1},{"$f":"IF($I13=\"\",\"\",'Daten A1'!AI15)","v":3},{"$f":"IF($I13=\"\",\"\",IF(CW13=0,\"0%\",'Daten A1'!AJ15))","v":"60%"},{"$f":"IF($I13=\"\",\"\",'Daten A1'!AF15)","v":"20%"},{"$f":"IF($I13=\"\",\"\",'Daten A1'!AK15)","v":2},{"$f":"IF($I13=\"\",\"\",'Daten A1'!AL15)","v":"200%"},{"$f":"IF($I13=\"\",\"\",'Daten A1'!AN15)","v":0},{"$f":"IF($I13=\"\",\"\",'Daten A1'!AO15)","v":1},{"$f":"IF($I13=\"\",\"\",'Daten A1'!AP15)","v":1},{"$f":"IF($I13=\"\",\"\",IF(DD13=0,\"0%\",'Daten A1'!AQ15))","v":"50%"},{"$f":"IF($I13=\"\",\"\",'Daten A1'!AM15)","v":"0%"},{"$f":"IF($I13=\"\",\"\",'Daten A1'!AR15)","v":10},{"$f":"IF($I13=\"\",\"\",'Daten A1'!AT15)","v":6},0.6,{"$f":"IF($I13=\"\",\"\",'Daten A1'!AS15)","v":"50%"},{"$f":"IF($I13=\"\",\"\",'Daten A1'!AU15)","v":0},{"$f":"IF($I13=\"\",\"\",'Daten A1'!AW15)","v":0},"0%",{"$f":"IF($I13=\"\",\"\",'Daten A1'!AV15)","v":"0%"},1,null,null,"16","CHOI",{"$f":"IF($I13=\"\",\"\",'Daten MR'!N15)","v":0},0,{"$f":"IF($I13=\"\",\"\",'Daten MR'!P15)","v":0},{"$f":"IF($I13=\"\",\"\",'Daten MR'!Q15)","v":0},{"$f":"IF($I13=\"\",\"\",'Daten MR'!R15)","v":0},{"$f":"IF($I13=\"\",\"\",'Daten MR'!S15)","v":0},{"$f":"IF($I13=\"\",\"\",'Daten MR'!T15)","v":0},0,0,0,{"$f":"IF($I13=\"\",\"\",'Daten MR'!O15)","v":"0"},1,null,"16","CHOI",{"$f":"IF($I13=\"\",\"\",'Daten SR'!T14)","v":0},0,{"$f":"IF($I13=\"\",\"\",'Daten SR'!W14)","v":0},{"$f":"IF($I13=\"\",\"\",'Daten SR'!V14)","v":0},{"$f":"IF($I13=\"\",\"\",'Daten SR'!U14)","v":0},0,0,0,0,1,null,"16","CHOI",{"$f":"IF($I13=\"\",\"\",'Daten SR'!X14)","v":0},0,{"$f":"IF($I13=\"\",\"\",'Daten SR'!AA14)","v":0},{"$f":"IF($I13=\"\",\"\",'Daten SR'!Z14)","v":0},{"$f":"IF($I13=\"\",\"\",'Daten SR'!Y14)","v":0},0,0,0,0,1,null,"16","CHOI",{"$f":"IF($I13=\"\",\"\",'Daten SR'!AB14)","v":0},0,{"$f":"IF($I13=\"\",\"\",'Daten SR'!AE14)","v":0},{"$f":"IF($I13=\"\",\"\",'Daten SR'!AD14)","v":0},{"$f":"IF($I13=\"\",\"\",'Daten SR'!AC14)","v":0},0,0,0,0,1,null,"16","CHOI",{"$f":"IF($I13=\"\",\"\",'Daten SR'!AF14)","v":0},0,{"$f":"IF($I13=\"\",\"\",'Daten SR'!AI14)","v":0},{"$f":"IF($I13=\"\",\"\",'Daten SR'!AH14)","v":0},{"$f":"IF($I13=\"\",\"\",'Daten SR'!AG14)","v":0},0,0,0,0,1,null,"16","CHOI",{"$f":"IF($I13=\"\",\"\",'Daten SR'!AJ14)","v":0},0,{"$f":"IF($I13=\"\",\"\",'Daten SR'!AM14)","v":0},{"$f":"IF($I13=\"\",\"\",'Daten SR'!AL14)","v":0},{"$f":"IF($I13=\"\",\"\",'Daten SR'!AK14)","v":0},0,0,0,0,1,null,"16","CHOI",{"$f":"IF($I13=\"\",\"\",'Daten SR'!AN14)","v":0},0,{"$f":"IF($I13=\"\",\"\",'Daten SR'!AQ14)","v":0},{"$f":"IF($I13=\"\",\"\",'Daten SR'!AP14)","v":0},{"$f":"IF($I13=\"\",\"\",'Daten SR'!AO14)","v":0},0,0,0,0,1]
[null,"17","SEO",null,{"$f":"IF(OR(E13=-1,'Daten MR'!B16=\"\"),-1,FIND(\" \",'Daten MR'!B16))","v":3},{"$f":"IF('Daten MR'!B16=\"\",\"\",'Daten MR'!B16)","v":"17 SEO"},null,null,{"$f":"Options!D28","v":"17"},{"$f":"Options!E28","v":"SEO"},{"$f":"Options!J28","v":"Opposite"},{"$f":"Options!K28","v":"Opp"},null,{"$f":"IF($I14=\"\",\"\",'Daten MR'!C16)","v":4},{"$f":"IF($I14=\"\",\"\",'Daten MR'!D16)","v":11},2.75,{"$f":"IF($I14=\"\",\"\",'Daten MR'!E16)","v":3},{"$f":"IF($I14=\"\",\"\",'Daten MR'!F16)","v":12},{"$f":"IF($I14=\"\",\"\",'Daten MR'!G16)","v":-1},{"$f":"IF($I14=\"\",\"\",'Daten MR'!H16)","v":10},{"$f":"IF($I14=\"\",\"\",'Daten MR'!J16)","v":1},{"$f":"IF($I14=\"\",\"\",'Daten MR'!K16)","v":3},{"$f":"IF($I14=\"\",\"\",'Daten MR'!L16)","v":6},{"$f":"IF($I14=\"\",\"\",'Daten MR'!M16)","v":0},0.1,0,{"$f":"IF($I14=\"\",\"\",'Daten MR'!I16)","v":"50%"},{"$f":"IF($I14=\"\",\"\",'Daten MR'!N16)","v":2},2.4390243902439025E-2,{"$f":"IF($I14=\"\",\"\",'Daten MR'!P16)","v":0},{"$f":"IF($I14=\"\",\"\",'Daten MR'!Q16)","v":0},{"$f":"IF($I14=\"\",\"\",'Daten MR'!R16)","v":1},{"$f":"IF($I14=\"\",\"\",'Daten MR'!S16)","v":0},{"$f":"IF($I14=\"\",\"\",'Daten MR'!T16)","v":1},0,{"$f":"IF($I14=\"\",\"\",'Daten MR'!U16)","v":"50%"},{"$f":"IF($I14=\"\",\"\",'Daten MR'!V16)","v":"50%"},{"$f":"IF($I14=\"\",\"\",'Daten MR'!O16)","v":"50%"},{"$f":"IF($I14=\"\",\"\",'Daten MR'!W16)","v":20},0.19230769230769232,{"$f":"IF($I14=\"\",\"\",'Daten MR'!Y16)","v":2},{"$f":"IF($I14=\"\",\"\",'Daten MR'!Z16)","v":5},{"$f":"IF($I14=\"\",\"\",'Daten MR'!AA16)","v":1},{"$f":"IF($I14=\"\",\"\",'Daten MR'!AB16)","v":1},{"$f":"IF($I14=\"\",\"\",'Daten MR'!AC16)","v":11},0.35,{"$f":"IF($I14=\"\",\"\",'Daten MR'!AD16)","v":"55%"},{"$f":"IF($I14=\"\",\"\",'Daten MR'!X16)","v":"20%"},{"$f":"IF($I14=\"\",\"\",'Daten MR'!AE16)","v":2},{"$f":"IF($I14=\"\",\"\",'Daten MR'!AG16)","v":1},{"$f":"IF($I14=\"\",\"\",'Daten MR'!AH16)","v":1},{"$f":"IF($I14=\"\",\"\",'Daten MR'!AI16)","v":0},0,{"$f":"IF($I14=\"\",\"\",'Daten MR'!AF16)","v":"0%"},{"$f":"IF($I14=\"\",\"\",'Daten MR'!AJ16)","v":8},{"$f":"IF($I14=\"\",\"\",'Daten MR'!AL16)","v":3},{"$f":"IF($I14=\"\",\"\",'Daten MR'!AM16)","v":3},{"$f":"IF($I14=\"\",\"\",'Daten MR'!AN16)","v":2},0.25,{"$f":"IF($I14=\"\",\"\",'Daten MR'!AK16)","v":"-12%"},{"$f":"IF($I14=\"\",\"\",'Daten MR'!AO16)","v":0},{"$f":"IF($I14=\"\",\"\",'Daten MR'!AQ16)","v":0},{"$f":"IF($I14=\"\",\"\",'Daten MR'!AR16)","v":0},{"$f":"IF($I14=\"\",\"\",'Daten MR'!AS16)","v":0},{"$f":"IF($I14=\"\",\"\",'Daten MR'!AP16)","v":"0%"},{"$f":"IF($I14=\"\",\"\",'Daten MR'!AT16)","v":3},{"$f":"IF($I14=\"\",\"\",'Daten MR'!AV16)","v":0},{"$f":"IF($I14=\"\",\"\",'Daten MR'!AU16)","v":"0%"},null,null,"17","SEO",{"$f":"IF($I14=\"\",\"\",'Daten A1'!B16)","v":20},{"$f":"IF($I14=\"\",\"\",'Daten A1'!C16)","v":"20%"},{"$f":"IF($I14=\"\",\"\",'Daten A1'!E16)","v":2},{"$f":"IF($I14=\"\",\"\",'Daten A1'!F16)","v":5},{"$f":"IF($I14=\"\",\"\",'Daten A1'!G16)","v":11},{"$f":"IF($I14=\"\",\"\",IF(BU14=0,\"0%\",'Daten A1'!H16))","v":"55%"},{"$f":"IF($I14=\"\",\"\",'Daten A1'!D16)","v":"20%"},{"$f":"IF($I14=\"\",\"\",'Daten A1'!I16)","v":16},{"$f":"IF($I14=\"\",\"\",'Daten A1'!J16)","v":"22%"},{"$f":"IF($I14=\"\",\"\",'Daten A1'!L16)","v":2},{"$f":"IF($I14=\"\",\"\",'Daten A1'!M16)","v":3},{"$f":"IF($I14=\"\",\"\",'Daten A1'!N16)","v":9},{"$f":"IF($I14=\"\",\"\",IF(CB14=0,\"0%\",'Daten A1'!O16))","v":"56%"},{"$f":"IF($I14=\"\",\"\",'Daten A1'!K16)","v":"25%"},{"$f":"IF($I14=\"\",\"\",'Daten A1'!P16)","v":8},{"$f":"IF($I14=\"\",\"\",'Daten A1'!Q16)","v":"16%"},{"$f":"IF($I14=\"\",\"\",'Daten A1'!S16)","v":1},{"$f":"IF($I14=\"\",\"\",'Daten A1'!T16)","v":2},{"$f":"IF($I14=\"\",\"\",'Daten A1'!U16)","v":5},{"$f":"IF($I14=\"\",\"\",IF(CI14=0,\"0%\",'Daten A1'!V16))","v":"62%"},{"$f":"IF($I14=\"\",\"\",'Daten A1'!R16)","v":"25%"},{"$f":"IF($I14=\"\",\"\",'Daten A1'!W16)","v":8},{"$f":"IF($I14=\"\",\"\",'Daten A1'!X16)","v":"33%"},{"$f":"IF($I14=\"\",\"\",'Daten A1'!Z16)","v":1},{"$f":"IF($I14=\"\",\"\",'Daten A1'!AA16)","v":1},{"$f":"IF($I14=\"\",\"\",'Daten A1'!AB16)","v":4},{"$f":"IF($I14=\"\",\"\",IF(CP14=0,\"0%\",'Daten A1'!AC16))","v":"50%"},{"$f":"IF($I14=\"\",\"\",'Daten A1'!Y16)","v":"25%"},{"$f":"IF($I14=\"\",\"\",'Daten A1'!AD16)","v":4},{"$f":"IF($I14=\"\",\"\",'Daten A1'!AE16)","v":"15%"},{"$f":"IF($I14=\"\",\"\",'Daten A1'!AG16)","v":0},{"$f":"IF($I14=\"\",\"\",'Daten A1'!AH16)","v":2},{"$f":"IF($I14=\"\",\"\",'Daten A1'!AI16)","v":2},{"$f":"IF($I14=\"\",\"\",IF(CW14=0,\"0%\",'Daten A1'!AJ16))","v":"50%"},{"$f":"IF($I14=\"\",\"\",'Daten A1'!AF16)","v":"0%"},{"$f":"IF($I14=\"\",\"\",'Daten A1'!AK16)","v":2},{"$f":"IF($I14=\"\",\"\",'Daten A1'!AL16)","v":"200%"},{"$f":"IF($I14=\"\",\"\",'Daten A1'!AN16)","v":0},{"$f":"IF($I14=\"\",\"\",'Daten A1'!AO16)","v":1},{"$f":"IF($I14=\"\",\"\",'Daten A1'!AP16)","v":1},{"$f":"IF($I14=\"\",\"\",IF(DD14=0,\"0%\",'Daten A1'!AQ16))","v":"50%"},{"$f":"IF($I14=\"\",\"\",'Daten A1'!AM16)","v":"0%"},{"$f":"IF($I14=\"\",\"\",'Daten A1'!AR16)","v":16},{"$f":"IF($I14=\"\",\"\",'Daten A1'!AT16)","v":9},0.5625,{"$f":"IF($I14=\"\",\"\",'Daten A1'!AS16)","v":"25%"},{"$f":"IF($I14=\"\",\"\",'Daten A1'!AU16)","v":0},{"$f":"IF($I14=\"\",\"\",'Daten A1'!AW16)","v":0},"0%",{"$f":"IF($I14=\"\",\"\",'Daten A1'!AV16)","v":"0%"},1,null,null,"17","SEO",{"$f":"IF($I14=\"\",\"\",'Daten MR'!N16)","v":2},2.4390243902439025E-2,{"$f":"IF($I14=\"\",\"\",'Daten MR'!P16)","v":0},{"$f":"IF($I14=\"\",\"\",'Daten MR'!Q16)","v":0},{"$f":"IF($I14=\"\",\"\",'Daten MR'!R16)","v":1},{"$f":"IF($I14=\"\",\"\",'Daten MR'!S16)","v":0},{"$f":"IF($I14=\"\",\"\",'Daten MR'!T16)","v":1},0,0.5,0.5,{"$f":"IF($I14=\"\",\"\",'Daten MR'!O16)","v":"50%"},1,null,"17","SEO",{"$f":"IF($I14=\"\",\"\",'Daten SR'!T15)","v":0},0,{"$f":"IF($I14=\"\",\"\",'Daten SR'!W15)","v":0},{"$f":"IF($I14=\"\",\"\",'Daten SR'!V15)","v":0},{"$f":"IF($I14=\"\",\"\",'Daten SR'!U15)","v":0},0,0,0,0,1,null,"17","SEO",{"$f":"IF($I14=\"\",\"\",'Daten SR'!X15)","v":1},4.5454545454545456E-2,{"$f":"IF($I14=\"\",\"\",'Daten SR'!AA15)","v":0},{"$f":"IF($I14=\"\",\"\",'Daten SR'!Z15)","v":0},{"$f":"IF($I14=\"\",\"\",'Daten SR'!Y15)","v":0},0,0,0,0,1,null,"17","SEO",{"$f":"IF($I14=\"\",\"\",'Daten SR'!AB15)","v":1},6.6666666666666666E-2,{"$f":"IF($I14=\"\",\"\",'Daten SR'!AE15)","v":0},{"$f":"IF($I14=\"\",\"\",'Daten SR'!AD15)","v":0},{"$f":"IF($I14=\"\",\"\",'Daten SR'!AC15)","v":1},0,1,1,1,1,null,"17","SEO",{"$f":"IF($I14=\"\",\"\",'Daten SR'!AF15)","v":0},0,{"$f":"IF($I14=\"\",\"\",'Daten SR'!AI15)","v":0},{"$f":"IF($I14=\"\",\"\",'Daten SR'!AH15)","v":0},{"$f":"IF($I14=\"\",\"\",'Daten SR'!AG15)","v":0},0,0,0,0,1,null,"17","SEO",{"$f":"IF($I14=\"\",\"\",'Daten SR'!AJ15)","v":0},0,{"$f":"IF($I14=\"\",\"\",'Daten SR'!AM15)","v":0},{"$f":"IF($I14=\"\",\"\",'Daten SR'!AL15)","v":0},{"$f":"IF($I14=\"\",\"\",'Daten SR'!AK15)","v":0},0,0,0,0,1,null,"17","SEO",{"$f":"IF($I14=\"\",\"\",'Daten SR'!AN15)","v":0},0,{"$f":"IF($I14=\"\",\"\",'Daten SR'!AQ15)","v":0},{"$f":"IF($I14=\"\",\"\",'Daten SR'!AP15)","v":0},{"$f":"IF($I14=\"\",\"\",'Daten SR'!AO15)","v":0},0,0,0,0,1]
[null,"19","JEONG",null,{"$f":"IF(OR(E14=-1,'Daten MR'!B17=\"\"),-1,FIND(\" \",'Daten MR'!B17))","v":3},{"$f":"IF('Daten MR'!B17=\"\",\"\",'Daten MR'!B17)","v":"19 JEONG"},null,null,{"$f":"Options!D29","v":"19"},{"$f":"Options!E29","v":"JEONG"},{"$f":"Options!J29","v":"Libero"},{"$f":"Options!K29","v":"Lib"},null,{"$f":"IF($I15=\"\",\"\",'Daten MR'!C17)","v":5},{"$f":"IF($I15=\"\",\"\",'Daten MR'!D17)","v":0},0,{"$f":"IF($I15=\"\",\"\",'Daten MR'!E17)","v":0},{"$f":"IF($I15=\"\",\"\",'Daten MR'!F17)","v":4},{"$f":"IF($I15=\"\",\"\",'Daten MR'!G17)","v":-4},{"$f":"IF($I15=\"\",\"\",'Daten MR'!H17)","v":0},{"$f":"IF($I15=\"\",\"\",'Daten MR'!J17)","v":0},{"$f":"IF($I15=\"\",\"\",'Daten MR'!K17)","v":0},{"$f":"IF($I15=\"\",\"\",'Daten MR'!L17)","v":0},{"$f":"IF($I15=\"\",\"\",'Daten MR'!M17)","v":0},"0%","0%",{"$f":"IF($I15=\"\",\"\",'Daten MR'!I17)","v":"0%"},{"$f":"IF($I15=\"\",\"\",'Daten MR'!N17)","v":33},0.40243902439024393,{"$f":"IF($I15=\"\",\"\",'Daten MR'!P17)","v":0},{"$f":"IF($I15=\"\",\"\",'Daten MR'!Q17)","v":1},{"$f":"IF($I15=\"\",\"\",'Daten MR'!R17)","v":10},{"$f":"IF($I15=\"\",\"\",'Daten MR'!S17)","v":12},{"$f":"IF($I15=\"\",\"\",'Daten MR'!T17)","v":10},3.0303030303030304E-2,{"$f":"IF($I15=\"\",\"\",'Daten MR'!U17)","v":"66%"},{"$f":"IF($I15=\"\",\"\",'Daten MR'!V17)","v":"30%"},{"$f":"IF($I15=\"\",\"\",'Daten MR'!O17)","v":"64%"},{"$f":"IF($I15=\"\",\"\",'Daten MR'!W17)","v":0},"0%",{"$f":"IF($I15=\"\",\"\",'Daten MR'!Y17)","v":0},{"$f":"IF($I15=\"\",\"\",'Daten MR'!Z17)","v":0},{"$f":"IF($I15=\"\",\"\",'Daten MR'!AA17)","v":0},{"$f":"IF($I15=\"\",\"\",'Daten MR'!AB17)","v":0},{"$f":"IF($I15=\"\",\"\",'Daten MR'!AC17)","v":0},"0%",{"$f":"IF($I15=\"\",\"\",'Daten MR'!AD17)","v":"0"},{"$f":"IF($I15=\"\",\"\",'Daten MR'!X17)","v":"0%"},{"$f":"IF($I15=\"\",\"\",'Daten MR'!AE17)","v":0},{"$f":"IF($I15=\"\",\"\",'Daten MR'!AG17)","v":0},{"$f":"IF($I15=\"\",\"\",'Daten MR'!AH17)","v":0},{"$f":"IF($I15=\"\",\"\",'Daten MR'!AI17)","v":0},"0%",{"$f":"IF($I15=\"\",\"\",'Daten MR'!AF17)","v":"0%"},{"$f":"IF($I15=\"\",\"\",'Daten MR'!AJ17)","v":12},{"$f":"IF($I15=\"\",\"\",'Daten MR'!AL17)","v":4},{"$f":"IF($I15=\"\",\"\",'Daten MR'!AM17)","v":5},{"$f":"IF($I15=\"\",\"\",'Daten MR'!AN17)","v":3},0.25,{"$f":"IF($I15=\"\",\"\",'Daten MR'!AK17)","v":"-8%"},{"$f":"IF($I15=\"\",\"\",'Daten MR'!AO17)","v":0},{"$f":"IF($I15=\"\",\"\",'Daten MR'!AQ17)","v":0},{"$f":"IF($I15=\"\",\"\",'Daten MR'!AR17)","v":0},{"$f":"IF($I15=\"\",\"\",'Daten MR'!AS17)","v":0},{"$f":"IF($I15=\"\",\"\",'Daten MR'!AP17)","v":"0%"},{"$f":"IF($I15=\"\",\"\",'Daten MR'!AT17)","v":2},{"$f":"IF($I15=\"\",\"\",'Daten MR'!AV17)","v":0},{"$f":"IF($I15=\"\",\"\",'Daten MR'!AU17)","v":"0%"},null,null,"19","JEONG",{"$f":"IF($I15=\"\",\"\",'Daten A1'!B17)","v":0},{"$f":"IF($I15=\"\",\"\",'Daten A1'!C17)","v":"0%"},{"$f":"IF($I15=\"\",\"\",'Daten A1'!E17)","v":0},{"$f":"IF($I15=\"\",\"\",'Daten A1'!F17)","v":0},{"$f":"IF($I15=\"\",\"\",'Daten A1'!G17)","v":0},{"$f":"IF($I15=\"\",\"\",IF(BU15=0,\"0%\",'Daten A1'!H17))","v":"0%"},{"$f":"IF($I15=\"\",\"\",'Daten A1'!D17)","v":"0%"},{"$f":"IF($I15=\"\",\"\",'Daten A1'!I17)","v":0},{"$f":"IF($I15=\"\",\"\",'Daten A1'!J17)","v":"0%"},{"$f":"IF($I15=\"\",\"\",'Daten A1'!L17)","v":0},{"$f":"IF($I15=\"\",\"\",'Daten A1'!M17)","v":0},{"$f":"IF($I15=\"\",\"\",'Daten A1'!N17)","v":0},{"$f":"IF($I15=\"\",\"\",IF(CB15=0,\"0%\",'Daten A1'!O17))","v":"0%"},{"$f":"IF($I15=\"\",\"\",'Daten A1'!K17)","v":"0%"},{"$f":"IF($I15=\"\",\"\",'Daten A1'!P17)","v":0},{"$f":"IF($I15=\"\",\"\",'Daten A1'!Q17)","v":"0%"},{"$f":"IF($I15=\"\",\"\",'Daten A1'!S17)","v":0},{"$f":"IF($I15=\"\",\"\",'Daten A1'!T17)","v":0},{"$f":"IF($I15=\"\",\"\",'Daten A1'!U17)","v":0},{"$f":"IF($I15=\"\",\"\",IF(CI15=0,\"0%\",'Daten A1'!V17))","v":"0%"},{"$f":"IF($I15=\"\",\"\",'Daten A1'!R17)","v":"0%"},{"$f":"IF($I15=\"\",\"\",'Daten A1'!W17)","v":0},{"$f":"IF($I15=\"\",\"\",'Daten A1'!X17)","v":"0%"},{"$f":"IF($I15=\"\",\"\",'Daten A1'!Z17)","v":0},{"$f":"IF($I15=\"\",\"\",'Daten A1'!AA17)","v":0},{"$f":"IF($I15=\"\",\"\",'Daten A1'!AB17)","v":0},{"$f":"IF($I15=\"\",\"\",IF(CP15=0,\"0%\",'Daten A1'!AC17))","v":"0%"},{"$f":"IF($I15=\"\",\"\",'Daten A1'!Y17)","v":"0%"},{"$f":"IF($I15=\"\",\"\",'Daten A1'!AD17)","v":0},{"$f":"IF($I15=\"\",\"\",'Daten A1'!AE17)","v":"0%"},{"$f":"IF($I15=\"\",\"\",'Daten A1'!AG17)","v":0},{"$f":"IF($I15=\"\",\"\",'Daten A1'!AH17)","v":0},{"$f":"IF($I15=\"\",\"\",'Daten A1'!AI17)","v":0},{"$f":"IF($I15=\"\",\"\",IF(CW15=0,\"0%\",'Daten A1'!AJ17))","v":"0%"},{"$f":"IF($I15=\"\",\"\",'Daten A1'!AF17)","v":"0%"},{"$f":"IF($I15=\"\",\"\",'Daten A1'!AK17)","v":0},{"$f":"IF($I15=\"\",\"\",'Daten A1'!AL17)","v":"0"},{"$f":"IF($I15=\"\",\"\",'Daten A1'!AN17)","v":0},{"$f":"IF($I15=\"\",\"\",'Daten A1'!AO17)","v":0},{"$f":"IF($I15=\"\",\"\",'Daten A1'!AP17)","v":0},{"$f":"IF($I15=\"\",\"\",IF(DD15=0,\"0%\",'Daten A1'!AQ17))","v":"0%"},{"$f":"IF($I15=\"\",\"\",'Daten A1'!AM17)","v":"0%"},{"$f":"IF($I15=\"\",\"\",'Daten A1'!AR17)","v":0},{"$f":"IF($I15=\"\",\"\",'Daten A1'!AT17)","v":0},"0%",{"$f":"IF($I15=\"\",\"\",'Daten A1'!AS17)","v":"0%"},{"$f":"IF($I15=\"\",\"\",'Daten A1'!AU17)","v":0},{"$f":"IF($I15=\"\",\"\",'Daten A1'!AW17)","v":0},"0%",{"$f":"IF($I15=\"\",\"\",'Daten A1'!AV17)","v":"0%"},1,null,null,"19","JEONG",{"$f":"IF($I15=\"\",\"\",'Daten MR'!N17)","v":33},0.40243902439024393,{"$f":"IF($I15=\"\",\"\",'Daten MR'!P17)","v":0},{"$f":"IF($I15=\"\",\"\",'Daten MR'!Q17)","v":1},{"$f":"IF($I15=\"\",\"\",'Daten MR'!R17)","v":10},{"$f":"IF($I15=\"\",\"\",'Daten MR'!S17)","v":12},{"$f":"IF($I15=\"\",\"\",'Daten MR'!T17)","v":10},3.0303030303030304E-2,0.66666666666666663,0.30303030303030304,{"$f":"IF($I15=\"\",\"\",'Daten MR'!O17)","v":"64%"},1,null,"19","JEONG",{"$f":"IF($I15=\"\",\"\",'Daten SR'!T16)","v":3},0.3,{"$f":"IF($I15=\"\",\"\",'Daten SR'!W16)","v":0},{"$f":"IF($I15=\"\",\"\",'Daten SR'!V16)","v":1},{"$f":"IF($I15=\"\",\"\",'Daten SR'!U16)","v":2},0,1,0.66666666666666663,1,1,null,"19","JEONG",{"$f":"IF($I15=\"\",\"\",'Daten SR'!X16)","v":10},0.45454545454545453,{"$f":"IF($I15=\"\",\"\",'Daten SR'!AA16)","v":1},{"$f":"IF($I15=\"\",\"\",'Daten SR'!Z16)","v":2},{"$f":"IF($I15=\"\",\"\",'Daten SR'!Y16)","v":3},0.1,0.5,0.3,0.4,1,null,"19","JEONG",{"$f":"IF($I15=\"\",\"\",'Daten SR'!AB16)","v":8},0.53333333333333333,{"$f":"IF($I15=\"\",\"\",'Daten SR'!AE16)","v":0},{"$f":"IF($I15=\"\",\"\",'Daten SR'!AD16)","v":2},{"$f":"IF($I15=\"\",\"\",'Daten SR'!AC16)","v":3},0,0.625,0.375,0.625,1,null,"19","JEONG",{"$f":"IF($I15=\"\",\"\",'Daten SR'!AF16)","v":4},0.4,{"$f":"IF($I15=\"\",\"\",'Daten SR'!AI16)","v":0},{"$f":"IF($I15=\"\",\"\",'Daten SR'!AH16)","v":1},{"$f":"IF($I15=\"\",\"\",'Daten SR'!AG16)","v":0},0,0.25,0,0.25,1,null,"19","JEONG",{"$f":"IF($I15=\"\",\"\",'Daten SR'!AJ16)","v":5},0.55555555555555558,{"$f":"IF($I15=\"\",\"\",'Daten SR'!AM16)","v":0},{"$f":"IF($I15=\"\",\"\",'Daten SR'!AL16)","v":5},{"$f":"IF($I15=\"\",\"\",'Daten SR'!AK16)","v":0},0,1,0,1,1,null,"19","JEONG",{"$f":"IF($I15=\"\",\"\",'Daten SR'!AN16)","v":3},0.1875,{"$f":"IF($I15=\"\",\"\",'Daten SR'!AQ16)","v":0},{"$f":"IF($I15=\"\",\"\",'Daten SR'!AP16)","v":1},{"$f":"IF($I15=\"\",\"\",'Daten SR'!AO16)","v":2},0,1,0.66666666666666663,1,1]
[null,"20","JI",null,{"$f":"IF(OR(E15=-1,'Daten MR'!B18=\"\"),-1,FIND(\" \",'Daten MR'!B18))","v":3},{"$f":"IF('Daten MR'!B18=\"\",\"\",'Daten MR'!B18)","v":"20 JI"},null,null,{"$f":"Options!D30","v":"20"},{"$f":"Options!E30","v":"JI"},{"$f":"Options!J30","v":"Middleblock"},{"$f":"Options!K30","v":"MB"},null,{"$f":"IF($I16=\"\",\"\",'Daten MR'!C18)","v":0},{"$f":"IF($I16=\"\",\"\",'Daten MR'!D18)","v":0},"",{"$f":"IF($I16=\"\",\"\",'Daten MR'!E18)","v":0},{"$f":"IF($I16=\"\",\"\",'Daten MR'!F18)","v":0},{"$f":"IF($I16=\"\",\"\",'Daten MR'!G18)","v":0},{"$f":"IF($I16=\"\",\"\",'Daten MR'!H18)","v":0},{"$f":"IF($I16=\"\",\"\",'Daten MR'!J18)","v":0},{"$f":"IF($I16=\"\",\"\",'Daten MR'!K18)","v":0},{"$f":"IF($I16=\"\",\"\",'Daten MR'!L18)","v":0},{"$f":"IF($I16=\"\",\"\",'Daten MR'!M18)","v":0},"0%","0%",{"$f":"IF($I16=\"\",\"\",'Daten MR'!I18)","v":"0%"},{"$f":"IF($I16=\"\",\"\",'Daten MR'!N18)","v":0},"0%",{"$f":"IF($I16=\"\",\"\",'Daten MR'!P18)","v":0},{"$f":"IF($I16=\"\",\"\",'Daten MR'!Q18)","v":0},{"$f":"IF($I16=\"\",\"\",'Daten MR'!R18)","v":0},{"$f":"IF($I16=\"\",\"\",'Daten MR'!S18)","v":0},{"$f":"IF($I16=\"\",\"\",'Daten MR'!T18)","v":0},"0%",{"$f":"IF($I16=\"\",\"\",'Daten MR'!U18)","v":"0"},{"$f":"IF($I16=\"\",\"\",'Daten MR'!V18)","v":"0"},{"$f":"IF($I16=\"\",\"\",'Daten MR'!O18)","v":"0"},{"$f":"IF($I16=\"\",\"\",'Daten MR'!W18)","v":0},"0%",{"$f":"IF($I16=\"\",\"\",'Daten MR'!Y18)","v":0},{"$f":"IF($I16=\"\",\"\",'Daten MR'!Z18)","v":0},{"$f":"IF($I16=\"\",\"\",'Daten MR'!AA18)","v":0},{"$f":"IF($I16=\"\",\"\",'Daten MR'!AB18)","v":0},{"$f":"IF($I16=\"\",\"\",'Daten MR'!AC18)","v":0},"0%",{"$f":"IF($I16=\"\",\"\",'Daten MR'!AD18)","v":"0"},{"$f":"IF($I16=\"\",\"\",'Daten MR'!X18)","v":"0%"},{"$f":"IF($I16=\"\",\"\",'Daten MR'!AE18)","v":0},{"$f":"IF($I16=\"\",\"\",'Daten MR'!AG18)","v":0},{"$f":"IF($I16=\"\",\"\",'Daten MR'!AH18)","v":0},{"$f":"IF($I16=\"\",\"\",'Daten MR'!AI18)","v":0},"0%",{"$f":"IF($I16=\"\",\"\",'Daten MR'!AF18)","v":"0%"},{"$f":"IF($I16=\"\",\"\",'Daten MR'!AJ18)","v":0},{"$f":"IF($I16=\"\",\"\",'Daten MR'!AL18)","v":0},{"$f":"IF($I16=\"\",\"\",'Daten MR'!AM18)","v":0},{"$f":"IF($I16=\"\",\"\",'Daten MR'!AN18)","v":0},"0%",{"$f":"IF($I16=\"\",\"\",'Daten MR'!AK18)","v":"0%"},{"$f":"IF($I16=\"\",\"\",'Daten MR'!AO18)","v":0},{"$f":"IF($I16=\"\",\"\",'Daten MR'!AQ18)","v":0},{"$f":"IF($I16=\"\",\"\",'Daten MR'!AR18)","v":0},{"$f":"IF($I16=\"\",\"\",'Daten MR'!AS18)","v":0},{"$f":"IF($I16=\"\",\"\",'Daten MR'!AP18)","v":"0%"},{"$f":"IF($I16=\"\",\"\",'Daten MR'!AT18)","v":0},{"$f":"IF($I16=\"\",\"\",'Daten MR'!AV18)","v":0},{"$f":"IF($I16=\"\",\"\",'Daten MR'!AU18)","v":"0%"},null,null,"20","JI",{"$f":"IF($I16=\"\",\"\",'Daten A1'!B18)","v":0},{"$f":"IF($I16=\"\",\"\",'Daten A1'!C18)","v":"0%"},{"$f":"IF($I16=\"\",\"\",'Daten A1'!E18)","v":0},{"$f":"IF($I16=\"\",\"\",'Daten A1'!F18)","v":0},{"$f":"IF($I16=\"\",\"\",'Daten A1'!G18)","v":0},{"$f":"IF($I16=\"\",\"\",IF(BU16=0,\"0%\",'Daten A1'!H18))","v":"0%"},{"$f":"IF($I16=\"\",\"\",'Daten A1'!D18)","v":"0%"},{"$f":"IF($I16=\"\",\"\",'Daten A1'!I18)","v":0},{"$f":"IF($I16=\"\",\"\",'Daten A1'!J18)","v":"0%"},{"$f":"IF($I16=\"\",\"\",'Daten A1'!L18)","v":0},{"$f":"IF($I16=\"\",\"\",'Daten A1'!M18)","v":0},{"$f":"IF($I16=\"\",\"\",'Daten A1'!N18)","v":0},{"$f":"IF($I16=\"\",\"\",IF(CB16=0,\"0%\",'Daten A1'!O18))","v":"0%"},{"$f":"IF($I16=\"\",\"\",'Daten A1'!K18)","v":"0%"},{"$f":"IF($I16=\"\",\"\",'Daten A1'!P18)","v":0},{"$f":"IF($I16=\"\",\"\",'Daten A1'!Q18)","v":"0%"},{"$f":"IF($I16=\"\",\"\",'Daten A1'!S18)","v":0},{"$f":"IF($I16=\"\",\"\",'Daten A1'!T18)","v":0},{"$f":"IF($I16=\"\",\"\",'Daten A1'!U18)","v":0},{"$f":"IF($I16=\"\",\"\",IF(CI16=0,\"0%\",'Daten A1'!V18))","v":"0%"},{"$f":"IF($I16=\"\",\"\",'Daten A1'!R18)","v":"0%"},{"$f":"IF($I16=\"\",\"\",'Daten A1'!W18)","v":0},{"$f":"IF($I16=\"\",\"\",'Daten A1'!X18)","v":"0%"},{"$f":"IF($I16=\"\",\"\",'Daten A1'!Z18)","v":0},{"$f":"IF($I16=\"\",\"\",'Daten A1'!AA18)","v":0},{"$f":"IF($I16=\"\",\"\",'Daten A1'!AB18)","v":0},{"$f":"IF($I16=\"\",\"\",IF(CP16=0,\"0%\",'Daten A1'!AC18))","v":"0%"},{"$f":"IF($I16=\"\",\"\",'Daten A1'!Y18)","v":"0%"},{"$f":"IF($I16=\"\",\"\",'Daten A1'!AD18)","v":0},{"$f":"IF($I16=\"\",\"\",'Daten A1'!AE18)","v":"0%"},{"$f":"IF($I16=\"\",\"\",'Daten A1'!AG18)","v":0},{"$f":"IF($I16=\"\",\"\",'Daten A1'!AH18)","v":0},{"$f":"IF($I16=\"\",\"\",'Daten A1'!AI18)","v":0},{"$f":"IF($I16=\"\",\"\",IF(CW16=0,\"0%\",'Daten A1'!AJ18))","v":"0%"},{"$f":"IF($I16=\"\",\"\",'Daten A1'!AF18)","v":"0%"},{"$f":"IF($I16=\"\",\"\",'Daten A1'!AK18)","v":0},{"$f":"IF($I16=\"\",\"\",'Daten A1'!AL18)","v":"0"},{"$f":"IF($I16=\"\",\"\",'Daten A1'!AN18)","v":0},{"$f":"IF($I16=\"\",\"\",'Daten A1'!AO18)","v":0},{"$f":"IF($I16=\"\",\"\",'Daten A1'!AP18)","v":0},{"$f":"IF($I16=\"\",\"\",IF(DD16=0,\"0%\",'Daten A1'!AQ18))","v":"0%"},{"$f":"IF($I16=\"\",\"\",'Daten A1'!AM18)","v":"0%"},{"$f":"IF($I16=\"\",\"\",'Daten A1'!AR18)","v":0},{"$f":"IF($I16=\"\",\"\",'Daten A1'!AT18)","v":0},"0%",{"$f":"IF($I16=\"\",\"\",'Daten A1'!AS18)","v":"0%"},{"$f":"IF($I16=\"\",\"\",'Daten A1'!AU18)","v":0},{"$f":"IF($I16=\"\",\"\",'Daten A1'!AW18)","v":0},"0%",{"$f":"IF($I16=\"\",\"\",'Daten A1'!AV18)","v":"0%"},1,null,null,"20","JI",{"$f":"IF($I16=\"\",\"\",'Daten MR'!N18)","v":0},0,{"$f":"IF($I16=\"\",\"\",'Daten MR'!P18)","v":0},{"$f":"IF($I16=\"\",\"\",'Daten MR'!Q18)","v":0},{"$f":"IF($I16=\"\",\"\",'Daten MR'!R18)","v":0},{"$f":"IF($I16=\"\",\"\",'Daten MR'!S18)","v":0},{"$f":"IF($I16=\"\",\"\",'Daten MR'!T18)","v":0},0,0,0,{"$f":"IF($I16=\"\",\"\",'Daten MR'!O18)","v":"0"},1,null,"20","JI",{"$f":"IF($I16=\"\",\"\",'Daten SR'!T17)","v":0},0,{"$f":"IF($I16=\"\",\"\",'Daten SR'!W17)","v":0},{"$f":"IF($I16=\"\",\"\",'Daten SR'!V17)","v":0},{"$f":"IF($I16=\"\",\"\",'Daten SR'!U17)","v":0},0,0,0,0,1,null,"20","JI",{"$f":"IF($I16=\"\",\"\",'Daten SR'!X17)","v":0},0,{"$f":"IF($I16=\"\",\"\",'Daten SR'!AA17)","v":0},{"$f":"IF($I16=\"\",\"\",'Daten SR'!Z17)","v":0},{"$f":"IF($I16=\"\",\"\",'Daten SR'!Y17)","v":0},0,0,0,0,1,null,"20","JI",{"$f":"IF($I16=\"\",\"\",'Daten SR'!AB17)","v":0},0,{"$f":"IF($I16=\"\",\"\",'Daten SR'!AE17)","v":0},{"$f":"IF($I16=\"\",\"\",'Daten SR'!AD17)","v":0},{"$f":"IF($I16=\"\",\"\",'Daten SR'!AC17)","v":0},0,0,0,0,1,null,"20","JI",{"$f":"IF($I16=\"\",\"\",'Daten SR'!AF17)","v":0},0,{"$f":"IF($I16=\"\",\"\",'Daten SR'!AI17)","v":0},{"$f":"IF($I16=\"\",\"\",'Daten SR'!AH17)","v":0},{"$f":"IF($I16=\"\",\"\",'Daten SR'!AG17)","v":0},0,0,0,0,1,null,"20","JI",{"$f":"IF($I16=\"\",\"\",'Daten SR'!AJ17)","v":0},0,{"$f":"IF($I16=\"\",\"\",'Daten SR'!AM17)","v":0},{"$f":"IF($I16=\"\",\"\",'Daten SR'!AL17)","v":0},{"$f":"IF($I16=\"\",\"\",'Daten SR'!AK17)","v":0},0,0,0,0,1,null,"20","JI",{"$f":"IF($I16=\"\",\"\",'Daten SR'!AN17)","v":0},0,{"$f":"IF($I16=\"\",\"\",'Daten SR'!AQ17)","v":0},{"$f":"IF($I16=\"\",\"\",'Daten SR'!AP17)","v":0},{"$f":"IF($I16=\"\",\"\",'Daten SR'!AO17)","v":0},0,0,0,0,1]
[null,"22","YOU",null,{"$f":"IF(OR(E16=-1,'Daten MR'!B19=\"\"),-1,FIND(\" \",'Daten MR'!B19))","v":3},{"$f":"IF('Daten MR'!B19=\"\",\"\",'Daten MR'!B19)","v":"22 YOU"},null,null,{"$f":"Options!D31","v":"22"},{"$f":"Options!E31","v":"YOU"},{"$f":"Options!J31","v":"Setter"},{"$f":"Options!K31","v":"Set"},null,{"$f":"IF($I17=\"\",\"\",'Daten MR'!C19)","v":5},{"$f":"IF($I17=\"\",\"\",'Daten MR'!D19)","v":1},0.2,{"$f":"IF($I17=\"\",\"\",'Daten MR'!E19)","v":1},{"$f":"IF($I17=\"\",\"\",'Daten MR'!F19)","v":3},{"$f":"IF($I17=\"\",\"\",'Daten MR'!G19)","v":-2},{"$f":"IF($I17=\"\",\"\",'Daten MR'!H19)","v":12},{"$f":"IF($I17=\"\",\"\",'Daten MR'!J19)","v":0},{"$f":"IF($I17=\"\",\"\",'Daten MR'!K19)","v":8},{"$f":"IF($I17=\"\",\"\",'Daten MR'!L19)","v":4},{"$f":"IF($I17=\"\",\"\",'Daten MR'!M19)","v":0},0,0,{"$f":"IF($I17=\"\",\"\",'Daten MR'!I19)","v":"33%"},{"$f":"IF($I17=\"\",\"\",'Daten MR'!N19)","v":0},"0%",{"$f":"IF($I17=\"\",\"\",'Daten MR'!P19)","v":0},{"$f":"IF($I17=\"\",\"\",'Daten MR'!Q19)","v":0},{"$f":"IF($I17=\"\",\"\",'Daten MR'!R19)","v":0},{"$f":"IF($I17=\"\",\"\",'Daten MR'!S19)","v":0},{"$f":"IF($I17=\"\",\"\",'Daten MR'!T19)","v":0},"0%",{"$f":"IF($I17=\"\",\"\",'Daten MR'!U19)","v":"0"},{"$f":"IF($I17=\"\",\"\",'Daten MR'!V19)","v":"0"},{"$f":"IF($I17=\"\",\"\",'Daten MR'!O19)","v":"0"},{"$f":"IF($I17=\"\",\"\",'Daten MR'!W19)","v":1},9.6153846153846159E-3,{"$f":"IF($I17=\"\",\"\",'Daten MR'!Y19)","v":0},{"$f":"IF($I17=\"\",\"\",'Daten MR'!Z19)","v":0},{"$f":"IF($I17=\"\",\"\",'Daten MR'!AA19)","v":1},{"$f":"IF($I17=\"\",\"\",'Daten MR'!AB19)","v":0},{"$f":"IF($I17=\"\",\"\",'Daten MR'!AC19)","v":0},0,{"$f":"IF($I17=\"\",\"\",'Daten MR'!AD19)","v":"0%"},{"$f":"IF($I17=\"\",\"\",'Daten MR'!X19)","v":"0%"},{"$f":"IF($I17=\"\",\"\",'Daten MR'!AE19)","v":2},{"$f":"IF($I17=\"\",\"\",'Daten MR'!AG19)","v":1},{"$f":"IF($I17=\"\",\"\",'Daten MR'!AH19)","v":0},{"$f":"IF($I17=\"\",\"\",'Daten MR'!AI19)","v":1},0.5,{"$f":"IF($I17=\"\",\"\",'Daten MR'!AF19)","v":"0%"},{"$f":"IF($I17=\"\",\"\",'Daten MR'!AJ19)","v":4},{"$f":"IF($I17=\"\",\"\",'Daten MR'!AL19)","v":1},{"$f":"IF($I17=\"\",\"\",'Daten MR'!AM19)","v":3},{"$f":"IF($I17=\"\",\"\",'Daten MR'!AN19)","v":0},0,{"$f":"IF($I17=\"\",\"\",'Daten MR'!AK19)","v":"-25%"},{"$f":"IF($I17=\"\",\"\",'Daten MR'!AO19)","v":0},{"$f":"IF($I17=\"\",\"\",'Daten MR'!AQ19)","v":0},{"$f":"IF($I17=\"\",\"\",'Daten MR'!AR19)","v":0},{"$f":"IF($I17=\"\",\"\",'Daten MR'!AS19)","v":0},{"$f":"IF($I17=\"\",\"\",'Daten MR'!AP19)","v":"0%"},{"$f":"IF($I17=\"\",\"\",'Daten MR'!AT19)","v":28},{"$f":"IF($I17=\"\",\"\",'Daten MR'!AV19)","v":1},{"$f":"IF($I17=\"\",\"\",'Daten MR'!AU19)","v":"57%"},null,null,"22","YOU",{"$f":"IF($I17=\"\",\"\",'Daten A1'!B19)","v":0},{"$f":"IF($I17=\"\",\"\",'Daten A1'!C19)","v":"0%"},{"$f":"IF($I17=\"\",\"\",'Daten A1'!E19)","v":0},{"$f":"IF($I17=\"\",\"\",'Daten A1'!F19)","v":0},{"$f":"IF($I17=\"\",\"\",'Daten A1'!G19)","v":0},{"$f":"IF($I17=\"\",\"\",IF(BU17=0,\"0%\",'Daten A1'!H19))","v":"0%"},{"$f":"IF($I17=\"\",\"\",'Daten A1'!D19)","v":"0%"},{"$f":"IF($I17=\"\",\"\",'Daten A1'!I19)","v":0},{"$f":"IF($I17=\"\",\"\",'Daten A1'!J19)","v":"0%"},{"$f":"IF($I17=\"\",\"\",'Daten A1'!L19)","v":0},{"$f":"IF($I17=\"\",\"\",'Daten A1'!M19)","v":0},{"$f":"IF($I17=\"\",\"\",'Daten A1'!N19)","v":0},{"$f":"IF($I17=\"\",\"\",IF(CB17=0,\"0%\",'Daten A1'!O19))","v":"0%"},{"$f":"IF($I17=\"\",\"\",'Daten A1'!K19)","v":"0%"},{"$f":"IF($I17=\"\",\"\",'Daten A1'!P19)","v":0},{"$f":"IF($I17=\"\",\"\",'Daten A1'!Q19)","v":"0%"},{"$f":"IF($I17=\"\",\"\",'Daten A1'!S19)","v":0},{"$f":"IF($I17=\"\",\"\",'Daten A1'!T19)","v":0},{"$f":"IF($I17=\"\",\"\",'Daten A1'!U19)","v":0},{"$f":"IF($I17=\"\",\"\",IF(CI17=0,\"0%\",'Daten A1'!V19))","v":"0%"},{"$f":"IF($I17=\"\",\"\",'Daten A1'!R19)","v":"0%"},{"$f":"IF($I17=\"\",\"\",'Daten A1'!W19)","v":0},{"$f":"IF($I17=\"\",\"\",'Daten A1'!X19)","v":"0%"},{"$f":"IF($I17=\"\",\"\",'Daten A1'!Z19)","v":0},{"$f":"IF($I17=\"\",\"\",'Daten A1'!AA19)","v":0},{"$f":"IF($I17=\"\",\"\",'Daten A1'!AB19)","v":0},{"$f":"IF($I17=\"\",\"\",IF(CP17=0,\"0%\",'Daten A1'!AC19))","v":"0%"},{"$f":"IF($I17=\"\",\"\",'Daten A1'!Y19)","v":"0%"},{"$f":"IF($I17=\"\",\"\",'Daten A1'!AD19)","v":0},{"$f":"IF($I17=\"\",\"\",'Daten A1'!AE19)","v":"0%"},{"$f":"IF($I17=\"\",\"\",'Daten A1'!AG19)","v":0},{"$f":"IF($I17=\"\",\"\",'Daten A1'!AH19)","v":0},{"$f":"IF($I17=\"\",\"\",'Daten A1'!AI19)","v":0},{"$f":"IF($I17=\"\",\"\",IF(CW17=0,\"0%\",'Daten A1'!AJ19))","v":"0%"},{"$f":"IF($I17=\"\",\"\",'Daten A1'!AF19)","v":"0%"},{"$f":"IF($I17=\"\",\"\",'Daten A1'!AK19)","v":0},{"$f":"IF($I17=\"\",\"\",'Daten A1'!AL19)","v":"0"},{"$f":"IF($I17=\"\",\"\",'Daten A1'!AN19)","v":0},{"$f":"IF($I17=\"\",\"\",'Daten A1'!AO19)","v":0},{"$f":"IF($I17=\"\",\"\",'Daten A1'!AP19)","v":0},{"$f":"IF($I17=\"\",\"\",IF(DD17=0,\"0%\",'Daten A1'!AQ19))","v":"0%"},{"$f":"IF($I17=\"\",\"\",'Daten A1'!AM19)","v":"0%"},{"$f":"IF($I17=\"\",\"\",'Daten A1'!AR19)","v":0},{"$f":"IF($I17=\"\",\"\",'Daten A1'!AT19)","v":0},"0%",{"$f":"IF($I17=\"\",\"\",'Daten A1'!AS19)","v":"0%"},{"$f":"IF($I17=\"\",\"\",'Daten A1'!AU19)","v":0},{"$f":"IF($I17=\"\",\"\",'Daten A1'!AW19)","v":0},"0%",{"$f":"IF($I17=\"\",\"\",'Daten A1'!AV19)","v":"0%"},1,null,null,"22","YOU",{"$f":"IF($I17=\"\",\"\",'Daten MR'!N19)","v":0},0,{"$f":"IF($I17=\"\",\"\",'Daten MR'!P19)","v":0},{"$f":"IF($I17=\"\",\"\",'Daten MR'!Q19)","v":0},{"$f":"IF($I17=\"\",\"\",'Daten MR'!R19)","v":0},{"$f":"IF($I17=\"\",\"\",'Daten MR'!S19)","v":0},{"$f":"IF($I17=\"\",\"\",'Daten MR'!T19)","v":0},0,0,0,{"$f":"IF($I17=\"\",\"\",'Daten MR'!O19)","v":"0"},1,null,"22","YOU",{"$f":"IF($I17=\"\",\"\",'Daten SR'!T18)","v":0},0,{"$f":"IF($I17=\"\",\"\",'Daten SR'!W18)","v":0},{"$f":"IF($I17=\"\",\"\",'Daten SR'!V18)","v":0},{"$f":"IF($I17=\"\",\"\",'Daten SR'!U18)","v":0},0,0,0,0,1,null,"22","YOU",{"$f":"IF($I17=\"\",\"\",'Daten SR'!X18)","v":0},0,{"$f":"IF($I17=\"\",\"\",'Daten SR'!AA18)","v":0},{"$f":"IF($I17=\"\",\"\",'Daten SR'!Z18)","v":0},{"$f":"IF($I17=\"\",\"\",'Daten SR'!Y18)","v":0},0,0,0,0,1,null,"22","YOU",{"$f":"IF($I17=\"\",\"\",'Daten SR'!AB18)","v":0},0,{"$f":"IF($I17=\"\",\"\",'Daten SR'!AE18)","v":0},{"$f":"IF($I17=\"\",\"\",'Daten SR'!AD18)","v":0},{"$f":"IF($I17=\"\",\"\",'Daten SR'!AC18)","v":0},0,0,0,0,1,null,"22","YOU",{"$f":"IF($I17=\"\",\"\",'Daten SR'!AF18)","v":0},0,{"$f":"IF($I17=\"\",\"\",'Daten SR'!AI18)","v":0},{"$f":"IF($I17=\"\",\"\",'Daten SR'!AH18)","v":0},{"$f":"IF($I17=\"\",\"\",'Daten SR'!AG18)","v":0},0,0,0,0,1,null,"22","YOU",{"$f":"IF($I17=\"\",\"\",'Daten SR'!AJ18)","v":0},0,{"$f":"IF($I17=\"\",\"\",'Daten SR'!AM18)","v":0},{"$f":"IF($I17=\"\",\"\",'Daten SR'!AL18)","v":0},{"$f":"IF($I17=\"\",\"\",'Daten SR'!AK18)","v":0},0,0,0,0,1,null,"22","YOU",{"$f":"IF($I17=\"\",\"\",'Daten SR'!AN18)","v":0},0,{"$f":"IF($I17=\"\",\"\",'Daten SR'!AQ18)","v":0},{"$f":"IF($I17=\"\",\"\",'Daten SR'!AP18)","v":0},{"$f":"IF($I17=\"\",\"\",'Daten SR'!AO18)","v":0},0,0,0,0,1]
[null,"25","OH",null,{"$f":"IF(OR(E17=-1,'Daten MR'!B20=\"\"),-1,FIND(\" \",'Daten MR'!B20))","v":3},{"$f":"IF('Daten MR'!B20=\"\",\"\",'Daten MR'!B20)","v":"25 OH"},null,null,{"$f":"Options!D32","v":"25"},{"$f":"Options!E32","v":"OH"},{"$f":"Options!J32","v":"Libero"},{"$f":"Options!K32","v":"Lib"},null,{"$f":"IF($I18=\"\",\"\",'Daten MR'!C20)","v":1},{"$f":"IF($I18=\"\",\"\",'Daten MR'!D20)","v":0},0,{"$f":"IF($I18=\"\",\"\",'Daten MR'!E20)","v":0},{"$f":"IF($I18=\"\",\"\",'Daten MR'!F20)","v":0},{"$f":"IF($I18=\"\",\"\",'Daten MR'!G20)","v":0},{"$f":"IF($I18=\"\",\"\",'Daten MR'!H20)","v":0},{"$f":"IF($I18=\"\",\"\",'Daten MR'!J20)","v":0},{"$f":"IF($I18=\"\",\"\",'Daten MR'!K20)","v":0},{"$f":"IF($I18=\"\",\"\",'Daten MR'!L20)","v":0},{"$f":"IF($I18=\"\",\"\",'Daten MR'!M20)","v":0},"0%","0%",{"$f":"IF($I18=\"\",\"\",'Daten MR'!I20)","v":"0%"},{"$f":"IF($I18=\"\",\"\",'Daten MR'!N20)","v":0},"0%",{"$f":"IF($I18=\"\",\"\",'Daten MR'!P20)","v":0},{"$f":"IF($I18=\"\",\"\",'Daten MR'!Q20)","v":0},{"$f":"IF($I18=\"\",\"\",'Daten MR'!R20)","v":0},{"$f":"IF($I18=\"\",\"\",'Daten MR'!S20)","v":0},{"$f":"IF($I18=\"\",\"\",'Daten MR'!T20)","v":0},"0%",{"$f":"IF($I18=\"\",\"\",'Daten MR'!U20)","v":"0"},{"$f":"IF($I18=\"\",\"\",'Daten MR'!V20)","v":"0"},{"$f":"IF($I18=\"\",\"\",'Daten MR'!O20)","v":"0"},{"$f":"IF($I18=\"\",\"\",'Daten MR'!W20)","v":0},"0%",{"$f":"IF($I18=\"\",\"\",'Daten MR'!Y20)","v":0},{"$f":"IF($I18=\"\",\"\",'Daten MR'!Z20)","v":0},{"$f":"IF($I18=\"\",\"\",'Daten MR'!AA20)","v":0},{"$f":"IF($I18=\"\",\"\",'Daten MR'!AB20)","v":0},{"$f":"IF($I18=\"\",\"\",'Daten MR'!AC20)","v":0},"0%",{"$f":"IF($I18=\"\",\"\",'Daten MR'!AD20)","v":"0"},{"$f":"IF($I18=\"\",\"\",'Daten MR'!X20)","v":"0%"},{"$f":"IF($I18=\"\",\"\",'Daten MR'!AE20)","v":0},{"$f":"IF($I18=\"\",\"\",'Daten MR'!AG20)","v":0},{"$f":"IF($I18=\"\",\"\",'Daten MR'!AH20)","v":0},{"$f":"IF($I18=\"\",\"\",'Daten MR'!AI20)","v":0},"0%",{"$f":"IF($I18=\"\",\"\",'Daten MR'!AF20)","v":"0%"},{"$f":"IF($I18=\"\",\"\",'Daten MR'!AJ20)","v":1},{"$f":"IF($I18=\"\",\"\",'Daten MR'!AL20)","v":0},{"$f":"IF($I18=\"\",\"\",'Daten MR'!AM20)","v":1},{"$f":"IF($I18=\"\",\"\",'Daten MR'!AN20)","v":0},0,{"$f":"IF($I18=\"\",\"\",'Daten MR'!AK20)","v":"0%"},{"$f":"IF($I18=\"\",\"\",'Daten MR'!AO20)","v":0},{"$f":"IF($I18=\"\",\"\",'Daten MR'!AQ20)","v":0},{"$f":"IF($I18=\"\",\"\",'Daten MR'!AR20)","v":0},{"$f":"IF($I18=\"\",\"\",'Daten MR'!AS20)","v":0},{"$f":"IF($I18=\"\",\"\",'Daten MR'!AP20)","v":"0%"},{"$f":"IF($I18=\"\",\"\",'Daten MR'!AT20)","v":1},{"$f":"IF($I18=\"\",\"\",'Daten MR'!AV20)","v":0},{"$f":"IF($I18=\"\",\"\",'Daten MR'!AU20)","v":"0%"},null,null,"25","OH",{"$f":"IF($I18=\"\",\"\",'Daten A1'!B20)","v":0},{"$f":"IF($I18=\"\",\"\",'Daten A1'!C20)","v":"0%"},{"$f":"IF($I18=\"\",\"\",'Daten A1'!E20)","v":0},{"$f":"IF($I18=\"\",\"\",'Daten A1'!F20)","v":0},{"$f":"IF($I18=\"\",\"\",'Daten A1'!G20)","v":0},{"$f":"IF($I18=\"\",\"\",IF(BU18=0,\"0%\",'Daten A1'!H20))","v":"0%"},{"$f":"IF($I18=\"\",\"\",'Daten A1'!D20)","v":"0%"},{"$f":"IF($I18=\"\",\"\",'Daten A1'!I20)","v":0},{"$f":"IF($I18=\"\",\"\",'Daten A1'!J20)","v":"0%"},{"$f":"IF($I18=\"\",\"\",'Daten A1'!L20)","v":0},{"$f":"IF($I18=\"\",\"\",'Daten A1'!M20)","v":0},{"$f":"IF($I18=\"\",\"\",'Daten A1'!N20)","v":0},{"$f":"IF($I18=\"\",\"\",IF(CB18=0,\"0%\",'Daten A1'!O20))","v":"0%"},{"$f":"IF($I18=\"\",\"\",'Daten A1'!K20)","v":"0%"},{"$f":"IF($I18=\"\",\"\",'Daten A1'!P20)","v":0},{"$f":"IF($I18=\"\",\"\",'Daten A1'!Q20)","v":"0%"},{"$f":"IF($I18=\"\",\"\",'Daten A1'!S20)","v":0},{"$f":"IF($I18=\"\",\"\",'Daten A1'!T20)","v":0},{"$f":"IF($I18=\"\",\"\",'Daten A1'!U20)","v":0},{"$f":"IF($I18=\"\",\"\",IF(CI18=0,\"0%\",'Daten A1'!V20))","v":"0%"},{"$f":"IF($I18=\"\",\"\",'Daten A1'!R20)","v":"0%"},{"$f":"IF($I18=\"\",\"\",'Daten A1'!W20)","v":0},{"$f":"IF($I18=\"\",\"\",'Daten A1'!X20)","v":"0%"},{"$f":"IF($I18=\"\",\"\",'Daten A1'!Z20)","v":0},{"$f":"IF($I18=\"\",\"\",'Daten A1'!AA20)","v":0},{"$f":"IF($I18=\"\",\"\",'Daten A1'!AB20)","v":0},{"$f":"IF($I18=\"\",\"\",IF(CP18=0,\"0%\",'Daten A1'!AC20))","v":"0%"},{"$f":"IF($I18=\"\",\"\",'Daten A1'!Y20)","v":"0%"},{"$f":"IF($I18=\"\",\"\",'Daten A1'!AD20)","v":0},{"$f":"IF($I18=\"\",\"\",'Daten A1'!AE20)","v":"0%"},{"$f":"IF($I18=\"\",\"\",'Daten A1'!AG20)","v":0},{"$f":"IF($I18=\"\",\"\",'Daten A1'!AH20)","v":0},{"$f":"IF($I18=\"\",\"\",'Daten A1'!AI20)","v":0},{"$f":"IF($I18=\"\",\"\",IF(CW18=0,\"0%\",'Daten A1'!AJ20))","v":"0%"},{"$f":"IF($I18=\"\",\"\",'Daten A1'!AF20)","v":"0%"},{"$f":"IF($I18=\"\",\"\",'Daten A1'!AK20)","v":0},{"$f":"IF($I18=\"\",\"\",'Daten A1'!AL20)","v":"0"},{"$f":"IF($I18=\"\",\"\",'Daten A1'!AN20)","v":0},{"$f":"IF($I18=\"\",\"\",'Daten A1'!AO20)","v":0},{"$f":"IF($I18=\"\",\"\",'Daten A1'!AP20)","v":0},{"$f":"IF($I18=\"\",\"\",IF(DD18=0,\"0%\",'Daten A1'!AQ20))","v":"0%"},{"$f":"IF($I18=\"\",\"\",'Daten A1'!AM20)","v":"0%"},{"$f":"IF($I18=\"\",\"\",'Daten A1'!AR20)","v":0},{"$f":"IF($I18=\"\",\"\",'Daten A1'!AT20)","v":0},"0%",{"$f":"IF($I18=\"\",\"\",'Daten A1'!AS20)","v":"0%"},{"$f":"IF($I18=\"\",\"\",'Daten A1'!AU20)","v":0},{"$f":"IF($I18=\"\",\"\",'Daten A1'!AW20)","v":0},"0%",{"$f":"IF($I18=\"\",\"\",'Daten A1'!AV20)","v":"0%"},1,null,null,"25","OH",{"$f":"IF($I18=\"\",\"\",'Daten MR'!N20)","v":0},0,{"$f":"IF($I18=\"\",\"\",'Daten MR'!P20)","v":0},{"$f":"IF($I18=\"\",\"\",'Daten MR'!Q20)","v":0},{"$f":"IF($I18=\"\",\"\",'Daten MR'!R20)","v":0},{"$f":"IF($I18=\"\",\"\",'Daten MR'!S20)","v":0},{"$f":"IF($I18=\"\",\"\",'Daten MR'!T20)","v":0},0,0,0,{"$f":"IF($I18=\"\",\"\",'Daten MR'!O20)","v":"0"},1,null,"25","OH",{"$f":"IF($I18=\"\",\"\",'Daten SR'!T19)","v":0},0,{"$f":"IF($I18=\"\",\"\",'Daten SR'!W19)","v":0},{"$f":"IF($I18=\"\",\"\",'Daten SR'!V19)","v":0},{"$f":"IF($I18=\"\",\"\",'Daten SR'!U19)","v":0},0,0,0,0,1,null,"25","OH",{"$f":"IF($I18=\"\",\"\",'Daten SR'!X19)","v":0},0,{"$f":"IF($I18=\"\",\"\",'Daten SR'!AA19)","v":0},{"$f":"IF($I18=\"\",\"\",'Daten SR'!Z19)","v":0},{"$f":"IF($I18=\"\",\"\",'Daten SR'!Y19)","v":0},0,0,0,0,1,null,"25","OH",{"$f":"IF($I18=\"\",\"\",'Daten SR'!AB19)","v":0},0,{"$f":"IF($I18=\"\",\"\",'Daten SR'!AE19)","v":0},{"$f":"IF($I18=\"\",\"\",'Daten SR'!AD19)","v":0},{"$f":"IF($I18=\"\",\"\",'Daten SR'!AC19)","v":0},0,0,0,0,1,null,"25","OH",{"$f":"IF($I18=\"\",\"\",'Daten SR'!AF19)","v":0},0,{"$f":"IF($I18=\"\",\"\",'Daten SR'!AI19)","v":0},{"$f":"IF($I18=\"\",\"\",'Daten SR'!AH19)","v":0},{"$f":"IF($I18=\"\",\"\",'Daten SR'!AG19)","v":0},0,0,0,0,1,null,"25","OH",{"$f":"IF($I18=\"\",\"\",'Daten SR'!AJ19)","v":0},0,{"$f":"IF($I18=\"\",\"\",'Daten SR'!AM19)","v":0},{"$f":"IF($I18=\"\",\"\",'Daten SR'!AL19)","v":0},{"$f":"IF($I18=\"\",\"\",'Daten SR'!AK19)","v":0},0,0,0,0,1,null,"25","OH",{"$f":"IF($I18=\"\",\"\",'Daten SR'!AN19)","v":0},0,{"$f":"IF($I18=\"\",\"\",'Daten SR'!AQ19)","v":0},{"$f":"IF($I18=\"\",\"\",'Daten SR'!AP19)","v":0},{"$f":"IF($I18=\"\",\"\",'Daten SR'!AO19)","v":0},0,0,0,0,1]
[null,"","",null,{"$f":"IF(OR(E18=-1,'Daten MR'!B21=\"\"),-1,FIND(\" \",'Daten MR'!B21))","v":-1},{"$f":"IF('Daten MR'!B21=\"\",\"\",'Daten MR'!B21)","v":""},null,null,{"$f":"Options!D33","v":""},{"$f":"Options!E33","v":""},{"$f":"Options!J33","v":""},{"$f":"Options!K33","v":""},null,{"$f":"IF($I19=\"\",\"\",'Daten MR'!C21)","v":""},{"$f":"IF($I19=\"\",\"\",'Daten MR'!D21)","v":""},"",{"$f":"IF($I19=\"\",\"\",'Daten MR'!E21)","v":""},{"$f":"IF($I19=\"\",\"\",'Daten MR'!F21)","v":""},{"$f":"IF($I19=\"\",\"\",'Daten MR'!G21)","v":""},{"$f":"IF($I19=\"\",\"\",'Daten MR'!H21)","v":""},{"$f":"IF($I19=\"\",\"\",'Daten MR'!J21)","v":""},{"$f":"IF($I19=\"\",\"\",'Daten MR'!K21)","v":""},{"$f":"IF($I19=\"\",\"\",'Daten MR'!L21)","v":""},{"$f":"IF($I19=\"\",\"\",'Daten MR'!M21)","v":""},"","",{"$f":"IF($I19=\"\",\"\",'Daten MR'!I21)","v":""},{"$f":"IF($I19=\"\",\"\",'Daten MR'!N21)","v":""},"",{"$f":"IF($I19=\"\",\"\",'Daten MR'!P21)","v":""},{"$f":"IF($I19=\"\",\"\",'Daten MR'!Q21)","v":""},{"$f":"IF($I19=\"\",\"\",'Daten MR'!R21)","v":""},{"$f":"IF($I19=\"\",\"\",'Daten MR'!S21)","v":""},{"$f":"IF($I19=\"\",\"\",'Daten MR'!T21)","v":""},"",{"$f":"IF($I19=\"\",\"\",'Daten MR'!U21)","v":""},{"$f":"IF($I19=\"\",\"\",'Daten MR'!V21)","v":""},{"$f":"IF($I19=\"\",\"\",'Daten MR'!O21)","v":""},{"$f":"IF($I19=\"\",\"\",'Daten MR'!W21)","v":""},"",{"$f":"IF($I19=\"\",\"\",'Daten MR'!Y21)","v":""},{"$f":"IF($I19=\"\",\"\",'Daten MR'!Z21)","v":""},{"$f":"IF($I19=\"\",\"\",'Daten MR'!AA21)","v":""},{"$f":"IF($I19=\"\",\"\",'Daten MR'!AB21)","v":""},{"$f":"IF($I19=\"\",\"\",'Daten MR'!AC21)","v":""},"",{"$f":"IF($I19=\"\",\"\",'Daten MR'!AD21)","v":""},{"$f":"IF($I19=\"\",\"\",'Daten MR'!X21)","v":""},{"$f":"IF($I19=\"\",\"\",'Daten MR'!AE21)","v":""},{"$f":"IF($I19=\"\",\"\",'Daten MR'!AG21)","v":""},{"$f":"IF($I19=\"\",\"\",'Daten MR'!AH21)","v":""},{"$f":"IF($I19=\"\",\"\",'Daten MR'!AI21)","v":""},"",{"$f":"IF($I19=\"\",\"\",'Daten MR'!AF21)","v":""},{"$f":"IF($I19=\"\",\"\",'Daten MR'!AJ21)","v":""},{"$f":"IF($I19=\"\",\"\",'Daten MR'!AL21)","v":""},{"$f":"IF($I19=\"\",\"\",'Daten MR'!AM21)","v":""},{"$f":"IF($I19=\"\",\"\",'Daten MR'!AN21)","v":""},"",{"$f":"IF($I19=\"\",\"\",'Daten MR'!AK21)","v":""},{"$f":"IF($I19=\"\",\"\",'Daten MR'!AO21)","v":""},{"$f":"IF($I19=\"\",\"\",'Daten MR'!AQ21)","v":""},{"$f":"IF($I19=\"\",\"\",'Daten MR'!AR21)","v":""},{"$f":"IF($I19=\"\",\"\",'Daten MR'!AS21)","v":""},{"$f":"IF($I19=\"\",\"\",'Daten MR'!AP21)","v":""},{"$f":"IF($I19=\"\",\"\",'Daten MR'!AT21)","v":""},{"$f":"IF($I19=\"\",\"\",'Daten MR'!AV21)","v":""},{"$f":"IF($I19=\"\",\"\",'Daten MR'!AU21)","v":""},null,null,"","",{"$f":"IF($I19=\"\",\"\",'Daten A1'!B21)","v":""},{"$f":"IF($I19=\"\",\"\",'Daten A1'!C21)","v":""},{"$f":"IF($I19=\"\",\"\",'Daten A1'!E21)","v":""},{"$f":"IF($I19=\"\",\"\",'Daten A1'!F21)","v":""},{"$f":"IF($I19=\"\",\"\",'Daten A1'!G21)","v":""},{"$f":"IF($I19=\"\",\"\",IF(BU19=0,\"0%\",'Daten A1'!H21))","v":""},{"$f":"IF($I19=\"\",\"\",'Daten A1'!D21)","v":""},{"$f":"IF($I19=\"\",\"\",'Daten A1'!I21)","v":""},{"$f":"IF($I19=\"\",\"\",'Daten A1'!J21)","v":""},{"$f":"IF($I19=\"\",\"\",'Daten A1'!L21)","v":""},{"$f":"IF($I19=\"\",\"\",'Daten A1'!M21)","v":""},{"$f":"IF($I19=\"\",\"\",'Daten A1'!N21)","v":""},{"$f":"IF($I19=\"\",\"\",IF(CB19=0,\"0%\",'Daten A1'!O21))","v":""},{"$f":"IF($I19=\"\",\"\",'Daten A1'!K21)","v":""},{"$f":"IF($I19=\"\",\"\",'Daten A1'!P21)","v":""},{"$f":"IF($I19=\"\",\"\",'Daten A1'!Q21)","v":""},{"$f":"IF($I19=\"\",\"\",'Daten A1'!S21)","v":""},{"$f":"IF($I19=\"\",\"\",'Daten A1'!T21)","v":""},{"$f":"IF($I19=\"\",\"\",'Daten A1'!U21)","v":""},{"$f":"IF($I19=\"\",\"\",IF(CI19=0,\"0%\",'Daten A1'!V21))","v":""},{"$f":"IF($I19=\"\",\"\",'Daten A1'!R21)","v":""},{"$f":"IF($I19=\"\",\"\",'Daten A1'!W21)","v":""},{"$f":"IF($I19=\"\",\"\",'Daten A1'!X21)","v":""},{"$f":"IF($I19=\"\",\"\",'Daten A1'!Z21)","v":""},{"$f":"IF($I19=\"\",\"\",'Daten A1'!AA21)","v":""},{"$f":"IF($I19=\"\",\"\",'Daten A1'!AB21)","v":""},{"$f":"IF($I19=\"\",\"\",IF(CP19=0,\"0%\",'Daten A1'!AC21))","v":""},{"$f":"IF($I19=\"\",\"\",'Daten A1'!Y21)","v":""},{"$f":"IF($I19=\"\",\"\",'Daten A1'!AD21)","v":""},{"$f":"IF($I19=\"\",\"\",'Daten A1'!AE21)","v":""},{"$f":"IF($I19=\"\",\"\",'Daten A1'!AG21)","v":""},{"$f":"IF($I19=\"\",\"\",'Daten A1'!AH21)","v":""},{"$f":"IF($I19=\"\",\"\",'Daten A1'!AI21)","v":""},{"$f":"IF($I19=\"\",\"\",IF(CW19=0,\"0%\",'Daten A1'!AJ21))","v":""},{"$f":"IF($I19=\"\",\"\",'Daten A1'!AF21)","v":""},{"$f":"IF($I19=\"\",\"\",'Daten A1'!AK21)","v":""},{"$f":"IF($I19=\"\",\"\",'Daten A1'!AL21)","v":""},{"$f":"IF($I19=\"\",\"\",'Daten A1'!AN21)","v":""},{"$f":"IF($I19=\"\",\"\",'Daten A1'!AO21)","v":""},{"$f":"IF($I19=\"\",\"\",'Daten A1'!AP21)","v":""},{"$f":"IF($I19=\"\",\"\",IF(DD19=0,\"0%\",'Daten A1'!AQ21))","v":""},{"$f":"IF($I19=\"\",\"\",'Daten A1'!AM21)","v":""},{"$f":"IF($I19=\"\",\"\",'Daten A1'!AR21)","v":""},{"$f":"IF($I19=\"\",\"\",'Daten A1'!AT21)","v":""},"",{"$f":"IF($I19=\"\",\"\",'Daten A1'!AS21)","v":""},{"$f":"IF($I19=\"\",\"\",'Daten A1'!AU21)","v":""},{"$f":"IF($I19=\"\",\"\",'Daten A1'!AW21)","v":""},"",{"$f":"IF($I19=\"\",\"\",'Daten A1'!AV21)","v":""},2,null,null,"","",{"$f":"IF($I19=\"\",\"\",'Daten MR'!N21)","v":""},"",{"$f":"IF($I19=\"\",\"\",'Daten MR'!P21)","v":""},{"$f":"IF($I19=\"\",\"\",'Daten MR'!Q21)","v":""},{"$f":"IF($I19=\"\",\"\",'Daten MR'!R21)","v":""},{"$f":"IF($I19=\"\",\"\",'Daten MR'!S21)","v":""},{"$f":"IF($I19=\"\",\"\",'Daten MR'!T21)","v":""},"","","",{"$f":"IF($I19=\"\",\"\",'Daten MR'!O21)","v":""},2,null,"","",{"$f":"IF($I19=\"\",\"\",'Daten SR'!T20)","v":""},"",{"$f":"IF($I19=\"\",\"\",'Daten SR'!W20)","v":""},{"$f":"IF($I19=\"\",\"\",'Daten SR'!V20)","v":""},{"$f":"IF($I19=\"\",\"\",'Daten SR'!U20)","v":""},"","","","",2,null,"","",{"$f":"IF($I19=\"\",\"\",'Daten SR'!X20)","v":""},"",{"$f":"IF($I19=\"\",\"\",'Daten SR'!AA20)","v":""},{"$f":"IF($I19=\"\",\"\",'Daten SR'!Z20)","v":""},{"$f":"IF($I19=\"\",\"\",'Daten SR'!Y20)","v":""},"","","","",2,null,"","",{"$f":"IF($I19=\"\",\"\",'Daten SR'!AB20)","v":""},"",{"$f":"IF($I19=\"\",\"\",'Daten SR'!AE20)","v":""},{"$f":"IF($I19=\"\",\"\",'Daten SR'!AD20)","v":""},{"$f":"IF($I19=\"\",\"\",'Daten SR'!AC20)","v":""},"","","","",2,null,"","",{"$f":"IF($I19=\"\",\"\",'Daten SR'!AF20)","v":""},"",{"$f":"IF($I19=\"\",\"\",'Daten SR'!AI20)","v":""},{"$f":"IF($I19=\"\",\"\",'Daten SR'!AH20)","v":""},{"$f":"IF($I19=\"\",\"\",'Daten SR'!AG20)","v":""},"","","","",2,null,"","",{"$f":"IF($I19=\"\",\"\",'Daten SR'!AJ20)","v":""},"",{"$f":"IF($I19=\"\",\"\",'Daten SR'!AM20)","v":""},{"$f":"IF($I19=\"\",\"\",'Daten SR'!AL20)","v":""},{"$f":"IF($I19=\"\",\"\",'Daten SR'!AK20)","v":""},"","","","",2,null,"","",{"$f":"IF($I19=\"\",\"\",'Daten SR'!AN20)","v":""},"",{"$f":"IF($I19=\"\",\"\",'Daten SR'!AQ20)","v":""},{"$f":"IF($I19=\"\",\"\",'Daten SR'!AP20)","v":""},{"$f":"IF($I19=\"\",\"\",'Daten SR'!AO20)","v":""},"","","","",2]
[null,"","",null,{"$f":"IF(OR(E19=-1,'Daten MR'!B22=\"\"),-1,FIND(\" \",'Daten MR'!B22))","v":-1},{"$f":"IF('Daten MR'!B22=\"\",\"\",'Daten MR'!B22)","v":""},null,null,{"$f":"Options!D34","v":""},{"$f":"Options!E34","v":""},{"$f":"Options!J34","v":""},{"$f":"Options!K34","v":""},null,{"$f":"IF($I20=\"\",\"\",'Daten MR'!C22)","v":""},{"$f":"IF($I20=\"\",\"\",'Daten MR'!D22)","v":""},"",{"$f":"IF($I20=\"\",\"\",'Daten MR'!E22)","v":""},{"$f":"IF($I20=\"\",\"\",'Daten MR'!F22)","v":""},{"$f":"IF($I20=\"\",\"\",'Daten MR'!G22)","v":""},{"$f":"IF($I20=\"\",\"\",'Daten MR'!H22)","v":""},{"$f":"IF($I20=\"\",\"\",'Daten MR'!J22)","v":""},{"$f":"IF($I20=\"\",\"\",'Daten MR'!K22)","v":""},{"$f":"IF($I20=\"\",\"\",'Daten MR'!L22)","v":""},{"$f":"IF($I20=\"\",\"\",'Daten MR'!M22)","v":""},"","",{"$f":"IF($I20=\"\",\"\",'Daten MR'!I22)","v":""},{"$f":"IF($I20=\"\",\"\",'Daten MR'!N22)","v":""},"",{"$f":"IF($I20=\"\",\"\",'Daten MR'!P22)","v":""},{"$f":"IF($I20=\"\",\"\",'Daten MR'!Q22)","v":""},{"$f":"IF($I20=\"\",\"\",'Daten MR'!R22)","v":""},{"$f":"IF($I20=\"\",\"\",'Daten MR'!S22)","v":""},{"$f":"IF($I20=\"\",\"\",'Daten MR'!T22)","v":""},"",{"$f":"IF($I20=\"\",\"\",'Daten MR'!U22)","v":""},{"$f":"IF($I20=\"\",\"\",'Daten MR'!V22)","v":""},{"$f":"IF($I20=\"\",\"\",'Daten MR'!O22)","v":""},{"$f":"IF($I20=\"\",\"\",'Daten MR'!W22)","v":""},"",{"$f":"IF($I20=\"\",\"\",'Daten MR'!Y22)","v":""},{"$f":"IF($I20=\"\",\"\",'Daten MR'!Z22)","v":""},{"$f":"IF($I20=\"\",\"\",'Daten MR'!AA22)","v":""},{"$f":"IF($I20=\"\",\"\",'Daten MR'!AB22)","v":""},{"$f":"IF($I20=\"\",\"\",'Daten MR'!AC22)","v":""},"",{"$f":"IF($I20=\"\",\"\",'Daten MR'!AD22)","v":""},{"$f":"IF($I20=\"\",\"\",'Daten MR'!X22)","v":""},{"$f":"IF($I20=\"\",\"\",'Daten MR'!AE22)","v":""},{"$f":"IF($I20=\"\",\"\",'Daten MR'!AG22)","v":""},{"$f":"IF($I20=\"\",\"\",'Daten MR'!AH22)","v":""},{"$f":"IF($I20=\"\",\"\",'Daten MR'!AI22)","v":""},"",{"$f":"IF($I20=\"\",\"\",'Daten MR'!AF22)","v":""},{"$f":"IF($I20=\"\",\"\",'Daten MR'!AJ22)","v":""},{"$f":"IF($I20=\"\",\"\",'Daten MR'!AL22)","v":""},{"$f":"IF($I20=\"\",\"\",'Daten MR'!AM22)","v":""},{"$f":"IF($I20=\"\",\"\",'Daten MR'!AN22)","v":""},"",{"$f":"IF($I20=\"\",\"\",'Daten MR'!AK22)","v":""},{"$f":"IF($I20=\"\",\"\",'Daten MR'!AO22)","v":""},{"$f":"IF($I20=\"\",\"\",'Daten MR'!AQ22)","v":""},{"$f":"IF($I20=\"\",\"\",'Daten MR'!AR22)","v":""},{"$f":"IF($I20=\"\",\"\",'Daten MR'!AS22)","v":""},{"$f":"IF($I20=\"\",\"\",'Daten MR'!AP22)","v":""},{"$f":"IF($I20=\"\",\"\",'Daten MR'!AT22)","v":""},{"$f":"IF($I20=\"\",\"\",'Daten MR'!AV22)","v":""},{"$f":"IF($I20=\"\",\"\",'Daten MR'!AU22)","v":""},null,null,"","",{"$f":"IF($I20=\"\",\"\",'Daten A1'!B22)","v":""},{"$f":"IF($I20=\"\",\"\",'Daten A1'!C22)","v":""},{"$f":"IF($I20=\"\",\"\",'Daten A1'!E22)","v":""},{"$f":"IF($I20=\"\",\"\",'Daten A1'!F22)","v":""},{"$f":"IF($I20=\"\",\"\",'Daten A1'!G22)","v":""},{"$f":"IF($I20=\"\",\"\",IF(BU20=0,\"0%\",'Daten A1'!H22))","v":""},{"$f":"IF($I20=\"\",\"\",'Daten A1'!D22)","v":""},{"$f":"IF($I20=\"\",\"\",'Daten A1'!I22)","v":""},{"$f":"IF($I20=\"\",\"\",'Daten A1'!J22)","v":""},{"$f":"IF($I20=\"\",\"\",'Daten A1'!L22)","v":""},{"$f":"IF($I20=\"\",\"\",'Daten A1'!M22)","v":""},{"$f":"IF($I20=\"\",\"\",'Daten A1'!N22)","v":""},{"$f":"IF($I20=\"\",\"\",IF(CB20=0,\"0%\",'Daten A1'!O22))","v":""},{"$f":"IF($I20=\"\",\"\",'Daten A1'!K22)","v":""},{"$f":"IF($I20=\"\",\"\",'Daten A1'!P22)","v":""},{"$f":"IF($I20=\"\",\"\",'Daten A1'!Q22)","v":""},{"$f":"IF($I20=\"\",\"\",'Daten A1'!S22)","v":""},{"$f":"IF($I20=\"\",\"\",'Daten A1'!T22)","v":""},{"$f":"IF($I20=\"\",\"\",'Daten A1'!U22)","v":""},{"$f":"IF($I20=\"\",\"\",IF(CI20=0,\"0%\",'Daten A1'!V22))","v":""},{"$f":"IF($I20=\"\",\"\",'Daten A1'!R22)","v":""},{"$f":"IF($I20=\"\",\"\",'Daten A1'!W22)","v":""},{"$f":"IF($I20=\"\",\"\",'Daten A1'!X22)","v":""},{"$f":"IF($I20=\"\",\"\",'Daten A1'!Z22)","v":""},{"$f":"IF($I20=\"\",\"\",'Daten A1'!AA22)","v":""},{"$f":"IF($I20=\"\",\"\",'Daten A1'!AB22)","v":""},{"$f":"IF($I20=\"\",\"\",IF(CP20=0,\"0%\",'Daten A1'!AC22))","v":""},{"$f":"IF($I20=\"\",\"\",'Daten A1'!Y22)","v":""},{"$f":"IF($I20=\"\",\"\",'Daten A1'!AD22)","v":""},{"$f":"IF($I20=\"\",\"\",'Daten A1'!AE22)","v":""},{"$f":"IF($I20=\"\",\"\",'Daten A1'!AG22)","v":""},{"$f":"IF($I20=\"\",\"\",'Daten A1'!AH22)","v":""},{"$f":"IF($I20=\"\",\"\",'Daten A1'!AI22)","v":""},{"$f":"IF($I20=\"\",\"\",IF(CW20=0,\"0%\",'Daten A1'!AJ22))","v":""},{"$f":"IF($I20=\"\",\"\",'Daten A1'!AF22)","v":""},{"$f":"IF($I20=\"\",\"\",'Daten A1'!AK22)","v":""},{"$f":"IF($I20=\"\",\"\",'Daten A1'!AL22)","v":""},{"$f":"IF($I20=\"\",\"\",'Daten A1'!AN22)","v":""},{"$f":"IF($I20=\"\",\"\",'Daten A1'!AO22)","v":""},{"$f":"IF($I20=\"\",\"\",'Daten A1'!AP22)","v":""},{"$f":"IF($I20=\"\",\"\",IF(DD20=0,\"0%\",'Daten A1'!AQ22))","v":""},{"$f":"IF($I20=\"\",\"\",'Daten A1'!AM22)","v":""},{"$f":"IF($I20=\"\",\"\",'Daten A1'!AR22)","v":""},{"$f":"IF($I20=\"\",\"\",'Daten A1'!AT22)","v":""},"",{"$f":"IF($I20=\"\",\"\",'Daten A1'!AS22)","v":""},{"$f":"IF($I20=\"\",\"\",'Daten A1'!AU22)","v":""},{"$f":"IF($I20=\"\",\"\",'Daten A1'!AW22)","v":""},"",{"$f":"IF($I20=\"\",\"\",'Daten A1'!AV22)","v":""},2,null,null,"","",{"$f":"IF($I20=\"\",\"\",'Daten MR'!N22)","v":""},"",{"$f":"IF($I20=\"\",\"\",'Daten MR'!P22)","v":""},{"$f":"IF($I20=\"\",\"\",'Daten MR'!Q22)","v":""},{"$f":"IF($I20=\"\",\"\",'Daten MR'!R22)","v":""},{"$f":"IF($I20=\"\",\"\",'Daten MR'!S22)","v":""},{"$f":"IF($I20=\"\",\"\",'Daten MR'!T22)","v":""},"","","",{"$f":"IF($I20=\"\",\"\",'Daten MR'!O22)","v":""},2,null,"","",{"$f":"IF($I20=\"\",\"\",'Daten SR'!T21)","v":""},"",{"$f":"IF($I20=\"\",\"\",'Daten SR'!W21)","v":""},{"$f":"IF($I20=\"\",\"\",'Daten SR'!V21)","v":""},{"$f":"IF($I20=\"\",\"\",'Daten SR'!U21)","v":""},"","","","",2,null,"","",{"$f":"IF($I20=\"\",\"\",'Daten SR'!X21)","v":""},"",{"$f":"IF($I20=\"\",\"\",'Daten SR'!AA21)","v":""},{"$f":"IF($I20=\"\",\"\",'Daten SR'!Z21)","v":""},{"$f":"IF($I20=\"\",\"\",'Daten SR'!Y21)","v":""},"","","","",2,null,"","",{"$f":"IF($I20=\"\",\"\",'Daten SR'!AB21)","v":""},"",{"$f":"IF($I20=\"\",\"\",'Daten SR'!AE21)","v":""},{"$f":"IF($I20=\"\",\"\",'Daten SR'!AD21)","v":""},{"$f":"IF($I20=\"\",\"\",'Daten SR'!AC21)","v":""},"","","","",2,null,"","",{"$f":"IF($I20=\"\",\"\",'Daten SR'!AF21)","v":""},"",{"$f":"IF($I20=\"\",\"\",'Daten SR'!AI21)","v":""},{"$f":"IF($I20=\"\",\"\",'Daten SR'!AH21)","v":""},{"$f":"IF($I20=\"\",\"\",'Daten SR'!AG21)","v":""},"","","","",2,null,"","",{"$f":"IF($I20=\"\",\"\",'Daten SR'!AJ21)","v":""},"",{"$f":"IF($I20=\"\",\"\",'Daten SR'!AM21)","v":""},{"$f":"IF($I20=\"\",\"\",'Daten SR'!AL21)","v":""},{"$f":"IF($I20=\"\",\"\",'Daten SR'!AK21)","v":""},"","","","",2,null,"","",{"$f":"IF($I20=\"\",\"\",'Daten SR'!AN21)","v":""},"",{"$f":"IF($I20=\"\",\"\",'Daten SR'!AQ21)","v":""},{"$f":"IF($I20=\"\",\"\",'Daten SR'!AP21)","v":""},{"$f":"IF($I20=\"\",\"\",'Daten SR'!AO21)","v":""},"","","","",2]
[null,"","",null,{"$f":"IF(OR(E20=-1,'Daten MR'!B23=\"\"),-1,FIND(\" \",'Daten MR'!B23))","v":-1},{"$f":"IF('Daten MR'!B23=\"\",\"\",'Daten MR'!B23)","v":"Opp-Errors"},null,null,{"$f":"Options!D35","v":""},{"$f":"Options!E35","v":""},{"$f":"Options!J35","v":""},{"$f":"Options!K35","v":""},null,{"$f":"IF($I21=\"\",\"\",'Daten MR'!C23)","v":""},{"$f":"IF($I21=\"\",\"\",'Daten MR'!D23)","v":""},"",{"$f":"IF($I21=\"\",\"\",'Daten MR'!E23)","v":""},{"$f":"IF($I21=\"\",\"\",'Daten MR'!F23)","v":""},{"$f":"IF($I21=\"\",\"\",'Daten MR'!G23)","v":""},{"$f":"IF($I21=\"\",\"\",'Daten MR'!H23)","v":""},{"$f":"IF($I21=\"\",\"\",'Daten MR'!J23)","v":""},{"$f":"IF($I21=\"\",\"\",'Daten MR'!K23)","v":""},{"$f":"IF($I21=\"\",\"\",'Daten MR'!L23)","v":""},{"$f":"IF($I21=\"\",\"\",'Daten MR'!M23)","v":""},"","",{"$f":"IF($I21=\"\",\"\",'Daten MR'!I23)","v":""},{"$f":"IF($I21=\"\",\"\",'Daten MR'!N23)","v":""},"",{"$f":"IF($I21=\"\",\"\",'Daten MR'!P23)","v":""},{"$f":"IF($I21=\"\",\"\",'Daten MR'!Q23)","v":""},{"$f":"IF($I21=\"\",\"\",'Daten MR'!R23)","v":""},{"$f":"IF($I21=\"\",\"\",'Daten MR'!S23)","v":""},{"$f":"IF($I21=\"\",\"\",'Daten MR'!T23)","v":""},"",{"$f":"IF($I21=\"\",\"\",'Daten MR'!U23)","v":""},{"$f":"IF($I21=\"\",\"\",'Daten MR'!V23)","v":""},{"$f":"IF($I21=\"\",\"\",'Daten MR'!O23)","v":""},{"$f":"IF($I21=\"\",\"\",'Daten MR'!W23)","v":""},"",{"$f":"IF($I21=\"\",\"\",'Daten MR'!Y23)","v":""},{"$f":"IF($I21=\"\",\"\",'Daten MR'!Z23)","v":""},{"$f":"IF($I21=\"\",\"\",'Daten MR'!AA23)","v":""},{"$f":"IF($I21=\"\",\"\",'Daten MR'!AB23)","v":""},{"$f":"IF($I21=\"\",\"\",'Daten MR'!AC23)","v":""},"",{"$f":"IF($I21=\"\",\"\",'Daten MR'!AD23)","v":""},{"$f":"IF($I21=\"\",\"\",'Daten MR'!X23)","v":""},{"$f":"IF($I21=\"\",\"\",'Daten MR'!AE23)","v":""},{"$f":"IF($I21=\"\",\"\",'Daten MR'!AG23)","v":""},{"$f":"IF($I21=\"\",\"\",'Daten MR'!AH23)","v":""},{"$f":"IF($I21=\"\",\"\",'Daten MR'!AI23)","v":""},"",{"$f":"IF($I21=\"\",\"\",'Daten MR'!AF23)","v":""},{"$f":"IF($I21=\"\",\"\",'Daten MR'!AJ23)","v":""},{"$f":"IF($I21=\"\",\"\",'Daten MR'!AL23)","v":""},{"$f":"IF($I21=\"\",\"\",'Daten MR'!AM23)","v":""},{"$f":"IF($I21=\"\",\"\",'Daten MR'!AN23)","v":""},"",{"$f":"IF($I21=\"\",\"\",'Daten MR'!AK23)","v":""},{"$f":"IF($I21=\"\",\"\",'Daten MR'!AO23)","v":""},{"$f":"IF($I21=\"\",\"\",'Daten MR'!AQ23)","v":""},{"$f":"IF($I21=\"\",\"\",'Daten MR'!AR23)","v":""},{"$f":"IF($I21=\"\",\"\",'Daten MR'!AS23)","v":""},{"$f":"IF($I21=\"\",\"\",'Daten MR'!AP23)","v":""},{"$f":"IF($I21=\"\",\"\",'Daten MR'!AT23)","v":""},{"$f":"IF($I21=\"\",\"\",'Daten MR'!AV23)","v":""},{"$f":"IF($I21=\"\",\"\",'Daten MR'!AU23)","v":""},null,null,"","",{"$f":"IF($I21=\"\",\"\",'Daten A1'!B23)","v":""},{"$f":"IF($I21=\"\",\"\",'Daten A1'!C23)","v":""},{"$f":"IF($I21=\"\",\"\",'Daten A1'!E23)","v":""},{"$f":"IF($I21=\"\",\"\",'Daten A1'!F23)","v":""},{"$f":"IF($I21=\"\",\"\",'Daten A1'!G23)","v":""},{"$f":"IF($I21=\"\",\"\",IF(BU21=0,\"0%\",'Daten A1'!H23))","v":""},{"$f":"IF($I21=\"\",\"\",'Daten A1'!D23)","v":""},{"$f":"IF($I21=\"\",\"\",'Daten A1'!I23)","v":""},{"$f":"IF($I21=\"\",\"\",'Daten A1'!J23)","v":""},{"$f":"IF($I21=\"\",\"\",'Daten A1'!L23)","v":""},{"$f":"IF($I21=\"\",\"\",'Daten A1'!M23)","v":""},{"$f":"IF($I21=\"\",\"\",'Daten A1'!N23)","v":""},{"$f":"IF($I21=\"\",\"\",IF(CB21=0,\"0%\",'Daten A1'!O23))","v":""},{"$f":"IF($I21=\"\",\"\",'Daten A1'!K23)","v":""},{"$f":"IF($I21=\"\",\"\",'Daten A1'!P23)","v":""},{"$f":"IF($I21=\"\",\"\",'Daten A1'!Q23)","v":""},{"$f":"IF($I21=\"\",\"\",'Daten A1'!S23)","v":""},{"$f":"IF($I21=\"\",\"\",'Daten A1'!T23)","v":""},{"$f":"IF($I21=\"\",\"\",'Daten A1'!U23)","v":""},{"$f":"IF($I21=\"\",\"\",IF(CI21=0,\"0%\",'Daten A1'!V23))","v":""},{"$f":"IF($I21=\"\",\"\",'Daten A1'!R23)","v":""},{"$f":"IF($I21=\"\",\"\",'Daten A1'!W23)","v":""},{"$f":"IF($I21=\"\",\"\",'Daten A1'!X23)","v":""},{"$f":"IF($I21=\"\",\"\",'Daten A1'!Z23)","v":""},{"$f":"IF($I21=\"\",\"\",'Daten A1'!AA23)","v":""},{"$f":"IF($I21=\"\",\"\",'Daten A1'!AB23)","v":""},{"$f":"IF($I21=\"\",\"\",IF(CP21=0,\"0%\",'Daten A1'!AC23))","v":""},{"$f":"IF($I21=\"\",\"\",'Daten A1'!Y23)","v":""},{"$f":"IF($I21=\"\",\"\",'Daten A1'!AD23)","v":""},{"$f":"IF($I21=\"\",\"\",'Daten A1'!AE23)","v":""},{"$f":"IF($I21=\"\",\"\",'Daten A1'!AG23)","v":""},{"$f":"IF($I21=\"\",\"\",'Daten A1'!AH23)","v":""},{"$f":"IF($I21=\"\",\"\",'Daten A1'!AI23)","v":""},{"$f":"IF($I21=\"\",\"\",IF(CW21=0,\"0%\",'Daten A1'!AJ23))","v":""},{"$f":"IF($I21=\"\",\"\",'Daten A1'!AF23)","v":""},{"$f":"IF($I21=\"\",\"\",'Daten A1'!AK23)","v":""},{"$f":"IF($I21=\"\",\"\",'Daten A1'!AL23)","v":""},{"$f":"IF($I21=\"\",\"\",'Daten A1'!AN23)","v":""},{"$f":"IF($I21=\"\",\"\",'Daten A1'!AO23)","v":""},{"$f":"IF($I21=\"\",\"\",'Daten A1'!AP23)","v":""},{"$f":"IF($I21=\"\",\"\",IF(DD21=0,\"0%\",'Daten A1'!AQ23))","v":""},{"$f":"IF($I21=\"\",\"\",'Daten A1'!AM23)","v":""},{"$f":"IF($I21=\"\",\"\",'Daten A1'!AR23)","v":""},{"$f":"IF($I21=\"\",\"\",'Daten A1'!AT23)","v":""},"",{"$f":"IF($I21=\"\",\"\",'Daten A1'!AS23)","v":""},{"$f":"IF($I21=\"\",\"\",'Daten A1'!AU23)","v":""},{"$f":"IF($I21=\"\",\"\",'Daten A1'!AW23)","v":""},"",{"$f":"IF($I21=\"\",\"\",'Daten A1'!AV23)","v":""},2,null,null,"","",{"$f":"IF($I21=\"\",\"\",'Daten MR'!N23)","v":""},"",{"$f":"IF($I21=\"\",\"\",'Daten MR'!P23)","v":""},{"$f":"IF($I21=\"\",\"\",'Daten MR'!Q23)","v":""},{"$f":"IF($I21=\"\",\"\",'Daten MR'!R23)","v":""},{"$f":"IF($I21=\"\",\"\",'Daten MR'!S23)","v":""},{"$f":"IF($I21=\"\",\"\",'Daten MR'!T23)","v":""},"","","",{"$f":"IF($I21=\"\",\"\",'Daten MR'!O23)","v":""},2,null,"","",{"$f":"IF($I21=\"\",\"\",'Daten SR'!T22)","v":""},"",{"$f":"IF($I21=\"\",\"\",'Daten SR'!W22)","v":""},{"$f":"IF($I21=\"\",\"\",'Daten SR'!V22)","v":""},{"$f":"IF($I21=\"\",\"\",'Daten SR'!U22)","v":""},"","","","",2,null,"","",{"$f":"IF($I21=\"\",\"\",'Daten SR'!X22)","v":""},"",{"$f":"IF($I21=\"\",\"\",'Daten SR'!AA22)","v":""},{"$f":"IF($I21=\"\",\"\",'Daten SR'!Z22)","v":""},{"$f":"IF($I21=\"\",\"\",'Daten SR'!Y22)","v":""},"","","","",2,null,"","",{"$f":"IF($I21=\"\",\"\",'Daten SR'!AB22)","v":""},"",{"$f":"IF($I21=\"\",\"\",'Daten SR'!AE22)","v":""},{"$f":"IF($I21=\"\",\"\",'Daten SR'!AD22)","v":""},{"$f":"IF($I21=\"\",\"\",'Daten SR'!AC22)","v":""},"","","","",2,null,"","",{"$f":"IF($I21=\"\",\"\",'Daten SR'!AF22)","v":""},"",{"$f":"IF($I21=\"\",\"\",'Daten SR'!AI22)","v":""},{"$f":"IF($I21=\"\",\"\",'Daten SR'!AH22)","v":""},{"$f":"IF($I21=\"\",\"\",'Daten SR'!AG22)","v":""},"","","","",2,null,"","",{"$f":"IF($I21=\"\",\"\",'Daten SR'!AJ22)","v":""},"",{"$f":"IF($I21=\"\",\"\",'Daten SR'!AM22)","v":""},{"$f":"IF($I21=\"\",\"\",'Daten SR'!AL22)","v":""},{"$f":"IF($I21=\"\",\"\",'Daten SR'!AK22)","v":""},"","","","",2,null,"","",{"$f":"IF($I21=\"\",\"\",'Daten SR'!AN22)","v":""},"",{"$f":"IF($I21=\"\",\"\",'Daten SR'!AQ22)","v":""},{"$f":"IF($I21=\"\",\"\",'Daten SR'!AP22)","v":""},{"$f":"IF($I21=\"\",\"\",'Daten SR'!AO22)","v":""},"","","","",2]
[null,"","",null,{"$f":"IF(OR(E21=-1,'Daten MR'!B24=\"\"),-1,FIND(\" \",'Daten MR'!B24))","v":-1},{"$f":"IF('Daten MR'!B24=\"\",\"\",'Daten MR'!B24)","v":"S1:"},null,null,{"$f":"Options!D36","v":""},{"$f":"Options!E36","v":""},{"$f":"Options!J36","v":""},{"$f":"Options!K36","v":""},null,{"$f":"IF($I22=\"\",\"\",'Daten MR'!C24)","v":""},{"$f":"IF($I22=\"\",\"\",'Daten MR'!D24)","v":""},"",{"$f":"IF($I22=\"\",\"\",'Daten MR'!E24)","v":""},{"$f":"IF($I22=\"\",\"\",'Daten MR'!F24)","v":""},{"$f":"IF($I22=\"\",\"\",'Daten MR'!G24)","v":""},{"$f":"IF($I22=\"\",\"\",'Daten MR'!H24)","v":""},{"$f":"IF($I22=\"\",\"\",'Daten MR'!J24)","v":""},{"$f":"IF($I22=\"\",\"\",'Daten MR'!K24)","v":""},{"$f":"IF($I22=\"\",\"\",'Daten MR'!L24)","v":""},{"$f":"IF($I22=\"\",\"\",'Daten MR'!M24)","v":""},"","",{"$f":"IF($I22=\"\",\"\",'Daten MR'!I24)","v":""},{"$f":"IF($I22=\"\",\"\",'Daten MR'!N24)","v":""},"",{"$f":"IF($I22=\"\",\"\",'Daten MR'!P24)","v":""},{"$f":"IF($I22=\"\",\"\",'Daten MR'!Q24)","v":""},{"$f":"IF($I22=\"\",\"\",'Daten MR'!R24)","v":""},{"$f":"IF($I22=\"\",\"\",'Daten MR'!S24)","v":""},{"$f":"IF($I22=\"\",\"\",'Daten MR'!T24)","v":""},"",{"$f":"IF($I22=\"\",\"\",'Daten MR'!U24)","v":""},{"$f":"IF($I22=\"\",\"\",'Daten MR'!V24)","v":""},{"$f":"IF($I22=\"\",\"\",'Daten MR'!O24)","v":""},{"$f":"IF($I22=\"\",\"\",'Daten MR'!W24)","v":""},"",{"$f":"IF($I22=\"\",\"\",'Daten MR'!Y24)","v":""},{"$f":"IF($I22=\"\",\"\",'Daten MR'!Z24)","v":""},{"$f":"IF($I22=\"\",\"\",'Daten MR'!AA24)","v":""},{"$f":"IF($I22=\"\",\"\",'Daten MR'!AB24)","v":""},{"$f":"IF($I22=\"\",\"\",'Daten MR'!AC24)","v":""},"",{"$f":"IF($I22=\"\",\"\",'Daten MR'!AD24)","v":""},{"$f":"IF($I22=\"\",\"\",'Daten MR'!X24)","v":""},{"$f":"IF($I22=\"\",\"\",'Daten MR'!AE24)","v":""},{"$f":"IF($I22=\"\",\"\",'Daten MR'!AG24)","v":""},{"$f":"IF($I22=\"\",\"\",'Daten MR'!AH24)","v":""},{"$f":"IF($I22=\"\",\"\",'Daten MR'!AI24)","v":""},"",{"$f":"IF($I22=\"\",\"\",'Daten MR'!AF24)","v":""},{"$f":"IF($I22=\"\",\"\",'Daten MR'!AJ24)","v":""},{"$f":"IF($I22=\"\",\"\",'Daten MR'!AL24)","v":""},{"$f":"IF($I22=\"\",\"\",'Daten MR'!AM24)","v":""},{"$f":"IF($I22=\"\",\"\",'Daten MR'!AN24)","v":""},"",{"$f":"IF($I22=\"\",\"\",'Daten MR'!AK24)","v":""},{"$f":"IF($I22=\"\",\"\",'Daten MR'!AO24)","v":""},{"$f":"IF($I22=\"\",\"\",'Daten MR'!AQ24)","v":""},{"$f":"IF($I22=\"\",\"\",'Daten MR'!AR24)","v":""},{"$f":"IF($I22=\"\",\"\",'Daten MR'!AS24)","v":""},{"$f":"IF($I22=\"\",\"\",'Daten MR'!AP24)","v":""},{"$f":"IF($I22=\"\",\"\",'Daten MR'!AT24)","v":""},{"$f":"IF($I22=\"\",\"\",'Daten MR'!AV24)","v":""},{"$f":"IF($I22=\"\",\"\",'Daten MR'!AU24)","v":""},null,null,"","",{"$f":"IF($I22=\"\",\"\",'Daten A1'!B24)","v":""},{"$f":"IF($I22=\"\",\"\",'Daten A1'!C24)","v":""},{"$f":"IF($I22=\"\",\"\",'Daten A1'!E24)","v":""},{"$f":"IF($I22=\"\",\"\",'Daten A1'!F24)","v":""},{"$f":"IF($I22=\"\",\"\",'Daten A1'!G24)","v":""},{"$f":"IF($I22=\"\",\"\",IF(BU22=0,\"0%\",'Daten A1'!H24))","v":""},{"$f":"IF($I22=\"\",\"\",'Daten A1'!D24)","v":""},{"$f":"IF($I22=\"\",\"\",'Daten A1'!I24)","v":""},{"$f":"IF($I22=\"\",\"\",'Daten A1'!J24)","v":""},{"$f":"IF($I22=\"\",\"\",'Daten A1'!L24)","v":""},{"$f":"IF($I22=\"\",\"\",'Daten A1'!M24)","v":""},{"$f":"IF($I22=\"\",\"\",'Daten A1'!N24)","v":""},{"$f":"IF($I22=\"\",\"\",IF(CB22=0,\"0%\",'Daten A1'!O24))","v":""},{"$f":"IF($I22=\"\",\"\",'Daten A1'!K24)","v":""},{"$f":"IF($I22=\"\",\"\",'Daten A1'!P24)","v":""},{"$f":"IF($I22=\"\",\"\",'Daten A1'!Q24)","v":""},{"$f":"IF($I22=\"\",\"\",'Daten A1'!S24)","v":""},{"$f":"IF($I22=\"\",\"\",'Daten A1'!T24)","v":""},{"$f":"IF($I22=\"\",\"\",'Daten A1'!U24)","v":""},{"$f":"IF($I22=\"\",\"\",IF(CI22=0,\"0%\",'Daten A1'!V24))","v":""},{"$f":"IF($I22=\"\",\"\",'Daten A1'!R24)","v":""},{"$f":"IF($I22=\"\",\"\",'Daten A1'!W24)","v":""},{"$f":"IF($I22=\"\",\"\",'Daten A1'!X24)","v":""},{"$f":"IF($I22=\"\",\"\",'Daten A1'!Z24)","v":""},{"$f":"IF($I22=\"\",\"\",'Daten A1'!AA24)","v":""},{"$f":"IF($I22=\"\",\"\",'Daten A1'!AB24)","v":""},{"$f":"IF($I22=\"\",\"\",IF(CP22=0,\"0%\",'Daten A1'!AC24))","v":""},{"$f":"IF($I22=\"\",\"\",'Daten A1'!Y24)","v":""},{"$f":"IF($I22=\"\",\"\",'Daten A1'!AD24)","v":""},{"$f":"IF($I22=\"\",\"\",'Daten A1'!AE24)","v":""},{"$f":"IF($I22=\"\",\"\",'Daten A1'!AG24)","v":""},{"$f":"IF($I22=\"\",\"\",'Daten A1'!AH24)","v":""},{"$f":"IF($I22=\"\",\"\",'Daten A1'!AI24)","v":""},{"$f":"IF($I22=\"\",\"\",IF(CW22=0,\"0%\",'Daten A1'!AJ24))","v":""},{"$f":"IF($I22=\"\",\"\",'Daten A1'!AF24)","v":""},{"$f":"IF($I22=\"\",\"\",'Daten A1'!AK24)","v":""},{"$f":"IF($I22=\"\",\"\",'Daten A1'!AL24)","v":""},{"$f":"IF($I22=\"\",\"\",'Daten A1'!AN24)","v":""},{"$f":"IF($I22=\"\",\"\",'Daten A1'!AO24)","v":""},{"$f":"IF($I22=\"\",\"\",'Daten A1'!AP24)","v":""},{"$f":"IF($I22=\"\",\"\",IF(DD22=0,\"0%\",'Daten A1'!AQ24))","v":""},{"$f":"IF($I22=\"\",\"\",'Daten A1'!AM24)","v":""},{"$f":"IF($I22=\"\",\"\",'Daten A1'!AR24)","v":""},{"$f":"IF($I22=\"\",\"\",'Daten A1'!AT24)","v":""},"",{"$f":"IF($I22=\"\",\"\",'Daten A1'!AS24)","v":""},{"$f":"IF($I22=\"\",\"\",'Daten A1'!AU24)","v":""},{"$f":"IF($I22=\"\",\"\",'Daten A1'!AW24)","v":""},"",{"$f":"IF($I22=\"\",\"\",'Daten A1'!AV24)","v":""},2,null,null,"","",{"$f":"IF($I22=\"\",\"\",'Daten MR'!N24)","v":""},"",{"$f":"IF($I22=\"\",\"\",'Daten MR'!P24)","v":""},{"$f":"IF($I22=\"\",\"\",'Daten MR'!Q24)","v":""},{"$f":"IF($I22=\"\",\"\",'Daten MR'!R24)","v":""},{"$f":"IF($I22=\"\",\"\",'Daten MR'!S24)","v":""},{"$f":"IF($I22=\"\",\"\",'Daten MR'!T24)","v":""},"","","",{"$f":"IF($I22=\"\",\"\",'Daten MR'!O24)","v":""},2,null,"","",{"$f":"IF($I22=\"\",\"\",'Daten SR'!T23)","v":""},"",{"$f":"IF($I22=\"\",\"\",'Daten SR'!W23)","v":""},{"$f":"IF($I22=\"\",\"\",'Daten SR'!V23)","v":""},{"$f":"IF($I22=\"\",\"\",'Daten SR'!U23)","v":""},"","","","",2,null,"","",{"$f":"IF($I22=\"\",\"\",'Daten SR'!X23)","v":""},"",{"$f":"IF($I22=\"\",\"\",'Daten SR'!AA23)","v":""},{"$f":"IF($I22=\"\",\"\",'Daten SR'!Z23)","v":""},{"$f":"IF($I22=\"\",\"\",'Daten SR'!Y23)","v":""},"","","","",2,null,"","",{"$f":"IF($I22=\"\",\"\",'Daten SR'!AB23)","v":""},"",{"$f":"IF($I22=\"\",\"\",'Daten SR'!AE23)","v":""},{"$f":"IF($I22=\"\",\"\",'Daten SR'!AD23)","v":""},{"$f":"IF($I22=\"\",\"\",'Daten SR'!AC23)","v":""},"","","","",2,null,"","",{"$f":"IF($I22=\"\",\"\",'Daten SR'!AF23)","v":""},"",{"$f":"IF($I22=\"\",\"\",'Daten SR'!AI23)","v":""},{"$f":"IF($I22=\"\",\"\",'Daten SR'!AH23)","v":""},{"$f":"IF($I22=\"\",\"\",'Daten SR'!AG23)","v":""},"","","","",2,null,"","",{"$f":"IF($I22=\"\",\"\",'Daten SR'!AJ23)","v":""},"",{"$f":"IF($I22=\"\",\"\",'Daten SR'!AM23)","v":""},{"$f":"IF($I22=\"\",\"\",'Daten SR'!AL23)","v":""},{"$f":"IF($I22=\"\",\"\",'Daten SR'!AK23)","v":""},"","","","",2,null,"","",{"$f":"IF($I22=\"\",\"\",'Daten SR'!AN23)","v":""},"",{"$f":"IF($I22=\"\",\"\",'Daten SR'!AQ23)","v":""},{"$f":"IF($I22=\"\",\"\",'Daten SR'!AP23)","v":""},{"$f":"IF($I22=\"\",\"\",'Daten SR'!AO23)","v":""},"","","","",2]
[null,"","",null,{"$f":"IF(OR(E22=-1,'Daten MR'!B25=\"\"),-1,FIND(\" \",'Daten MR'!B25))","v":-1},{"$f":"IF('Daten MR'!B25=\"\",\"\",'Daten MR'!B25)","v":"S2:"},null,null,{"$f":"Options!D37","v":""},{"$f":"Options!E37","v":""},{"$f":"Options!J37","v":""},{"$f":"Options!K37","v":""},null,{"$f":"IF($I23=\"\",\"\",'Daten MR'!C25)","v":""},{"$f":"IF($I23=\"\",\"\",'Daten MR'!D25)","v":""},"",{"$f":"IF($I23=\"\",\"\",'Daten MR'!E25)","v":""},{"$f":"IF($I23=\"\",\"\",'Daten MR'!F25)","v":""},{"$f":"IF($I23=\"\",\"\",'Daten MR'!G25)","v":""},{"$f":"IF($I23=\"\",\"\",'Daten MR'!H25)","v":""},{"$f":"IF($I23=\"\",\"\",'Daten MR'!J25)","v":""},{"$f":"IF($I23=\"\",\"\",'Daten MR'!K25)","v":""},{"$f":"IF($I23=\"\",\"\",'Daten MR'!L25)","v":""},{"$f":"IF($I23=\"\",\"\",'Daten MR'!M25)","v":""},"","",{"$f":"IF($I23=\"\",\"\",'Daten MR'!I25)","v":""},{"$f":"IF($I23=\"\",\"\",'Daten MR'!N25)","v":""},"",{"$f":"IF($I23=\"\",\"\",'Daten MR'!P25)","v":""},{"$f":"IF($I23=\"\",\"\",'Daten MR'!Q25)","v":""},{"$f":"IF($I23=\"\",\"\",'Daten MR'!R25)","v":""},{"$f":"IF($I23=\"\",\"\",'Daten MR'!S25)","v":""},{"$f":"IF($I23=\"\",\"\",'Daten MR'!T25)","v":""},"",{"$f":"IF($I23=\"\",\"\",'Daten MR'!U25)","v":""},{"$f":"IF($I23=\"\",\"\",'Daten MR'!V25)","v":""},{"$f":"IF($I23=\"\",\"\",'Daten MR'!O25)","v":""},{"$f":"IF($I23=\"\",\"\",'Daten MR'!W25)","v":""},"",{"$f":"IF($I23=\"\",\"\",'Daten MR'!Y25)","v":""},{"$f":"IF($I23=\"\",\"\",'Daten MR'!Z25)","v":""},{"$f":"IF($I23=\"\",\"\",'Daten MR'!AA25)","v":""},{"$f":"IF($I23=\"\",\"\",'Daten MR'!AB25)","v":""},{"$f":"IF($I23=\"\",\"\",'Daten MR'!AC25)","v":""},"",{"$f":"IF($I23=\"\",\"\",'Daten MR'!AD25)","v":""},{"$f":"IF($I23=\"\",\"\",'Daten MR'!X25)","v":""},{"$f":"IF($I23=\"\",\"\",'Daten MR'!AE25)","v":""},{"$f":"IF($I23=\"\",\"\",'Daten MR'!AG25)","v":""},{"$f":"IF($I23=\"\",\"\",'Daten MR'!AH25)","v":""},{"$f":"IF($I23=\"\",\"\",'Daten MR'!AI25)","v":""},"",{"$f":"IF($I23=\"\",\"\",'Daten MR'!AF25)","v":""},{"$f":"IF($I23=\"\",\"\",'Daten MR'!AJ25)","v":""},{"$f":"IF($I23=\"\",\"\",'Daten MR'!AL25)","v":""},{"$f":"IF($I23=\"\",\"\",'Daten MR'!AM25)","v":""},{"$f":"IF($I23=\"\",\"\",'Daten MR'!AN25)","v":""},"",{"$f":"IF($I23=\"\",\"\",'Daten MR'!AK25)","v":""},{"$f":"IF($I23=\"\",\"\",'Daten MR'!AO25)","v":""},{"$f":"IF($I23=\"\",\"\",'Daten MR'!AQ25)","v":""},{"$f":"IF($I23=\"\",\"\",'Daten MR'!AR25)","v":""},{"$f":"IF($I23=\"\",\"\",'Daten MR'!AS25)","v":""},{"$f":"IF($I23=\"\",\"\",'Daten MR'!AP25)","v":""},{"$f":"IF($I23=\"\",\"\",'Daten MR'!AT25)","v":""},{"$f":"IF($I23=\"\",\"\",'Daten MR'!AV25)","v":""},{"$f":"IF($I23=\"\",\"\",'Daten MR'!AU25)","v":""},null,null,"","",{"$f":"IF($I23=\"\",\"\",'Daten A1'!B25)","v":""},{"$f":"IF($I23=\"\",\"\",'Daten A1'!C25)","v":""},{"$f":"IF($I23=\"\",\"\",'Daten A1'!E25)","v":""},{"$f":"IF($I23=\"\",\"\",'Daten A1'!F25)","v":""},{"$f":"IF($I23=\"\",\"\",'Daten A1'!G25)","v":""},{"$f":"IF($I23=\"\",\"\",IF(BU23=0,\"0%\",'Daten A1'!H25))","v":""},{"$f":"IF($I23=\"\",\"\",'Daten A1'!D25)","v":""},{"$f":"IF($I23=\"\",\"\",'Daten A1'!I25)","v":""},{"$f":"IF($I23=\"\",\"\",'Daten A1'!J25)","v":""},{"$f":"IF($I23=\"\",\"\",'Daten A1'!L25)","v":""},{"$f":"IF($I23=\"\",\"\",'Daten A1'!M25)","v":""},{"$f":"IF($I23=\"\",\"\",'Daten A1'!N25)","v":""},{"$f":"IF($I23=\"\",\"\",IF(CB23=0,\"0%\",'Daten A1'!O25))","v":""},{"$f":"IF($I23=\"\",\"\",'Daten A1'!K25)","v":""},{"$f":"IF($I23=\"\",\"\",'Daten A1'!P25)","v":""},{"$f":"IF($I23=\"\",\"\",'Daten A1'!Q25)","v":""},{"$f":"IF($I23=\"\",\"\",'Daten A1'!S25)","v":""},{"$f":"IF($I23=\"\",\"\",'Daten A1'!T25)","v":""},{"$f":"IF($I23=\"\",\"\",'Daten A1'!U25)","v":""},{"$f":"IF($I23=\"\",\"\",IF(CI23=0,\"0%\",'Daten A1'!V25))","v":""},{"$f":"IF($I23=\"\",\"\",'Daten A1'!R25)","v":""},{"$f":"IF($I23=\"\",\"\",'Daten A1'!W25)","v":""},{"$f":"IF($I23=\"\",\"\",'Daten A1'!X25)","v":""},{"$f":"IF($I23=\"\",\"\",'Daten A1'!Z25)","v":""},{"$f":"IF($I23=\"\",\"\",'Daten A1'!AA25)","v":""},{"$f":"IF($I23=\"\",\"\",'Daten A1'!AB25)","v":""},{"$f":"IF($I23=\"\",\"\",IF(CP23=0,\"0%\",'Daten A1'!AC25))","v":""},{"$f":"IF($I23=\"\",\"\",'Daten A1'!Y25)","v":""},{"$f":"IF($I23=\"\",\"\",'Daten A1'!AD25)","v":""},{"$f":"IF($I23=\"\",\"\",'Daten A1'!AE25)","v":""},{"$f":"IF($I23=\"\",\"\",'Daten A1'!AG25)","v":""},{"$f":"IF($I23=\"\",\"\",'Daten A1'!AH25)","v":""},{"$f":"IF($I23=\"\",\"\",'Daten A1'!AI25)","v":""},{"$f":"IF($I23=\"\",\"\",IF(CW23=0,\"0%\",'Daten A1'!AJ25))","v":""},{"$f":"IF($I23=\"\",\"\",'Daten A1'!AF25)","v":""},{"$f":"IF($I23=\"\",\"\",'Daten A1'!AK25)","v":""},{"$f":"IF($I23=\"\",\"\",'Daten A1'!AL25)","v":""},{"$f":"IF($I23=\"\",\"\",'Daten A1'!AN25)","v":""},{"$f":"IF($I23=\"\",\"\",'Daten A1'!AO25)","v":""},{"$f":"IF($I23=\"\",\"\",'Daten A1'!AP25)","v":""},{"$f":"IF($I23=\"\",\"\",IF(DD23=0,\"0%\",'Daten A1'!AQ25))","v":""},{"$f":"IF($I23=\"\",\"\",'Daten A1'!AM25)","v":""},{"$f":"IF($I23=\"\",\"\",'Daten A1'!AR25)","v":""},{"$f":"IF($I23=\"\",\"\",'Daten A1'!AT25)","v":""},"",{"$f":"IF($I23=\"\",\"\",'Daten A1'!AS25)","v":""},{"$f":"IF($I23=\"\",\"\",'Daten A1'!AU25)","v":""},{"$f":"IF($I23=\"\",\"\",'Daten A1'!AW25)","v":""},"",{"$f":"IF($I23=\"\",\"\",'Daten A1'!AV25)","v":""},2,null,null,"","",{"$f":"IF($I23=\"\",\"\",'Daten MR'!N25)","v":""},"",{"$f":"IF($I23=\"\",\"\",'Daten MR'!P25)","v":""},{"$f":"IF($I23=\"\",\"\",'Daten MR'!Q25)","v":""},{"$f":"IF($I23=\"\",\"\",'Daten MR'!R25)","v":""},{"$f":"IF($I23=\"\",\"\",'Daten MR'!S25)","v":""},{"$f":"IF($I23=\"\",\"\",'Daten MR'!T25)","v":""},"","","",{"$f":"IF($I23=\"\",\"\",'Daten MR'!O25)","v":""},2,null,"","",{"$f":"IF($I23=\"\",\"\",'Daten SR'!T24)","v":""},"",{"$f":"IF($I23=\"\",\"\",'Daten SR'!W24)","v":""},{"$f":"IF($I23=\"\",\"\",'Daten SR'!V24)","v":""},{"$f":"IF($I23=\"\",\"\",'Daten SR'!U24)","v":""},"","","","",2,null,"","",{"$f":"IF($I23=\"\",\"\",'Daten SR'!X24)","v":""},"",{"$f":"IF($I23=\"\",\"\",'Daten SR'!AA24)","v":""},{"$f":"IF($I23=\"\",\"\",'Daten SR'!Z24)","v":""},{"$f":"IF($I23=\"\",\"\",'Daten SR'!Y24)","v":""},"","","","",2,null,"","",{"$f":"IF($I23=\"\",\"\",'Daten SR'!AB24)","v":""},"",{"$f":"IF($I23=\"\",\"\",'Daten SR'!AE24)","v":""},{"$f":"IF($I23=\"\",\"\",'Daten SR'!AD24)","v":""},{"$f":"IF($I23=\"\",\"\",'Daten SR'!AC24)","v":""},"","","","",2,null,"","",{"$f":"IF($I23=\"\",\"\",'Daten SR'!AF24)","v":""},"",{"$f":"IF($I23=\"\",\"\",'Daten SR'!AI24)","v":""},{"$f":"IF($I23=\"\",\"\",'Daten SR'!AH24)","v":""},{"$f":"IF($I23=\"\",\"\",'Daten SR'!AG24)","v":""},"","","","",2,null,"","",{"$f":"IF($I23=\"\",\"\",'Daten SR'!AJ24)","v":""},"",{"$f":"IF($I23=\"\",\"\",'Daten SR'!AM24)","v":""},{"$f":"IF($I23=\"\",\"\",'Daten SR'!AL24)","v":""},{"$f":"IF($I23=\"\",\"\",'Daten SR'!AK24)","v":""},"","","","",2,null,"","",{"$f":"IF($I23=\"\",\"\",'Daten SR'!AN24)","v":""},"",{"$f":"IF($I23=\"\",\"\",'Daten SR'!AQ24)","v":""},{"$f":"IF($I23=\"\",\"\",'Daten SR'!AP24)","v":""},{"$f":"IF($I23=\"\",\"\",'Daten SR'!AO24)","v":""},"","","","",2]
[null,"","",null,{"$f":"IF(OR(E23=-1,'Daten MR'!B26=\"\"),-1,FIND(\" \",'Daten MR'!B26))","v":-1},{"$f":"IF('Daten MR'!B26=\"\",\"\",'Daten MR'!B26)","v":"S3:"},null,null,{"$f":"Options!D38","v":""},{"$f":"Options!E38","v":""},{"$f":"Options!J38","v":""},{"$f":"Options!K38","v":""},null,{"$f":"IF($I24=\"\",\"\",'Daten MR'!C26)","v":""},{"$f":"IF($I24=\"\",\"\",'Daten MR'!D26)","v":""},"",{"$f":"IF($I24=\"\",\"\",'Daten MR'!E26)","v":""},{"$f":"IF($I24=\"\",\"\",'Daten MR'!F26)","v":""},{"$f":"IF($I24=\"\",\"\",'Daten MR'!G26)","v":""},{"$f":"IF($I24=\"\",\"\",'Daten MR'!H26)","v":""},{"$f":"IF($I24=\"\",\"\",'Daten MR'!J26)","v":""},{"$f":"IF($I24=\"\",\"\",'Daten MR'!K26)","v":""},{"$f":"IF($I24=\"\",\"\",'Daten MR'!L26)","v":""},{"$f":"IF($I24=\"\",\"\",'Daten MR'!M26)","v":""},"","",{"$f":"IF($I24=\"\",\"\",'Daten MR'!I26)","v":""},{"$f":"IF($I24=\"\",\"\",'Daten MR'!N26)","v":""},"",{"$f":"IF($I24=\"\",\"\",'Daten MR'!P26)","v":""},{"$f":"IF($I24=\"\",\"\",'Daten MR'!Q26)","v":""},{"$f":"IF($I24=\"\",\"\",'Daten MR'!R26)","v":""},{"$f":"IF($I24=\"\",\"\",'Daten MR'!S26)","v":""},{"$f":"IF($I24=\"\",\"\",'Daten MR'!T26)","v":""},"",{"$f":"IF($I24=\"\",\"\",'Daten MR'!U26)","v":""},{"$f":"IF($I24=\"\",\"\",'Daten MR'!V26)","v":""},{"$f":"IF($I24=\"\",\"\",'Daten MR'!O26)","v":""},{"$f":"IF($I24=\"\",\"\",'Daten MR'!W26)","v":""},"",{"$f":"IF($I24=\"\",\"\",'Daten MR'!Y26)","v":""},{"$f":"IF($I24=\"\",\"\",'Daten MR'!Z26)","v":""},{"$f":"IF($I24=\"\",\"\",'Daten MR'!AA26)","v":""},{"$f":"IF($I24=\"\",\"\",'Daten MR'!AB26)","v":""},{"$f":"IF($I24=\"\",\"\",'Daten MR'!AC26)","v":""},"",{"$f":"IF($I24=\"\",\"\",'Daten MR'!AD26)","v":""},{"$f":"IF($I24=\"\",\"\",'Daten MR'!X26)","v":""},{"$f":"IF($I24=\"\",\"\",'Daten MR'!AE26)","v":""},{"$f":"IF($I24=\"\",\"\",'Daten MR'!AG26)","v":""},{"$f":"IF($I24=\"\",\"\",'Daten MR'!AH26)","v":""},{"$f":"IF($I24=\"\",\"\",'Daten MR'!AI26)","v":""},"",{"$f":"IF($I24=\"\",\"\",'Daten MR'!AF26)","v":""},{"$f":"IF($I24=\"\",\"\",'Daten MR'!AJ26)","v":""},{"$f":"IF($I24=\"\",\"\",'Daten MR'!AL26)","v":""},{"$f":"IF($I24=\"\",\"\",'Daten MR'!AM26)","v":""},{"$f":"IF($I24=\"\",\"\",'Daten MR'!AN26)","v":""},"",{"$f":"IF($I24=\"\",\"\",'Daten MR'!AK26)","v":""},{"$f":"IF($I24=\"\",\"\",'Daten MR'!AO26)","v":""},{"$f":"IF($I24=\"\",\"\",'Daten MR'!AQ26)","v":""},{"$f":"IF($I24=\"\",\"\",'Daten MR'!AR26)","v":""},{"$f":"IF($I24=\"\",\"\",'Daten MR'!AS26)","v":""},{"$f":"IF($I24=\"\",\"\",'Daten MR'!AP26)","v":""},{"$f":"IF($I24=\"\",\"\",'Daten MR'!AT26)","v":""},{"$f":"IF($I24=\"\",\"\",'Daten MR'!AV26)","v":""},{"$f":"IF($I24=\"\",\"\",'Daten MR'!AU26)","v":""},null,null,"","",{"$f":"IF($I24=\"\",\"\",'Daten A1'!B26)","v":""},{"$f":"IF($I24=\"\",\"\",'Daten A1'!C26)","v":""},{"$f":"IF($I24=\"\",\"\",'Daten A1'!E26)","v":""},{"$f":"IF($I24=\"\",\"\",'Daten A1'!F26)","v":""},{"$f":"IF($I24=\"\",\"\",'Daten A1'!G26)","v":""},{"$f":"IF($I24=\"\",\"\",IF(BU24=0,\"0%\",'Daten A1'!H26))","v":""},{"$f":"IF($I24=\"\",\"\",'Daten A1'!D26)","v":""},{"$f":"IF($I24=\"\",\"\",'Daten A1'!I26)","v":""},{"$f":"IF($I24=\"\",\"\",'Daten A1'!J26)","v":""},{"$f":"IF($I24=\"\",\"\",'Daten A1'!L26)","v":""},{"$f":"IF($I24=\"\",\"\",'Daten A1'!M26)","v":""},{"$f":"IF($I24=\"\",\"\",'Daten A1'!N26)","v":""},{"$f":"IF($I24=\"\",\"\",IF(CB24=0,\"0%\",'Daten A1'!O26))","v":""},{"$f":"IF($I24=\"\",\"\",'Daten A1'!K26)","v":""},{"$f":"IF($I24=\"\",\"\",'Daten A1'!P26)","v":""},{"$f":"IF($I24=\"\",\"\",'Daten A1'!Q26)","v":""},{"$f":"IF($I24=\"\",\"\",'Daten A1'!S26)","v":""},{"$f":"IF($I24=\"\",\"\",'Daten A1'!T26)","v":""},{"$f":"IF($I24=\"\",\"\",'Daten A1'!U26)","v":""},{"$f":"IF($I24=\"\",\"\",IF(CI24=0,\"0%\",'Daten A1'!V26))","v":""},{"$f":"IF($I24=\"\",\"\",'Daten A1'!R26)","v":""},{"$f":"IF($I24=\"\",\"\",'Daten A1'!W26)","v":""},{"$f":"IF($I24=\"\",\"\",'Daten A1'!X26)","v":""},{"$f":"IF($I24=\"\",\"\",'Daten A1'!Z26)","v":""},{"$f":"IF($I24=\"\",\"\",'Daten A1'!AA26)","v":""},{"$f":"IF($I24=\"\",\"\",'Daten A1'!AB26)","v":""},{"$f":"IF($I24=\"\",\"\",IF(CP24=0,\"0%\",'Daten A1'!AC26))","v":""},{"$f":"IF($I24=\"\",\"\",'Daten A1'!Y26)","v":""},{"$f":"IF($I24=\"\",\"\",'Daten A1'!AD26)","v":""},{"$f":"IF($I24=\"\",\"\",'Daten A1'!AE26)","v":""},{"$f":"IF($I24=\"\",\"\",'Daten A1'!AG26)","v":""},{"$f":"IF($I24=\"\",\"\",'Daten A1'!AH26)","v":""},{"$f":"IF($I24=\"\",\"\",'Daten A1'!AI26)","v":""},{"$f":"IF($I24=\"\",\"\",IF(CW24=0,\"0%\",'Daten A1'!AJ26))","v":""},{"$f":"IF($I24=\"\",\"\",'Daten A1'!AF26)","v":""},{"$f":"IF($I24=\"\",\"\",'Daten A1'!AK26)","v":""},{"$f":"IF($I24=\"\",\"\",'Daten A1'!AL26)","v":""},{"$f":"IF($I24=\"\",\"\",'Daten A1'!AN26)","v":""},{"$f":"IF($I24=\"\",\"\",'Daten A1'!AO26)","v":""},{"$f":"IF($I24=\"\",\"\",'Daten A1'!AP26)","v":""},{"$f":"IF($I24=\"\",\"\",IF(DD24=0,\"0%\",'Daten A1'!AQ26))","v":""},{"$f":"IF($I24=\"\",\"\",'Daten A1'!AM26)","v":""},{"$f":"IF($I24=\"\",\"\",'Daten A1'!AR26)","v":""},{"$f":"IF($I24=\"\",\"\",'Daten A1'!AT26)","v":""},"",{"$f":"IF($I24=\"\",\"\",'Daten A1'!AS26)","v":""},{"$f":"IF($I24=\"\",\"\",'Daten A1'!AU26)","v":""},{"$f":"IF($I24=\"\",\"\",'Daten A1'!AW26)","v":""},"",{"$f":"IF($I24=\"\",\"\",'Daten A1'!AV26)","v":""},2,null,null,"","",{"$f":"IF($I24=\"\",\"\",'Daten MR'!N26)","v":""},"",{"$f":"IF($I24=\"\",\"\",'Daten MR'!P26)","v":""},{"$f":"IF($I24=\"\",\"\",'Daten MR'!Q26)","v":""},{"$f":"IF($I24=\"\",\"\",'Daten MR'!R26)","v":""},{"$f":"IF($I24=\"\",\"\",'Daten MR'!S26)","v":""},{"$f":"IF($I24=\"\",\"\",'Daten MR'!T26)","v":""},"","","",{"$f":"IF($I24=\"\",\"\",'Daten MR'!O26)","v":""},2,null,"","",{"$f":"IF($I24=\"\",\"\",'Daten SR'!T25)","v":""},"",{"$f":"IF($I24=\"\",\"\",'Daten SR'!W25)","v":""},{"$f":"IF($I24=\"\",\"\",'Daten SR'!V25)","v":""},{"$f":"IF($I24=\"\",\"\",'Daten SR'!U25)","v":""},"","","","",2,null,"","",{"$f":"IF($I24=\"\",\"\",'Daten SR'!X25)","v":""},"",{"$f":"IF($I24=\"\",\"\",'Daten SR'!AA25)","v":""},{"$f":"IF($I24=\"\",\"\",'Daten SR'!Z25)","v":""},{"$f":"IF($I24=\"\",\"\",'Daten SR'!Y25)","v":""},"","","","",2,null,"","",{"$f":"IF($I24=\"\",\"\",'Daten SR'!AB25)","v":""},"",{"$f":"IF($I24=\"\",\"\",'Daten SR'!AE25)","v":""},{"$f":"IF($I24=\"\",\"\",'Daten SR'!AD25)","v":""},{"$f":"IF($I24=\"\",\"\",'Daten SR'!AC25)","v":""},"","","","",2,null,"","",{"$f":"IF($I24=\"\",\"\",'Daten SR'!AF25)","v":""},"",{"$f":"IF($I24=\"\",\"\",'Daten SR'!AI25)","v":""},{"$f":"IF($I24=\"\",\"\",'Daten SR'!AH25)","v":""},{"$f":"IF($I24=\"\",\"\",'Daten SR'!AG25)","v":""},"","","","",2,null,"","",{"$f":"IF($I24=\"\",\"\",'Daten SR'!AJ25)","v":""},"",{"$f":"IF($I24=\"\",\"\",'Daten SR'!AM25)","v":""},{"$f":"IF($I24=\"\",\"\",'Daten SR'!AL25)","v":""},{"$f":"IF($I24=\"\",\"\",'Daten SR'!AK25)","v":""},"","","","",2,null,"","",{"$f":"IF($I24=\"\",\"\",'Daten SR'!AN25)","v":""},"",{"$f":"IF($I24=\"\",\"\",'Daten SR'!AQ25)","v":""},{"$f":"IF($I24=\"\",\"\",'Daten SR'!AP25)","v":""},{"$f":"IF($I24=\"\",\"\",'Daten SR'!AO25)","v":""},"","","","",2]
[]
[null,null,null,null,null,null,null,null,null,{"$f":"J4","v":"KOREA"},null,null,null,5,66,13.2,26,78,-12,101,11,56,32,2,0.10891089108910891,1.9801980198019802E-2,"23%",82,null,1,1,29,29,22,2.4390243902439025E-2,"62%","27%","60%",104,null,12,15,3,9,54,0.25961538461538464,"52%","26%",51,22,4,10,0.19607843137254902,"-16%",60,15,28,17,0.28333333333333333,"3%",1,0,1,0,"0%",98,2,"59%",null,null,null,"KOREA",101,"100%",11,15,53,0.52475247524752477,"27%",74,"100%",8,9,39,0.52702702702702697,"30%",50,"100%",5,5,29,0.57999999999999996,"38%",24,"100%",3,4,10,0.41666666666666669,"12%",27,"100%",3,6,14,0.51851851851851849,"19%",12,"150%",1,2,8,0.66666666666666663,"42%",72,39,0.54166666666666663,null,2,0,0,null,null,null,null,null,"KOREA",82,null,1,1,29,29,22,2.4390243902439025E-2,0.62195121951219512,0.26829268292682928,"60%",null,null,null,"KOREA",10,null,0,5,4,0.4,0.9,0.4,0.9,null,null,null,"KOREA",22,null,2,4,4,0.18181818181818182,0.36363636363636365,0.18181818181818182,0.27272727272727271,null,null,null,"KOREA",15,null,0,5,5,0.33333333333333331,0.66666666666666663,0.33333333333333331,0.66666666666666663,null,null,null,"KOREA",10,null,0,3,3,0.3,0.6,0.3,0.6,null,null,null,"KOREA",9,null,0,7,0,0,0.77777777777777779,0,0.77777777777777779,null,null,null,"KOREA",16,null,0,5,6,0.375,0.6875,0.375,0.6875]
[null,null,null,null,null,null,null,null,"1","SONG","Outside","Out",null,5,18,3.6,11,19,-1,16,4,7,4,1,0.25,6.25E-2,"6%",7,8.5365853658536592E-2,1,0,1,4,1,0.14285714285714285,"71%","14%","57%",30,0.28846153846153844,6,4,0,4,15,0.33333333333333331,"50%","17%",3,1,0,2,0.66666666666666663,"33%",15,3,6,6,0.4,"20%",1,0,1,0,"0%",3,0,"0%",null,null,"1","SONG",30,"30%",6,4,15,"50%","17%",23,"31%",6,3,11,"48%","9%",17,"34%",4,2,9,"53%","18%",6,"25%",2,1,2,"33%","-17%",7,"26%",0,1,4,"57%","43%",3,"100%",0,0,3,"100%","100%",23,11,0.47826086956521741,"9%",0,0,"0%","0%",1,null,null,"1","SONG",7,8.5365853658536592E-2,1,0,1,4,1,0.14285714285714285,0.7142857142857143,0.14285714285714285,"57%",1,null,"1","SONG",3,0.3,0,2,1,0,1,0.33333333333333331,1,1,null,"1","SONG",3,0.13636363636363635,1,1,0,0.33333333333333331,0.33333333333333331,0,0,1,null,"1","SONG",0,0,0,0,0,0,0,0,0,1,null,"1","SONG",1,0.1,0,1,0,0,1,0,1,1,null,"1","SONG",0,0,0,0,0,0,0,0,0,1,null,"1","SONG",0,0,0,0,0,0,0,0,0,1]
[null,null,null,null,null,null,null,null,"4","SHIN","Middleblock","MB",null,5,11,2.2000000000000002,2,6,5,14,1,10,3,0,7.1428571428571425E-2,0,"14%",0,"0%",0,0,0,0,0,"0%","0","0","0",11,0.10576923076923077,0,0,0,1,8,0,"73%","73%",12,4,0,3,0.25,"-8%",5,0,2,3,0.6,"60%",0,0,0,0,"0%",2,1,"-50%",null,null,"4","SHIN",11,"11%",0,0,8,"73%","73%",10,"14%",0,0,7,"70%","70%",9,"18%",0,0,6,"67%","67%",1,"4%",0,0,1,"100%","100%",1,"4%",0,0,1,"100%","100%",1,"100%",0,0,1,"100%","100%",10,7,0.7,"70%",0,0,"0%","0%",1,null,null,"4","SHIN",0,0,0,0,0,0,0,0,0,0,"0",1,null,"4","SHIN",0,0,0,0,0,0,0,0,0,1,null,"4","SHIN",0,0,0,0,0,0,0,0,0,1,null,"4","SHIN",0,0,0,0,0,0,0,0,0,1,null,"4","SHIN",0,0,0,0,0,0,0,0,0,1,null,"4","SHIN",0,0,0,0,0,0,0,0,0,1,null,"4","SHIN",0,0,0,0,0,0,0,0,0,1]
[null,null,null,null,null,null,null,null,"6","LEE","Setter","Set",null,5,2,0.4,1,6,-4,6,0,4,2,0,0,0,"33%",0,"0%",0,0,0,0,0,"0%","0","0","0",2,1.9230769230769232E-2,1,0,0,0,1,0.5,"50%","0%",6,3,0,1,0.16666666666666666,"-33%",4,2,1,1,0.25,"-25%",0,0,0,0,"0%",59,0,"73%",null,null,"6","LEE",0,"0%",0,0,0,"0%","0%",0,"0%",0,0,0,"0%","0%",0,"0%",0,0,0,"0%","0%",0,"0%",0,0,0,"0%","0%",0,"0%",0,0,0,"0%","0%",0,"0",0,0,0,"0%","0%",0,0,"0%","0%",0,0,"0%","0%",1,null,null,"6","LEE",0,0,0,0,0,0,0,0,0,0,"0",1,null,"6","LEE",0,0,0,0,0,0,0,0,0,1,null,"6","LEE",0,0,0,0,0,0,0,0,0,1,null,"6","LEE",0,0,0,0,0,0,0,0,0,1,null,"6","LEE",0,0,0,0,0,0,0,0,0,1,null,"6","LEE",0,0,0,0,0,0,0,0,0,1,null,"6","LEE",0,0,0,0,0,0,0,0,0,1]
[null,null,null,null,null,null,null,null,"8","PARK","Middleblock","MB",null,3,1,0.33333333333333331,1,6,-5,2,0,2,0,0,0,0,"0%",0,"0%",0,0,0,0,0,"0%","0","0","0",5,4.807692307692308E-2,1,2,0,0,1,0.6,"20%","-40%",5,3,0,0,0,"-60%",0,0,0,0,"0%","0%",0,0,0,0,"0%",0,0,"0%",null,null,"8","PARK",5,"5%",1,2,1,"20%","-40%",4,"5%",0,2,1,"25%","-25%",3,"6%",0,1,1,"33%","0%",1,"4%",0,1,0,"0%","-100%",1,"4%",1,0,0,"0%","-100%",0,"0",0,0,0,"0%","0%",4,1,0.25,"-25%",0,0,"0%","0%",1,null,null,"8","PARK",0,0,0,0,0,0,0,0,0,0,"0",1,null,"8","PARK",0,0,0,0,0,0,0,0,0,1,null,"8","PARK",0,0,0,0,0,0,0,0,0,1,null,"8","PARK",0,0,0,0,0,0,0,0,0,1,null,"8","PARK",0,0,0,0,0,0,0,0,0,1,null,"8","PARK",0,0,0,0,0,0,0,0,0,1,null,"8","PARK",0,0,0,0,0,0,0,0,0,1]
[null,null,null,null,null,null,null,null,"9","KWAK","Outside","Out",null,5,4,0.8,2,8,-4,15,1,12,2,0,6.6666666666666666E-2,0,"7%",29,0.35365853658536583,0,0,13,11,5,0,"55%","17%","55%",7,6.7307692307692304E-2,1,1,0,0,4,0.2857142857142857,"57%","29%",4,3,0,0,0,"-75%",6,2,2,2,0.33333333333333331,"0%",0,0,0,0,"0%",0,0,"0%",null,null,"9","KWAK",7,"7%",1,1,4,"57%","29%",2,"3%",0,0,1,"50%","50%",2,"4%",0,0,1,"50%","50%",0,"0%",0,0,0,"0%","0%",5,"19%",1,1,3,"60%","20%",2,"200%",1,0,1,"50%","0%",1,1,1,"100%",1,0,0,"0%",1,null,null,"9","KWAK",29,0.35365853658536583,0,0,13,11,5,0,0.55172413793103448,0.17241379310344829,"55%",1,null,"9","KWAK",4,0.4,0,2,1,0,0.75,0.25,0.75,1,null,"9","KWAK",4,0.18181818181818182,0,0,0,0,0,0,0,1,null,"9","KWAK",5,0.33333333333333331,0,2,1,0,0.6,0.2,0.6,1,null,"9","KWAK",3,0.3,0,1,2,0,1,0.66666666666666663,1,1,null,"9","KWAK",4,0.44444444444444442,0,2,0,0,0.5,0,0.5,1,null,"9","KWAK",9,0.5625,0,4,1,0,0.55555555555555558,0.1111111111111111,0.55555555555555558,1]
[null,null,null,null,null,null,null,null,"11","CHOI","Middleblock","MB",null,4,7,1.75,1,5,2,18,1,7,9,1,5.5555555555555552E-2,5.5555555555555552E-2,"50%",0,"0%",0,0,0,0,0,"0%","0","0","0",8,7.6923076923076927E-2,0,0,0,2,4,0,"50%","50%",12,4,3,2,0.16666666666666666,"8%",0,0,0,0,"0%","0%",0,0,0,0,"0%",0,0,"0%",null,null,"11","CHOI",8,"8%",0,0,4,"50%","50%",6,"8%",0,0,3,"50%","50%",5,"10%",0,0,3,"60%","60%",1,"4%",0,0,0,"0%","0%",2,"7%",0,0,1,"50%","50%",2,"200%",0,0,1,"50%","50%",6,3,0.5,"50%",0,0,"0%","0%",1,null,null,"11","CHOI",0,0,0,0,0,0,0,0,0,0,"0",1,null,"11","CHOI",0,0,0,0,0,0,0,0,0,1,null,"11","CHOI",0,0,0,0,0,0,0,0,0,1,null,"11","CHOI",0,0,0,0,0,0,0,0,0,1,null,"11","CHOI",0,0,0,0,0,0,0,0,0,1,null,"11","CHOI",0,0,0,0,0,0,0,0,0,1,null,"11","CHOI",0,0,0,0,0,0,0,0,0,1]
[null,null,null,null,null,null,null,null,"12","JEON","Outside","Out",null,0,0,"",0,0,0,0,0,0,0,0,"0%","0%","0%",0,"0%",0,0,0,0,0,"0%","0","0","0",0,"0%",0,0,0,0,0,"0%","0","0%",0,0,0,0,"0%","0%",0,0,0,0,"0%","0%",0,0,0,0,"0%",0,0,"0%",null,null,"12","JEON",0,"0%",0,0,0,"0%","0%",0,"0%",0,0,0,"0%","0%",0,"0%",0,0,0,"0%","0%",0,"0%",0,0,0,"0%","0%",0,"0%",0,0,0,"0%","0%",0,"0",0,0,0,"0%","0%",0,0,"0%","0%",0,0,"0%","0%",1,null,null,"12","JEON",0,0,0,0,0,0,0,0,0,0,"0",1,null,"12","JEON",0,0,0,0,0,0,0,0,0,1,null,"12","JEON",0,0,0,0,0,0,0,0,0,1,null,"12","JEON",0,0,0,0,0,0,0,0,0,1,null,"12","JEON",0,0,0,0,0,0,0,0,0,1,null,"12","JEON",0,0,0,0,0,0,0,0,0,1,null,"12","JEON",0,0,0,0,0,0,0,0,0,1]
[null,null,null,null,null,null,null,null,"14","SONG","Outside","Out",null,2,1,0.5,2,4,-3,5,2,1,2,0,0.4,0,"0%",11,0.13414634146341464,0,0,4,2,5,0,"63%","45%","64%",5,4.807692307692308E-2,0,1,1,0,1,0.2,"20%","0%",2,1,0,0,0,"-50%",2,0,2,0,0,"0%",0,0,0,0,"0%",0,0,"0%",null,null,"14","SONG",5,"5%",0,1,1,"20%","0%",3,"4%",0,0,1,"33%","33%",0,"0%",0,0,0,"0%","0%",3,"12%",0,0,1,"33%","33%",2,"7%",0,1,0,"0%","-50%",0,"0",0,0,0,"0%","0%",2,1,0.5,"50%",1,0,0,"0%",1,null,null,"14","SONG",11,0.13414634146341464,0,0,4,2,5,0,0.63636363636363635,0.45454545454545453,"64%",1,null,"14","SONG",0,0,0,0,0,0,0,0,0,1,null,"14","SONG",4,0.18181818181818182,0,1,1,0,0.5,0.25,0.5,1,null,"14","SONG",1,6.6666666666666666E-2,0,1,0,0,1,0,1,1,null,"14","SONG",2,0.2,0,0,1,0,0.5,0.5,0.5,1,null,"14","SONG",0,0,0,0,0,0,0,0,0,1,null,"14","SONG",4,0.25,0,0,3,0,0.75,0.75,0.75,1]
[null,null,null,null,null,null,null,null,"16","CHOI","Opposite","Opp",null,5,10,2,2,5,5,3,1,2,0,0,0.33333333333333331,0,"-33%",0,"0%",0,0,0,0,0,"0%","0","0","0",15,0.14423076923076922,1,2,0,1,9,0.2,"60%","40%",3,1,0,1,0.33333333333333331,"0%",3,0,3,0,0,"0%",0,0,0,0,"0%",0,0,"0%",null,null,"16","CHOI",15,"15%",1,2,9,"60%","40%",10,"14%",0,1,6,"60%","50%",6,"12%",0,0,4,"67%","67%",4,"17%",0,1,2,"50%","25%",5,"19%",1,1,3,"60%","20%",2,"200%",0,1,1,"50%","0%",10,6,0.6,"50%",0,0,"0%","0%",1,null,null,"16","CHOI",0,0,0,0,0,0,0,0,0,0,"0",1,null,"16","CHOI",0,0,0,0,0,0,0,0,0,1,null,"16","CHOI",0,0,0,0,0,0,0,0,0,1,null,"16","CHOI",0,0,0,0,0,0,0,0,0,1,null,"16","CHOI",0,0,0,0,0,0,0,0,0,1,null,"16","CHOI",0,0,0,0,0,0,0,0,0,1,null,"16","CHOI",0,0,0,0,0,0,0,0,0,1]
[null,null,null,null,null,null,null,null,"17","SEO","Opposite","Opp",null,4,11,2.75,3,12,-1,10,1,3,6,0,0.1,0,"50%",2,2.4390243902439025E-2,0,0,1,0,1,0,"50%","50%","50%",20,0.19230769230769232,2,5,1,1,11,0.35,"55%","20%",2,1,1,0,0,"0%",8,3,3,2,0.25,"-12%",0,0,0,0,"0%",3,0,"0%",null,null,"17","SEO",20,"20%",2,5,11,"55%","20%",16,"22%",2,3,9,"56%","25%",8,"16%",1,2,5,"62%","25%",8,"33%",1,1,4,"50%","25%",4,"15%",0,2,2,"50%","0%",2,"200%",0,1,1,"50%","0%",16,9,0.5625,"25%",0,0,"0%","0%",1,null,null,"17","SEO",2,2.4390243902439025E-2,0,0,1,0,1,0,0.5,0.5,"50%",1,null,"17","SEO",0,0,0,0,0,0,0,0,0,1,null,"17","SEO",1,4.5454545454545456E-2,0,0,0,0,0,0,0,1,null,"17","SEO",1,6.6666666666666666E-2,0,0,1,0,1,1,1,1,null,"17","SEO",0,0,0,0,0,0,0,0,0,1,null,"17","SEO",0,0,0,0,0,0,0,0,0,1,null,"17","SEO",0,0,0,0,0,0,0,0,0,1]
[null,null,null,null,null,null,null,null,"19","JEONG","Libero","Lib",null,5,0,0,0,4,-4,0,0,0,0,0,"0%","0%","0%",33,0.40243902439024393,0,1,10,12,10,3.0303030303030304E-2,"66%","30%","64%",0,"0%",0,0,0,0,0,"0%","0","0%",0,0,0,0,"0%","0%",12,4,5,3,0.25,"-8%",0,0,0,0,"0%",2,0,"0%",null,null,"19","JEONG",0,"0%",0,0,0,"0%","0%",0,"0%",0,0,0,"0%","0%",0,"0%",0,0,0,"0%","0%",0,"0%",0,0,0,"0%","0%",0,"0%",0,0,0,"0%","0%",0,"0",0,0,0,"0%","0%",0,0,"0%","0%",0,0,"0%","0%",1,null,null,"19","JEONG",33,0.40243902439024393,0,1,10,12,10,3.0303030303030304E-2,0.66666666666666663,0.30303030303030304,"64%",1,null,"19","JEONG",3,0.3,0,1,2,0,1,0.66666666666666663,1,1,null,"19","JEONG",10,0.45454545454545453,1,2,3,0.1,0.5,0.3,0.4,1,null,"19","JEONG",8,0.53333333333333333,0,2,3,0,0.625,0.375,0.625,1,null,"19","JEONG",4,0.4,0,1,0,0,0.25,0,0.25,1,null,"19","JEONG",5,0.55555555555555558,0,5,0,0,1,0,1,1,null,"19","JEONG",3,0.1875,0,1,2,0,1,0.66666666666666663,1,1]
[null,null,null,null,null,null,null,null,"20","JI","Middleblock","MB",null,0,0,"",0,0,0,0,0,0,0,0,"0%","0%","0%",0,"0%",0,0,0,0,0,"0%","0","0","0",0,"0%",0,0,0,0,0,"0%","0","0%",0,0,0,0,"0%","0%",0,0,0,0,"0%","0%",0,0,0,0,"0%",0,0,"0%",null,null,"20","JI",0,"0%",0,0,0,"0%","0%",0,"0%",0,0,0,"0%","0%",0,"0%",0,0,0,"0%","0%",0,"0%",0,0,0,"0%","0%",0,"0%",0,0,0,"0%","0%",0,"0",0,0,0,"0%","0%",0,0,"0%","0%",0,0,"0%","0%",1,null,null,"20","JI",0,0,0,0,0,0,0,0,0,0,"0",1,null,"20","JI",0,0,0,0,0,0,0,0,0,1,null,"20","JI",0,0,0,0,0,0,0,0,0,1,null,"20","JI",0,0,0,0,0,0,0,0,0,1,null,"20","JI",0,0,0,0,0,0,0,0,0,1,null,"20","JI",0,0,0,0,0,0,0,0,0,1,null,"20","JI",0,0,0,0,0,0,0,0,0,1]
[null,null,null,null,null,null,null,null,"22","YOU","Setter","Set",null,5,1,0.2,1,3,-2,12,0,8,4,0,0,0,"33%",0,"0%",0,0,0,0,0,"0%","0","0","0",1,9.6153846153846159E-3,0,0,1,0,0,0,"0%","0%",2,1,0,1,0.5,"0%",4,1,3,0,0,"-25%",0,0,0,0,"0%",28,1,"57%",null,null,"22","YOU",0,"0%",0,0,0,"0%","0%",0,"0%",0,0,0,"0%","0%",0,"0%",0,0,0,"0%","0%",0,"0%",0,0,0,"0%","0%",0,"0%",0,0,0,"0%","0%",0,"0",0,0,0,"0%","0%",0,0,"0%","0%",0,0,"0%","0%",1,null,null,"22","YOU",0,0,0,0,0,0,0,0,0,0,"0",1,null,"22","YOU",0,0,0,0,0,0,0,0,0,1,null,"22","YOU",0,0,0,0,0,0,0,0,0,1,null,"22","YOU",0,0,0,0,0,0,0,0,0,1,null,"22","YOU",0,0,0,0,0,0,0,0,0,1,null,"22","YOU",0,0,0,0,0,0,0,0,0,1,null,"22","YOU",0,0,0,0,0,0,0,0,0,1]
[null,null,null,null,null,null,null,null,"25","OH","Libero","Lib",null,1,0,0,0,0,0,0,0,0,0,0,"0%","0%","0%",0,"0%",0,0,0,0,0,"0%","0","0","0",0,"0%",0,0,0,0,0,"0%","0","0%",0,0,0,0,"0%","0%",1,0,1,0,0,"0%",0,0,0,0,"0%",1,0,"0%",null,null,"25","OH",0,"0%",0,0,0,"0%","0%",0,"0%",0,0,0,"0%","0%",0,"0%",0,0,0,"0%","0%",0,"0%",0,0,0,"0%","0%",0,"0%",0,0,0,"0%","0%",0,"0",0,0,0,"0%","0%",0,0,"0%","0%",0,0,"0%","0%",1,null,null,"25","OH",0,0,0,0,0,0,0,0,0,0,"0",1,null,"25","OH",0,0,0,0,0,0,0,0,0,1,null,"25","OH",0,0,0,0,0,0,0,0,0,1,null,"25","OH",0,0,0,0,0,0,0,0,0,1,null,"25","OH",0,0,0,0,0,0,0,0,0,1,null,"25","OH",0,0,0,0,0,0,0,0,0,1,null,"25","OH",0,0,0,0,0,0,0,0,0,1]
[null,null,null,null,null,null,null,null,"","","","",null,"","","","","","","","","","","","","","","","","","","","","","","","","","","","","","","","","","","","","","","","","","","","","","","","","","","","","","","",null,null,"","","","","","","","","","","","","","","","","","","","","","","","","","","","","","","","","","","","","","","","","","","","","","","","","","","","",2,null,null,"","","","","","","","","","","","","",2,null,"","","","","","","","","","","",2,null,"","","","","","","","","","","",2,null,"","","","","","","","","","","",2,null,"","","","","","","","","","","",2,null,"","","","","","","","","","","",2,null,"","","","","","","","","","","",2]
[null,null,null,null,null,null,null,null,"","","","",null,"","","","","","","","","","","","","","","","","","","","","","","","","","","","","","","","","","","","","","","","","","","","","","","","","","","","","","","",null,null,"","","","","","","","","","","","","","","","","","","","","","","","","","","","","","","","","","","","","","","","","","","","","","","","","","","","",2,null,null,"","","","","","","","","","","","","",2,null,"","","","","","","","","","","",2,null,"","","","","","","","","","","",2,null,"","","","","","","","","","","",2,null,"","","","","","","","","","","",2,null,"","","","","","","","","","","",2,null,"","","","","","","","","","","",2]
[null,null,null,null,null,null,null,null,"","","","",null,"","","","","","","","","","","","","","","","","","","","","","","","","","","","","","","","","","","","","","","","","","","","","","","","","","","","","","","",null,null,"","","","","","","","","","","","","","","","","","","","","","","","","","","","","","","","","","","","","","","","","","","","","","","","","","","","",2,null,null,"","","","","","","","","","","","","",2,null,"","","","","","","","","","","",2,null,"","","","","","","","","","","",2,null,"","","","","","","","","","","",2,null,"","","","","","","","","","","",2,null,"","","","","","","","","","","",2,null,"","","","","","","","","","","",2]
[null,null,null,null,null,null,null,null,"","","","",null,"","","","","","","","","","","","","","","","","","","","","","","","","","","","","","","","","","","","","","","","","","","","","","","","","","","","","","","",null,null,"","","","","","","","","","","","","","","","","","","","","","","","","","","","","","","","","","","","","","","","","","","","","","","","","","","","",2,null,null,"","","","","","","","","","","","","",2,null,"","","","","","","","","","","",2,null,"","","","","","","","","","","",2,null,"","","","","","","","","","","",2,null,"","","","","","","","","","","",2,null,"","","","","","","","","","","",2,null,"","","","","","","","","","","",2]
[null,null,null,null,null,null,null,null,"","","","",null,"","","","","","","","","","","","","","","","","","","","","","","","","","","","","","","","","","","","","","","","","","","","","","","","","","","","","","","",null,null,"","","","","","","","","","","","","","","","","","","","","","","","","","","","","","","","","","","","","","","","","","","","","","","","","","","","",2,null,null,"","","","","","","","","","","","","",2,null,"","","","","","","","","","","",2,null,"","","","","","","","","","","",2,null,"","","","","","","","","","","",2,null,"","","","","","","","","","","",2,null,"","","","","","","","","","","",2,null,"","","","","","","","","","","",2]
[null,null,null,null,null,null,null,null,"","","","",null,"","","","","","","","","","","","","","","","","","","","","","","","","","","","","","","","","","","","","","","","","","","","","","","","","","","","","","","",null,null,"","","","","","","","","","","","","","","","","","","","","","","","","","","","","","","","","","","","","","","","","","","","","","","","","","","","",2,null,null,"","","","","","","","","","","","","",2,null,"","","","","","","","","","","",2,null,"","","","","","","","","","","",2,null,"","","","","","","","","","","",2,null,"","","","","","","","","","","",2,null,"","","","","","","","","","","",2,null,"","","","","","","","","","","",2]
[]
[]
[null,null,null,null,null,null,null,null,null,null,null,null,null,null,null,null,null,null,null,null,null,null,null,null,null,null,null,null,null,null,null,null,null,null,null,null,null,null,null,null,null,null,null,null,null,null,null,null,null,null,null,null,null,null,null,null,null,null,null,null,null,null,null,null,null,null,null,null,null,null,null,"KOREA",101,"100%",11,15,53,0.52475247524752477,"27%",74,"100%",8,9,39,0.52702702702702697,"30%",50,"100%",5,5,29,0.57999999999999996,"38%",24,"100%",3,4,10,0.41666666666666669,"12%",27,"100%",3,6,14,0.51851851851851849,"19%",12,"150%",1,2,8,0.66666666666666663,"42%",72,39,0.54166666666666663,null,2,0,0,null,null,null,null,null,"KOREA",82,null,1,1,29,29,22,2.4390243902439025E-2,0.62195121951219512,0.26829268292682928,"60%",null,null,null,"KOREA",10,null,0,5,4,0.4,0.9,0.4,0.9,null,null,null,"KOREA",22,null,2,4,4,0.18181818181818182,0.36363636363636365,0.18181818181818182,0.27272727272727271,null,null,null,"KOREA",15,null,0,5,5,0.33333333333333331,0.66666666666666663,0.33333333333333331,0.66666666666666663,null,null,null,"KOREA",10,null,0,3,3,0.3,0.6,0.3,0.6,null,null,null,"KOREA",9,null,0,7,0,0,0.77777777777777779,0,0.77777777777777779,null,null,null,"KOREA",16,null,0,5,6,0.375,0.6875,0.375,0.6875]
[null,null,null,null,null,null,null,null,null,null,null,null,null,null,null,null,null,null,null,null,null,null,null,null,null,null,null,null,null,null,null,null,null,null,null,null,null,null,null,null,null,null,null,null,null,null,null,null,null,null,null,null,null,null,null,null,null,null,null,null,null,null,null,null,null,null,null,null,null,null,"1","SONG",30,"30%",6,4,15,"50%","17%",23,"31%",6,3,11,"48%","9%",17,"34%",4,2,9,"53%","18%",6,"25%",2,1,2,"33%","-17%",7,"26%",0,1,4,"57%","43%",3,"100%",0,0,3,"100%","100%",23,11,0.47826086956521741,"9%",0,0,"0%","0%",1,null,null,"19","JEONG",33,0.40243902439024393,0,1,10,12,10,3.0303030303030304E-2,0.66666666666666663,0.30303030303030304,"64%",1,null,"9","KWAK",4,0.4,0,2,1,0,0.75,0.25,0.75,1,null,"19","JEONG",10,0.45454545454545453,1,2,3,0.1,0.5,0.3,0.4,1,null,"19","JEONG",8,0.53333333333333333,0,2,3,0,0.625,0.375,0.625,1,null,"19","JEONG",4,0.4,0,1,0,0,0.25,0,0.25,1,null,"19","JEONG",5,0.55555555555555558,0,5,0,0,1,0,1,1,null,"9","KWAK",9,0.5625,0,4,1,0,0.55555555555555558,0.1111111111111111,0.55555555555555558,1]
[null,null,null,null,null,null,null,null,null,null,null,null,null,null,null,null,null,null,null,null,null,null,null,null,null,null,null,null,null,null,null,null,null,null,null,null,null,null,null,null,null,null,null,null,null,null,null,null,null,null,null,null,null,null,null,null,null,null,null,null,null,null,null,null,null,null,null,null,null,null,"17","SEO",20,"20%",2,5,11,"55%","20%",16,"22%",2,3,9,"56%","25%",8,"16%",1,2,5,"62%","25%",8,"33%",1,1,4,"50%","25%",4,"15%",0,2,2,"50%","0%",2,"200%",0,1,1,"50%","0%",16,9,0.5625,"25%",0,0,"0%","0%",1,null,null,"9","KWAK",29,0.35365853658536583,0,0,13,11,5,0,0.55172413793103448,0.17241379310344829,"55%",1,null,"1","SONG",3,0.3,0,2,1,0,1,0.33333333333333331,1,1,null,"9","KWAK",4,0.18181818181818182,0,0,0,0,0,0,0,1,null,"9","KWAK",5,0.33333333333333331,0,2,1,0,0.6,0.2,0.6,1,null,"9","KWAK",3,0.3,0,1,2,0,1,0.66666666666666663,1,1,null,"9","KWAK",4,0.44444444444444442,0,2,0,0,0.5,0,0.5,1,null,"14","SONG",4,0.25,0,0,3,0,0.75,0.75,0.75,1]
[null,null,null,null,null,null,null,null,null,null,null,null,null,null,null,null,null,null,null,null,null,null,null,null,null,null,null,null,null,null,null,null,null,null,null,null,null,null,null,null,null,null,null,null,null,null,null,null,null,null,null,null,null,null,null,null,null,null,null,null,null,null,null,null,null,null,null,null,null,null,"16","CHOI",15,"15%",1,2,9,"60%","40%",10,"14%",0,1,6,"60%","50%",6,"12%",0,0,4,"67%","67%",4,"17%",0,1,2,"50%","25%",5,"19%",1,1,3,"60%","20%",2,"200%",0,1,1,"50%","0%",10,6,0.6,"50%",0,0,"0%","0%",1,null,null,"14","SONG",11,0.13414634146341464,0,0,4,2,5,0,0.63636363636363635,0.45454545454545453,"64%",1,null,"19","JEONG",3,0.3,0,1,2,0,1,0.66666666666666663,1,1,null,"14","SONG",4,0.18181818181818182,0,1,1,0,0.5,0.25,0.5,1,null,"14","SONG",1,6.6666666666666666E-2,0,1,0,0,1,0,1,1,null,"14","SONG",2,0.2,0,0,1,0,0.5,0.5,0.5,1,null,"1","SONG",0,0,0,0,0,0,0,0,0,1,null,"19","JEONG",3,0.1875,0,1,2,0,1,0.66666666666666663,1,1]
[null,null,null,null,null,null,null,null,null,null,null,null,null,null,null,null,null,null,null,null,null,null,null,null,null,null,null,null,null,null,null,null,null,null,null,null,null,null,null,null,null,null,null,null,null,null,null,null,null,null,null,null,null,null,null,null,null,null,null,null,null,null,null,null,null,null,null,null,null,null,"4","SHIN",11,"11%",0,0,8,"73%","73%",10,"14%",0,0,7,"70%","70%",9,"18%",0,0,6,"67%","67%",1,"4%",0,0,1,"100%","100%",1,"4%",0,0,1,"100%","100%",1,"100%",0,0,1,"100%","100%",10,7,0.7,"70%",0,0,"0%","0%",1,null,null,"1","SONG",7,8.5365853658536592E-2,1,0,1,4,1,0.14285714285714285,0.7142857142857143,0.14285714285714285,"57%",1,null,"4","SHIN",0,0,0,0,0,0,0,0,0,1,null,"1","SONG",3,0.13636363636363635,1,1,0,0.33333333333333331,0.33333333333333331,0,0,1,null,"17","SEO",1,6.6666666666666666E-2,0,0,1,0,1,1,1,1,null,"1","SONG",1,0.1,0,1,0,0,1,0,1,1,null,"4","SHIN",0,0,0,0,0,0,0,0,0,1,null,"1","SONG",0,0,0,0,0,0,0,0,0,1]
[null,null,null,null,null,null,null,null,null,null,null,null,null,null,null,null,null,null,null,null,null,null,null,null,null,null,null,null,null,null,null,null,null,null,null,null,null,null,null,null,null,null,null,null,null,null,null,null,null,null,null,null,null,null,null,null,null,null,null,null,null,null,null,null,null,null,null,null,null,null,"11","CHOI",8,"8%",0,0,4,"50%","50%",6,"8%",0,0,3,"50%","50%",5,"10%",0,0,3,"60%","60%",1,"4%",0,0,0,"0%","0%",2,"7%",0,0,1,"50%","50%",2,"200%",0,0,1,"50%","50%",6,3,0.5,"50%",0,0,"0%","0%",1,null,null,"17","SEO",2,2.4390243902439025E-2,0,0,1,0,1,0,0.5,0.5,"50%",1,null,"6","LEE",0,0,0,0,0,0,0,0,0,1,null,"17","SEO",1,4.5454545454545456E-2,0,0,0,0,0,0,0,1,null,"1","SONG",0,0,0,0,0,0,0,0,0,1,null,"4","SHIN",0,0,0,0,0,0,0,0,0,1,null,"6","LEE",0,0,0,0,0,0,0,0,0,1,null,"4","SHIN",0,0,0,0,0,0,0,0,0,1]
[null,null,null,null,null,null,null,null,null,null,null,null,null,null,null,null,null,null,null,null,null,null,null,null,null,null,null,null,null,null,null,null,null,null,null,null,null,null,null,null,null,null,null,null,null,null,null,null,null,null,null,null,null,null,null,null,null,null,null,null,null,null,null,null,null,null,null,null,null,null,"9","KWAK",7,"7%",1,1,4,"57%","29%",2,"3%",0,0,1,"50%","50%",2,"4%",0,0,1,"50%","50%",0,"0%",0,0,0,"0%","0%",5,"19%",1,1,3,"60%","20%",2,"200%",1,0,1,"50%","0%",1,1,1,"100%",1,0,0,"0%",1,null,null,"4","SHIN",0,0,0,0,0,0,0,0,0,0,"0",1,null,"8","PARK",0,0,0,0,0,0,0,0,0,1,null,"4","SHIN",0,0,0,0,0,0,0,0,0,1,null,"4","SHIN",0,0,0,0,0,0,0,0,0,1,null,"6","LEE",0,0,0,0,0,0,0,0,0,1,null,"8","PARK",0,0,0,0,0,0,0,0,0,1,null,"6","LEE",0,0,0,0,0,0,0,0,0,1]
[null,null,null,null,null,null,null,null,null,null,null,null,null,null,null,null,null,null,null,null,null,null,null,null,null,null,null,null,null,null,null,null,null,null,null,null,null,null,null,null,null,null,null,null,null,null,null,null,null,null,null,null,null,null,null,null,null,null,null,null,null,null,null,null,null,null,null,null,null,null,"8","PARK",5,"5%",1,2,1,"20%","-40%",4,"5%",0,2,1,"25%","-25%",3,"6%",0,1,1,"33%","0%",1,"4%",0,1,0,"0%","-100%",1,"4%",1,0,0,"0%","-100%",0,"0",0,0,0,"0%","0%",4,1,0.25,"-25%",0,0,"0%","0%",1,null,null,"6","LEE",0,0,0,0,0,0,0,0,0,0,"0",1,null,"11","CHOI",0,0,0,0,0,0,0,0,0,1,null,"6","LEE",0,0,0,0,0,0,0,0,0,1,null,"6","LEE",0,0,0,0,0,0,0,0,0,1,null,"8","PARK",0,0,0,0,0,0,0,0,0,1,null,"11","CHOI",0,0,0,0,0,0,0,0,0,1,null,"8","PARK",0,0,0,0,0,0,0,0,0,1]
[null,null,null,null,null,null,null,null,null,null,null,null,null,null,null,null,null,null,null,null,null,null,null,null,null,null,null,null,null,null,null,null,null,null,null,null,null,null,null,null,null,null,null,null,null,null,null,null,null,null,null,null,null,null,null,null,null,null,null,null,null,null,null,null,null,null,null,null,null,null,"14","SONG",5,"5%",0,1,1,"20%","0%",3,"4%",0,0,1,"33%","33%",0,"0%",0,0,0,"0%","0%",3,"12%",0,0,1,"33%","33%",2,"7%",0,1,0,"0%","-50%",0,"0",0,0,0,"0%","0%",2,1,0.5,"50%",1,0,0,"0%",1,null,null,"8","PARK",0,0,0,0,0,0,0,0,0,0,"0",1,null,"12","JEON",0,0,0,0,0,0,0,0,0,1,null,"8","PARK",0,0,0,0,0,0,0,0,0,1,null,"8","PARK",0,0,0,0,0,0,0,0,0,1,null,"11","CHOI",0,0,0,0,0,0,0,0,0,1,null,"12","JEON",0,0,0,0,0,0,0,0,0,1,null,"11","CHOI",0,0,0,0,0,0,0,0,0,1]
[null,null,null,null,null,null,null,null,null,null,null,null,null,null,null,null,null,null,null,null,null,null,null,null,null,null,null,null,null,null,null,null,null,null,null,null,null,null,null,null,null,null,null,null,null,null,null,null,null,null,null,null,null,null,null,null,null,null,null,null,null,null,null,null,null,null,null,null,null,null,"6","LEE",0,"0%",0,0,0,"0%","0%",0,"0%",0,0,0,"0%","0%",0,"0%",0,0,0,"0%","0%",0,"0%",0,0,0,"0%","0%",0,"0%",0,0,0,"0%","0%",0,"0",0,0,0,"0%","0%",0,0,"0%","0%",0,0,"0%","0%",1,null,null,"11","CHOI",0,0,0,0,0,0,0,0,0,0,"0",1,null,"14","SONG",0,0,0,0,0,0,0,0,0,1,null,"11","CHOI",0,0,0,0,0,0,0,0,0,1,null,"11","CHOI",0,0,0,0,0,0,0,0,0,1,null,"12","JEON",0,0,0,0,0,0,0,0,0,1,null,"14","SONG",0,0,0,0,0,0,0,0,0,1,null,"12","JEON",0,0,0,0,0,0,0,0,0,1]
[null,null,null,null,null,null,null,null,null,null,null,null,null,null,null,null,null,null,null,null,null,null,null,null,null,null,null,null,null,null,null,null,null,null,null,null,null,null,null,null,null,null,null,null,null,null,null,null,null,null,null,null,null,null,null,null,null,null,null,null,null,null,null,null,null,null,null,null,null,null,"12","JEON",0,"0%",0,0,0,"0%","0%",0,"0%",0,0,0,"0%","0%",0,"0%",0,0,0,"0%","0%",0,"0%",0,0,0,"0%","0%",0,"0%",0,0,0,"0%","0%",0,"0",0,0,0,"0%","0%",0,0,"0%","0%",0,0,"0%","0%",1,null,null,"12","JEON",0,0,0,0,0,0,0,0,0,0,"0",1,null,"16","CHOI",0,0,0,0,0,0,0,0,0,1,null,"12","JEON",0,0,0,0,0,0,0,0,0,1,null,"12","JEON",0,0,0,0,0,0,0,0,0,1,null,"16","CHOI",0,0,0,0,0,0,0,0,0,1,null,"16","CHOI",0,0,0,0,0,0,0,0,0,1,null,"16","CHOI",0,0,0,0,0,0,0,0,0,1]
[null,null,null,null,null,null,null,null,null,null,null,null,null,null,null,null,null,null,null,null,null,null,null,null,null,null,null,null,null,null,null,null,null,null,null,null,null,null,null,null,null,null,null,null,null,null,null,null,null,null,null,null,null,null,null,null,null,null,null,null,null,null,null,null,null,null,null,null,null,null,"19","JEONG",0,"0%",0,0,0,"0%","0%",0,"0%",0,0,0,"0%","0%",0,"0%",0,0,0,"0%","0%",0,"0%",0,0,0,"0%","0%",0,"0%",0,0,0,"0%","0%",0,"0",0,0,0,"0%","0%",0,0,"0%","0%",0,0,"0%","0%",1,null,null,"16","CHOI",0,0,0,0,0,0,0,0,0,0,"0",1,null,"17","SEO",0,0,0,0,0,0,0,0,0,1,null,"16","CHOI",0,0,0,0,0,0,0,0,0,1,null,"16","CHOI",0,0,0,0,0,0,0,0,0,1,null,"17","SEO",0,0,0,0,0,0,0,0,0,1,null,"17","SEO",0,0,0,0,0,0,0,0,0,1,null,"17","SEO",0,0,0,0,0,0,0,0,0,1]
[null,null,null,null,null,null,null,null,null,null,null,null,null,null,null,null,null,null,null,null,null,null,null,null,null,null,null,null,null,null,null,null,null,null,null,null,null,null,null,null,null,null,null,null,null,null,null,null,null,null,null,null,null,null,null,null,null,null,null,null,null,null,null,null,null,null,null,null,null,null,"20","JI",0,"0%",0,0,0,"0%","0%",0,"0%",0,0,0,"0%","0%",0,"0%",0,0,0,"0%","0%",0,"0%",0,0,0,"0%","0%",0,"0%",0,0,0,"0%","0%",0,"0",0,0,0,"0%","0%",0,0,"0%","0%",0,0,"0%","0%",1,null,null,"20","JI",0,0,0,0,0,0,0,0,0,0,"0",1,null,"20","JI",0,0,0,0,0,0,0,0,0,1,null,"20","JI",0,0,0,0,0,0,0,0,0,1,null,"20","JI",0,0,0,0,0,0,0,0,0,1,null,"20","JI",0,0,0,0,0,0,0,0,0,1,null,"20","JI",0,0,0,0,0,0,0,0,0,1,null,"20","JI",0,0,0,0,0,0,0,0,0,1]
[null,null,null,null,null,null,null,null,null,null,null,null,null,null,null,null,null,null,null,null,null,null,null,null,null,null,null,null,null,null,null,null,null,null,null,null,null,null,null,null,null,null,null,null,null,null,null,null,null,null,null,null,null,null,null,null,null,null,null,null,null,null,null,null,null,null,null,null,null,null,"22","YOU",0,"0%",0,0,0,"0%","0%",0,"0%",0,0,0,"0%","0%",0,"0%",0,0,0,"0%","0%",0,"0%",0,0,0,"0%","0%",0,"0%",0,0,0,"0%","0%",0,"0",0,0,0,"0%","0%",0,0,"0%","0%",0,0,"0%","0%",1,null,null,"22","YOU",0,0,0,0,0,0,0,0,0,0,"0",1,null,"22","YOU",0,0,0,0,0,0,0,0,0,1,null,"22","YOU",0,0,0,0,0,0,0,0,0,1,null,"22","YOU",0,0,0,0,0,0,0,0,0,1,null,"22","YOU",0,0,0,0,0,0,0,0,0,1,null,"22","YOU",0,0,0,0,0,0,0,0,0,1,null,"22","YOU",0,0,0,0,0,0,0,0,0,1]
[null,null,null,null,null,null,null,null,null,null,null,null,null,null,null,null,null,null,null,null,null,null,null,null,null,null,null,null,null,null,null,null,null,null,null,null,null,null,null,null,null,null,null,null,null,null,null,null,null,null,null,null,null,null,null,null,null,null,null,null,null,null,null,null,null,null,null,null,null,null,"25","OH",0,"0%",0,0,0,"0%","0%",0,"0%",0,0,0,"0%","0%",0,"0%",0,0,0,"0%","0%",0,"0%",0,0,0,"0%","0%",0,"0%",0,0,0,"0%","0%",0,"0",0,0,0,"0%","0%",0,0,"0%","0%",0,0,"0%","0%",1,null,null,"25","OH",0,0,0,0,0,0,0,0,0,0,"0",1,null,"25","OH",0,0,0,0,0,0,0,0,0,1,null,"25","OH",0,0,0,0,0,0,0,0,0,1,null,"25","OH",0,0,0,0,0,0,0,0,0,1,null,"25","OH",0,0,0,0,0,0,0,0,0,1,null,"25","OH",0,0,0,0,0,0,0,0,0,1,null,"25","OH",0,0,0,0,0,0,0,0,0,1]
[null,null,null,null,null,null,null,null,null,null,null,null,null,null,null,null,null,null,null,null,null,null,null,null,null,null,null,null,null,null,null,null,null,null,null,null,null,null,null,null,null,null,null,null,null,null,null,null,null,null,null,null,null,null,null,null,null,null,null,null,null,null,null,null,null,null,null,null,null,null,"","","","","","","","","","","","","","","","","","","","","","","","","","","","","","","","","","","","","","","","","","","","","","","","","","","","",2,null,null,"","","","","","","","","","","","","",2,null,"","","","","","","","","","","",2,null,"","","","","","","","","","","",2,null,"","","","","","","","","","","",2,null,"","","","","","","","","","","",2,null,"","","","","","","","","","","",2,null,"","","","","","","","","","","",2]
[null,null,null,null,null,null,null,null,null,null,null,null,null,null,null,null,null,null,null,null,null,null,null,null,null,null,null,null,null,null,null,null,null,null,null,null,null,null,null,null,null,null,null,null,null,null,null,null,null,null,null,null,null,null,null,null,null,null,null,null,null,null,null,null,null,null,null,null,null,null,"","","","","","","","","","","","","","","","","","","","","","","","","","","","","","","","","","","","","","","","","","","","","","","","","","","","",2,null,null,"","","","","","","","","","","","","",2,null,"","","","","","","","","","","",2,null,"","","","","","","","","","","",2,null,"","","","","","","","","","","",2,null,"","","","","","","","","","","",2,null,"","","","","","","","","","","",2,null,"","","","","","","","","","","",2]
[null,null,null,null,null,null,null,null,null,null,null,null,null,null,null,null,null,null,null,null,null,null,null,null,null,null,null,null,null,null,null,null,null,null,null,null,null,null,null,null,null,null,null,null,null,null,null,null,null,null,null,null,null,null,null,null,null,null,null,null,null,null,null,null,null,null,null,null,null,null,"","","","","","","","","","","","","","","","","","","","","","","","","","","","","","","","","","","","","","","","","","","","","","","","","","","","",2,null,null,"","","","","","","","","","","","","",2,null,"","","","","","","","","","","",2,null,"","","","","","","","","","","",2,null,"","","","","","","","","","","",2,null,"","","","","","","","","","","",2,null,"","","","","","","","","","","",2,null,"","","","","","","","","","","",2]
[null,null,null,null,null,null,null,null,null,null,null,null,null,null,null,null,null,null,null,null,null,null,null,null,null,null,null,null,null,null,null,null,null,null,null,null,null,null,null,null,null,null,null,null,null,null,null,null,null,null,null,null,null,null,null,null,null,null,null,null,null,null,null,null,null,null,null,null,null,null,"","","","","","","","","","","","","","","","","","","","","","","","","","","","","","","","","","","","","","","","","","","","","","","","","","","","",2,null,null,"","","","","","","","","","","","","",2,null,"","","","","","","","","","","",2,null,"","","","","","","","","","","",2,null,"","","","","","","","","","","",2,null,"","","","","","","","","","","",2,null,"","","","","","","","","","","",2,null,"","","","","","","","","","","",2]
[null,null,null,null,null,null,null,null,null,null,null,null,null,null,null,null,null,null,null,null,null,null,null,null,null,null,null,null,null,null,null,null,null,null,null,null,null,null,null,null,null,null,null,null,null,null,null,null,null,null,null,null,null,null,null,null,null,null,null,null,null,null,null,null,null,null,null,null,null,null,"","","","","","","","","","","","","","","","","","","","","","","","","","","","","","","","","","","","","","","","","","","","","","","","","","","","",2,null,null,"","","","","","","","","","","","","",2,null,"","","","","","","","","","","",2,null,"","","","","","","","","","","",2,null,"","","","","","","","","","","",2,null,"","","","","","","","","","","",2,null,"","","","","","","","","","","",2,null,"","","","","","","","","","","",2]
[null,null,null,null,null,null,null,null,null,null,null,null,null,null,null,null,null,null,null,null,null,null,null,null,null,null,null,null,null,null,null,null,null,null,null,null,null,null,null,null,null,null,null,null,null,null,null,null,null,null,null,null,null,null,null,null,null,null,null,null,null,null,null,null,null,null,null,null,null,null,"","","","","","","","","","","","","","","","","","","","","","","","","","","","","","","","","","","","","","","","","","","","","","","","","","","","",2,null,null,"","","","","","","","","","","","","",2,null,"","","","","","","","","","","",2,null,"","","","","","","","","","","",2,null,"","","","","","","","","","","",2,null,"","","","","","","","","","","",2,null,"","","","","","","","","","","",2,null,"","","","","","","","","","","",2]

{"sheet":"Berechnung S","index":20,"n_rows":25,"n_cols":31,"rows_kept":25,"cut":false,"hidden":false,"merged":[]}
[]
[null,null,{"$f":"'Daten SR'!B4","v":"S"},{"$f":"'Daten SR'!C4","v":"SH"},{"$f":"'Daten SR'!D4","v":"SM"},{"$f":"'Daten SR'!E4","v":"SQ"},{"$f":"'Daten SR'!F4","v":"ST"},{"$f":"'Daten SR'!G4","v":"Sx"},{"$f":"'Daten SR'!H4","v":"S 1"},{"$f":"'Daten SR'!I4","v":"S 9"},{"$f":"'Daten SR'!J4","v":"S 6"},{"$f":"'Daten SR'!K4","v":"S 7"},{"$f":"'Daten SR'!L4","v":"S 5"},"S1","S6","S5",{"$f":"'Daten SR'!M4","v":"S Eff"},{"$f":"'Daten SR'!N4","v":"S #"},"S#%",{"$f":"'Daten SR'!O4","v":"S ="},"S=%",null,"b","m",null,null,"b","m",null,null,"TrNr"]
[null,{"$f":"'Daten SR'!A5","v":"KOREA"},{"$f":"'Daten SR'!B5","v":101},{"$f":"'Daten SR'!C5","v":1},{"$f":"'Daten SR'!D5","v":72},{"$f":"'Daten SR'!E5","v":28},{"$f":"'Daten SR'!F5","v":0},{"$f":"'Daten SR'!G5","v":0},{"$f":"'Daten SR'!H5","v":34},{"$f":"'Daten SR'!I5","v":18},{"$f":"'Daten SR'!J5","v":9},{"$f":"'Daten SR'!K5","v":18},{"$f":"'Daten SR'!L5","v":22},{"$f":"I3+J3","v":52},{"$f":"J3+K3+L3","v":45},{"$f":"L3+M3","v":40},{"$f":"'Daten SR'!M5","v":"23%"},{"$f":"'Daten SR'!N5","v":2},{"$f":"IF(OR(B3=\"\",C3=0),\"\",R3/C3)","v":1.9801980198019802E-2},{"$f":"'Daten SR'!O5","v":11},{"$f":"IF(OR(B3=\"\",C3=0),\"\",T3/C3)","v":0.10891089108910891}]
[null,{"$f":"IF(Berechnung!$B5=\"\",\"\",'Daten SR'!A6)","v":"1 SONG"},{"$f":"IF(Berechnung!$B5=\"\",\"\",'Daten SR'!B6)","v":16},{"$f":"IF(Berechnung!$B5=\"\",\"\",'Daten SR'!C6)","v":0},{"$f":"IF(Berechnung!$B5=\"\",\"\",'Daten SR'!D6)","v":0},{"$f":"IF(Berechnung!$B5=\"\",\"\",'Daten SR'!E6)","v":16},{"$f":"IF(Berechnung!$B5=\"\",\"\",'Daten SR'!F6)","v":0},{"$f":"IF(Berechnung!$B5=\"\",\"\",'Daten SR'!G6)","v":0},{"$f":"IF(Berechnung!$B5=\"\",\"\",'Daten SR'!H6)","v":2},{"$f":"IF(Berechnung!$B5=\"\",\"\",'Daten SR'!I6)","v":8},{"$f":"IF(Berechnung!$B5=\"\",\"\",'Daten SR'!J6)","v":5},{"$f":"IF(Berechnung!$B5=\"\",\"\",'Daten SR'!K6)","v":1},{"$f":"IF(Berechnung!$B5=\"\",\"\",'Daten SR'!L6)","v":0},{"$f":"IF(Berechnung!$B5=\"\",\"\",I4+J4)","v":10},{"$f":"IF(Berechnung!$B5=\"\",\"\",J4+K4+L4)","v":14},{"$f":"IF(Berechnung!$B5=\"\",\"\",L4+M4)","v":1},{"$f":"IF(Berechnung!$B5=\"\",\"\",'Daten SR'!M6)","v":"6%"},{"$f":"IF(Berechnung!$B5=\"\",\"\",'Daten SR'!N6)","v":1},{"$f":"IF(OR(B4=\"\",C4=0),\"\",R4/C4)","v":6.25E-2},{"$f":"IF(Berechnung!$B5=\"\",\"\",'Daten SR'!O6)","v":4},{"$f":"IF(OR(B4=\"\",C4=0),\"\",T4/C4)","v":0.25},null,{"$f":"IF(B4=\"\",\"\", IF(AND(D4>=E4,D4>=F4,D4>=G4,D4>=H4),$D$2,IF(AND(E4>=F4,E4>=G4,E4>=H4),$E$2,IF(AND(F4>=G4,F4>=H4),$F$2,IF(G4>=H4,$G$2,$H$2)))))","v":"SQ"},{"$f":"IF(Options!M20=\"\",\"\",Options!M20)","v":""},{"$f":"IF(X4=\"\",W4,X4)","v":"SQ"},null,{"$f":"IF(B4=\"\",\"\",IF(AND(N4>O4,N4>P4),$N$2,IF(O4>P4,$O$2,$P$2)))","v":"S6"},null,{"$f":"IF(AB4=\"\",AA4,AB4)","v":"S6"},null,{"$f":"IF(B4=\"\",\"\",LEFT(B4,FIND(\" \",B4)-1))","v":"1"}]
[null,{"$f":"IF(Berechnung!$B6=\"\",\"\",'Daten SR'!A7)","v":"4 SHIN"},{"$f":"IF(Berechnung!$B6=\"\",\"\",'Daten SR'!B7)","v":14},{"$f":"IF(Berechnung!$B6=\"\",\"\",'Daten SR'!C7)","v":0},{"$f":"IF(Berechnung!$B6=\"\",\"\",'Daten SR'!D7)","v":14},{"$f":"IF(Berechnung!$B6=\"\",\"\",'Daten SR'!E7)","v":0},{"$f":"IF(Berechnung!$B6=\"\",\"\",'Daten SR'!F7)","v":0},{"$f":"IF(Berechnung!$B6=\"\",\"\",'Daten SR'!G7)","v":0},{"$f":"IF(Berechnung!$B6=\"\",\"\",'Daten SR'!H7)","v":0},{"$f":"IF(Berechnung!$B6=\"\",\"\",'Daten SR'!I7)","v":0},{"$f":"IF(Berechnung!$B6=\"\",\"\",'Daten SR'!J7)","v":0},{"$f":"IF(Berechnung!$B6=\"\",\"\",'Daten SR'!K7)","v":0},{"$f":"IF(Berechnung!$B6=\"\",\"\",'Daten SR'!L7)","v":14},{"$f":"IF(Berechnung!$B6=\"\",\"\",I5+J5)","v":0},{"$f":"IF(Berechnung!$B6=\"\",\"\",J5+K5+L5)","v":0},{"$f":"IF(Berechnung!$B6=\"\",\"\",L5+M5)","v":14},{"$f":"IF(Berechnung!$B6=\"\",\"\",'Daten SR'!M7)","v":"14%"},{"$f":"IF(Berechnung!$B6=\"\",\"\",'Daten SR'!N7)","v":0},0,{"$f":"IF(Berechnung!$B6=\"\",\"\",'Daten SR'!O7)","v":1},7.1428571428571425E-2,null,"SM",{"$f":"IF(Options!M21=\"\",\"\",Options!M21)","v":""},"SM",null,"S5",null,"S5",null,"4"]
[null,{"$f":"IF(Berechnung!$B7=\"\",\"\",'Daten SR'!A8)","v":"6 LEE"},{"$f":"IF(Berechnung!$B7=\"\",\"\",'Daten SR'!B8)","v":6},{"$f":"IF(Berechnung!$B7=\"\",\"\",'Daten SR'!C8)","v":0},{"$f":"IF(Berechnung!$B7=\"\",\"\",'Daten SR'!D8)","v":6},{"$f":"IF(Berechnung!$B7=\"\",\"\",'Daten SR'!E8)","v":0},{"$f":"IF(Berechnung!$B7=\"\",\"\",'Daten SR'!F8)","v":0},{"$f":"IF(Berechnung!$B7=\"\",\"\",'Daten SR'!G8)","v":0},{"$f":"IF(Berechnung!$B7=\"\",\"\",'Daten SR'!H8)","v":6},{"$f":"IF(Berechnung!$B7=\"\",\"\",'Daten SR'!I8)","v":0},{"$f":"IF(Berechnung!$B7=\"\",\"\",'Daten SR'!J8)","v":0},{"$f":"IF(Berechnung!$B7=\"\",\"\",'Daten SR'!K8)","v":0},{"$f":"IF(Berechnung!$B7=\"\",\"\",'Daten SR'!L8)","v":0},{"$f":"IF(Berechnung!$B7=\"\",\"\",I6+J6)","v":6},{"$f":"IF(Berechnung!$B7=\"\",\"\",J6+K6+L6)","v":0},{"$f":"IF(Berechnung!$B7=\"\",\"\",L6+M6)","v":0},{"$f":"IF(Berechnung!$B7=\"\",\"\",'Daten SR'!M8)","v":"33%"},{"$f":"IF(Berechnung!$B7=\"\",\"\",'Daten SR'!N8)","v":0},0,{"$f":"IF(Berechnung!$B7=\"\",\"\",'Daten SR'!O8)","v":0},0,null,"SM",{"$f":"IF(Options!M22=\"\",\"\",Options!M22)","v":""},"SM",null,"S1",null,"S1",null,"6"]
[null,{"$f":"IF(Berechnung!$B8=\"\",\"\",'Daten SR'!A9)","v":"8 PARK"},{"$f":"IF(Berechnung!$B8=\"\",\"\",'Daten SR'!B9)","v":2},{"$f":"IF(Berechnung!$B8=\"\",\"\",'Daten SR'!C9)","v":0},{"$f":"IF(Berechnung!$B8=\"\",\"\",'Daten SR'!D9)","v":2},{"$f":"IF(Berechnung!$B8=\"\",\"\",'Daten SR'!E9)","v":0},{"$f":"IF(Berechnung!$B8=\"\",\"\",'Daten SR'!F9)","v":0},{"$f":"IF(Berechnung!$B8=\"\",\"\",'Daten SR'!G9)","v":0},{"$f":"IF(Berechnung!$B8=\"\",\"\",'Daten SR'!H9)","v":0},{"$f":"IF(Berechnung!$B8=\"\",\"\",'Daten SR'!I9)","v":0},{"$f":"IF(Berechnung!$B8=\"\",\"\",'Daten SR'!J9)","v":2},{"$f":"IF(Berechnung!$B8=\"\",\"\",'Daten SR'!K9)","v":0},{"$f":"IF(Berechnung!$B8=\"\",\"\",'Daten SR'!L9)","v":0},{"$f":"IF(Berechnung!$B8=\"\",\"\",I7+J7)","v":0},{"$f":"IF(Berechnung!$B8=\"\",\"\",J7+K7+L7)","v":2},{"$f":"IF(Berechnung!$B8=\"\",\"\",L7+M7)","v":0},{"$f":"IF(Berechnung!$B8=\"\",\"\",'Daten SR'!M9)","v":"0%"},{"$f":"IF(Berechnung!$B8=\"\",\"\",'Daten SR'!N9)","v":0},0,{"$f":"IF(Berechnung!$B8=\"\",\"\",'Daten SR'!O9)","v":0},0,null,"SM",{"$f":"IF(Options!M23=\"\",\"\",Options!M23)","v":""},"SM",null,"S6",null,"S6",null,"8"]
[null,{"$f":"IF(Berechnung!$B9=\"\",\"\",'Daten SR'!A10)","v":"9 KWAK"},{"$f":"IF(Berechnung!$B9=\"\",\"\",'Daten SR'!B10)","v":15},{"$f":"IF(Berechnung!$B9=\"\",\"\",'Daten SR'!C10)","v":0},{"$f":"IF(Berechnung!$B9=\"\",\"\",'Daten SR'!D10)","v":12},{"$f":"IF(Berechnung!$B9=\"\",\"\",'Daten SR'!E10)","v":3},{"$f":"IF(Berechnung!$B9=\"\",\"\",'Daten SR'!F10)","v":0},{"$f":"IF(Berechnung!$B9=\"\",\"\",'Daten SR'!G10)","v":0},{"$f":"IF(Berechnung!$B9=\"\",\"\",'Daten SR'!H10)","v":12},{"$f":"IF(Berechnung!$B9=\"\",\"\",'Daten SR'!I10)","v":3},{"$f":"IF(Berechnung!$B9=\"\",\"\",'Daten SR'!J10)","v":0},{"$f":"IF(Berechnung!$B9=\"\",\"\",'Daten SR'!K10)","v":0},{"$f":"IF(Berechnung!$B9=\"\",\"\",'Daten SR'!L10)","v":0},{"$f":"IF(Berechnung!$B9=\"\",\"\",I8+J8)","v":15},{"$f":"IF(Berechnung!$B9=\"\",\"\",J8+K8+L8)","v":3},{"$f":"IF(Berechnung!$B9=\"\",\"\",L8+M8)","v":0},{"$f":"IF(Berechnung!$B9=\"\",\"\",'Daten SR'!M10)","v":"7%"},{"$f":"IF(Berechnung!$B9=\"\",\"\",'Daten SR'!N10)","v":0},0,{"$f":"IF(Berechnung!$B9=\"\",\"\",'Daten SR'!O10)","v":1},6.6666666666666666E-2,null,"SM",{"$f":"IF(Options!M24=\"\",\"\",Options!M24)","v":""},"SM",null,"S1",null,"S1",null,"9"]
[null,{"$f":"IF(Berechnung!$B10=\"\",\"\",'Daten SR'!A11)","v":"11 CHOI"},{"$f":"IF(Berechnung!$B10=\"\",\"\",'Daten SR'!B11)","v":18},{"$f":"IF(Berechnung!$B10=\"\",\"\",'Daten SR'!C11)","v":0},{"$f":"IF(Berechnung!$B10=\"\",\"\",'Daten SR'!D11)","v":18},{"$f":"IF(Berechnung!$B10=\"\",\"\",'Daten SR'!E11)","v":0},{"$f":"IF(Berechnung!$B10=\"\",\"\",'Daten SR'!F11)","v":0},{"$f":"IF(Berechnung!$B10=\"\",\"\",'Daten SR'!G11)","v":0},{"$f":"IF(Berechnung!$B10=\"\",\"\",'Daten SR'!H11)","v":1},{"$f":"IF(Berechnung!$B10=\"\",\"\",'Daten SR'!I11)","v":1},{"$f":"IF(Berechnung!$B10=\"\",\"\",'Daten SR'!J11)","v":0},{"$f":"IF(Berechnung!$B10=\"\",\"\",'Daten SR'!K11)","v":11},{"$f":"IF(Berechnung!$B10=\"\",\"\",'Daten SR'!L11)","v":5},{"$f":"IF(Berechnung!$B10=\"\",\"\",I9+J9)","v":2},{"$f":"IF(Berechnung!$B10=\"\",\"\",J9+K9+L9)","v":12},{"$f":"IF(Berechnung!$B10=\"\",\"\",L9+M9)","v":16},{"$f":"IF(Berechnung!$B10=\"\",\"\",'Daten SR'!M11)","v":"50%"},{"$f":"IF(Berechnung!$B10=\"\",\"\",'Daten SR'!N11)","v":1},5.5555555555555552E-2,{"$f":"IF(Berechnung!$B10=\"\",\"\",'Daten SR'!O11)","v":1},5.5555555555555552E-2,null,"SM",{"$f":"IF(Options!M25=\"\",\"\",Options!M25)","v":""},"SM",null,"S5",null,"S5",null,"11"]
[null,{"$f":"IF(Berechnung!$B11=\"\",\"\",'Daten SR'!A12)","v":"12 JEON"},{"$f":"IF(Berechnung!$B11=\"\",\"\",'Daten SR'!B12)","v":0},{"$f":"IF(Berechnung!$B11=\"\",\"\",'Daten SR'!C12)","v":0},{"$f":"IF(Berechnung!$B11=\"\",\"\",'Daten SR'!D12)","v":0},{"$f":"IF(Berechnung!$B11=\"\",\"\",'Daten SR'!E12)","v":0},{"$f":"IF(Berechnung!$B11=\"\",\"\",'Daten SR'!F12)","v":0},{"$f":"IF(Berechnung!$B11=\"\",\"\",'Daten SR'!G12)","v":0},{"$f":"IF(Berechnung!$B11=\"\",\"\",'Daten SR'!H12)","v":0},{"$f":"IF(Berechnung!$B11=\"\",\"\",'Daten SR'!I12)","v":0},{"$f":"IF(Berechnung!$B11=\"\",\"\",'Daten SR'!J12)","v":0},{"$f":"IF(Berechnung!$B11=\"\",\"\",'Daten SR'!K12)","v":0},{"$f":"IF(Berechnung!$B11=\"\",\"\",'Daten SR'!L12)","v":0},{"$f":"IF(Berechnung!$B11=\"\",\"\",I10+J10)","v":0},{"$f":"IF(Berechnung!$B11=\"\",\"\",J10+K10+L10)","v":0},{"$f":"IF(Berechnung!$B11=\"\",\"\",L10+M10)","v":0},{"$f":"IF(Berechnung!$B11=\"\",\"\",'Daten SR'!M12)","v":"0%"},{"$f":"IF(Berechnung!$B11=\"\",\"\",'Daten SR'!N12)","v":0},"",{"$f":"IF(Berechnung!$B11=\"\",\"\",'Daten SR'!O12)","v":0},"",null,"SH",{"$f":"IF(Options!M26=\"\",\"\",Options!M26)","v":""},"SH",null,"S5",null,"S5",null,"12"]
[null,{"$f":"IF(Berechnung!$B12=\"\",\"\",'Daten SR'!A13)","v":"14 SONG"},{"$f":"IF(Berechnung!$B12=\"\",\"\",'Daten SR'!B13)","v":5},{"$f":"IF(Berechnung!$B12=\"\",\"\",'Daten SR'!C13)","v":0},{"$f":"IF(Berechnung!$B12=\"\",\"\",'Daten SR'!D13)","v":2},{"$f":"IF(Berechnung!$B12=\"\",\"\",'Daten SR'!E13)","v":3},{"$f":"IF(Berechnung!$B12=\"\",\"\",'Daten SR'!F13)","v":0},{"$f":"IF(Berechnung!$B12=\"\",\"\",'Daten SR'!G13)","v":0},{"$f":"IF(Berechnung!$B12=\"\",\"\",'Daten SR'!H13)","v":0},{"$f":"IF(Berechnung!$B12=\"\",\"\",'Daten SR'!I13)","v":3},{"$f":"IF(Berechnung!$B12=\"\",\"\",'Daten SR'!J13)","v":2},{"$f":"IF(Berechnung!$B12=\"\",\"\",'Daten SR'!K13)","v":0},{"$f":"IF(Berechnung!$B12=\"\",\"\",'Daten SR'!L13)","v":0},{"$f":"IF(Berechnung!$B12=\"\",\"\",I11+J11)","v":3},{"$f":"IF(Berechnung!$B12=\"\",\"\",J11+K11+L11)","v":5},{"$f":"IF(Berechnung!$B12=\"\",\"\",L11+M11)","v":0},{"$f":"IF(Berechnung!$B12=\"\",\"\",'Daten SR'!M13)","v":"0%"},{"$f":"IF(Berechnung!$B12=\"\",\"\",'Daten SR'!N13)","v":0},0,{"$f":"IF(Berechnung!$B12=\"\",\"\",'Daten SR'!O13)","v":2},0.4,null,"SQ",{"$f":"IF(Options!M27=\"\",\"\",Options!M27)","v":""},"SQ",null,"S6",null,"S6",null,"14"]
[null,{"$f":"IF(Berechnung!$B13=\"\",\"\",'Daten SR'!A14)","v":"16 CHOI"},{"$f":"IF(Berechnung!$B13=\"\",\"\",'Daten SR'!B14)","v":3},{"$f":"IF(Berechnung!$B13=\"\",\"\",'Daten SR'!C14)","v":0},{"$f":"IF(Berechnung!$B13=\"\",\"\",'Daten SR'!D14)","v":2},{"$f":"IF(Berechnung!$B13=\"\",\"\",'Daten SR'!E14)","v":1},{"$f":"IF(Berechnung!$B13=\"\",\"\",'Daten SR'!F14)","v":0},{"$f":"IF(Berechnung!$B13=\"\",\"\",'Daten SR'!G14)","v":0},{"$f":"IF(Berechnung!$B13=\"\",\"\",'Daten SR'!H14)","v":1},{"$f":"IF(Berechnung!$B13=\"\",\"\",'Daten SR'!I14)","v":2},{"$f":"IF(Berechnung!$B13=\"\",\"\",'Daten SR'!J14)","v":0},{"$f":"IF(Berechnung!$B13=\"\",\"\",'Daten SR'!K14)","v":0},{"$f":"IF(Berechnung!$B13=\"\",\"\",'Daten SR'!L14)","v":0},{"$f":"IF(Berechnung!$B13=\"\",\"\",I12+J12)","v":3},{"$f":"IF(Berechnung!$B13=\"\",\"\",J12+K12+L12)","v":2},{"$f":"IF(Berechnung!$B13=\"\",\"\",L12+M12)","v":0},{"$f":"IF(Berechnung!$B13=\"\",\"\",'Daten SR'!M14)","v":"-33%"},{"$f":"IF(Berechnung!$B13=\"\",\"\",'Daten SR'!N14)","v":0},0,{"$f":"IF(Berechnung!$B13=\"\",\"\",'Daten SR'!O14)","v":1},0.33333333333333331,null,"SM",{"$f":"IF(Options!M28=\"\",\"\",Options!M28)","v":""},"SM",null,"S1",null,"S1",null,"16"]
[null,{"$f":"IF(Berechnung!$B14=\"\",\"\",'Daten SR'!A15)","v":"17 SEO"},{"$f":"IF(Berechnung!$B14=\"\",\"\",'Daten SR'!B15)","v":10},{"$f":"IF(Berechnung!$B14=\"\",\"\",'Daten SR'!C15)","v":1},{"$f":"IF(Berechnung!$B14=\"\",\"\",'Daten SR'!D15)","v":4},{"$f":"IF(Berechnung!$B14=\"\",\"\",'Daten SR'!E15)","v":5},{"$f":"IF(Berechnung!$B14=\"\",\"\",'Daten SR'!F15)","v":0},{"$f":"IF(Berechnung!$B14=\"\",\"\",'Daten SR'!G15)","v":0},{"$f":"IF(Berechnung!$B14=\"\",\"\",'Daten SR'!H15)","v":0},{"$f":"IF(Berechnung!$B14=\"\",\"\",'Daten SR'!I15)","v":1},{"$f":"IF(Berechnung!$B14=\"\",\"\",'Daten SR'!J15)","v":0},{"$f":"IF(Berechnung!$B14=\"\",\"\",'Daten SR'!K15)","v":6},{"$f":"IF(Berechnung!$B14=\"\",\"\",'Daten SR'!L15)","v":3},{"$f":"IF(Berechnung!$B14=\"\",\"\",I13+J13)","v":1},{"$f":"IF(Berechnung!$B14=\"\",\"\",J13+K13+L13)","v":7},{"$f":"IF(Berechnung!$B14=\"\",\"\",L13+M13)","v":9},{"$f":"IF(Berechnung!$B14=\"\",\"\",'Daten SR'!M15)","v":"50%"},{"$f":"IF(Berechnung!$B14=\"\",\"\",'Daten SR'!N15)","v":0},0,{"$f":"IF(Berechnung!$B14=\"\",\"\",'Daten SR'!O15)","v":1},0.1,null,"SQ",{"$f":"IF(Options!M29=\"\",\"\",Options!M29)","v":""},"SQ",null,"S5",null,"S5",null,"17"]
[null,{"$f":"IF(Berechnung!$B15=\"\",\"\",'Daten SR'!A16)","v":"19 JEONG"},{"$f":"IF(Berechnung!$B15=\"\",\"\",'Daten SR'!B16)","v":0},{"$f":"IF(Berechnung!$B15=\"\",\"\",'Daten SR'!C16)","v":0},{"$f":"IF(Berechnung!$B15=\"\",\"\",'Daten SR'!D16)","v":0},{"$f":"IF(Berechnung!$B15=\"\",\"\",'Daten SR'!E16)","v":0},{"$f":"IF(Berechnung!$B15=\"\",\"\",'Daten SR'!F16)","v":0},{"$f":"IF(Berechnung!$B15=\"\",\"\",'Daten SR'!G16)","v":0},{"$f":"IF(Berechnung!$B15=\"\",\"\",'Daten SR'!H16)","v":0},{"$f":"IF(Berechnung!$B15=\"\",\"\",'Daten SR'!I16)","v":0},{"$f":"IF(Berechnung!$B15=\"\",\"\",'Daten SR'!J16)","v":0},{"$f":"IF(Berechnung!$B15=\"\",\"\",'Daten SR'!K16)","v":0},{"$f":"IF(Berechnung!$B15=\"\",\"\",'Daten SR'!L16)","v":0},{"$f":"IF(Berechnung!$B15=\"\",\"\",I14+J14)","v":0},{"$f":"IF(Berechnung!$B15=\"\",\"\",J14+K14+L14)","v":0},{"$f":"IF(Berechnung!$B15=\"\",\"\",L14+M14)","v":0},{"$f":"IF(Berechnung!$B15=\"\",\"\",'Daten SR'!M16)","v":"0%"},{"$f":"IF(Berechnung!$B15=\"\",\"\",'Daten SR'!N16)","v":0},{"$f":"IF(OR(B14=\"\",C14=0),\"\",R14/C14)","v":""},{"$f":"IF(Berechnung!$B15=\"\",\"\",'Daten SR'!O16)","v":0},{"$f":"IF(OR(B14=\"\",C14=0),\"\",T14/C14)","v":""},null,"SH",{"$f":"IF(Options!M30=\"\",\"\",Options!M30)","v":""},"SH",null,"S5",null,"S5",null,"19"]
[null,{"$f":"IF(Berechnung!$B16=\"\",\"\",'Daten SR'!A17)","v":"20 JI"},{"$f":"IF(Berechnung!$B16=\"\",\"\",'Daten SR'!B17)","v":0},{"$f":"IF(Berechnung!$B16=\"\",\"\",'Daten SR'!C17)","v":0},{"$f":"IF(Berechnung!$B16=\"\",\"\",'Daten SR'!D17)","v":0},{"$f":"IF(Berechnung!$B16=\"\",\"\",'Daten SR'!E17)","v":0},{"$f":"IF(Berechnung!$B16=\"\",\"\",'Daten SR'!F17)","v":0},{"$f":"IF(Berechnung!$B16=\"\",\"\",'Daten SR'!G17)","v":0},{"$f":"IF(Berechnung!$B16=\"\",\"\",'Daten SR'!H17)","v":0},{"$f":"IF(Berechnung!$B16=\"\",\"\",'Daten SR'!I17)","v":0},{"$f":"IF(Berechnung!$B16=\"\",\"\",'Daten SR'!J17)","v":0},{"$f":"IF(Berechnung!$B16=\"\",\"\",'Daten SR'!K17)","v":0},{"$f":"IF(Berechnung!$B16=\"\",\"\",'Daten SR'!L17)","v":0},{"$f":"IF(Berechnung!$B16=\"\",\"\",I15+J15)","v":0},{"$f":"IF(Berechnung!$B16=\"\",\"\",J15+K15+L15)","v":0},{"$f":"IF(Berechnung!$B16=\"\",\"\",L15+M15)","v":0},{"$f":"IF(Berechnung!$B16=\"\",\"\",'Daten SR'!M17)","v":"0%"},{"$f":"IF(Berechnung!$B16=\"\",\"\",'Daten SR'!N17)","v":0},"",{"$f":"IF(Berechnung!$B16=\"\",\"\",'Daten SR'!O17)","v":0},"",null,"SH",{"$f":"IF(Options!M31=\"\",\"\",Options!M31)","v":""},"SH",null,"S5",null,"S5",null,"20"]
[null,{"$f":"IF(Berechnung!$B17=\"\",\"\",'Daten SR'!A18)","v":"22 YOU"},{"$f":"IF(Berechnung!$B17=\"\",\"\",'Daten SR'!B18)","v":12},{"$f":"IF(Berechnung!$B17=\"\",\"\",'Daten SR'!C18)","v":0},{"$f":"IF(Berechnung!$B17=\"\",\"\",'Daten SR'!D18)","v":12},{"$f":"IF(Berechnung!$B17=\"\",\"\",'Daten SR'!E18)","v":0},{"$f":"IF(Berechnung!$B17=\"\",\"\",'Daten SR'!F18)","v":0},{"$f":"IF(Berechnung!$B17=\"\",\"\",'Daten SR'!G18)","v":0},{"$f":"IF(Berechnung!$B17=\"\",\"\",'Daten SR'!H18)","v":12},{"$f":"IF(Berechnung!$B17=\"\",\"\",'Daten SR'!I18)","v":0},{"$f":"IF(Berechnung!$B17=\"\",\"\",'Daten SR'!J18)","v":0},{"$f":"IF(Berechnung!$B17=\"\",\"\",'Daten SR'!K18)","v":0},{"$f":"IF(Berechnung!$B17=\"\",\"\",'Daten SR'!L18)","v":0},{"$f":"IF(Berechnung!$B17=\"\",\"\",I16+J16)","v":12},{"$f":"IF(Berechnung!$B17=\"\",\"\",J16+K16+L16)","v":0},{"$f":"IF(Berechnung!$B17=\"\",\"\",L16+M16)","v":0},{"$f":"IF(Berechnung!$B17=\"\",\"\",'Daten SR'!M18)","v":"33%"},{"$f":"IF(Berechnung!$B17=\"\",\"\",'Daten SR'!N18)","v":0},0,{"$f":"IF(Berechnung!$B17=\"\",\"\",'Daten SR'!O18)","v":0},0,null,"SM",{"$f":"IF(Options!M32=\"\",\"\",Options!M32)","v":""},"SM",null,"S1",null,"S1",null,"22"]
[null,{"$f":"IF(Berechnung!$B18=\"\",\"\",'Daten SR'!A19)","v":"25 OH"},{"$f":"IF(Berechnung!$B18=\"\",\"\",'Daten SR'!B19)","v":0},{"$f":"IF(Berechnung!$B18=\"\",\"\",'Daten SR'!C19)","v":0},{"$f":"IF(Berechnung!$B18=\"\",\"\",'Daten SR'!D19)","v":0},{"$f":"IF(Berechnung!$B18=\"\",\"\",'Daten SR'!E19)","v":0},{"$f":"IF(Berechnung!$B18=\"\",\"\",'Daten SR'!F19)","v":0},{"$f":"IF(Berechnung!$B18=\"\",\"\",'Daten SR'!G19)","v":0},{"$f":"IF(Berechnung!$B18=\"\",\"\",'Daten SR'!H19)","v":0},{"$f":"IF(Berechnung!$B18=\"\",\"\",'Daten SR'!I19)","v":0},{"$f":"IF(Berechnung!$B18=\"\",\"\",'Daten SR'!J19)","v":0},{"$f":"IF(Berechnung!$B18=\"\",\"\",'Daten SR'!K19)","v":0},{"$f":"IF(Berechnung!$B18=\"\",\"\",'Daten SR'!L19)","v":0},{"$f":"IF(Berechnung!$B18=\"\",\"\",I17+J17)","v":0},{"$f":"IF(Berechnung!$B18=\"\",\"\",J17+K17+L17)","v":0},{"$f":"IF(Berechnung!$B18=\"\",\"\",L17+M17)","v":0},{"$f":"IF(Berechnung!$B18=\"\",\"\",'Daten SR'!M19)","v":"0%"},{"$f":"IF(Berechnung!$B18=\"\",\"\",'Daten SR'!N19)","v":0},"",{"$f":"IF(Berechnung!$B18=\"\",\"\",'Daten SR'!O19)","v":0},"",null,"SH",{"$f":"IF(Options!M33=\"\",\"\",Options!M33)","v":""},"SH",null,"S5",null,"S5",null,"25"]
[null,{"$f":"IF(Berechnung!$B19=\"\",\"\",'Daten SR'!A20)","v":""},{"$f":"IF(Berechnung!$B19=\"\",\"\",'Daten SR'!B20)","v":""},{"$f":"IF(Berechnung!$B19=\"\",\"\",'Daten SR'!C20)","v":""},{"$f":"IF(Berechnung!$B19=\"\",\"\",'Daten SR'!D20)","v":""},{"$f":"IF(Berechnung!$B19=\"\",\"\",'Daten SR'!E20)","v":""},{"$f":"IF(Berechnung!$B19=\"\",\"\",'Daten SR'!F20)","v":""},{"$f":"IF(Berechnung!$B19=\"\",\"\",'Daten SR'!G20)","v":""},{"$f":"IF(Berechnung!$B19=\"\",\"\",'Daten SR'!H20)","v":""},{"$f":"IF(Berechnung!$B19=\"\",\"\",'Daten SR'!I20)","v":""},{"$f":"IF(Berechnung!$B19=\"\",\"\",'Daten SR'!J20)","v":""},{"$f":"IF(Berechnung!$B19=\"\",\"\",'Daten SR'!K20)","v":""},{"$f":"IF(Berechnung!$B19=\"\",\"\",'Daten SR'!L20)","v":""},{"$f":"IF(Berechnung!$B19=\"\",\"\",I18+J18)","v":""},{"$f":"IF(Berechnung!$B19=\"\",\"\",J18+K18+L18)","v":""},{"$f":"IF(Berechnung!$B19=\"\",\"\",L18+M18)","v":""},{"$f":"IF(Berechnung!$B19=\"\",\"\",'Daten SR'!M20)","v":""},{"$f":"IF(Berechnung!$B19=\"\",\"\",'Daten SR'!N20)","v":""},{"$f":"IF(OR(B18=\"\",C18=0),\"\",R18/C18)","v":""},{"$f":"IF(Berechnung!$B19=\"\",\"\",'Daten SR'!O20)","v":""},{"$f":"IF(OR(B18=\"\",C18=0),\"\",T18/C18)","v":""},null,{"$f":"IF(B18=\"\",\"\", IF(AND(D18>=E18,D18>=F18,D18>=G18,D18>=H18),$D$2,IF(AND(E18>=F18,E18>=G18,E18>=H18),$E$2,IF(AND(F18>=G18,F18>=H18),$F$2,IF(G18>=H18,$G$2,$H$2)))))","v":""},{"$f":"IF(Options!M34=\"\",\"\",Options!M34)","v":""},{"$f":"IF(X18=\"\",W18,X18)","v":""},null,{"$f":"IF(B18=\"\",\"\",IF(AND(N18>O18,N18>P18),$N$2,IF(O18>P18,$O$2,$P$2)))","v":""},null,{"$f":"IF(AB18=\"\",AA18,AB18)","v":""},null,{"$f":"IF(B18=\"\",\"\",LEFT(B18,FIND(\" \",B18)-1))","v":""}]
[null,{"$f":"IF(Berechnung!$B20=\"\",\"\",'Daten SR'!A21)","v":""},{"$f":"IF(Berechnung!$B20=\"\",\"\",'Daten SR'!B21)","v":""},{"$f":"IF(Berechnung!$B20=\"\",\"\",'Daten SR'!C21)","v":""},{"$f":"IF(Berechnung!$B20=\"\",\"\",'Daten SR'!D21)","v":""},{"$f":"IF(Berechnung!$B20=\"\",\"\",'Daten SR'!E21)","v":""},{"$f":"IF(Berechnung!$B20=\"\",\"\",'Daten SR'!F21)","v":""},{"$f":"IF(Berechnung!$B20=\"\",\"\",'Daten SR'!G21)","v":""},{"$f":"IF(Berechnung!$B20=\"\",\"\",'Daten SR'!H21)","v":""},{"$f":"IF(Berechnung!$B20=\"\",\"\",'Daten SR'!I21)","v":""},{"$f":"IF(Berechnung!$B20=\"\",\"\",'Daten SR'!J21)","v":""},{"$f":"IF(Berechnung!$B20=\"\",\"\",'Daten SR'!K21)","v":""},{"$f":"IF(Berechnung!$B20=\"\",\"\",'Daten SR'!L21)","v":""},{"$f":"IF(Berechnung!$B20=\"\",\"\",I19+J19)","v":""},{"$f":"IF(Berechnung!$B20=\"\",\"\",J19+K19+L19)","v":""},{"$f":"IF(Berechnung!$B20=\"\",\"\",L19+M19)","v":""},{"$f":"IF(Berechnung!$B20=\"\",\"\",'Daten SR'!M21)","v":""},{"$f":"IF(Berechnung!$B20=\"\",\"\",'Daten SR'!N21)","v":""},{"$f":"IF(OR(B19=\"\",C19=0),\"\",R19/C19)","v":""},{"$f":"IF(Berechnung!$B20=\"\",\"\",'Daten SR'!O21)","v":""},{"$f":"IF(OR(B19=\"\",C19=0),\"\",T19/C19)","v":""},null,{"$f":"IF(B19=\"\",\"\", IF(AND(D19>=E19,D19>=F19,D19>=G19,D19>=H19),$D$2,IF(AND(E19>=F19,E19>=G19,E19>=H19),$E$2,IF(AND(F19>=G19,F19>=H19),$F$2,IF(G19>=H19,$G$2,$H$2)))))","v":""},{"$f":"IF(Options!M35=\"\",\"\",Options!M35)","v":""},{"$f":"IF(X19=\"\",W19,X19)","v":""},null,{"$f":"IF(B19=\"\",\"\",IF(AND(N19>O19,N19>P19),$N$2,IF(O19>P19,$O$2,$P$2)))","v":""},null,{"$f":"IF(AB19=\"\",AA19,AB19)","v":""},null,{"$f":"IF(B19=\"\",\"\",LEFT(B19,FIND(\" \",B19)-1))","v":""}]
[null,{"$f":"IF(Berechnung!$B22=\"\",\"\",'Daten SR'!A22)","v":""},{"$f":"IF(Berechnung!$B22=\"\",\"\",'Daten SR'!B22)","v":""},{"$f":"IF(Berechnung!$B22=\"\",\"\",'Daten SR'!C22)","v":""},{"$f":"IF(Berechnung!$B22=\"\",\"\",'Daten SR'!D22)","v":""},{"$f":"IF(Berechnung!$B22=\"\",\"\",'Daten SR'!E22)","v":""},{"$f":"IF(Berechnung!$B22=\"\",\"\",'Daten SR'!F22)","v":""},{"$f":"IF(Berechnung!$B22=\"\",\"\",'Daten SR'!G22)","v":""},{"$f":"IF(Berechnung!$B22=\"\",\"\",'Daten SR'!H22)","v":""},{"$f":"IF(Berechnung!$B22=\"\",\"\",'Daten SR'!I22)","v":""},{"$f":"IF(Berechnung!$B22=\"\",\"\",'Daten SR'!J22)","v":""},{"$f":"IF(Berechnung!$B22=\"\",\"\",'Daten SR'!K22)","v":""},{"$f":"IF(Berechnung!$B22=\"\",\"\",'Daten SR'!L22)","v":""},{"$f":"IF(Berechnung!$B22=\"\",\"\",I20+J20)","v":""},{"$f":"IF(Berechnung!$B22=\"\",\"\",J20+K20+L20)","v":""},{"$f":"IF(Berechnung!$B22=\"\",\"\",L20+M20)","v":""},{"$f":"IF(Berechnung!$B22=\"\",\"\",'Daten SR'!M22)","v":""},{"$f":"IF(Berechnung!$B22=\"\",\"\",'Daten SR'!N22)","v":""},"",{"$f":"IF(Berechnung!$B22=\"\",\"\",'Daten SR'!O22)","v":""},"",null,{"$f":"IF(B20=\"\",\"\", IF(AND(D20>E20,D20>F20,D20>G20,D20>H20),$D$2,IF(AND(E20>F20,E20>G20,E20>H20),$E$2,IF(AND(F20>G20,F20>H20),$F$2,IF(G20>H20,$G$2,$H$2)))))","v":""},{"$f":"IF(Options!M36=\"\",\"\",Options!M36)","v":""},"",null,"",null,"",null,""]
[null,{"$f":"IF(Berechnung!$B23=\"\",\"\",'Daten SR'!A23)","v":""},{"$f":"IF(Berechnung!$B23=\"\",\"\",'Daten SR'!B23)","v":""},{"$f":"IF(Berechnung!$B23=\"\",\"\",'Daten SR'!C23)","v":""},{"$f":"IF(Berechnung!$B23=\"\",\"\",'Daten SR'!D23)","v":""},{"$f":"IF(Berechnung!$B23=\"\",\"\",'Daten SR'!E23)","v":""},{"$f":"IF(Berechnung!$B23=\"\",\"\",'Daten SR'!F23)","v":""},{"$f":"IF(Berechnung!$B23=\"\",\"\",'Daten SR'!G23)","v":""},{"$f":"IF(Berechnung!$B23=\"\",\"\",'Daten SR'!H23)","v":""},{"$f":"IF(Berechnung!$B23=\"\",\"\",'Daten SR'!I23)","v":""},{"$f":"IF(Berechnung!$B23=\"\",\"\",'Daten SR'!J23)","v":""},{"$f":"IF(Berechnung!$B23=\"\",\"\",'Daten SR'!K23)","v":""},{"$f":"IF(Berechnung!$B23=\"\",\"\",'Daten SR'!L23)","v":""},{"$f":"IF(Berechnung!$B23=\"\",\"\",I21+J21)","v":""},{"$f":"IF(Berechnung!$B23=\"\",\"\",J21+K21+L21)","v":""},{"$f":"IF(Berechnung!$B23=\"\",\"\",L21+M21)","v":""},{"$f":"IF(Berechnung!$B23=\"\",\"\",'Daten SR'!M23)","v":""},{"$f":"IF(Berechnung!$B23=\"\",\"\",'Daten SR'!N23)","v":""},"",{"$f":"IF(Berechnung!$B23=\"\",\"\",'Daten SR'!O23)","v":""},"",null,{"$f":"IF(B21=\"\",\"\", IF(AND(D21>E21,D21>F21,D21>G21,D21>H21),$D$2,IF(AND(E21>F21,E21>G21,E21>H21),$E$2,IF(AND(F21>G21,F21>H21),$F$2,IF(G21>H21,$G$2,$H$2)))))","v":""},{"$f":"IF(Options!M37=\"\",\"\",Options!M37)","v":""},"",null,"",null,"",null,""]
[null,{"$f":"IF(Berechnung!$B24=\"\",\"\",'Daten SR'!A24)","v":""},{"$f":"IF(Berechnung!$B24=\"\",\"\",'Daten SR'!B24)","v":""},{"$f":"IF(Berechnung!$B24=\"\",\"\",'Daten SR'!C24)","v":""},{"$f":"IF(Berechnung!$B24=\"\",\"\",'Daten SR'!D24)","v":""},{"$f":"IF(Berechnung!$B24=\"\",\"\",'Daten SR'!E24)","v":""},{"$f":"IF(Berechnung!$B24=\"\",\"\",'Daten SR'!F24)","v":""},{"$f":"IF(Berechnung!$B24=\"\",\"\",'Daten SR'!G24)","v":""},{"$f":"IF(Berechnung!$B24=\"\",\"\",'Daten SR'!H24)","v":""},{"$f":"IF(Berechnung!$B24=\"\",\"\",'Daten SR'!I24)","v":""},{"$f":"IF(Berechnung!$B24=\"\",\"\",'Daten SR'!J24)","v":""},{"$f":"IF(Berechnung!$B24=\"\",\"\",'Daten SR'!K24)","v":""},{"$f":"IF(Berechnung!$B24=\"\",\"\",'Daten SR'!L24)","v":""},{"$f":"IF(Berechnung!$B24=\"\",\"\",I22+J22)","v":""},{"$f":"IF(Berechnung!$B24=\"\",\"\",J22+K22+L22)","v":""},{"$f":"IF(Berechnung!$B24=\"\",\"\",L22+M22)","v":""},{"$f":"IF(Berechnung!$B24=\"\",\"\",'Daten SR'!M24)","v":""},{"$f":"IF(Berechnung!$B24=\"\",\"\",'Daten SR'!N24)","v":""},"",{"$f":"IF(Berechnung!$B24=\"\",\"\",'Daten SR'!O24)","v":""},"",null,{"$f":"IF(B22=\"\",\"\", IF(AND(D22>E22,D22>F22,D22>G22,D22>H22),$D$2,IF(AND(E22>F22,E22>G22,E22>H22),$E$2,IF(AND(F22>G22,F22>H22),$F$2,IF(G22>H22,$G$2,$H$2)))))","v":""},{"$f":"IF(Options!M38=\"\",\"\",Options!M38)","v":""},"",null,"",null,"",null,""]
[null,null,null,null,null,null,null,null,null,null,null,null,null,{"$f":"IF(Berechnung!$B25=\"\",\"\",I23+J23)","v":""},{"$f":"IF(Berechnung!$B25=\"\",\"\",J23+K23+L23)","v":""},{"$f":"IF(Berechnung!$B25=\"\",\"\",L23+M23)","v":""}]
[null,null,null,null,null,null,null,null,null,null,null,null,null,{"$f":"IF(Berechnung!$B26=\"\",\"\",I24+J24)","v":""},{"$f":"IF(Berechnung!$B26=\"\",\"\",J24+K24+L24)","v":""},{"$f":"IF(Berechnung!$B26=\"\",\"\",L24+M24)","v":""},null,null,null,null,null,null,"b:","berechnet"]
[null,null,null,null,null,null,null,null,null,null,null,null,null,{"$f":"IF(Berechnung!$B27=\"\",\"\",I25+J25)","v":""},{"$f":"IF(Berechnung!$B27=\"\",\"\",J25+K25+L25)","v":""},{"$f":"IF(Berechnung!$B27=\"\",\"\",L25+M25)","v":""},null,null,null,null,null,null,"m:","manuell überschreiben"]

{"sheet":"Daten","index":21,"n_rows":122,"n_cols":51,"rows_kept":122,"cut":false,"hidden":false,"merged":[]}
["Worksheet - home - Spielanalyse"]
[]
["KOREA"]
[null,"K1 after R#+ depending on R-Pos (S1,S6,S5)",null,null,null,null,null,null,null,null,null,"K1 after R#+ depending on R-Pos (S4,S3,S2)",null,null,null,null,null,null,null,null,null,"K1 after R!-/ depending on R-Pos (S1,S6,S5)",null,null,null,null,null,null,null,null,null,"K1 after R!-/ depending on R-Pos (S4,S3,S2)"]
["R-Ort","P 4","X",4,1,"Set",3,"OF","P 2","HF6","HF1","P4","X",4,1,"Set",3,"OF","P2","HF6","HF1","P4","X",4,1,"Set",3,"OF","P2","HF6","HF1","P4","X",4,1,"Set",3,"OF","P2","HF6","HF1"]
["Pos 1",0,0,2,0,0,0,0,0,0,0,0,0,0,0,0,0,0,0,0,0,0,0,0,0,0,0,0,1,0,0,0,0,0,0,0,0,0,0,0,1]
["Pos 2",0,0,0,0,0,0,0,0,0,0,0,0,0,0,0,0,0,0,0,0,0,0,0,0,0,0,0,0,0,0,0,0,0,0,0,0,0,0,0,0]
["Pos 3",0,0,0,0,0,0,0,0,0,0,0,0,0,1,0,0,0,0,0,0,0,0,0,0,0,0,0,0,0,0,0,0,0,0,0,0,0,0,0,0]
["Pos 4",0,0,0,0,0,0,0,0,0,0,0,0,0,0,0,0,0,0,0,0,0,0,0,0,0,0,0,0,0,0,0,0,0,0,0,0,0,0,0,0]
["Pos 5",1,0,0,1,0,0,0,2,2,0,1,0,0,3,0,0,0,0,0,3,0,0,0,0,0,0,0,2,0,0,0,0,0,0,0,0,0,0,0,0]
["Pos 6",1,0,1,2,0,0,0,2,6,0,0,1,0,3,1,0,0,0,0,2,0,0,1,0,0,0,0,1,0,0,1,0,0,0,1,0,0,0,0,2]
["Pos 7",0,0,0,0,0,0,0,0,1,0,0,0,0,0,0,0,0,0,0,0,1,0,1,0,0,0,0,2,1,0,1,0,0,0,0,0,0,0,0,1]
["Pos 8",1,0,0,0,0,0,0,0,0,0,0,0,0,0,0,0,0,0,1,1,0,0,0,0,0,0,0,0,0,0,1,0,0,0,0,0,0,0,1,0]
["Pos 9",0,0,0,0,0,0,0,0,0,0,0,0,0,0,0,0,0,0,0,0,0,0,0,1,0,0,0,0,0,0,0,0,0,0,0,0,0,0,0,1]
["ohne",0,0,0,0,0,0,0,0,0,0,0,0,0,0,0,0,0,0,0,0,0,0,0,0,-2,0,0,0,0,0,0,0,0,0,0,0,0,0,0,0]
["mit",3,0,3,3,0,0,0,4,9,0,1,1,0,7,1,0,0,0,1,6,1,0,2,1,0,0,0,6,1,0,3,0,0,0,1,0,0,0,1,5]
[]
[]
[null,"all","K1","K2","K7","KD","K1F","K1C","K1B","K1P","K1S","K2F","K2C","K2B","K2P","K2S","K7F","K7C","K7B","K7P","K7S","KDF","KDC","KDB","KDP","KDS","all-E","K1-E","K2-E","K7-E","KD-E","K1F-E","K1C-E","K1B-E","K1P-E","K1S-E","K2F-E","K2C-E","K2B-E","K2P-E","K2S-E","K7F-E","K7C-E","K7B-E","K7P-E","K7S-E","KDF-E","KDC-E","KDB-E","KDP-E","KDS-E"]
["S in 1",9,6,1,2,0,4,0,1,1,0,0,1,0,0,0,0,1,0,1,0,0,0,0,0,0,"22%","17%","0%","50%","0%","75%","0%","-100%","-100%","0%","0%","0%","0%","0%","0%","0%","0%","0%","100%","0%","0%","0%","0%","0%","0%"]
["S in 6",8,4,4,0,0,0,2,1,1,0,1,1,1,1,0,0,0,0,0,0,0,0,0,0,0,"38%","75%","0%","0%","0%","0%","100%","100%","0%","0%","-100%","0%","0%","100%","0%","0%","0%","0%","0%","0%","0%","0%","0%","0%","0%"]
["S in 5",10,5,0,5,0,0,1,0,4,0,0,0,0,0,0,0,2,2,1,0,0,0,0,0,0,"50%","40%","0%","60%","0%","0%","0%","0%","50%","0%","0%","0%","0%","0%","0%","0%","50%","100%","0%","0%","0%","0%","0%","0%","0%"]
["S in 4",6,5,0,1,0,2,2,0,1,0,0,0,0,0,0,0,0,1,0,0,0,0,0,0,0,"83%","80%","0%","100%","0%","50%","100%","0%","100%","0%","0%","0%","0%","0%","0%","0%","0%","100%","0%","0%","0%","0%","0%","0%","0%"]
["S in 3",7,2,5,0,0,0,2,0,0,0,1,2,1,0,1,0,0,0,0,0,0,0,0,0,0,"57%","100%","40%","0%","0%","0%","100%","0%","0%","0%","-100%","50%","100%","0%","100%","0%","0%","0%","0%","0%","0%","0%","0%","0%","0%"]
["S in 2",11,10,0,1,0,3,3,4,0,0,0,0,0,0,0,0,0,0,0,0,0,0,0,0,0,"9%","0%","0%","100%","0%","-33%","33%","0%","0%","0%","0%","0%","0%","0%","0%","0%","0%","0%","0%","0%","0%","0%","0%","0%","0%"]
[]
[]
["Distribution",null,null,null,null,"K1",null,null,null,null,null,null,null,null,null,"K2",null,null,null,null,null,null,null,null,null,"K7",null,null,null,null,null,null,null,null,null,"KD"]
["alle","K1","K2","K7","KD","P4","SA","H6","P2","H1","P4-E","SA-E","H6-E","P2-E","H1-E","P4","SA","H6","P2","H1","P4-E","SA-E","H6-E","P2-E","H1-E","P4","SA","H6","P2","H1","P4-E","SA-E","H6-E","P2-E","H1-E","P4","SA","H6","P2","H1","P4-E","SA-E","H6-E","P2-E","H1-E"]
["S in 1",6,1,2,0,4,0,1,1,0,"75%","0%","-100%","-100%","0%",0,1,0,0,0,"0%","0%","0%","0%","0%",0,1,1,0,0,"0%","0%","100%","0%","0%",0,0,0,0,0,"0%","0%","0%","0%","0%"]
["S in 6",4,4,0,0,0,2,1,1,0,"0%","100%","0%","100%","0%",1,1,1,1,0,"-100%","0%","100%","0%","0%",0,0,0,0,0,"0%","0%","0%","0%","0%",0,0,0,0,0,"0%","0%","0%","0%","0%"]
["S in 5",5,0,5,0,0,1,4,0,0,"0%","0%","50%","0%","0%",0,0,0,0,0,"0%","0%","0%","0%","0%",0,2,1,2,0,"0%","50%","0%","100%","0%",0,0,0,0,0,"0%","0%","0%","0%","0%"]
["S in 4",5,0,1,0,2,2,1,0,0,"50%","100%","100%","0%","0%",0,0,0,0,0,"0%","0%","0%","0%","0%",0,0,0,0,1,"0%","0%","0%","0%","100%",0,0,0,0,0,"0%","0%","0%","0%","0%"]
["S in 3",2,5,0,0,0,2,0,0,0,"0%","100%","0%","0%","0%",1,2,0,0,1,"-100%","50%","0%","0%","100%",0,0,0,0,0,"0%","0%","0%","0%","0%",0,0,0,0,0,"0%","0%","0%","0%","0%"]
["S in 2",10,0,1,0,3,3,0,0,4,"-33%","33%","0%","0%","0%",0,0,0,0,0,"0%","0%","0%","0%","0%",0,0,0,0,0,"0%","0%","0%","0%","0%",0,0,0,0,0,"0%","0%","0%","0%","0%"]
[]
["0-20","K1","K2","K7","KD","P4","SA","H6","P2","H1","P4-E","SA-E","H6-E","P2-E","H1-E","P4","SA","H6","P2","H1","P4-E","SA-E","H6-E","P2-E","H1-E","P4","SA","H6","P2","H1","P4-E","SA-E","H6-E","P2-E","H1-E","P4","SA","H6","P2","H1","P4-E","SA-E","H6-E","P2-E","H1-E"]
["S in 1",5,1,0,0,3,0,1,1,0,"67%","0%","-100%","-100%","0%",0,1,0,0,0,"0%","0%","0%","0%","0%",0,0,0,0,0,"0%","0%","0%","0%","0%",0,0,0,0,0,"0%","0%","0%","0%","0%"]
["S in 6",4,3,0,0,0,2,1,1,0,"0%","100%","0%","100%","0%",0,1,1,1,0,"0%","0%","100%","0%","0%",0,0,0,0,0,"0%","0%","0%","0%","0%",0,0,0,0,0,"0%","0%","0%","0%","0%"]
["S in 5",5,0,4,0,0,1,4,0,0,"0%","0%","50%","0%","0%",0,0,0,0,0,"0%","0%","0%","0%","0%",0,2,1,1,0,"0%","50%","0%","100%","0%",0,0,0,0,0,"0%","0%","0%","0%","0%"]
["S in 4",5,0,1,0,2,2,1,0,0,"50%","100%","100%","0%","0%",0,0,0,0,0,"0%","0%","0%","0%","0%",0,0,0,0,1,"0%","0%","0%","0%","100%",0,0,0,0,0,"0%","0%","0%","0%","0%"]
["S in 3",2,5,0,0,0,2,0,0,0,"0%","100%","0%","0%","0%",1,2,0,0,1,"-100%","50%","0%","0%","100%",0,0,0,0,0,"0%","0%","0%","0%","0%",0,0,0,0,0,"0%","0%","0%","0%","0%"]
["S in 2",10,0,0,0,3,3,0,0,4,"-33%","33%","0%","0%","0%",0,0,0,0,0,"0%","0%","0%","0%","0%",0,0,0,0,0,"0%","0%","0%","0%","0%",0,0,0,0,0,"0%","0%","0%","0%","0%"]
[]
["20-x","K1","K2","K7","KD","P4","SA","H6","P2","H1","P4-E","SA-E","H6-E","P2-E","H1-E","P4","SA","H6","P2","H1","P4-E","SA-E","H6-E","P2-E","H1-E","P4","SA","H6","P2","H1","P4-E","SA-E","H6-E","P2-E","H1-E","P4","SA","H6","P2","H1","P4-E","SA-E","H6-E","P2-E","H1-E"]
["S in 1",1,0,2,0,1,0,0,0,0,"100%","0%","0%","0%","0%",0,0,0,0,0,"0%","0%","0%","0%","0%",0,1,1,0,0,"0%","0%","100%","0%","0%",0,0,0,0,0,"0%","0%","0%","0%","0%"]
["S in 6",0,1,0,0,0,0,0,0,0,"0%","0%","0%","0%","0%",1,0,0,0,0,"-100%","0%","0%","0%","0%",0,0,0,0,0,"0%","0%","0%","0%","0%",0,0,0,0,0,"0%","0%","0%","0%","0%"]
["S in 5",0,0,1,0,0,0,0,0,0,"0%","0%","0%","0%","0%",0,0,0,0,0,"0%","0%","0%","0%","0%",0,0,0,1,0,"0%","0%","0%","100%","0%",0,0,0,0,0,"0%","0%","0%","0%","0%"]
["S in 4",0,0,0,0,0,0,0,0,0,"0%","0%","0%","0%","0%",0,0,0,0,0,"0%","0%","0%","0%","0%",0,0,0,0,0,"0%","0%","0%","0%","0%",0,0,0,0,0,"0%","0%","0%","0%","0%"]
["S in 3",0,0,0,0,0,0,0,0,0,"0%","0%","0%","0%","0%",0,0,0,0,0,"0%","0%","0%","0%","0%",0,0,0,0,0,"0%","0%","0%","0%","0%",0,0,0,0,0,"0%","0%","0%","0%","0%"]
["S in 2",0,0,1,0,0,0,0,0,0,"0%","0%","0%","0%","0%",0,0,0,0,0,"0%","0%","0%","0%","0%",0,0,0,0,0,"0%","0%","0%","0%","0%",0,0,0,0,0,"0%","0%","0%","0%","0%"]
[]
[]
[]
["A on R","alle","P4","X",4,1,"Set",3,"OF","P2","HF6","HF1","alle","P4","X",4,1,"Set",3,"OF","P2","HF6","HF1","alle","P4","X",4,1,"Set",3,"OF","P2","HF6","HF1"]
["S in 1",1,0,0,1,0,0,0,0,0,0,0,5,3,0,0,0,0,0,0,0,1,0,3,1,0,0,0,0,0,0,1,1,0]
["S in 6",1,0,0,0,0,0,0,0,0,0,0,6,1,0,0,2,0,0,0,1,2,0,1,0,0,0,0,0,0,0,0,0,0]
["S in 5",1,0,0,1,0,0,0,0,0,0,0,5,0,0,1,0,0,0,0,1,3,0,4,0,0,0,1,0,0,0,1,2,0]
["S in 4",0,0,0,0,0,0,0,0,0,0,0,5,2,0,0,1,0,0,0,0,1,1,1,0,0,0,1,0,0,0,0,0,0]
["S in 3",2,0,0,0,0,0,0,0,0,0,0,4,1,0,0,1,1,0,0,0,0,1,1,0,0,0,1,0,0,0,0,0,0]
["S in 2",0,0,0,0,0,0,0,0,0,0,0,4,1,1,0,1,0,0,0,0,0,1,6,2,0,0,1,0,0,0,0,0,3]
[]
["S in 1",0,0,0,0,0,0,0,0,0,0,0,0,0,0,0,0,0,0,0,0,0,0,0,0,0,0,0,0,0,0,0,0,0]
["S in 6",0,0,0,0,0,0,0,0,0,0,0,0,0,0,0,0,0,0,0,0,0,0,0,0,0,0,0,0,0,0,0,0,0]
["S in 5",0,0,0,0,0,0,0,0,0,0,0,0,0,0,0,0,0,0,0,0,0,0,0,0,0,0,0,0,0,0,0,0,0]
["S in 4",0,0,0,0,0,0,0,0,0,0,0,0,0,0,0,0,0,0,0,0,0,0,0,0,0,0,0,0,0,0,0,0,0]
["S in 3",0,0,0,0,0,0,0,0,0,0,0,0,0,0,0,0,0,0,0,0,0,0,0,0,0,0,0,0,0,0,0,0,0]
["S in 2",0,0,0,0,0,0,0,0,0,0,0,1,0,0,0,1,0,0,0,0,0,0,0,0,0,0,0,0,0,0,0,0,0]
[]
[]
["Settermovement"]
[null,"Position 2",null,null,null,null,null,null,null,null,null,null,"Position 3",null,null,null,null,null,null,null,null,null,null,"Position 4"]
[null,"alle","P4","X",4,1,"Set",3,"OF","P2","HF6","HF1","alle","P4","X",4,1,"Set",3,"OF","P2","HF6","HF1","alle","P4","X",4,1,"Set",3,"OF","P2","HF6","HF1"]
["S in 1",0,0,0,0,0,0,0,0,0,0,0,9,4,0,1,0,0,1,0,1,2,0,0,0,0,0,0,0,0,0,0,0,0]
["S in 6",0,0,0,0,0,0,0,0,0,0,0,8,1,0,0,2,0,1,0,1,2,0,0,0,0,0,0,0,0,0,0,0,0]
["S in 5",1,0,0,0,0,0,0,0,0,1,0,9,0,0,2,1,0,0,0,2,4,0,0,0,0,0,0,0,0,0,0,0,0]
["S in 4",0,0,0,0,0,0,0,0,0,0,0,6,2,0,0,2,0,0,0,0,1,1,0,0,0,0,0,0,0,0,0,0,0]
["S in 3",1,0,0,0,0,1,0,0,0,0,0,6,1,0,0,2,0,2,0,0,0,1,0,0,0,0,0,0,0,0,0,0,0]
["S in 2",0,0,0,0,0,0,0,0,0,0,0,11,3,1,0,3,0,0,0,0,0,4,0,0,0,0,0,0,0,0,0,0,0]
[]
[]
["K1-Distribution after R all"]
[null,"r","Eff","#","r2","r2E","r2#","r3","r3E","r3#","r4","r4E","r4#","r9","r9E","r9#","r8","r8E","r8#","r7","r7E","r7#","rS","rSE","rS#"]
["S in 1",10,"20%",4,2,"-50%",0,2,"0%",0,4,"75%",3,0,"0%",0,2,"0%",1,0,"0%",0,0,"0%",0]
["S in 6",19,"47%",11,7,"86%",6,6,"33%",3,4,"0%",1,0,"0%",0,2,"50%",1,0,"0%",0,0,"0%",0]
["S in 5",12,"33%",6,3,"67%",2,3,"33%",1,0,"0%",0,0,"0%",0,6,"17%",3,0,"0%",0,0,"0%",0]
["S in 4",9,"33%",5,0,"0%",0,2,"100%",2,2,"50%",1,3,"-33%",1,2,"50%",1,0,"0%",0,0,"0%",0]
["S in 3",8,"38%",5,0,"0%",0,4,"75%",3,1,"-100%",0,3,"33%",2,0,"0%",0,0,"0%",0,0,"0%",0]
["S in 2",16,"6%",8,0,"0%",0,4,"50%",3,7,"-14%",3,5,"0%",2,0,"0%",0,0,"0%",0,0,"0%",0]
[]
[]
["K2-Distribution"]
[null,"d","Eff","#","d2","d2E","d2#","d3","d3E","d3#","d4","d4E","d4#","d9","d9E","d9#","d8","d8E","d8#","d7","d7E","d7#","dS","dSE","dS#"]
["S in 1",6,"17%",3,0,"0%",0,0,"0%",0,5,"0%",2,0,"0%",0,1,"100%",1,0,"0%",0,0,"0%",0]
["S in 6",6,"-33%",2,3,"-100%",0,1,"100%",1,2,"0%",1,0,"0%",0,0,"0%",0,0,"0%",0,0,"0%",0]
["S in 5",8,"62%",6,2,"100%",2,1,"100%",1,4,"25%",2,0,"0%",0,1,"100%",1,0,"0%",0,0,"0%",0]
["S in 4",2,"0%",1,0,"0%",0,0,"0%",0,1,"-100%",0,0,"0%",0,1,"100%",1,0,"0%",0,0,"0%",0]
["S in 3",1,"-100%",0,0,"0%",0,0,"0%",0,0,"0%",0,0,"0%",0,1,"-100%",0,0,"0%",0,0,"0%",0]
["S in 2",4,"50%",2,0,"0%",0,1,"0%",0,3,"67%",2,0,"0%",0,0,"0%",0,0,"0%",0,0,"0%",0]
[]
[]
["K1-Distribution after R#+"]
[null,"r","Eff","#","r2","r2E","r2#","r3","r3E","r3#","r4","r4E","r4#","r9","r9E","r9#","r8","r8E","r8#","r7","r7E","r7#","rS","rSE","rS#"]
["S in 1",9,"22%",4,1,"-100%",0,2,"0%",0,4,"75%",3,0,"0%",0,2,"0%",1,0,"0%",0,0,"0%",0]
["S in 6",8,"38%",4,2,"50%",1,3,"67%",2,1,"-100%",0,0,"0%",0,2,"50%",1,0,"0%",0,0,"0%",0]
["S in 5",10,"50%",6,2,"100%",2,3,"33%",1,0,"0%",0,0,"0%",0,5,"40%",3,0,"0%",0,0,"0%",0]
["S in 4",6,"83%",5,0,"0%",0,2,"100%",2,2,"50%",1,1,"100%",1,1,"100%",1,0,"0%",0,0,"0%",0]
["S in 3",6,"50%",4,0,"0%",0,4,"75%",3,1,"-100%",0,1,"100%",1,0,"0%",0,0,"0%",0,0,"0%",0]
["S in 2",11,"9%",6,0,"0%",0,4,"50%",3,3,"-33%",1,4,"0%",2,0,"0%",0,0,"0%",0,0,"0%",0]
[]
[]
["KOREA",5]
["1 SONG",5]
["4 SHIN",5]
["6 LEE",5]
["8 PARK",3]
["9 KWAK",5]
["11 CHOI",4]
["12 JEON",0]
["14 SONG",2]
["16 CHOI",5]
["17 SEO",4]

{"sheet":"Daten SR","index":22,"n_rows":19,"n_cols":43,"rows_kept":19,"cut":false,"hidden":false,"merged":[]}
["Worksheet - home - Spielanalyse SR"]
[]
[]
[null,"S","SH","SM","SQ","ST","Sx","S 1","S 9","S 6","S 7","S 5","S Eff","S #","S =","R","R #","R +","R /=","R 1","R 1#","R 1+","R 1/=","R 6","R 6#","R 6+","R 6/=","R 5","R 5#","R 5+","R 5/=","R 4","R 4#","R 4+","R 4/=","R 3","R 3#","R 3+","R 3/=","R 2","R 2#","R 2+","R 2/="]
["KOREA",101,1,72,28,0,0,34,18,9,18,22,"23%",2,11,82,22,29,2,10,4,5,0,22,4,4,2,15,5,5,0,10,3,3,0,9,0,7,0,16,6,5,0]
["1 SONG",16,0,0,16,0,0,2,8,5,1,0,"6%",1,4,7,1,4,1,3,1,2,0,3,0,1,1,0,0,0,0,1,0,1,0,0,0,0,0,0,0,0,0]
["4 SHIN",14,0,14,0,0,0,0,0,0,0,14,"14%",0,1,0,0,0,0,0,0,0,0,0,0,0,0,0,0,0,0,0,0,0,0,0,0,0,0,0,0,0,0]
["6 LEE",6,0,6,0,0,0,6,0,0,0,0,"33%",0,0,0,0,0,0,0,0,0,0,0,0,0,0,0,0,0,0,0,0,0,0,0,0,0,0,0,0,0,0]
["8 PARK",2,0,2,0,0,0,0,0,2,0,0,"0%",0,0,0,0,0,0,0,0,0,0,0,0,0,0,0,0,0,0,0,0,0,0,0,0,0,0,0,0,0,0]
["9 KWAK",15,0,12,3,0,0,12,3,0,0,0,"7%",0,1,29,5,11,0,4,1,2,0,4,0,0,0,5,1,2,0,3,2,1,0,4,0,2,0,9,1,4,0]
["11 CHOI",18,0,18,0,0,0,1,1,0,11,5,"50%",1,1,0,0,0,0,0,0,0,0,0,0,0,0,0,0,0,0,0,0,0,0,0,0,0,0,0,0,0,0]
["12 JEON",0,0,0,0,0,0,0,0,0,0,0,"0%",0,0,0,0,0,0,0,0,0,0,0,0,0,0,0,0,0,0,0,0,0,0,0,0,0,0,0,0,0,0]
["14 SONG",5,0,2,3,0,0,0,3,2,0,0,"0%",0,2,11,5,2,0,0,0,0,0,4,1,1,0,1,0,1,0,2,1,0,0,0,0,0,0,4,3,0,0]
["16 CHOI",3,0,2,1,0,0,1,2,0,0,0,"-33%",0,1,0,0,0,0,0,0,0,0,0,0,0,0,0,0,0,0,0,0,0,0,0,0,0,0,0,0,0,0]
["17 SEO",10,1,4,5,0,0,0,1,0,6,3,"50%",0,1,2,1,0,0,0,0,0,0,1,0,0,0,1,1,0,0,0,0,0,0,0,0,0,0,0,0,0,0]
["19 JEONG",0,0,0,0,0,0,0,0,0,0,0,"0%",0,0,33,10,12,1,3,2,1,0,10,3,2,1,8,3,2,0,4,0,1,0,5,0,5,0,3,2,1,0]
["20 JI",0,0,0,0,0,0,0,0,0,0,0,"0%",0,0,0,0,0,0,0,0,0,0,0,0,0,0,0,0,0,0,0,0,0,0,0,0,0,0,0,0,0,0]
["22 YOU",12,0,12,0,0,0,12,0,0,0,0,"33%",0,0,0,0,0,0,0,0,0,0,0,0,0,0,0,0,0,0,0,0,0,0,0,0,0,0,0,0,0,0]
["25 OH",0,0,0,0,0,0,0,0,0,0,0,"0%",0,0,0,0,0,0,0,0,0,0,0,0,0,0,0,0,0,0,0,0,0,0,0,0,0,0,0,0,0,0]

{"sheet":"Daten MR","index":23,"n_rows":28,"n_cols":48,"rows_kept":28,"cut":false,"hidden":false,"merged":[]}
["Worksheet - home - Spielanalyse MR"]
[]
[]
[null,null,null,"Points",null,null,null,"Serve",null,null,null,null,null,"Reception",null,null,null,null,null,null,null,null,"Attack",null,null,null,null,null,null,null,"Block",null,null,null,null,"Defense",null,null,null,null,"Freeball",null,null,null,null,"Set"]
[null,null,"Set","pts","easy=","all=","W-L","sum","eff%","=","-","+","#","sum","eff%","=","/","-","+","#","+#%","#%","sum","eff%","=","/","!","+","#","#%","sum","eff%","=","+","#","sum","eff%","=","/-!","+#","sum","eff%","err","bad","god","sum","eff%","="]
[null,"KOREA",5,66,26,78,-12,101,"23%",11,56,32,2,82,"60%",1,1,29,29,22,"62%","27%",104,"26%",12,15,3,9,54,"52%",51,"-16%",22,4,10,60,"3%",15,28,17,1,"0%",0,1,0,98,"59%",2]
[null,"1 SONG",5,18,11,19,-1,16,"6%",4,7,4,1,7,"57%",1,0,1,4,1,"71%","14%",30,"17%",6,4,0,4,15,"50%",3,"33%",1,0,2,15,"20%",3,6,6,1,"0%",0,1,0,3,"0%",0]
[null,"4 SHIN",5,11,2,6,5,14,"14%",1,10,3,0,0,"0",0,0,0,0,0,"0","0",11,"73%",0,0,0,1,8,"73%",12,"-8%",4,0,3,5,"60%",0,2,3,0,"0%",0,0,0,2,"-50%",1]
[null,"6 LEE",5,2,1,6,-4,6,"33%",0,4,2,0,0,"0",0,0,0,0,0,"0","0",2,"0%",1,0,0,0,1,"50%",6,"-33%",3,0,1,4,"-25%",2,1,1,0,"0%",0,0,0,59,"73%",0]
[null,"8 PARK",3,1,1,6,-5,2,"0%",0,2,0,0,0,"0",0,0,0,0,0,"0","0",5,"-40%",1,2,0,0,1,"20%",5,"-60%",3,0,0,0,"0%",0,0,0,0,"0%",0,0,0,0,"0%",0]
[null,"9 KWAK",5,4,2,8,-4,15,"7%",1,12,2,0,29,"55%",0,0,13,11,5,"55%","17%",7,"29%",1,1,0,0,4,"57%",4,"-75%",3,0,0,6,"0%",2,2,2,0,"0%",0,0,0,0,"0%",0]
[null,"11 CHOI",4,7,1,5,2,18,"50%",1,7,9,1,0,"0",0,0,0,0,0,"0","0",8,"50%",0,0,0,2,4,"50%",12,"8%",4,3,2,0,"0%",0,0,0,0,"0%",0,0,0,0,"0%",0]
[null,"12 JEON",0,0,0,0,0,0,"0%",0,0,0,0,0,"0",0,0,0,0,0,"0","0",0,"0%",0,0,0,0,0,"0",0,"0%",0,0,0,0,"0%",0,0,0,0,"0%",0,0,0,0,"0%",0]
[null,"14 SONG",2,1,2,4,-3,5,"0%",2,1,2,0,11,"64%",0,0,4,2,5,"63%","45%",5,"0%",0,1,1,0,1,"20%",2,"-50%",1,0,0,2,"0%",0,2,0,0,"0%",0,0,0,0,"0%",0]
[null,"16 CHOI",5,10,2,5,5,3,"-33%",1,2,0,0,0,"0",0,0,0,0,0,"0","0",15,"40%",1,2,0,1,9,"60%",3,"0%",1,0,1,3,"0%",0,3,0,0,"0%",0,0,0,0,"0%",0]
[null,"17 SEO",4,11,3,12,-1,10,"50%",1,3,6,0,2,"50%",0,0,1,0,1,"50%","50%",20,"20%",2,5,1,1,11,"55%",2,"0%",1,1,0,8,"-12%",3,3,2,0,"0%",0,0,0,3,"0%",0]
[null,"19 JEONG",5,0,0,4,-4,0,"0%",0,0,0,0,33,"64%",0,1,10,12,10,"66%","30%",0,"0%",0,0,0,0,0,"0",0,"0%",0,0,0,12,"-8%",4,5,3,0,"0%",0,0,0,2,"0%",0]
[null,"20 JI",0,0,0,0,0,0,"0%",0,0,0,0,0,"0",0,0,0,0,0,"0","0",0,"0%",0,0,0,0,0,"0",0,"0%",0,0,0,0,"0%",0,0,0,0,"0%",0,0,0,0,"0%",0]
[null,"22 YOU",5,1,1,3,-2,12,"33%",0,8,4,0,0,"0",0,0,0,0,0,"0","0",1,"0%",0,0,1,0,0,"0%",2,"0%",1,0,1,4,"-25%",1,3,0,0,"0%",0,0,0,28,"57%",1]
[null,"25 OH",1,0,0,0,0,0,"0%",0,0,0,0,0,"0",0,0,0,0,0,"0","0",0,"0%",0,0,0,0,0,"0",0,"0%",0,0,0,1,"0%",0,1,0,0,"0%",0,0,0,1,"0%",0]
[]
[]
[null,"Opp-Errors"]
[null,"S1:",10]
[null,"S2:",5]
[null,"S3:",9]
[null,"S4:",9]
[null,"S5:",3]

{"sheet":"Daten A1","index":24,"n_rows":20,"n_cols":50,"rows_kept":20,"cut":false,"hidden":false,"merged":[]}
["Worksheet - home - Spielanalyse A1"]
[]
[]
[null,"K1 & K2 Attacks",null,null,null,null,null,null,"K1 All Attacks",null,null,null,null,null,null,"K1 after R#+",null,null,null,null,null,null,"K1 after R-!",null,null,null,null,null,null,"K2 Attacks",null,null,null,null,null,null,"K2 after F",null,null,null,null,null,null,"after R another",null,null,"after R own"]
[null,"sum","perc","eff","=","/","#","pts%","sum","perc","eff","=","/","#","pts%","sum","perc","eff","=","/","#","pts%","sum","perc","eff","=","/","#","pts%","sum","perc","eff","=","/","#","pts%","sum","perc","eff","=","/","#","pts%","sum","eff","#","sum","eff","#"]
["KOREA",101,"100%","27%",11,15,53,"52%",74,"100%","30%",8,9,39,"53%",50,"100%","38%",5,5,29,"58%",24,"100%","12%",3,4,10,"42%",27,"100%","19%",3,6,14,"52%",12,"150%","42%",1,2,8,"67%",0,"0%",0,74,"30%",39,"KOREA"]
["1 SONG",30,"30%","17%",6,4,15,"50%",23,"31%","9%",6,3,11,"48%",17,"34%","18%",4,2,9,"53%",6,"25%","-17%",2,1,2,"33%",7,"26%","43%",0,1,4,"57%",3,"100%","100%",0,0,3,"100%",23,"9%",11,0,"0%",0,"1 SONG"]
["4 SHIN",11,"11%","73%",0,0,8,"73%",10,"14%","70%",0,0,7,"70%",9,"18%","67%",0,0,6,"67%",1,"4%","100%",0,0,1,"100%",1,"4%","100%",0,0,1,"100%",1,"100%","100%",0,0,1,"100%",10,"70%",7,0,"0%",0,"4 SHIN"]
["6 LEE",0,"0%","0%",0,0,0,"0",0,"0%","0%",0,0,0,"0",0,"0%","0%",0,0,0,"0",0,"0%","0%",0,0,0,"0",0,"0%","0%",0,0,0,"0",0,"0","0%",0,0,0,"0",0,"0%",0,0,"0%",0,"6 LEE"]
["8 PARK",5,"5%","-40%",1,2,1,"20%",4,"5%","-25%",0,2,1,"25%",3,"6%","0%",0,1,1,"33%",1,"4%","-100%",0,1,0,"0%",1,"4%","-100%",1,0,0,"0%",0,"0","0%",0,0,0,"0",4,"-25%",1,0,"0%",0,"8 PARK"]
["9 KWAK",7,"7%","29%",1,1,4,"57%",2,"3%","50%",0,0,1,"50%",2,"4%","50%",0,0,1,"50%",0,"0%","0%",0,0,0,"0",5,"19%","20%",1,1,3,"60%",2,"200%","0%",1,0,1,"50%",1,"100%",1,1,"0%",0,"9 KWAK"]
["11 CHOI",8,"8%","50%",0,0,4,"50%",6,"8%","50%",0,0,3,"50%",5,"10%","60%",0,0,3,"60%",1,"4%","0%",0,0,0,"0%",2,"7%","50%",0,0,1,"50%",2,"200%","50%",0,0,1,"50%",6,"50%",3,0,"0%",0,"11 CHOI"]
["12 JEON",0,"0%","0%",0,0,0,"0",0,"0%","0%",0,0,0,"0",0,"0%","0%",0,0,0,"0",0,"0%","0%",0,0,0,"0",0,"0%","0%",0,0,0,"0",0,"0","0%",0,0,0,"0",0,"0%",0,0,"0%",0,"12 JEON"]
["14 SONG",5,"5%","0%",0,1,1,"20%",3,"4%","33%",0,0,1,"33%",0,"0%","0%",0,0,0,"0",3,"12%","33%",0,0,1,"33%",2,"7%","-50%",0,1,0,"0%",0,"0","0%",0,0,0,"0",2,"50%",1,1,"0%",0,"14 SONG"]
["16 CHOI",15,"15%","40%",1,2,9,"60%",10,"14%","50%",0,1,6,"60%",6,"12%","67%",0,0,4,"67%",4,"17%","25%",0,1,2,"50%",5,"19%","20%",1,1,3,"60%",2,"200%","0%",0,1,1,"50%",10,"50%",6,0,"0%",0,"16 CHOI"]
["17 SEO",20,"20%","20%",2,5,11,"55%",16,"22%","25%",2,3,9,"56%",8,"16%","25%",1,2,5,"62%",8,"33%","25%",1,1,4,"50%",4,"15%","0%",0,2,2,"50%",2,"200%","0%",0,1,1,"50%",16,"25%",9,0,"0%",0,"17 SEO"]
["19 JEONG",0,"0%","0%",0,0,0,"0",0,"0%","0%",0,0,0,"0",0,"0%","0%",0,0,0,"0",0,"0%","0%",0,0,0,"0",0,"0%","0%",0,0,0,"0",0,"0","0%",0,0,0,"0",0,"0%",0,0,"0%",0,"19 JEONG"]
["20 JI",0,"0%","0%",0,0,0,"0",0,"0%","0%",0,0,0,"0",0,"0%","0%",0,0,0,"0",0,"0%","0%",0,0,0,"0",0,"0%","0%",0,0,0,"0",0,"0","0%",0,0,0,"0",0,"0%",0,0,"0%",0,"20 JI"]
["22 YOU",0,"0%","0%",0,0,0,"0",0,"0%","0%",0,0,0,"0",0,"0%","0%",0,0,0,"0",0,"0%","0%",0,0,0,"0",0,"0%","0%",0,0,0,"0",0,"0","0%",0,0,0,"0",0,"0%",0,0,"0%",0,"22 YOU"]
["25 OH",0,"0%","0%",0,0,0,"0",0,"0%","0%",0,0,0,"0",0,"0%","0%",0,0,0,"0",0,"0%","0%",0,0,0,"0",0,"0%","0%",0,0,0,"0",0,"0","0%",0,0,0,"0",0,"0%",0,0,"0%",0,"25 OH"]

{"sheet":"Daten A2","index":25,"n_rows":20,"n_cols":49,"rows_kept":20,"cut":false,"hidden":false,"merged":[]}
["Worksheet - home - Spielanalyse A2"]
[]
[]
[null,"S1 Transition",null,null,null,"S1 after R#+",null,null,null,"S6 Transition",null,null,null,"S6 after R#+",null,null,null,"S5 Transition",null,null,null,"S5 after R#+",null,null,null,"S4 Transition",null,null,null,"S4 after R#+",null,null,null,"S3 Transition",null,null,null,"S3 after R#+",null,null,null,"S2 Transition",null,null,null,"S2 after R#+"]
[null,"A","Eff","A#","A=","A","Eff","A#","A=","A","Eff","A#","A=","A","Eff","A#","A=","A","Eff","A#","A=","A","Eff","A#","A=","A","Eff","A#","A=","A","Eff","A#","A=","A","Eff","A#","A=","A","Eff","A#","A=","A","Eff","A#","A=","A","Eff","A#","A="]
["KOREA",6,"17%",3,1,9,"22%",4,0,6,"-33%",2,0,8,"38%",4,1,8,"62%",6,1,10,"50%",6,1,2,"0%",1,0,6,"83%",5,0,1,"-100%",0,1,6,"50%",4,1,4,"50%",2,0,11,"9%",6,2]
["1 SONG",3,"0%",1,0,3,"33%",2,0,0,"0%",0,0,3,"0%",1,1,1,"100%",1,0,5,"40%",3,1,0,"0%",0,0,1,"100%",1,0,0,"0%",0,0,1,"-100%",0,1,3,"67%",2,0,4,"0%",2,1]
["4 SHIN",0,"0%",0,0,0,"0%",0,0,0,"0%",0,0,0,"0%",0,0,1,"100%",1,0,3,"33%",1,0,0,"0%",0,0,2,"100%",2,0,0,"0%",0,0,4,"75%",3,0,0,"0%",0,0,0,"0%",0,0]
["6 LEE",0,"0%",0,0,0,"0%",0,0,0,"0%",0,0,0,"0%",0,0,0,"0%",0,0,0,"0%",0,0,0,"0%",0,0,0,"0%",0,0,0,"0%",0,0,0,"0%",0,0,0,"0%",0,0,0,"0%",0,0]
["8 PARK",1,"-100%",0,1,0,"0%",0,0,0,"0%",0,0,2,"50%",1,0,0,"0%",0,0,0,"0%",0,0,0,"0%",0,0,0,"0%",0,0,0,"0%",0,0,0,"0%",0,0,0,"0%",0,0,1,"-100%",0,0]
["9 KWAK",0,"0%",0,0,0,"0%",0,0,1,"100%",1,0,0,"0%",0,0,3,"33%",2,1,0,"0%",0,0,1,"-100%",0,0,2,"50%",1,0,0,"0%",0,0,0,"0%",0,0,0,"0%",0,0,0,"0%",0,0]
["11 CHOI",0,"0%",0,0,2,"0%",0,0,1,"100%",1,0,1,"100%",1,0,0,"0%",0,0,0,"0%",0,0,0,"0%",0,0,0,"0%",0,0,0,"0%",0,0,0,"0%",0,0,1,"0%",0,0,2,"100%",2,0]
["12 JEON",0,"0%",0,0,0,"0%",0,0,0,"0%",0,0,0,"0%",0,0,0,"0%",0,0,0,"0%",0,0,0,"0%",0,0,0,"0%",0,0,0,"0%",0,0,0,"0%",0,0,0,"0%",0,0,0,"0%",0,0]
["14 SONG",0,"0%",0,0,0,"0%",0,0,1,"-100%",0,0,0,"0%",0,0,1,"0%",0,0,0,"0%",0,0,0,"0%",0,0,0,"0%",0,0,0,"0%",0,0,0,"0%",0,0,0,"0%",0,0,0,"0%",0,0]
["16 CHOI",2,"100%",2,0,3,"67%",2,0,1,"-100%",0,0,1,"0%",0,0,0,"0%",0,0,1,"100%",1,0,1,"100%",1,0,0,"0%",0,0,1,"-100%",0,1,0,"0%",0,0,0,"0%",0,0,1,"100%",1,0]
["17 SEO",0,"0%",0,0,1,"-100%",0,0,2,"-100%",0,0,1,"100%",1,0,2,"100%",2,0,1,"100%",1,0,0,"0%",0,0,1,"100%",1,0,0,"0%",0,0,1,"100%",1,0,0,"0%",0,0,3,"-33%",1,1]
["19 JEONG",0,"0%",0,0,0,"0%",0,0,0,"0%",0,0,0,"0%",0,0,0,"0%",0,0,0,"0%",0,0,0,"0%",0,0,0,"0%",0,0,0,"0%",0,0,0,"0%",0,0,0,"0%",0,0,0,"0%",0,0]
["20 JI",0,"0%",0,0,0,"0%",0,0,0,"0%",0,0,0,"0%",0,0,0,"0%",0,0,0,"0%",0,0,0,"0%",0,0,0,"0%",0,0,0,"0%",0,0,0,"0%",0,0,0,"0%",0,0,0,"0%",0,0]
["22 YOU",0,"0%",0,0,0,"0%",0,0,0,"0%",0,0,0,"0%",0,0,0,"0%",0,0,0,"0%",0,0,0,"0%",0,0,0,"0%",0,0,0,"0%",0,0,0,"0%",0,0,0,"0%",0,0,0,"0%",0,0]
["25 OH",0,"0%",0,0,0,"0%",0,0,0,"0%",0,0,0,"0%",0,0,0,"0%",0,0,0,"0%",0,0,0,"0%",0,0,0,"0%",0,0,0,"0%",0,0,0,"0%",0,0,0,"0%",0,0,0,"0%",0,0]

{"sheet":"Daten AfR","index":26,"n_rows":14,"n_cols":15,"rows_kept":14,"cut":false,"hidden":false,"merged":[]}
["Worksheet - home - Spielanalyse R"]
[]
[null,null,"Name","S1",null,"S6",null,"S5",null,"S4",null,"S3",null,"S2"]
["Outsides 1","n.1","1 SONG","100%",3,"0%",3,"0%",0,"50%",2,"0%",0,"0%",0]
["Outsides 2","n.14","14 SONG","0%",0,"50%",4,"100%",1,"100%",1,"0%",0,"75%",4]
["Libero","n.19","19 JEONG","100%",3,"40%",10,"62%",8,"25%",4,"100%",5,"100%",3]
[]
[null,null,"/"]
[null,"n.13","S in 1",0,0,0,0,0]
[null,null,"S in 6",0,0,0,0,0]
[null,null,"S in 5",0,0,0,0,0]
[null,null,"S in 4",0,0,0,0,0]
[null,null,"S in 3",0,0,0,0,0]
[null,null,"S in 2",0,0,0,0,0]

{"sheet":"Daten A3","index":27,"n_rows":110,"n_cols":29,"rows_kept":110,"cut":false,"hidden":false,"merged":[]}
["Worksheet - home - Spielanalyse A3"]
[]
[null,null,"S 1",null,"S 6",null,"S 5",null,"S 4",null,"S 3",null,"S 2",null,null,null,null,"S 1",null,"S 6",null,"S 5",null,"S 4",null,"S 3",null,"S 2"]
[null,"ZONA 2","11%",1,"25%",2,"20%",2,"0%",0,"0%",0,"0%",0,null,null,"ZONA 2","----",0,"----",0,"----",0,"----",0,"----",0,"----",0]
[null,"ZONA 3","22%",2,"38%",3,"30%",3,"33%",2,"71%",5,"36%",4,null,null,"ZONA 3","----",0,"----",0,"----",0,"----",0,"----",0,"----",0]
[1,"ZONA 4","44%",4,"12%",1,"0%",0,"33%",2,"14%",1,"27%",3,null,19,"ZONA 4","----",0,"----",0,"----",0,"----",0,"----",0,"----",0]
[null,"ZONA 8","22%",2,"25%",2,"50%",5,"17%",1,"0%",0,"0%",0,null,null,"ZONA 8","----",0,"----",0,"----",0,"----",0,"----",0,"----",0]
[null,"ZONA 9","0%",0,"0%",0,"0%",0,"17%",1,"14%",1,"36%",4,null,null,"ZONA 9","----",0,"----",0,"----",0,"----",0,"----",0,"----",0]
[]
[null,"ZONA 2","----",0,"----",0,"----",0,"----",0,"----",0,"----",0,null,null,"ZONA 2","----",0,"----",0,"----",0,"----",0,"----",0,"----",0]
[null,"ZONA 3","----",0,"----",0,"----",0,"----",0,"----",0,"----",0,null,null,"ZONA 3","----",0,"----",0,"----",0,"----",0,"----",0,"----",0]
[2,"ZONA 4","----",0,"----",0,"----",0,"----",0,"----",0,"----",0,null,20,"ZONA 4","----",0,"----",0,"----",0,"----",0,"----",0,"----",0]
[null,"ZONA 8","----",0,"----",0,"----",0,"----",0,"----",0,"----",0,null,null,"ZONA 8","----",0,"----",0,"----",0,"----",0,"----",0,"----",0]
[null,"ZONA 9","----",0,"----",0,"----",0,"----",0,"----",0,"----",0,null,null,"ZONA 9","----",0,"----",0,"----",0,"----",0,"----",0,"----",0]
[]
[null,"ZONA 2","----",0,"----",0,"----",0,"----",0,"----",0,"----",0,null,null,"ZONA 2","----",0,"----",0,"----",0,"----",0,"----",0,"----",0]
[null,"ZONA 3","----",0,"----",0,"----",0,"----",0,"----",0,"----",0,null,null,"ZONA 3","----",0,"----",0,"----",0,"----",0,"----",0,"----",0]
[3,"ZONA 4","----",0,"----",0,"----",0,"----",0,"----",0,"----",0,null,21,"ZONA 4","----",0,"----",0,"----",0,"----",0,"----",0,"----",0]
[null,"ZONA 8","----",0,"----",0,"----",0,"----",0,"----",0,"----",0,null,null,"ZONA 8","----",0,"----",0,"----",0,"----",0,"----",0,"----",0]
[null,"ZONA 9","----",0,"----",0,"----",0,"----",0,"----",0,"----",0,null,null,"ZONA 9","----",0,"----",0,"----",0,"----",0,"----",0,"----",0]
[]
[null,"ZONA 2","11%",1,"25%",2,"20%",2,"0%",0,"0%",0,"0%",0,null,null,"ZONA 2","0%",0,"33%",1,"50%",1,"0%",0,"0%",0,"0%",0]
[null,"ZONA 3","22%",2,"38%",3,"30%",3,"33%",2,"71%",5,"36%",4,null,null,"ZONA 3","40%",2,"0%",0,"50%",1,"0%",0,"0%",0,"100%",1]
[4,"ZONA 4","44%",4,"12%",1,"0%",0,"33%",2,"14%",1,"27%",3,null,22,"ZONA 4","40%",2,"33%",1,"0%",0,"50%",1,"100%",1,"0%",0]
[null,"ZONA 8","22%",2,"25%",2,"50%",5,"17%",1,"0%",0,"0%",0,null,null,"ZONA 8","20%",1,"33%",1,"0%",0,"50%",1,"0%",0,"0%",0]
[null,"ZONA 9","0%",0,"0%",0,"0%",0,"17%",1,"14%",1,"36%",4,null,null,"ZONA 9","0%",0,"0%",0,"0%",0,"0%",0,"0%",0,"0%",0]
[]
[null,"ZONA 2","----",0,"----",0,"----",0,"----",0,"----",0,"----",0,null,null,"ZONA 2","----",0,"----",0,"----",0,"----",0,"----",0,"----",0]
[null,"ZONA 3","----",0,"----",0,"----",0,"----",0,"----",0,"----",0,null,null,"ZONA 3","----",0,"----",0,"----",0,"----",0,"----",0,"----",0]
[5,"ZONA 4","----",0,"----",0,"----",0,"----",0,"----",0,"----",0,null,23,"ZONA 4","----",0,"----",0,"----",0,"----",0,"----",0,"----",0]
[null,"ZONA 8","----",0,"----",0,"----",0,"----",0,"----",0,"----",0,null,null,"ZONA 8","----",0,"----",0,"----",0,"----",0,"----",0,"----",0]
[null,"ZONA 9","----",0,"----",0,"----",0,"----",0,"----",0,"----",0,null,null,"ZONA 9","----",0,"----",0,"----",0,"----",0,"----",0,"----",0]
[]
[null,"ZONA 2","25%",1,"20%",1,"12%",1,"0%",0,"0%",0,"0%",0,null,null,"ZONA 2","----",0,"----",0,"----",0,"----",0,"----",0,"----",0]
[null,"ZONA 3","0%",0,"60%",3,"25%",2,"50%",2,"83%",5,"30%",3,null,null,"ZONA 3","----",0,"----",0,"----",0,"----",0,"----",0,"----",0]
[6,"ZONA 4","50%",2,"0%",0,"0%",0,"25%",1,"0%",0,"30%",3,null,24,"ZONA 4","----",0,"----",0,"----",0,"----",0,"----",0,"----",0]
[null,"ZONA 8","25%",1,"20%",1,"62%",5,"0%",0,"0%",0,"0%",0,null,null,"ZONA 8","----",0,"----",0,"----",0,"----",0,"----",0,"----",0]
[null,"ZONA 9","0%",0,"0%",0,"0%",0,"25%",1,"17%",1,"40%",4,null,null,"ZONA 9","----",0,"----",0,"----",0,"----",0,"----",0,"----",0]
[]
[null,"ZONA 2","----",0,"----",0,"----",0,"----",0,"----",0,"----",0]
[null,"ZONA 3","----",0,"----",0,"----",0,"----",0,"----",0,"----",0]
[7,"ZONA 4","----",0,"----",0,"----",0,"----",0,"----",0,"----",0]
[null,"ZONA 8","----",0,"----",0,"----",0,"----",0,"----",0,"----",0]
[null,"ZONA 9","----",0,"----",0,"----",0,"----",0,"----",0,"----",0]
[]
[null,"ZONA 2","0%",0,"0%",0,"33%",1,"0%",0,"0%",0,"0%",0]
[null,"ZONA 3","0%",0,"67%",2,"33%",1,"100%",1,"100%",1,"33%",1]
[8,"ZONA 4","100%",1,"0%",0,"0%",0,"0%",0,"0%",0,"33%",1]
[null,"ZONA 8","0%",0,"33%",1,"33%",1,"0%",0,"0%",0,"0%",0]
[null,"ZONA 9","0%",0,"0%",0,"0%",0,"0%",0,"0%",0,"33%",1]
[]
[null,"ZONA 2","12%",1,"50%",2,"14%",1,"0%",0,"0%",0,"0%",0]
[null,"ZONA 3","25%",2,"0%",0,"29%",2,"0%",0,"67%",4,"38%",3]
[9,"ZONA 4","38%",3,"25%",1,"0%",0,"50%",2,"17%",1,"25%",2]
[null,"ZONA 8","25%",2,"25%",1,"57%",4,"25%",1,"0%",0,"0%",0]
[null,"ZONA 9","0%",0,"0%",0,"0%",0,"25%",1,"17%",1,"38%",3]
[]
[null,"ZONA 2","----",0,"----",0,"----",0,"----",0,"----",0,"----",0]
[null,"ZONA 3","----",0,"----",0,"----",0,"----",0,"----",0,"----",0]
[10,"ZONA 4","----",0,"----",0,"----",0,"----",0,"----",0,"----",0]
[null,"ZONA 8","----",0,"----",0,"----",0,"----",0,"----",0,"----",0]
[null,"ZONA 9","----",0,"----",0,"----",0,"----",0,"----",0,"----",0]
[]
[null,"ZONA 2","12%",1,"40%",2,"14%",1,"0%",0,"0%",0,"0%",0]
[null,"ZONA 3","25%",2,"20%",1,"29%",2,"20%",1,"67%",4,"38%",3]
[11,"ZONA 4","38%",3,"20%",1,"0%",0,"40%",2,"17%",1,"25%",2]
[null,"ZONA 8","25%",2,"20%",1,"57%",4,"20%",1,"0%",0,"0%",0]
[null,"ZONA 9","0%",0,"0%",0,"0%",0,"20%",1,"17%",1,"38%",3]
[]
[null,"ZONA 2","----",0,"----",0,"----",0,"----",0,"----",0,"----",0]
[null,"ZONA 3","----",0,"----",0,"----",0,"----",0,"----",0,"----",0]
[12,"ZONA 4","----",0,"----",0,"----",0,"----",0,"----",0,"----",0]
[null,"ZONA 8","----",0,"----",0,"----",0,"----",0,"----",0,"----",0]
[null,"ZONA 9","----",0,"----",0,"----",0,"----",0,"----",0,"----",0]
[]
[null,"ZONA 2","----",0,"----",0,"----",0,"----",0,"----",0,"----",0]
[null,"ZONA 3","----",0,"----",0,"----",0,"----",0,"----",0,"----",0]
[13,"ZONA 4","----",0,"----",0,"----",0,"----",0,"----",0,"----",0]
[null,"ZONA 8","----",0,"----",0,"----",0,"----",0,"----",0,"----",0]
[null,"ZONA 9","----",0,"----",0,"----",0,"----",0,"----",0,"----",0]
[]
[null,"ZONA 2","0%",0,"0%",0,"33%",1,"0%",0,"0%",0,"0%",0]
[null,"ZONA 3","0%",0,"75%",3,"33%",1,"100%",2,"100%",1,"33%",1]
[14,"ZONA 4","100%",1,"0%",0,"0%",0,"0%",0,"0%",0,"33%",1]
[null,"ZONA 8","0%",0,"25%",1,"33%",1,"0%",0,"0%",0,"0%",0]
[null,"ZONA 9","0%",0,"0%",0,"0%",0,"0%",0,"0%",0,"33%",1]
[]
[null,"ZONA 2","----",0,"----",0,"----",0,"----",0,"----",0,"----",0]
[null,"ZONA 3","----",0,"----",0,"----",0,"----",0,"----",0,"----",0]
[15,"ZONA 4","----",0,"----",0,"----",0,"----",0,"----",0,"----",0]
[null,"ZONA 8","----",0,"----",0,"----",0,"----",0,"----",0,"----",0]
[null,"ZONA 9","----",0,"----",0,"----",0,"----",0,"----",0,"----",0]
[]
[null,"ZONA 2","0%",0,"50%",1,"50%",1,"0%",0,"0%",0,"0%",0]
[null,"ZONA 3","17%",1,"0%",0,"0%",0,"0%",0,"50%",1,"50%",1]
[16,"ZONA 4","50%",3,"50%",1,"0%",0,"100%",1,"50%",1,"0%",0]
[null,"ZONA 8","33%",2,"0%",0,"50%",1,"0%",0,"0%",0,"0%",0]
[null,"ZONA 9","0%",0,"0%",0,"0%",0,"0%",0,"0%",0,"50%",1]
[]
[null,"ZONA 2","33%",1,"17%",1,"12%",1,"0%",0,"0%",0,"0%",0]
[null,"ZONA 3","33%",1,"50%",3,"38%",3,"40%",2,"80%",4,"33%",3]
[17,"ZONA 4","33%",1,"0%",0,"0%",0,"20%",1,"0%",0,"33%",3]
[null,"ZONA 8","0%",0,"33%",2,"50%",4,"20%",1,"0%",0,"0%",0]
[null,"ZONA 9","0%",0,"0%",0,"0%",0,"20%",1,"20%",1,"33%",3]
[]
[null,"ZONA 2","----",0,"----",0,"----",0,"----",0,"----",0,"----",0]
[null,"ZONA 3","----",0,"----",0,"----",0,"----",0,"----",0,"----",0]
[18,"ZONA 4","----",0,"----",0,"----",0,"----",0,"----",0,"----",0]
[null,"ZONA 8","----",0,"----",0,"----",0,"----",0,"----",0,"----",0]
[null,"ZONA 9","----",0,"----",0,"----",0,"----",0,"----",0,"----",0]

{"sheet":"Daten A4","index":28,"n_rows":110,"n_cols":29,"rows_kept":110,"cut":false,"hidden":false,"merged":[]}
["Worksheet - home - Spielanalyse A4"]
[]
[null,null,"S 1",null,"S 6",null,"S 5",null,"S 4",null,"S 3",null,"S 2",null,null,null,null,"S 1",null,"S 6",null,"S 5",null,"S 4",null,"S 3",null,"S 2"]
[null,"ZONA 2","-100%","0%","50%","50%","100%","100%","0%","----","0%","----","0%","----",null,null,"ZONA 2","0%","----","0%","----","0%","----","0%","----","0%","----","0%","----"]
[null,"ZONA 3","0%","0%","67%","67%","33%","33%","100%","100%","80%","80%","50%","75%",null,null,"ZONA 3","0%","----","0%","----","0%","----","0%","----","0%","----","0%","----"]
[1,"ZONA 4","75%","75%","-100%","0%","0%","----","50%","50%","-100%","0%","-33%","33%",null,19,"ZONA 4","0%","----","0%","----","0%","----","0%","----","0%","----","0%","----"]
[null,"ZONA 8","0%","50%","50%","50%","40%","60%","100%","100%","0%","----","0%","----",null,null,"ZONA 8","0%","----","0%","----","0%","----","0%","----","0%","----","0%","----"]
[null,"ZONA 9","0%","----","0%","----","0%","----","100%","100%","100%","100%","0%","50%",null,null,"ZONA 9","0%","----","0%","----","0%","----","0%","----","0%","----","0%","----"]
[]
[null,"ZONA 2","0%","----","0%","----","0%","----","0%","----","0%","----","0%","----",null,null,"ZONA 2","0%","----","0%","----","0%","----","0%","----","0%","----","0%","----"]
[null,"ZONA 3","0%","----","0%","----","0%","----","0%","----","0%","----","0%","----",null,null,"ZONA 3","0%","----","0%","----","0%","----","0%","----","0%","----","0%","----"]
[2,"ZONA 4","0%","----","0%","----","0%","----","0%","----","0%","----","0%","----",null,20,"ZONA 4","0%","----","0%","----","0%","----","0%","----","0%","----","0%","----"]
[null,"ZONA 8","0%","----","0%","----","0%","----","0%","----","0%","----","0%","----",null,null,"ZONA 8","0%","----","0%","----","0%","----","0%","----","0%","----","0%","----"]
[null,"ZONA 9","0%","----","0%","----","0%","----","0%","----","0%","----","0%","----",null,null,"ZONA 9","0%","----","0%","----","0%","----","0%","----","0%","----","0%","----"]
[]
[null,"ZONA 2","0%","----","0%","----","0%","----","0%","----","0%","----","0%","----",null,null,"ZONA 2","0%","----","0%","----","0%","----","0%","----","0%","----","0%","----"]
[null,"ZONA 3","0%","----","0%","----","0%","----","0%","----","0%","----","0%","----",null,null,"ZONA 3","0%","----","0%","----","0%","----","0%","----","0%","----","0%","----"]
[3,"ZONA 4","0%","----","0%","----","0%","----","0%","----","0%","----","0%","----",null,21,"ZONA 4","0%","----","0%","----","0%","----","0%","----","0%","----","0%","----"]
[null,"ZONA 8","0%","----","0%","----","0%","----","0%","----","0%","----","0%","----",null,null,"ZONA 8","0%","----","0%","----","0%","----","0%","----","0%","----","0%","----"]
[null,"ZONA 9","0%","----","0%","----","0%","----","0%","----","0%","----","0%","----",null,null,"ZONA 9","0%","----","0%","----","0%","----","0%","----","0%","----","0%","----"]
[]
[null,"ZONA 2","-100%","0%","50%","50%","100%","100%","0%","----","0%","----","0%","----",null,null,"ZONA 2","0%","----","0%","0%","100%","100%","0%","----","0%","----","0%","----"]
[null,"ZONA 3","0%","0%","67%","67%","33%","33%","100%","100%","80%","80%","50%","75%",null,null,"ZONA 3","0%","0%","0%","----","100%","100%","0%","----","0%","----","100%","100%"]
[4,"ZONA 4","75%","75%","-100%","0%","0%","----","50%","50%","-100%","0%","-33%","33%",null,22,"ZONA 4","100%","100%","-100%","0%","0%","----","0%","0%","-100%","0%","0%","----"]
[null,"ZONA 8","0%","50%","50%","50%","40%","60%","100%","100%","0%","----","0%","----",null,null,"ZONA 8","100%","100%","100%","100%","0%","----","100%","100%","0%","----","0%","----"]
[null,"ZONA 9","0%","----","0%","----","0%","----","100%","100%","100%","100%","0%","50%",null,null,"ZONA 9","0%","----","0%","----","0%","----","0%","----","0%","----","0%","----"]
[]
[null,"ZONA 2","0%","----","0%","----","0%","----","0%","----","0%","----","0%","----",null,null,"ZONA 2","0%","----","0%","----","0%","----","0%","----","0%","----","0%","----"]
[null,"ZONA 3","0%","----","0%","----","0%","----","0%","----","0%","----","0%","----",null,null,"ZONA 3","0%","----","0%","----","0%","----","0%","----","0%","----","0%","----"]
[5,"ZONA 4","0%","----","0%","----","0%","----","0%","----","0%","----","0%","----",null,23,"ZONA 4","0%","----","0%","----","0%","----","0%","----","0%","----","0%","----"]
[null,"ZONA 8","0%","----","0%","----","0%","----","0%","----","0%","----","0%","----",null,null,"ZONA 8","0%","----","0%","----","0%","----","0%","----","0%","----","0%","----"]
[null,"ZONA 9","0%","----","0%","----","0%","----","0%","----","0%","----","0%","----",null,null,"ZONA 9","0%","----","0%","----","0%","----","0%","----","0%","----","0%","----"]
[]
[null,"ZONA 2","-100%","0%","100%","100%","100%","100%","0%","----","0%","----","0%","----",null,null,"ZONA 2","0%","----","0%","----","0%","----","0%","----","0%","----","0%","----"]
[null,"ZONA 3","0%","----","67%","67%","0%","0%","100%","100%","80%","80%","33%","67%",null,null,"ZONA 3","0%","----","0%","----","0%","----","0%","----","0%","----","0%","----"]
[6,"ZONA 4","50%","50%","0%","----","0%","----","100%","100%","0%","----","-33%","33%",null,24,"ZONA 4","0%","----","0%","----","0%","----","0%","----","0%","----","0%","----"]
[null,"ZONA 8","-100%","0%","0%","0%","40%","60%","0%","----","0%","----","0%","----",null,null,"ZONA 8","0%","----","0%","----","0%","----","0%","----","0%","----","0%","----"]
[null,"ZONA 9","0%","----","0%","----","0%","----","100%","100%","100%","100%","0%","50%",null,null,"ZONA 9","0%","----","0%","----","0%","----","0%","----","0%","----","0%","----"]
[]
[null,"ZONA 2","0%","----","0%","----","0%","----","0%","----","0%","----","0%","----"]
[null,"ZONA 3","0%","----","0%","----","0%","----","0%","----","0%","----","0%","----"]
[7,"ZONA 4","0%","----","0%","----","0%","----","0%","----","0%","----","0%","----"]
[null,"ZONA 8","0%","----","0%","----","0%","----","0%","----","0%","----","0%","----"]
[null,"ZONA 9","0%","----","0%","----","0%","----","0%","----","0%","----","0%","----"]
[]
[null,"ZONA 2","0%","----","0%","----","100%","100%","0%","----","0%","----","0%","----"]
[null,"ZONA 3","0%","----","50%","50%","0%","0%","100%","100%","100%","100%","-100%","0%"]
[8,"ZONA 4","100%","100%","0%","----","0%","----","0%","----","0%","----","100%","100%"]
[null,"ZONA 8","0%","----","0%","0%","100%","100%","0%","----","0%","----","0%","----"]
[null,"ZONA 9","0%","----","0%","----","0%","----","0%","----","0%","----","100%","100%"]
[]
[null,"ZONA 2","-100%","0%","50%","50%","100%","100%","0%","----","0%","----","0%","----"]
[null,"ZONA 3","0%","0%","0%","----","50%","50%","0%","----","75%","75%","100%","100%"]
[9,"ZONA 4","67%","67%","-100%","0%","0%","----","50%","50%","-100%","0%","-100%","0%"]
[null,"ZONA 8","0%","50%","100%","100%","25%","50%","100%","100%","0%","----","0%","----"]
[null,"ZONA 9","0%","----","0%","----","0%","----","100%","100%","100%","100%","-33%","33%"]
[]
[null,"ZONA 2","0%","----","0%","----","0%","----","0%","----","0%","----","0%","----"]
[null,"ZONA 3","0%","----","0%","----","0%","----","0%","----","0%","----","0%","----"]
[10,"ZONA 4","0%","----","0%","----","0%","----","0%","----","0%","----","0%","----"]
[null,"ZONA 8","0%","----","0%","----","0%","----","0%","----","0%","----","0%","----"]
[null,"ZONA 9","0%","----","0%","----","0%","----","0%","----","0%","----","0%","----"]
[]
[null,"ZONA 2","-100%","0%","50%","50%","100%","100%","0%","----","0%","----","0%","----"]
[null,"ZONA 3","0%","0%","100%","100%","50%","50%","100%","100%","75%","75%","100%","100%"]
[11,"ZONA 4","67%","67%","-100%","0%","0%","----","50%","50%","-100%","0%","-100%","0%"]
[null,"ZONA 8","0%","50%","100%","100%","25%","50%","100%","100%","0%","----","0%","----"]
[null,"ZONA 9","0%","----","0%","----","0%","----","100%","100%","100%","100%","-33%","33%"]
[]
[null,"ZONA 2","0%","----","0%","----","0%","----","0%","----","0%","----","0%","----"]
[null,"ZONA 3","0%","----","0%","----","0%","----","0%","----","0%","----","0%","----"]
[12,"ZONA 4","0%","----","0%","----","0%","----","0%","----","0%","----","0%","----"]
[null,"ZONA 8","0%","----","0%","----","0%","----","0%","----","0%","----","0%","----"]
[null,"ZONA 9","0%","----","0%","----","0%","----","0%","----","0%","----","0%","----"]
[]
[null,"ZONA 2","0%","----","0%","----","0%","----","0%","----","0%","----","0%","----"]
[null,"ZONA 3","0%","----","0%","----","0%","----","0%","----","0%","----","0%","----"]
[13,"ZONA 4","0%","----","0%","----","0%","----","0%","----","0%","----","0%","----"]
[null,"ZONA 8","0%","----","0%","----","0%","----","0%","----","0%","----","0%","----"]
[null,"ZONA 9","0%","----","0%","----","0%","----","0%","----","0%","----","0%","----"]
[]
[null,"ZONA 2","0%","----","0%","----","100%","100%","0%","----","0%","----","0%","----"]
[null,"ZONA 3","0%","----","67%","67%","0%","0%","100%","100%","100%","100%","-100%","0%"]
[14,"ZONA 4","100%","100%","0%","----","0%","----","0%","----","0%","----","100%","100%"]
[null,"ZONA 8","0%","----","0%","0%","100%","100%","0%","----","0%","----","0%","----"]
[null,"ZONA 9","0%","----","0%","----","0%","----","0%","----","0%","----","100%","100%"]
[]
[null,"ZONA 2","0%","----","0%","----","0%","----","0%","----","0%","----","0%","----"]
[null,"ZONA 3","0%","----","0%","----","0%","----","0%","----","0%","----","0%","----"]
[15,"ZONA 4","0%","----","0%","----","0%","----","0%","----","0%","----","0%","----"]
[null,"ZONA 8","0%","----","0%","----","0%","----","0%","----","0%","----","0%","----"]
[null,"ZONA 9","0%","----","0%","----","0%","----","0%","----","0%","----","0%","----"]
[]
[null,"ZONA 2","0%","----","0%","0%","100%","100%","0%","----","0%","----","0%","----"]
[null,"ZONA 3","0%","0%","0%","----","0%","----","0%","----","100%","100%","100%","100%"]
[16,"ZONA 4","67%","67%","-100%","0%","0%","----","100%","100%","-100%","0%","0%","----"]
[null,"ZONA 8","0%","50%","0%","----","100%","100%","0%","----","0%","----","0%","----"]
[null,"ZONA 9","0%","----","0%","----","0%","----","0%","----","0%","----","100%","100%"]
[]
[null,"ZONA 2","-100%","0%","100%","100%","100%","100%","0%","----","0%","----","0%","----"]
[null,"ZONA 3","0%","0%","67%","67%","33%","33%","100%","100%","75%","75%","33%","67%"]
[17,"ZONA 4","100%","100%","0%","----","0%","----","0%","0%","0%","----","-33%","33%"]
[null,"ZONA 8","0%","----","50%","50%","25%","50%","100%","100%","0%","----","0%","----"]
[null,"ZONA 9","0%","----","0%","----","0%","----","100%","100%","100%","100%","-33%","33%"]
[]
[null,"ZONA 2","0%","----","0%","----","0%","----","0%","----","0%","----","0%","----"]
[null,"ZONA 3","0%","----","0%","----","0%","----","0%","----","0%","----","0%","----"]
[18,"ZONA 4","0%","----","0%","----","0%","----","0%","----","0%","----","0%","----"]
[null,"ZONA 8","0%","----","0%","----","0%","----","0%","----","0%","----","0%","----"]
[null,"ZONA 9","0%","----","0%","----","0%","----","0%","----","0%","----","0%","----"]

{"sheet":"Daten A5","index":29,"n_rows":110,"n_cols":29,"rows_kept":110,"cut":false,"hidden":false,"merged":[]}
["Worksheet - home - Spielanalyse A5"]
[]
[null,null,"S 1",null,"S 6",null,"S 5",null,"S 4",null,"S 3",null,"S 2",null,null,null,null,"S 1",null,"S 6",null,"S 5",null,"S 4",null,"S 3",null,"S 2"]
[null,"ZONA 2","0%",0,"50%",3,"25%",2,"0%",0,"0%",0,"0%",0,null,null,"ZONA 2","----",0,"----",0,"----",0,"----",0,"----",0,"----",0]
[null,"ZONA 3","0%",0,"17%",1,"12%",1,"0%",0,"0%",0,"25%",1,null,null,"ZONA 3","----",0,"----",0,"----",0,"----",0,"----",0,"----",0]
[1,"ZONA 4","83%",5,"33%",2,"50%",4,"50%",1,"0%",0,"75%",3,null,19,"ZONA 4","----",0,"----",0,"----",0,"----",0,"----",0,"----",0]
[null,"ZONA 8","17%",1,"0%",0,"12%",1,"50%",1,"100%",1,"0%",0,null,null,"ZONA 8","----",0,"----",0,"----",0,"----",0,"----",0,"----",0]
[null,"ZONA 9","0%",0,"0%",0,"0%",0,"0%",0,"0%",0,"0%",0,null,null,"ZONA 9","----",0,"----",0,"----",0,"----",0,"----",0,"----",0]
[]
[null,"ZONA 2","----",0,"----",0,"----",0,"----",0,"----",0,"----",0,null,null,"ZONA 2","----",0,"----",0,"----",0,"----",0,"----",0,"----",0]
[null,"ZONA 3","----",0,"----",0,"----",0,"----",0,"----",0,"----",0,null,null,"ZONA 3","----",0,"----",0,"----",0,"----",0,"----",0,"----",0]
[2,"ZONA 4","----",0,"----",0,"----",0,"----",0,"----",0,"----",0,null,20,"ZONA 4","----",0,"----",0,"----",0,"----",0,"----",0,"----",0]
[null,"ZONA 8","----",0,"----",0,"----",0,"----",0,"----",0,"----",0,null,null,"ZONA 8","----",0,"----",0,"----",0,"----",0,"----",0,"----",0]
[null,"ZONA 9","----",0,"----",0,"----",0,"----",0,"----",0,"----",0,null,null,"ZONA 9","----",0,"----",0,"----",0,"----",0,"----",0,"----",0]
[]
[null,"ZONA 2","----",0,"----",0,"----",0,"----",0,"----",0,"----",0,null,null,"ZONA 2","----",0,"----",0,"----",0,"----",0,"----",0,"----",0]
[null,"ZONA 3","----",0,"----",0,"----",0,"----",0,"----",0,"----",0,null,null,"ZONA 3","----",0,"----",0,"----",0,"----",0,"----",0,"----",0]
[3,"ZONA 4","----",0,"----",0,"----",0,"----",0,"----",0,"----",0,null,21,"ZONA 4","----",0,"----",0,"----",0,"----",0,"----",0,"----",0]
[null,"ZONA 8","----",0,"----",0,"----",0,"----",0,"----",0,"----",0,null,null,"ZONA 8","----",0,"----",0,"----",0,"----",0,"----",0,"----",0]
[null,"ZONA 9","----",0,"----",0,"----",0,"----",0,"----",0,"----",0,null,null,"ZONA 9","----",0,"----",0,"----",0,"----",0,"----",0,"----",0]
[]
[null,"ZONA 2","0%",0,"50%",3,"25%",2,"0%",0,"0%",0,"0%",0,null,null,"ZONA 2","0%",0,"50%",1,"0%",0,"0%",0,"0%",0,"----",0]
[null,"ZONA 3","0%",0,"17%",1,"12%",1,"0%",0,"0%",0,"25%",1,null,null,"ZONA 3","0%",0,"0%",0,"33%",1,"0%",0,"0%",0,"----",0]
[4,"ZONA 4","83%",5,"33%",2,"50%",4,"50%",1,"0%",0,"75%",3,null,22,"ZONA 4","50%",1,"50%",1,"67%",2,"0%",0,"0%",0,"----",0]
[null,"ZONA 8","17%",1,"0%",0,"12%",1,"50%",1,"100%",1,"0%",0,null,null,"ZONA 8","50%",1,"0%",0,"0%",0,"100%",1,"100%",1,"----",0]
[null,"ZONA 9","0%",0,"0%",0,"0%",0,"0%",0,"0%",0,"0%",0,null,null,"ZONA 9","0%",0,"0%",0,"0%",0,"0%",0,"0%",0,"----",0]
[]
[null,"ZONA 2","----",0,"----",0,"----",0,"----",0,"----",0,"----",0,null,null,"ZONA 2","----",0,"----",0,"----",0,"----",0,"----",0,"----",0]
[null,"ZONA 3","----",0,"----",0,"----",0,"----",0,"----",0,"----",0,null,null,"ZONA 3","----",0,"----",0,"----",0,"----",0,"----",0,"----",0]
[5,"ZONA 4","----",0,"----",0,"----",0,"----",0,"----",0,"----",0,null,23,"ZONA 4","----",0,"----",0,"----",0,"----",0,"----",0,"----",0]
[null,"ZONA 8","----",0,"----",0,"----",0,"----",0,"----",0,"----",0,null,null,"ZONA 8","----",0,"----",0,"----",0,"----",0,"----",0,"----",0]
[null,"ZONA 9","----",0,"----",0,"----",0,"----",0,"----",0,"----",0,null,null,"ZONA 9","----",0,"----",0,"----",0,"----",0,"----",0,"----",0]
[]
[null,"ZONA 2","0%",0,"50%",2,"40%",2,"0%",0,"----",0,"0%",0,null,null,"ZONA 2","----",0,"----",0,"----",0,"----",0,"----",0,"----",0]
[null,"ZONA 3","0%",0,"25%",1,"0%",0,"0%",0,"----",0,"25%",1,null,null,"ZONA 3","----",0,"----",0,"----",0,"----",0,"----",0,"----",0]
[6,"ZONA 4","100%",4,"25%",1,"40%",2,"100%",1,"----",0,"75%",3,null,24,"ZONA 4","----",0,"----",0,"----",0,"----",0,"----",0,"----",0]
[null,"ZONA 8","0%",0,"0%",0,"20%",1,"0%",0,"----",0,"0%",0,null,null,"ZONA 8","----",0,"----",0,"----",0,"----",0,"----",0,"----",0]
[null,"ZONA 9","0%",0,"0%",0,"0%",0,"0%",0,"----",0,"0%",0,null,null,"ZONA 9","----",0,"----",0,"----",0,"----",0,"----",0,"----",0]
[]
[null,"ZONA 2","----",0,"----",0,"----",0,"----",0,"----",0,"----",0]
[null,"ZONA 3","----",0,"----",0,"----",0,"----",0,"----",0,"----",0]
[7,"ZONA 4","----",0,"----",0,"----",0,"----",0,"----",0,"----",0]
[null,"ZONA 8","----",0,"----",0,"----",0,"----",0,"----",0,"----",0]
[null,"ZONA 9","----",0,"----",0,"----",0,"----",0,"----",0,"----",0]
[]
[null,"ZONA 2","0%",0,"50%",1,"0%",0,"----",0,"----",0,"----",0]
[null,"ZONA 3","0%",0,"0%",0,"0%",0,"----",0,"----",0,"----",0]
[8,"ZONA 4","50%",1,"50%",1,"0%",0,"----",0,"----",0,"----",0]
[null,"ZONA 8","50%",1,"0%",0,"100%",1,"----",0,"----",0,"----",0]
[null,"ZONA 9","0%",0,"0%",0,"0%",0,"----",0,"----",0,"----",0]
[]
[null,"ZONA 2","0%",0,"50%",2,"20%",1,"0%",0,"0%",0,"0%",0]
[null,"ZONA 3","0%",0,"25%",1,"20%",1,"0%",0,"0%",0,"25%",1]
[9,"ZONA 4","100%",4,"25%",1,"60%",3,"50%",1,"0%",0,"75%",3]
[null,"ZONA 8","0%",0,"0%",0,"0%",0,"50%",1,"100%",1,"0%",0]
[null,"ZONA 9","0%",0,"0%",0,"0%",0,"0%",0,"0%",0,"0%",0]
[]
[null,"ZONA 2","----",0,"----",0,"----",0,"----",0,"----",0,"----",0]
[null,"ZONA 3","----",0,"----",0,"----",0,"----",0,"----",0,"----",0]
[10,"ZONA 4","----",0,"----",0,"----",0,"----",0,"----",0,"----",0]
[null,"ZONA 8","----",0,"----",0,"----",0,"----",0,"----",0,"----",0]
[null,"ZONA 9","----",0,"----",0,"----",0,"----",0,"----",0,"----",0]
[]
[null,"ZONA 2","0%",0,"50%",2,"29%",2,"0%",0,"0%",0,"0%",0]
[null,"ZONA 3","0%",0,"25%",1,"14%",1,"0%",0,"0%",0,"25%",1]
[11,"ZONA 4","100%",4,"25%",1,"57%",4,"50%",1,"0%",0,"75%",3]
[null,"ZONA 8","0%",0,"0%",0,"0%",0,"50%",1,"100%",1,"0%",0]
[null,"ZONA 9","0%",0,"0%",0,"0%",0,"0%",0,"0%",0,"0%",0]
[]
[null,"ZONA 2","----",0,"----",0,"----",0,"----",0,"----",0,"----",0]
[null,"ZONA 3","----",0,"----",0,"----",0,"----",0,"----",0,"----",0]
[12,"ZONA 4","----",0,"----",0,"----",0,"----",0,"----",0,"----",0]
[null,"ZONA 8","----",0,"----",0,"----",0,"----",0,"----",0,"----",0]
[null,"ZONA 9","----",0,"----",0,"----",0,"----",0,"----",0,"----",0]
[]
[null,"ZONA 2","----",0,"----",0,"----",0,"----",0,"----",0,"----",0]
[null,"ZONA 3","----",0,"----",0,"----",0,"----",0,"----",0,"----",0]
[13,"ZONA 4","----",0,"----",0,"----",0,"----",0,"----",0,"----",0]
[null,"ZONA 8","----",0,"----",0,"----",0,"----",0,"----",0,"----",0]
[null,"ZONA 9","----",0,"----",0,"----",0,"----",0,"----",0,"----",0]
[]
[null,"ZONA 2","0%",0,"50%",1,"33%",1,"----",0,"----",0,"----",0]
[null,"ZONA 3","0%",0,"0%",0,"0%",0,"----",0,"----",0,"----",0]
[14,"ZONA 4","50%",1,"50%",1,"33%",1,"----",0,"----",0,"----",0]
[null,"ZONA 8","50%",1,"0%",0,"33%",1,"----",0,"----",0,"----",0]
[null,"ZONA 9","0%",0,"0%",0,"0%",0,"----",0,"----",0,"----",0]
[]
[null,"ZONA 2","----",0,"----",0,"----",0,"----",0,"----",0,"----",0]
[null,"ZONA 3","----",0,"----",0,"----",0,"----",0,"----",0,"----",0]
[15,"ZONA 4","----",0,"----",0,"----",0,"----",0,"----",0,"----",0]
[null,"ZONA 8","----",0,"----",0,"----",0,"----",0,"----",0,"----",0]
[null,"ZONA 9","----",0,"----",0,"----",0,"----",0,"----",0,"----",0]
[]
[null,"ZONA 2","0%",0,"33%",1,"0%",0,"0%",0,"0%",0,"0%",0]
[null,"ZONA 3","0%",0,"33%",1,"50%",1,"0%",0,"0%",0,"0%",0]
[16,"ZONA 4","67%",2,"33%",1,"50%",1,"0%",0,"0%",0,"100%",1]
[null,"ZONA 8","33%",1,"0%",0,"0%",0,"100%",1,"100%",1,"0%",0]
[null,"ZONA 9","0%",0,"0%",0,"0%",0,"0%",0,"0%",0,"0%",0]
[]
[null,"ZONA 2","0%",0,"67%",2,"33%",2,"0%",0,"----",0,"0%",0]
[null,"ZONA 3","0%",0,"0%",0,"0%",0,"0%",0,"----",0,"33%",1]
[17,"ZONA 4","100%",3,"33%",1,"50%",3,"100%",1,"----",0,"67%",2]
[null,"ZONA 8","0%",0,"0%",0,"17%",1,"0%",0,"----",0,"0%",0]
[null,"ZONA 9","0%",0,"0%",0,"0%",0,"0%",0,"----",0,"0%",0]
[]
[null,"ZONA 2","----",0,"----",0,"----",0,"----",0,"----",0,"----",0]
[null,"ZONA 3","----",0,"----",0,"----",0,"----",0,"----",0,"----",0]
[18,"ZONA 4","----",0,"----",0,"----",0,"----",0,"----",0,"----",0]
[null,"ZONA 8","----",0,"----",0,"----",0,"----",0,"----",0,"----",0]
[null,"ZONA 9","----",0,"----",0,"----",0,"----",0,"----",0,"----",0]

{"sheet":"Daten A6","index":30,"n_rows":110,"n_cols":29,"rows_kept":110,"cut":false,"hidden":false,"merged":[]}
["Worksheet - home - Spielanalyse A6"]
[]
[null,null,"S 1",null,"S 6",null,"S 5",null,"S 4",null,"S 3",null,"S 2",null,null,null,null,"S 1",null,"S 6",null,"S 5",null,"S 4",null,"S 3",null,"S 2"]
[null,"ZONA 2","0%","----","-100%","0%","100%","100%","0%","----","0%","----","0%","----",null,null,"ZONA 2","0%","----","0%","----","0%","----","0%","----","0%","----","0%","----"]
[null,"ZONA 3","0%","----","100%","100%","100%","100%","0%","----","0%","----","0%","0%",null,null,"ZONA 3","0%","----","0%","----","0%","----","0%","----","0%","----","0%","----"]
[1,"ZONA 4","0%","40%","0%","50%","25%","50%","-100%","0%","0%","----","67%","67%",null,19,"ZONA 4","0%","----","0%","----","0%","----","0%","----","0%","----","0%","----"]
[null,"ZONA 8","100%","100%","0%","----","100%","100%","100%","100%","-100%","0%","0%","----",null,null,"ZONA 8","0%","----","0%","----","0%","----","0%","----","0%","----","0%","----"]
[null,"ZONA 9","0%","----","0%","----","0%","----","0%","----","0%","----","0%","----",null,null,"ZONA 9","0%","----","0%","----","0%","----","0%","----","0%","----","0%","----"]
[]
[null,"ZONA 2","0%","----","0%","----","0%","----","0%","----","0%","----","0%","----",null,null,"ZONA 2","0%","----","0%","----","0%","----","0%","----","0%","----","0%","----"]
[null,"ZONA 3","0%","----","0%","----","0%","----","0%","----","0%","----","0%","----",null,null,"ZONA 3","0%","----","0%","----","0%","----","0%","----","0%","----","0%","----"]
[2,"ZONA 4","0%","----","0%","----","0%","----","0%","----","0%","----","0%","----",null,20,"ZONA 4","0%","----","0%","----","0%","----","0%","----","0%","----","0%","----"]
[null,"ZONA 8","0%","----","0%","----","0%","----","0%","----","0%","----","0%","----",null,null,"ZONA 8","0%","----","0%","----","0%","----","0%","----","0%","----","0%","----"]
[null,"ZONA 9","0%","----","0%","----","0%","----","0%","----","0%","----","0%","----",null,null,"ZONA 9","0%","----","0%","----","0%","----","0%","----","0%","----","0%","----"]
[]
[null,"ZONA 2","0%","----","0%","----","0%","----","0%","----","0%","----","0%","----",null,null,"ZONA 2","0%","----","0%","----","0%","----","0%","----","0%","----","0%","----"]
[null,"ZONA 3","0%","----","0%","----","0%","----","0%","----","0%","----","0%","----",null,null,"ZONA 3","0%","----","0%","----","0%","----","0%","----","0%","----","0%","----"]
[3,"ZONA 4","0%","----","0%","----","0%","----","0%","----","0%","----","0%","----",null,21,"ZONA 4","0%","----","0%","----","0%","----","0%","----","0%","----","0%","----"]
[null,"ZONA 8","0%","----","0%","----","0%","----","0%","----","0%","----","0%","----",null,null,"ZONA 8","0%","----","0%","----","0%","----","0%","----","0%","----","0%","----"]
[null,"ZONA 9","0%","----","0%","----","0%","----","0%","----","0%","----","0%","----",null,null,"ZONA 9","0%","----","0%","----","0%","----","0%","----","0%","----","0%","----"]
[]
[null,"ZONA 2","0%","----","-100%","0%","100%","100%","0%","----","0%","----","0%","----",null,null,"ZONA 2","0%","----","-100%","0%","0%","----","0%","----","0%","----","0%","----"]
[null,"ZONA 3","0%","----","100%","100%","100%","100%","0%","----","0%","----","0%","0%",null,null,"ZONA 3","0%","----","0%","----","100%","100%","0%","----","0%","----","0%","----"]
[4,"ZONA 4","0%","40%","0%","50%","25%","50%","-100%","0%","0%","----","67%","67%",null,22,"ZONA 4","100%","100%","100%","100%","0%","50%","0%","----","0%","----","0%","----"]
[null,"ZONA 8","100%","100%","0%","----","100%","100%","100%","100%","-100%","0%","0%","----",null,null,"ZONA 8","100%","100%","0%","----","0%","----","100%","100%","-100%","0%","0%","----"]
[null,"ZONA 9","0%","----","0%","----","0%","----","0%","----","0%","----","0%","----",null,null,"ZONA 9","0%","----","0%","----","0%","----","0%","----","0%","----","0%","----"]
[]
[null,"ZONA 2","0%","----","0%","----","0%","----","0%","----","0%","----","0%","----",null,null,"ZONA 2","0%","----","0%","----","0%","----","0%","----","0%","----","0%","----"]
[null,"ZONA 3","0%","----","0%","----","0%","----","0%","----","0%","----","0%","----",null,null,"ZONA 3","0%","----","0%","----","0%","----","0%","----","0%","----","0%","----"]
[5,"ZONA 4","0%","----","0%","----","0%","----","0%","----","0%","----","0%","----",null,23,"ZONA 4","0%","----","0%","----","0%","----","0%","----","0%","----","0%","----"]
[null,"ZONA 8","0%","----","0%","----","0%","----","0%","----","0%","----","0%","----",null,null,"ZONA 8","0%","----","0%","----","0%","----","0%","----","0%","----","0%","----"]
[null,"ZONA 9","0%","----","0%","----","0%","----","0%","----","0%","----","0%","----",null,null,"ZONA 9","0%","----","0%","----","0%","----","0%","----","0%","----","0%","----"]
[]
[null,"ZONA 2","0%","----","-100%","0%","100%","100%","0%","----","0%","----","0%","----",null,null,"ZONA 2","0%","----","0%","----","0%","----","0%","----","0%","----","0%","----"]
[null,"ZONA 3","0%","----","100%","100%","0%","----","0%","----","0%","----","0%","0%",null,null,"ZONA 3","0%","----","0%","----","0%","----","0%","----","0%","----","0%","----"]
[6,"ZONA 4","-25%","25%","-100%","0%","50%","50%","-100%","0%","0%","----","67%","67%",null,24,"ZONA 4","0%","----","0%","----","0%","----","0%","----","0%","----","0%","----"]
[null,"ZONA 8","0%","----","0%","----","100%","100%","0%","----","0%","----","0%","----",null,null,"ZONA 8","0%","----","0%","----","0%","----","0%","----","0%","----","0%","----"]
[null,"ZONA 9","0%","----","0%","----","0%","----","0%","----","0%","----","0%","----",null,null,"ZONA 9","0%","----","0%","----","0%","----","0%","----","0%","----","0%","----"]
[]
[null,"ZONA 2","0%","----","0%","----","0%","----","0%","----","0%","----","0%","----"]
[null,"ZONA 3","0%","----","0%","----","0%","----","0%","----","0%","----","0%","----"]
[7,"ZONA 4","0%","----","0%","----","0%","----","0%","----","0%","----","0%","----"]
[null,"ZONA 8","0%","----","0%","----","0%","----","0%","----","0%","----","0%","----"]
[null,"ZONA 9","0%","----","0%","----","0%","----","0%","----","0%","----","0%","----"]
[]
[null,"ZONA 2","0%","----","-100%","0%","0%","----","0%","----","0%","----","0%","----"]
[null,"ZONA 3","0%","----","0%","----","0%","----","0%","----","0%","----","0%","----"]
[8,"ZONA 4","-100%","0%","-100%","0%","0%","----","0%","----","0%","----","0%","----"]
[null,"ZONA 8","100%","100%","0%","----","100%","100%","0%","----","0%","----","0%","----"]
[null,"ZONA 9","0%","----","0%","----","0%","----","0%","----","0%","----","0%","----"]
[]
[null,"ZONA 2","0%","----","-100%","0%","100%","100%","0%","----","0%","----","0%","----"]
[null,"ZONA 3","0%","----","100%","100%","100%","100%","0%","----","0%","----","0%","0%"]
[9,"ZONA 4","25%","50%","100%","100%","33%","67%","-100%","0%","0%","----","67%","67%"]
[null,"ZONA 8","0%","----","0%","----","0%","----","100%","100%","-100%","0%","0%","----"]
[null,"ZONA 9","0%","----","0%","----","0%","----","0%","----","0%","----","0%","----"]
[]
[null,"ZONA 2","0%","----","0%","----","0%","----","0%","----","0%","----","0%","----"]
[null,"ZONA 3","0%","----","0%","----","0%","----","0%","----","0%","----","0%","----"]
[10,"ZONA 4","0%","----","0%","----","0%","----","0%","----","0%","----","0%","----"]
[null,"ZONA 8","0%","----","0%","----","0%","----","0%","----","0%","----","0%","----"]
[null,"ZONA 9","0%","----","0%","----","0%","----","0%","----","0%","----","0%","----"]
[]
[null,"ZONA 2","0%","----","-100%","0%","100%","100%","0%","----","0%","----","0%","----"]
[null,"ZONA 3","0%","----","100%","100%","100%","100%","0%","----","0%","----","0%","0%"]
[11,"ZONA 4","25%","50%","100%","100%","25%","50%","-100%","0%","0%","----","67%","67%"]
[null,"ZONA 8","0%","----","0%","----","0%","----","100%","100%","-100%","0%","0%","----"]
[null,"ZONA 9","0%","----","0%","----","0%","----","0%","----","0%","----","0%","----"]
[]
[null,"ZONA 2","0%","----","0%","----","0%","----","0%","----","0%","----","0%","----"]
[null,"ZONA 3","0%","----","0%","----","0%","----","0%","----","0%","----","0%","----"]
[12,"ZONA 4","0%","----","0%","----","0%","----","0%","----","0%","----","0%","----"]
[null,"ZONA 8","0%","----","0%","----","0%","----","0%","----","0%","----","0%","----"]
[null,"ZONA 9","0%","----","0%","----","0%","----","0%","----","0%","----","0%","----"]
[]
[null,"ZONA 2","0%","----","0%","----","0%","----","0%","----","0%","----","0%","----"]
[null,"ZONA 3","0%","----","0%","----","0%","----","0%","----","0%","----","0%","----"]
[13,"ZONA 4","0%","----","0%","----","0%","----","0%","----","0%","----","0%","----"]
[null,"ZONA 8","0%","----","0%","----","0%","----","0%","----","0%","----","0%","----"]
[null,"ZONA 9","0%","----","0%","----","0%","----","0%","----","0%","----","0%","----"]
[]
[null,"ZONA 2","0%","----","-100%","0%","100%","100%","0%","----","0%","----","0%","----"]
[null,"ZONA 3","0%","----","0%","----","0%","----","0%","----","0%","----","0%","----"]
[14,"ZONA 4","-100%","0%","-100%","0%","0%","0%","0%","----","0%","----","0%","----"]
[null,"ZONA 8","100%","100%","0%","----","100%","100%","0%","----","0%","----","0%","----"]
[null,"ZONA 9","0%","----","0%","----","0%","----","0%","----","0%","----","0%","----"]
[]
[null,"ZONA 2","0%","----","0%","----","0%","----","0%","----","0%","----","0%","----"]
[null,"ZONA 3","0%","----","0%","----","0%","----","0%","----","0%","----","0%","----"]
[15,"ZONA 4","0%","----","0%","----","0%","----","0%","----","0%","----","0%","----"]
[null,"ZONA 8","0%","----","0%","----","0%","----","0%","----","0%","----","0%","----"]
[null,"ZONA 9","0%","----","0%","----","0%","----","0%","----","0%","----","0%","----"]
[]
[null,"ZONA 2","0%","----","-100%","0%","0%","----","0%","----","0%","----","0%","----"]
[null,"ZONA 3","0%","----","100%","100%","100%","100%","0%","----","0%","----","0%","----"]
[16,"ZONA 4","100%","100%","100%","100%","-100%","0%","0%","----","0%","----","0%","0%"]
[null,"ZONA 8","100%","100%","0%","----","0%","----","100%","100%","-100%","0%","0%","----"]
[null,"ZONA 9","0%","----","0%","----","0%","----","0%","----","0%","----","0%","----"]
[]
[null,"ZONA 2","0%","----","-100%","0%","100%","100%","0%","----","0%","----","0%","----"]
[null,"ZONA 3","0%","----","0%","----","0%","----","0%","----","0%","----","0%","0%"]
[17,"ZONA 4","-67%","0%","-100%","0%","67%","67%","-100%","0%","0%","----","100%","100%"]
[null,"ZONA 8","0%","----","0%","----","100%","100%","0%","----","0%","----","0%","----"]
[null,"ZONA 9","0%","----","0%","----","0%","----","0%","----","0%","----","0%","----"]
[]
[null,"ZONA 2","0%","----","0%","----","0%","----","0%","----","0%","----","0%","----"]
[null,"ZONA 3","0%","----","0%","----","0%","----","0%","----","0%","----","0%","----"]
[18,"ZONA 4","0%","----","0%","----","0%","----","0%","----","0%","----","0%","----"]
[null,"ZONA 8","0%","----","0%","----","0%","----","0%","----","0%","----","0%","----"]
[null,"ZONA 9","0%","----","0%","----","0%","----","0%","----","0%","----","0%","----"]